{"text_format":"1","workbook":"xlsx","n_sheets":8,"sheets":["Races, Positions & Points","Points Calculation","Age Calculation","Start of Year Points","2014.1","2014.2","2014.3","Latest Points (2014.3)"],"not_rendered":{"charts":0,"images":0,"macros":1,"external_links":0,"defined_names":5,"comments":0,"pivot_tables":0},"unopened":[],"bounds":{"document_bytes":16777216,"sheet_cells":100000,"rows_first":2000,"rows_last":500,"rows_between":2000,"halvings":0,"cell_chars":16384,"cell_head_chars":4096},"cells_cut":0,"cells_raw":0,"read":"whole","date_system":"1900"}

{"sheet":"Races, Positions & Points","index":0,"n_rows":108,"n_cols":140,"rows_kept":108,"cut":false,"hidden":false,"merged":[[0,137,0,138],[3,137,3,138],[4,137,5,137],[4,138,5,138],[4,139,5,139],[1,7,2,10],[0,131,0,132],[0,134,0,135],[3,60,3,61],[0,125,0,126],[0,69,0,70],[0,72,0,73],[0,75,0,76],[0,81,0,82],[0,78,0,79],[0,85,0,86],[0,88,0,89],[0,128,0,129],[0,113,0,114],[0,116,0,117],[0,119,0,120],[0,122,0,123],[3,125,3,126],[3,128,3,129],[3,131,3,132],[3,134,3,135],[3,107,3,108],[4,64,5,64],[4,65,5,65],[4,66,5,66],[4,51,5,51],[4,52,5,52],[4,53,5,53],[4,57,5,57],[4,58,5,58],[4,54,5,54],[4,55,5,55],[4,56,5,56],[4,60,5,60],[4,61,5,61],[4,62,5,62],[4,59,5,59],[4,82,5,82],[4,67,5,67],[4,68,5,68],[4,69,5,69],[4,70,5,70],[4,71,5,71],[4,83,5,83],[4,78,5,78],[4,79,5,79],[4,80,5,80],[4,1,5,1],[4,10,5,10],[4,5,5,5],[4,13,5,13],[4,22,5,22],[4,23,5,23],[4,24,5,24],[4,45,5,45],[4,46,5,46],[4,3,5,3],[4,37,5,37],[4,38,5,38],[4,33,5,33],[4,74,5,74],[4,75,5,75],[4,76,5,76],[4,77,5,77],[4,81,5,81],[4,97,5,97],[4,98,5,98],[4,100,5,100],[4,91,5,91],[4,92,5,92],[4,107,5,107],[4,89,5,89],[4,90,5,90],[4,84,5,84],[4,85,5,85],[4,93,5,93],[4,101,5,101],[4,99,5,99],[4,94,5,94],[4,95,5,95],[4,96,5,96],[4,86,5,86],[4,87,5,87],[4,88,5,88],[4,111,5,111],[4,104,5,104],[4,105,5,105],[4,106,5,106],[4,102,5,102],[4,103,5,103],[4,108,5,108],[4,109,5,109],[4,110,5,110],[4,117,5,117],[4,118,5,118],[4,119,5,119],[4,120,5,120],[4,121,5,121],[4,112,5,112],[4,113,5,113],[4,114,5,114],[4,115,5,115],[4,116,5,116],[4,132,5,132],[4,133,5,133],[4,134,5,134],[4,125,5,125],[4,126,5,126],[4,127,5,127],[4,128,5,128],[4,129,5,129],[4,122,5,122],[4,123,5,123],[4,124,5,124],[4,135,5,135],[4,136,5,136],[4,130,5,130],[4,131,5,131],[6,2,6,4],[4,25,5,25],[4,29,5,29],[4,72,5,72],[4,73,5,73],[4,19,5,19],[4,21,5,21],[4,16,5,16],[4,17,5,17],[4,18,5,18],[4,30,5,30],[4,31,5,31],[4,32,5,32],[4,26,5,26],[4,27,5,27],[4,28,5,28],[4,36,5,36],[4,50,5,50],[4,47,5,47],[4,63,5,63],[3,16,3,17],[3,33,3,34],[3,36,3,37],[3,39,3,40],[3,42,3,43],[3,45,3,46],[3,48,3,49],[3,57,3,58],[4,34,5,34],[4,35,5,35],[4,42,5,42],[4,43,5,43],[4,44,5,44],[4,39,5,39],[4,40,5,40],[4,41,5,41],[4,48,5,48],[4,49,5,49],[4,20,5,20],[3,26,3,27],[3,113,3,114],[3,116,3,117],[3,119,3,120],[3,122,3,123],[3,110,3,111],[0,16,0,17],[0,22,0,23],[0,26,0,27],[0,30,0,31],[3,75,3,76],[3,72,3,73],[3,66,3,67],[3,51,3,52],[0,33,0,34],[0,36,0,37],[0,39,0,40],[0,42,0,43],[0,45,0,46],[0,48,0,49],[0,51,0,52],[0,54,0,55],[0,57,0,58],[0,60,0,61],[0,63,0,64],[0,107,0,108],[0,110,0,111],[3,22,3,23],[3,81,3,82],[3,91,3,92],[3,101,3,102],[3,104,3,105],[3,97,3,98],[3,88,3,89],[3,85,3,86],[3,78,3,79],[0,66,0,67],[3,63,3,64],[3,69,3,70],[0,97,0,98],[0,91,0,92],[0,101,0,102],[0,104,0,105],[3,30,3,31],[0,94,0,95],[3,94,3,95]]}
[2015,null,"BARTS Points Races",null,null,null,null,null,null,null,null,null,"DATE",null,null,null,"2015-03-14",null,1,"2015-04-18",null,{"$f":"1+S1","v":2},"2015-04-25",null,null,{"$f":"1+V1","v":3},"2015-04-26",null,null,{"$f":"1+Z1","v":4},"2015-05-02",null,{"$f":"1+AD1","v":5},"2015-05-03",null,{"$f":"1+AG1","v":6},"2015-05-04",null,{"$f":"1+AJ1","v":7},"2015-05-09",null,{"$f":"1+AM1","v":8},"2015-05-10",null,{"$f":"1+AP1","v":9},"2015-05-30",null,{"$f":"1+AS1","v":10},"2015-05-31",null,{"$f":"1+AV1","v":11},"1900-03-07",null,{"$f":"1+AY1","v":12},"2014-06-07",null,{"$f":"1+BB1","v":13},"2015-06-07",null,{"$f":"1+BE1","v":14},"2014-06-08",null,{"$f":"1+BH1","v":15},"2015-06-07",null,{"$f":"1+BK1","v":16},"2015-06-13",null,{"$f":"1+BN1","v":17},"2015-06-14",null,{"$f":"1+BQ1","v":18},"2015-06-20",null,{"$f":"1+BT1","v":19},"2015-06-20",null,{"$f":"1+BW1","v":20},"2015-06-21",null,{"$f":"1+BZ1","v":21},"2015-06-21",null,null,{"$f":"1+CC1","v":22},"2014-06-28",null,{"$f":"1+CC1","v":22},"2015-07-04",null,{"$f":"1+CJ1","v":23},"2015-07-11",null,{"$f":"1+CM1","v":24},"2015-07-11",null,{"$f":"1+CP1","v":25},"2015-07-11",null,null,{"$f":"1+CS1","v":26},"2014-07-12",null,{"$f":"1+CW1","v":27},"2015-08-29",null,{"$f":"1+CZ1","v":28},"2015-09-05",null,{"$f":"1+DC1","v":29},"2015-09-06",null,{"$f":"1+DF1","v":30},"2015-09-12",null,{"$f":"1+DI1","v":31},"2015-09-13",null,{"$f":"1+DL1","v":32},"2015-09-26",null,{"$f":"1+DO1","v":33},"2015-09-26",null,{"$f":"1+DR1","v":34},"2015-09-27",null,{"$f":"1+DU1","v":35},"2015-09-27",null,{"$f":"1+DX1","v":36},"2015-10-03",null,{"$f":"1+EA1","v":37},"2015-10-04",null,{"$f":"1+ED1","v":38},"2015-10-17",null,{"$f":"1+EG1","v":39}]
[null,null,null,null,null,null,null,null,null,null,null,null,"EVENT",null,null,null,"Excel",null,null,"Excel",null,null,"Telford CN",null,null,null,"Manchester CN",null,null,null,"SSW CH + Team",null,null,"Gloucester CN",null,null,"GBR #O1",null,null,"GBR #I1",null,null,"GBR #I2",null,null,"Norfolk CN",null,null,"Ipswich CN",null,null,"Firpark CN",null,null,null,null,null,"SASA CN",null,null,null,null,null,"LSRA CN",null,null,"GBR #I3",null,null,"Scot Ind Champs",null,null,"GBR #O2",null,null,"GBR #O3",null,null,"Midland CN",null,null,"Lions CN",null,null,null,"Pendle CN",null,null,"Avon & WC CN",null,null,"GBR #O4",null,null,"GBR #O5 (GS)",null,null,"Hemel CN",null,null,null,"GBR #O6",null,null,"All England Champ",null,null,"Anglo Welsh Indoor Champs",null,null,"British Indoor Champs",null,null,"Welsh Champs",null,null,"British Champs",null,null,"Lowlands Indoor Champs",null,null,"Scottish Dryslope Champs",null,null,"Lowlands Indoor Champs",null,null,"Scottish Dryslope Champs GS",null,null,"Irish Champs",null,null,"European Champs",null,null,"BARSC Indoor Ch."]
["Race Registration",null,null,null,null,null,null,null,null,null,null,null,"VENUE",null,null,null,"Pontypool",null,null,"Pembrey",null,null,"Manchester",null,null,null,"Manchester",null,null,null,"Gloucester",null,null,"Gloucester",null,null,"Gloucester",null,null,"Manchester",null,null,"Manchester",null,null,"Norwich",null,null,"Ipswich",null,null,"Firpark",null,null,null,null,null,"Southampton",null,null,null,null,null,"Edinburgh",null,null,"Glasgow",null,null,"Glasgow",null,null,"Gloucester",null,null,"Gloucester",null,null,"Gloucester",null,null,"Castleford",null,null,null,"Pendle",null,null,"Mendip",null,null,"Pontypool",null,null,"Pontypool",null,null,"Hemel",null,null,null,"Pontypool",null,null,"Sunderland",null,null,"Manchester",null,null,"Manchester",null,null,"Pontypool",null,null,"Pontypool",null,null,"Landgraff, NL",null," ","Edinburgh",null,null,"Landgraff, NL",null," ","Edinburgh",null,null,"Dublin",null,null,"Dublin",null,null,"Chill Factore",null," "]
[null,null,null,null,null,null,null,null,null,null,null,null,"Min",null,null,null,40,null,"Out",40,null,"Out",10,null,null,"In",10,null,null,"In",10,null,"Out",10,null,"Out",5,null,"Out",5,null,"In",5,null,"In",10,null,"Out",10,null,"Out",10,null,"Out",10,"pts","Out",10,null,"Out",10,"pts","Out",10,null,"Out",5,null,"In",0,null,"In",5,null,"Out",5,null,"Out",10,null,"Out",10,null,null,"In",10,null,"Out",10,null,"Out",5,null,"Out",5,null,"Out",10,null,null,"In",5,null,"Out",0,null,"Out",0,null,"In",0,null,"In",0,null,"Out",0,null,"Out",0,null,"In",0,null,"Out",0,null,"In",0,null,"Out",0,null,"Out",0,null,"Out",0,null,"Out"]
["Britski","M/F",null,"AGE GROUP","REG","PAST","POINTS","POINTS","POINTS","POINTS",null,"Out","In","FUTURE","POINTS","POINTS","Overall","Age","Event Points","Overall","Age","Event Points","Overall","Age","Run1 Points","Run 2 Points","Overall","Age","Run1 Points","Run 2 Points","Overall","Age","Event Points","Overall","Age","Event Points","Overall","Age","Event Points","Overall","Age","Event Points","Overall","Age","Event Points","Overall","Age","Event Points","Overall","Age","Event Points","Overall","Age","Event Points","Overall","Age","Event Points","Overall","Age","Event Points","Overall","Age","Event Points","Overall","Age","Event Points","Overall","Age","Event Points","Overall","Age","Event Points","Overall","Age","Event Points","Overall","Age","Event Points","Overall","Age","Event Points","Overall","Age","Run1 Points","Run 2 Points","Overall","Age","Event Points","Overall","Age","Event Points","Overall","Age","Event Points","Overall","Age","Event Points","Overall","Age","Run1 Points","Run 2 Points","Overall","Age","Event Points","Overall","Age","Event Points","Overall","Age","Event Points","Overall","Age","Event Points","Overall","Age","Event Points","Overall","Age","Event Points","Overall","Age","Event Points","Overall","Age","Event Points","Overall","Age","Event Points","Overall","Age","Event Points","Overall","Age","Event Points","Overall","Age","Event Points","Overall","Age","Event Points"]
["Seeding",null,"YEAR",null,"NUM",null,"o-2015.0","i-2015.0","o-2015.6","i-2015.6",null,"year best","year best",null,"o-2014.6","i-2014.6"]
["GIRLS"]
["Tilley O'Brien","F",2004,{"$f":"INDEX('Age Calculation'!$A$1:'Age Calculation'!$Q$108,MATCH(C8,'Age Calculation'!$A$1:'Age Calculation'!$A$108),MATCH($A$1,'Age Calculation'!$A$1:'Age Calculation'!$Q$1))","v":"U12"},20809,null,999.99,999.99,999.99,999.99,null,999.99,999.99,null,999.99,999.99,null,null,null,null,null,null,1,1,999.99,999.99,1,1,999.99,999.99,null,null,null,null,null,null,null,null,null,1,1,999.99,1,1,999.99,null,null,null,null,null,null,null,null,null,null,null,null,null,null,null,null,null,null,null,null,null,1,1,999.99,1,1,999.99,null,null,null,null,null,null,null,null,null,null,null,null,null,null,null,null,null,null,null,null,null,null,null,null,null,null,null,null,null,null,null,null,null,null,null,1,1,999.99]
["Amber Fennell","F",2007,"U10",22729,null,999.99,999.99,999.99,999.99,null,999.99,999.99,null,null,null,null,null,null,null,null,null,7,3,999.99,999.99,9,1,999.99,999.99,null,null,null,11,3,999.99,7,3,999.99,11,5,999.99,null,null,null,10,3,999.99,9,2,999.99,null,null,null,null,null,null,null,null,null,null,null,null,null,null,null,16,6,null,19,6,999.99,6,3,999.99,null,null,null,9,4,999.99,null,null,null,null,null,null,null,"-","-","dnf",6,3,999.99,5,3,"GS",null,null,null,null,7,3,999.99,null,null,null,12,7,999.99,10,6,999.99,7,3,999.99,7,3,999.99,null,null,null,null,null,null,null,null,null,null,null,null,1,1,999.99,1,1,999.99,4,2,999.99]
["Charlotte Giles","F",2006,"U10",null,null,999.99,999.99,999.99,999.99,null,999.99,999.99,null,null,null,null,null,null,null,null,null,null,null,null,null,null,null,null,null,null,null,null,null,null,null,null,null,null,null,null,null,null,null,null,11,4,999.99,13,5,999.99]
["Emilia Orzel","F",2006,"U10",22136,null,999.99,999.99,999.99,999.99,null,999.99,999.99,null,null,null,null,null,null,null,null,null,null,null,null,null,null,null,null,null,5,1,999.99,"-","-","DNF",6,2,999.99,6,1,999.99,5,1,999.99,null,null,null,null,null,null,null,null,null,null,null,null,null,null,null,null,null,null,null,null,null,16,4,999.99,14,1,999.99,4,1,999.99,null,null,null,4,1,999.99,null,null,null,null,null,null,null,null,null,null,5,2,999.99,4,2,"GS",null,null,null,null,4,1,999.99,null,null,null,10,6,999.99,8,4,999.99,6,2,999.99,6,2,999.99]
["Anya Hemming","F",2005,{"$f":"INDEX('Age Calculation'!$A$1:'Age Calculation'!$Q$108,MATCH(C12,'Age Calculation'!$A$1:'Age Calculation'!$A$108),MATCH($A$1,'Age Calculation'!$A$1:'Age Calculation'!$Q$1))","v":"U12"},21569,null,999.99,999.99,999.99,999.99,null,999.99,999.99,null,999.99,999.99,null,null,null,null,null,null,null,null,null,null,null,null,null,null,4,4,999.99,null,null,null,null,null,null,null,null,null,9,3,999.99,4,3,999.99,7,6,999.99,null,null,null,null,null,null,null,null,null,null,null,null,null,null,null,null,null,null,null,null,null,null,null,null,null,null,null,null,null,null,null,null,null,null,4,3,999.99,4,4,999.99]
["Aaliyah Llewellyn","F",2006,{"$f":"INDEX('Age Calculation'!$A$1:'Age Calculation'!$Q$108,MATCH(C13,'Age Calculation'!$A$1:'Age Calculation'!$A$108),MATCH($A$1,'Age Calculation'!$A$1:'Age Calculation'!$Q$1))","v":"U10"},22015,null,999.99,999.99,999.99,999.99,null,999.99,999.99,null,999.99,999.99]
["BOYS"]
["James Shakeshaft","M",2003,{"$f":"INDEX('Age Calculation'!$A$1:'Age Calculation'!$Q$108,MATCH(C15,'Age Calculation'!$A$1:'Age Calculation'!$A$108),MATCH($A$1,'Age Calculation'!$A$1:'Age Calculation'!$Q$1))","v":"U14"},20340,null,999.99,999.99,999.99,999.99,null,999.99,999.99,null,999.99,999.99]
["Daniel Hadley","M",2004,{"$f":"INDEX('Age Calculation'!$A$1:'Age Calculation'!$Q$108,MATCH(C16,'Age Calculation'!$A$1:'Age Calculation'!$A$108),MATCH($A$1,'Age Calculation'!$A$1:'Age Calculation'!$Q$1))","v":"U12"},20719,null,999.99,999.99,999.99,999.99,null,999.99,999.99,null,999.99,999.99]
["Jack Teague","M",2004,{"$f":"INDEX('Age Calculation'!$A$1:'Age Calculation'!$Q$108,MATCH(C17,'Age Calculation'!$A$1:'Age Calculation'!$A$108),MATCH($A$1,'Age Calculation'!$A$1:'Age Calculation'!$Q$1))","v":"U12"},20630,null,999.99,999.99,999.99,999.99,null,999.99,999.99,null,999.99,999.99]
["Jack Upton","M",2004,{"$f":"INDEX('Age Calculation'!$A$1:'Age Calculation'!$Q$108,MATCH(C18,'Age Calculation'!$A$1:'Age Calculation'!$A$108),MATCH($A$1,'Age Calculation'!$A$1:'Age Calculation'!$Q$1))","v":"U12"},21052,null,999.99,999.99,999.99,999.99,null,999.99,999.99,null,999.99,999.99,1,1,999.99,null,null,null,1,1,999.99,999.99,1,1,999.99,999.99,1,1,999.99,1,1,999.99,1,1,999.99,1,1,999.99,1,1,999.99,1,1,999.99,1,1,999.99,null,null,null,null,null,null,null,null,null,null,null,null,null,null,null,1,1,999.99,1,1,999.99,1,1,999.99,null,null,null,1,1,999.99,null,null,null,null,1,1,999.99,null,null,null,1,1,999.99,1,1,"GS",null,null,null,null,1,1,999.99,1,1,999.99,2,2,999.99,1,1,999.99,1,1,999.99,1,1,999.99,null,null,null,null,null,null,null,null,null,null,null,null,null,null,null,null,null,null,2,1,999.99]
["Keiran Woolley","M",2005,{"$f":"INDEX('Age Calculation'!$A$1:'Age Calculation'!$Q$108,MATCH(C19,'Age Calculation'!$A$1:'Age Calculation'!$A$108),MATCH($A$1,'Age Calculation'!$A$1:'Age Calculation'!$Q$1))","v":"U12"},21837,null,999.99,999.99,999.99,999.99,null,999.99,999.99,null,999.99,999.99,2,2,999.99,null,null,null,5,5,999.99,999.99,4,4,999.99,999.99,null,null,null,7,7,999.99,3,3,999.99,3,3,999.99,3,3,999.99,null,null,null,null,null,null,null,null,null,null,null,null,null,null,null,null,null,null,null,null,null,6,5,999.99,5,5,999.99,3,3,999.99,null,null,null,3,3,999.99,null,null,null,null,null,null,null,null,null,null,3,3,999.99,"-","-","dnf",null,null,null,null,3,3,999.99,2,2,999.99,null,null,null,null,null,null,2,2,999.99,2,2,999.99,4,4,999.99,null,null,null,3,3,999.99,null,null,null,null,null,null,null,null,null,5,4,999.99]
["Charlie Deem","M",2005,"U12",21827,null,999.99,999.99,999.99,999.99,null,999.99,999.99,null,null,null,null,null,null,null,null,null,null,null,null,null,null,null,null,null,null,null,null,null,null,null,null,null,null,null,null,null,null,null,null,null,null,null,null,null,null,null,null,null,null,null,null,null,null,null,null,null,null,null,null,null,null,null,null,null,null,null,null,null,null,null,null,null,null,null,null,null,null,null,null,null,null,null,null,null,null,null,null,null,null,null,null,null,null,null,null,null,null,null,3,3,999.99,7,5,999.99,8,6,999.99,null,null,null,null,null,null,null,null,null,null,null,null,null,null,null,null,null,null,null,null,null,null,null,null,6,5,999.99]
["Noah Bailey","M",2006,"U10",22198,null,999.99,999.99,999.99,999.99,null,999.99,999.99,null,999.99,999.99,null,null,null,null,null,null,null,null,null,null,null,null,null,null,null,null,null,null,null,null,null,null,null,null,null,null,null,null,null,null,null,null,null,null,null,null,null,null,null,null,null,null,null,null,null,null,null,null,null,null,null,null,null,null,null,null,null,null,null,null,null,null,null,null,null,null,null,null,null,null,null,null,null,null,null,null,null,null,null,null,null,null,null," "]
["Toby Weeks","M",2007,"U10",null,null,999.99,999.99,999.99,999.99,null,999.99,999.99,null,null,null,9,3,999.99,7,3,999.99,22,12,999.99,999.99,25,12,999.99,999.99,10,2,999.99,17,6,999.99,11,3,999.99,null,null,null,null,null,null,17,5,999.99,null,null,null,null,null,null,null,null,null,10,4,999.99,null,null,null,null,null,null,null,null,null,null,null,null,15,6,999.99,null,null,null,16,5,999.99,null,null,null,null,5,2,999.99,7,4,999.99,11,4,999.99,9,4,"GS",null,null,null,null,11,4,999.99,12,5,999.99,null,null,null,null,null,null,16,8,999.99]
["FEMALES"]
["Rachel Bill","F",1990,{"$f":"INDEX('Age Calculation'!$A$1:'Age Calculation'!$Q$108,MATCH(C24,'Age Calculation'!$A$1:'Age Calculation'!$A$108),MATCH($A$1,'Age Calculation'!$A$1:'Age Calculation'!$Q$1))","v":"SEN"},20168,null,null,null,null,null,null,{"$f":"'Points Calculation'!$BO22","v":{"$error":"#REF!"}},{"$f":"'Points Calculation'!$BX22","v":{"$error":"#REF!"}},null,{"$f":"'Points Calculation'!BQ22","v":{"$error":"#REF!"}},{"$f":"'Points Calculation'!BZ22","v":{"$error":"#REF!"}}]
["Lucy Deller","F",1996,{"$f":"INDEX('Age Calculation'!$A$1:'Age Calculation'!$Q$108,MATCH(C25,'Age Calculation'!$A$1:'Age Calculation'!$A$108),MATCH($A$1,'Age Calculation'!$A$1:'Age Calculation'!$Q$1))","v":"U21"},17888,null,null,null,null,null,null,{"$f":"'Points Calculation'!$BO23","v":{"$error":"#REF!"}},{"$f":"'Points Calculation'!$BX23","v":{"$error":"#REF!"}},null,{"$f":"'Points Calculation'!BQ23","v":{"$error":"#REF!"}},{"$f":"'Points Calculation'!BZ23","v":{"$error":"#REF!"}}]
["Helena Newboult","F",1998,{"$f":"INDEX('Age Calculation'!$A$1:'Age Calculation'!$Q$108,MATCH(C26,'Age Calculation'!$A$1:'Age Calculation'!$A$108),MATCH($A$1,'Age Calculation'!$A$1:'Age Calculation'!$Q$1))","v":"U18"},20696,null,36.89,37.39,11.19,41.85,null,{"$f":"MIN(S26,V26,AG26,AJ26,AM26,AV26,AY26,BB26,BH26,BN26,BW26,BZ26,CC26,CJ26,CM26,CP26,CZ26,DC26,DL26,DO26,DU26,EA26,ED26,EG26)","v":10},null,null,{"$f":"'Points Calculation'!BQ24","v":{"$error":"#REF!"}},{"$f":"'Points Calculation'!BZ24","v":{"$error":"#REF!"}},null,null,null,null,null,null,null,null,null,null,null,null,null,null,null,null,null,4,1,{"$f":"16.21+10.61","v":26.82},null,null,null,null,null,null,null,null,null,2,1,12.67,1,1,10,null,null,null,null,null,null,3,1,{"$f":"7.85+10.45","v":18.299999999999997},null,null,null,null,null,null,null,null,null," ",null,null,null,null,null,null,null,null,null,null,null,null,null,null,null,3,1,14.6,null,null,null,15,3,123.86,4,1,"GS",null,null,null,null,3,1,22.31]
["Rowan Vernon","F",1988,{"$f":"INDEX('Age Calculation'!$A$1:'Age Calculation'!$Q$108,MATCH(C27,'Age Calculation'!$A$1:'Age Calculation'!$A$108),MATCH($A$1,'Age Calculation'!$A$1:'Age Calculation'!$Q$1))","v":"SEN"},13381,null,null,null,null,null,null,{"$f":"'Points Calculation'!$BO25","v":{"$error":"#REF!"}},{"$f":"MIN(Y27,Z27,AC27,AD27,AP27,AS27,BQ27,BT3)","v":0},null,{"$f":"'Points Calculation'!BQ25","v":{"$error":"#REF!"}},{"$f":"'Points Calculation'!BZ25","v":{"$error":"#REF!"}}]
["Jessica Mayhew","F",2000,{"$f":"INDEX('Age Calculation'!$A$1:'Age Calculation'!$Q$108,MATCH(C28,'Age Calculation'!$A$1:'Age Calculation'!$A$108),MATCH($A$1,'Age Calculation'!$A$1:'Age Calculation'!$Q$1))","v":"U16"},21014,null,47.27,101.02,34.450000000000003,115.68,null,{"$f":"MIN(S28,V28,AG28,AJ28,AM28,AV28,AY28,BB28,BH28,BN28,BW28,BZ28,CC28,CJ28,CM28,CP28,CZ28,DC28,DL28,DO28,DU28,EA28,ED28,EG28)","v":26.22},null,null,{"$f":"'Points Calculation'!BQ29","v":{"$error":"#REF!"}},{"$f":"'Points Calculation'!BZ29","v":{"$error":"#REF!"}},null,null,null,null,null,null,null,null,null,null,null,null,null,null,6,2,{"$f":"45.98+10.06","v":56.04},null,null,null,"-","-","DNF",null,null,null,null,null,null,8,2,55.85,6,3,56.48,null,null,null,null,null,null,null,null,null,null,null,null,null,null,null,null,null,null,null,null,null,5,1,64.41,null,null,null,6,2,42.97,null,null,null,null,9,1,26.22,null,null,null,24,9,356.97,7,2,"GS",null,null,null,null,"-","-",null,null,null,null,null,null,null,null,null,null,9,4,76.680000000000007,10,4,67.099999999999994]
["Elisabeth Thomas","F",1996,{"$f":"INDEX('Age Calculation'!$A$1:'Age Calculation'!$Q$108,MATCH(C29,'Age Calculation'!$A$1:'Age Calculation'!$A$108),MATCH($A$1,'Age Calculation'!$A$1:'Age Calculation'!$Q$1))","v":"U21"},18033,null,null,null,null,null,null,{"$f":"MIN(S29,V29,AG29,AJ29,AM29,AV29,AY29,BB29,BH29,BN29,BW29,BZ29,CC29,CJ29,CM29,CP29,CZ29,DC29,DL29)","v":0},{"$f":"MIN(Y29,Z29,AC29,AD29,AP29,AS29,BQ29,BT5)","v":0},null,{"$f":"'Points Calculation'!BQ27","v":{"$error":"#REF!"}},{"$f":"'Points Calculation'!BZ27","v":{"$error":"#REF!"}}]
["Amy Middleton","F",1995,{"$f":"INDEX('Age Calculation'!$A$1:'Age Calculation'!$Q$108,MATCH(C30,'Age Calculation'!$A$1:'Age Calculation'!$A$108),MATCH($A$1,'Age Calculation'!$A$1:'Age Calculation'!$Q$1))","v":"U21"},20307,null,44.47,61.38,54.32,68.12,null,{"$f":"MIN(S30,V30,AG30,AJ30,AM30,AV30,AY30,BB30,BH30,BN30,BW30,BZ30,CC30,CJ30,CM30,CP30,CZ30,DC30,DL30,DO30,DU30,EA30,ED30,EG30)","v":51.16},null,null,{"$f":"'Points Calculation'!BQ26","v":{"$error":"#REF!"}},{"$f":"'Points Calculation'!BZ26","v":{"$error":"#REF!"}},null,null,null,null,null,null,null,null,null,null,null,null,null,null,null,null,null,null,null,null,null,null,null,null,null,null,null,null,null,10,5,66.52,8,3,66.17,null,null,null,null,null,null,null,null,null,null,null,null,null,null,null,null," ",null,null,null,null,null,null,null,null,null,null,null,null,null,null,null,null,null,13,4,51.16,null,null,null,null,null,null,null,null,null,null,null,null,null,null,null,null,"-","-","dnf"]
["Maxine Hancock","F",1997,{"$f":"INDEX('Age Calculation'!$A$1:'Age Calculation'!$Q$108,MATCH(C31,'Age Calculation'!$A$1:'Age Calculation'!$A$108),MATCH($A$1,'Age Calculation'!$A$1:'Age Calculation'!$Q$1))","v":"U21"},18617,null,88.64,84.1,106.21,68.89,null,null,{"$f":"MIN(Y31,Z31,AC31,AD31,AP31,AS31,BQ31,BT31,CF31,CG31,CV31,CW31,DF31,DI31)","v":56},null,{"$f":"'Points Calculation'!BQ28","v":{"$error":"#REF!"}},{"$f":"'Points Calculation'!BZ28","v":{"$error":"#REF!"}},null,null,null,null,null,null,5,2,56,58.88,8,3,86.07,108.26,null,null,null,null,null,null,null,null,null,7,2,{"$f":"69.42+6.93","v":76.349999999999994},"-","-","DNF",null,null,null,null,null,null,null,null,null,null,null,null,null,null,null,null,null,null,null,null,null,17,4,119.92,16,6,{"$f":"90.98+4.55","v":95.53},null,null,null,null,null,null,null,null,null,4,1,132.81,{"$f":"59.78+23.07","v":82.85},null,null,null,null,null,null,null,null,null,null,null,null,6,3,{"$f":"61.55+42.32","v":103.87},{"$f":"53.86+34.17","v":88.03},null,null,null,null,null,null,16,5,108.62,20,6,113.11,null,null,null,null,null,null,"-","-","dnf",null,null,null,null,6,"??",null,null,null,null,null,null,null,null,null,8,3,122.12]
["Ellie Jackson","F",2002,"U14",21024,null,163.95,159.19,97.42,97.46,null,{"$f":"MIN(S32,V32,AG32,AJ32,AM32,AV32,AY32,BB32,BH32,BN32,BW32,BZ32,CC32,CJ32,CM32,CP32,CZ32,DC32,DL32,DO32,DU32,EA32,ED32,EG32)","v":90.62},95.26,null,null,null,null,null,null,null,null,null,13,3,160,136.36000000000001,null,null,null,null,null,null,null,20,4,{"$f":"163.05+10.61","v":173.66000000000003},12,3,150.41999999999999,39,10,{"$f":"683.32+6.93","v":690.25},13,2,116.53,null,null,null,null,null,null,null,null,null,null,null,null,null,null,null,null,null,null,null,null,null,21,3,143.58000000000001,20,3,{"$f":"135.08+4.55","v":139.63000000000002},11,3,144.38999999999999,null,null,null,16,2,132.85,null,null,null,null,14,1,90.62,"-","-","dnf",14,3,115.83,14,2,"GS",null,null,null,null,12,1,122.4,null,null,null,23,7,120.58,14,3,95.26,19,3,136.46,18,3,104.51,null,null,null,null,null,null,null,null,null,null,null,null,null,null,null,null,null,null,6,2,85.83]
["Hannah Shakeshaft","F",1996,{"$f":"INDEX('Age Calculation'!$A$1:'Age Calculation'!$Q$108,MATCH(C33,'Age Calculation'!$A$1:'Age Calculation'!$A$108),MATCH($A$1,'Age Calculation'!$A$1:'Age Calculation'!$Q$1))","v":"U21"},19833,null,null,null,null,null,null,{"$f":"MIN(S33,V33,AG33,AJ33,AM33,AV33,AY33,BB33,BH33,BN33,BW33,BZ33,CC33,CJ33,CM33,CP33,CZ33,DC33,DL33)","v":0},0,null,{"$f":"'Points Calculation'!BQ30","v":{"$error":"#REF!"}},{"$f":"'Points Calculation'!BZ30","v":{"$error":"#REF!"}}]
["Chloe Care","F",1998,{"$f":"INDEX('Age Calculation'!$A$1:'Age Calculation'!$Q$108,MATCH(C34,'Age Calculation'!$A$1:'Age Calculation'!$A$108),MATCH($A$1,'Age Calculation'!$A$1:'Age Calculation'!$Q$1))","v":"U18"},19983,null,null,null,null,null,null,0,0,null,{"$f":"'Points Calculation'!BQ31","v":{"$error":"#REF!"}},{"$f":"'Points Calculation'!BZ31","v":{"$error":"#REF!"}}]
["Geraldine Elgy","F",1954,{"$f":"INDEX('Age Calculation'!$A$1:'Age Calculation'!$Q$108,MATCH(C35,'Age Calculation'!$A$1:'Age Calculation'!$A$108),MATCH($A$1,'Age Calculation'!$A$1:'Age Calculation'!$Q$1))","v":"MAS"},19165,null,null,null,null,null,null,0,0,null,{"$f":"'Points Calculation'!BQ32","v":{"$error":"#REF!"}},{"$f":"'Points Calculation'!BZ32","v":{"$error":"#REF!"}}]
["Laura Newboult","F",1995,{"$f":"INDEX('Age Calculation'!$A$1:'Age Calculation'!$Q$108,MATCH(C36,'Age Calculation'!$A$1:'Age Calculation'!$A$108),MATCH($A$1,'Age Calculation'!$A$1:'Age Calculation'!$Q$1))","v":"U21"},20781,null,null,null,null,null,null,0,0,null,{"$f":"'Points Calculation'!BQ33","v":{"$error":"#REF!"}},{"$f":"'Points Calculation'!BZ33","v":{"$error":"#REF!"}}]
["Robyn Doherty","F",1996,{"$f":"INDEX('Age Calculation'!$A$1:'Age Calculation'!$Q$108,MATCH(C37,'Age Calculation'!$A$1:'Age Calculation'!$A$108),MATCH($A$1,'Age Calculation'!$A$1:'Age Calculation'!$Q$1))","v":"U21"},19573,null,null,null,null,null,null,0,0,null,{"$f":"'Points Calculation'!BQ34","v":{"$error":"#REF!"}},{"$f":"'Points Calculation'!BZ34","v":{"$error":"#REF!"}}]
["Jane Lee","F",1954,{"$f":"INDEX('Age Calculation'!$A$1:'Age Calculation'!$Q$108,MATCH(C38,'Age Calculation'!$A$1:'Age Calculation'!$A$108),MATCH($A$1,'Age Calculation'!$A$1:'Age Calculation'!$Q$1))","v":"MAS"},41577,null,null,null,null,null,null,0,0,null,{"$f":"'Points Calculation'!BQ35","v":{"$error":"#REF!"}},{"$f":"'Points Calculation'!BZ35","v":{"$error":"#REF!"}}]
["Emily Dawes","F",1991,{"$f":"INDEX('Age Calculation'!$A$1:'Age Calculation'!$Q$108,MATCH(C39,'Age Calculation'!$A$1:'Age Calculation'!$A$108),MATCH($A$1,'Age Calculation'!$A$1:'Age Calculation'!$Q$1))","v":"SEN"},14263,null,null,null,null,null,null,0,0,null,"NR","NR"]
["Sophia Phelps","F",1994,{"$f":"INDEX('Age Calculation'!$A$1:'Age Calculation'!$Q$108,MATCH(C40,'Age Calculation'!$A$1:'Age Calculation'!$A$108),MATCH($A$1,'Age Calculation'!$A$1:'Age Calculation'!$Q$1))","v":"SEN"},17839,null,null,null,null,null,null,0,0,null,"NR","NR"]
["Olivia Waller","F",1994,{"$f":"INDEX('Age Calculation'!$A$1:'Age Calculation'!$Q$108,MATCH(C41,'Age Calculation'!$A$1:'Age Calculation'!$A$108),MATCH($A$1,'Age Calculation'!$A$1:'Age Calculation'!$Q$1))","v":"SEN"},17516,null,null,null,null,null,null,0,0,null,"NR","NR"]
["Ella Giles","F",2003,"U14",22176,null,null,null,165.87,529.28,null,{"$f":"MIN(S42,V42,AG42,AJ42,AM42,AV42,AY42,BB42,BH42,BN42,BW42,BZ42,CC42,CJ42,CM42,CP42,CZ42,DC42,DL42,DO42,DU42,EA42,ED42,EG42)","v":155.5},435.68,null,null,null,null,null,null,null,null,null,null,null,null,null,"-","-","dnf",435.68,19,4,{"$f":"266.54+10.06","v":276.60000000000002},null,null,null,null,null,null,null,null,null,null,null,null,31,5,184.42,36,6,176.53,null,null,null,null,null,null,null,null,null,null,null,null,null,null,null,null,null,null,null,null,null,null,null,null,null,null,null,20,4,208.65,null,null,null,null,16,2,155.5]
["Lauren Treuge","F",2003,{"$f":"INDEX('Age Calculation'!$A$1:'Age Calculation'!$Q$108,MATCH(C43,'Age Calculation'!$A$1:'Age Calculation'!$A$108),MATCH($A$1,'Age Calculation'!$A$1:'Age Calculation'!$Q$1))","v":"U14"},20669,null,null,null,null,null,null,{"$f":"MIN(S43,V43,AG43,AJ43,AM43,AV43,AY43,BB43,BH43,BN43,BW43,BZ43,CC43,CJ43,CM43,CP43,CZ43,DC43,DL43,DO43,DU43,EA43,ED43,EG43)","v":211.26},null,null,999.99,999.99,null,null,null,null,null,null,null,null,null,null,null,null,null,null,null,null,null,null,null,null,null,null,null,null,null,null,null,null,null,null,null,null,null,null,null,null,null,null,null,null,null,null,null,null,null,null,null,null,null,null,null,null,null,null,null,null,null,null,null,null,null,null,21,5,211.26]
["Agathe Vallat","F",1999,"U16",21606,null,null,null,null,null,null,"NR","NR",null,"NR","NR"]
["Rose Tinley","F",1998,"U18","Day",null,null,null,null,null,null,"NR","NR",null,"NR","NR"]
["Rebecca Tinley","F",2000,"U16","Day",null,null,null,null,null,null,"NR","NR",null,"NR","NR"]
["Carys Phillips","F",1999,"U16","Day",null,null,null,null,null,null,"NR","NR",null,"NR","NR"]
["MALES",null,null,null,null,null,null,null,null,null,null,null,null,null,{"$f":"IF('Points Calculation'!BO44<#REF!,'Points Calculation'!BO44,\"\")","v":{"$error":"#REF!"}},{"$f":"IF('Points Calculation'!CG44<#REF!,'Points Calculation'!CG44,\"\")","v":{"$error":"#REF!"}}]
["Harry Hornsby","M",1991,{"$f":"INDEX('Age Calculation'!$A$1:'Age Calculation'!$Q$108,MATCH(C49,'Age Calculation'!$A$1:'Age Calculation'!$A$108),MATCH($A$1,'Age Calculation'!$A$1:'Age Calculation'!$Q$1))","v":"SEN"},17356,null,7.8,15.41,10.49,20.149999999999999,null,{"$f":"MIN(S49,V49,AG49,AJ49,AM49,AV49,AY49,BB49,BH49,BN49,BW49,BZ49,CC49,CJ49,CM49,CP49,CZ49,DC49,DL49,DO49,DU49,EA49,ED49,EG49)","v":10},null,null,{"$f":"'Points Calculation'!BQ42","v":{"$error":"#REF!"}},{"$f":"'Points Calculation'!BZ42","v":{"$error":"#REF!"}},null,null,null,null,null,null,null,null,null,null,null,null,null,null,null,null,null,2,1,14.09,null,null,null,null,null,null,null,null,null,3,1,28.26,2,2,14.45,null,null,null,null,null,null,2,1,{"$f":"46.49","v":46.49},null,null,null,null,null,null,null,null,null,null,null,null,"-","-","dnf",null,null,null,1,1,10,null,null,null,null,null,null,null,null,null,null,null,null,null,null,null,null,null,null,null,null,null,null,null,3,1,18.670000000000002]
["Jonny Powell","M",1986,{"$f":"INDEX('Age Calculation'!$A$1:'Age Calculation'!$Q$108,MATCH(C50,'Age Calculation'!$A$1:'Age Calculation'!$A$108),MATCH($A$1,'Age Calculation'!$A$1:'Age Calculation'!$Q$1))","v":"SEN"},17479,null,28.72,28.72,36.979999999999997,33.46,null,{"$f":"MIN(S50,V50,AG50,AJ50,AM50,AV50,AY50,BB50,BH50,BN50,BW50,BZ50,CC50,CJ50,CM50,CP50,CZ50,DC50,DL50,DO50,DU50,EA50,ED50,EG50)","v":51.9},null,null,{"$f":"'Points Calculation'!BQ43","v":{"$error":"#REF!"}},{"$f":"'Points Calculation'!BZ43","v":{"$error":"#REF!"}},null,null,null,null,null,null,null,null,null,null,null,null,null,null,null,null,null,10,5,56.05,12,3,56.27,null,null,null,null,null,null,null,null,null,null,null,null,null,null,null,null,null,null,12,2,51.9]
["Andrew Du Plessis","M",1985,{"$f":"INDEX('Age Calculation'!$A$1:'Age Calculation'!$Q$108,MATCH(C51,'Age Calculation'!$A$1:'Age Calculation'!$A$108),MATCH($A$1,'Age Calculation'!$A$1:'Age Calculation'!$Q$1))","v":"MAS"},12318,null,null,null,null,null,null,{"$f":"MIN(S51,V51,AG51,AJ51,AM51,AV51,AY51,BB51,BH51,BN51,BW51,BZ51,CC51,CJ51,CM51,CP51,CZ51,DC51,DL51)","v":0},null,null,{"$f":"'Points Calculation'!BQ44","v":{"$error":"#REF!"}},{"$f":"'Points Calculation'!BZ44","v":{"$error":"#REF!"}}]
["Adam Beardmore","M",1986,{"$f":"INDEX('Age Calculation'!$A$1:'Age Calculation'!$Q$108,MATCH(C52,'Age Calculation'!$A$1:'Age Calculation'!$A$108),MATCH($A$1,'Age Calculation'!$A$1:'Age Calculation'!$Q$1))","v":"SEN"},19704,null,null,null,null,null,null,0,null,null,{"$f":"'Points Calculation'!BQ45","v":{"$error":"#REF!"}},{"$f":"'Points Calculation'!BZ45","v":{"$error":"#REF!"}}]
["Adam. Lee","M",1994,{"$f":"INDEX('Age Calculation'!$A$1:'Age Calculation'!$Q$108,MATCH(C53,'Age Calculation'!$A$1:'Age Calculation'!$A$108),MATCH($A$1,'Age Calculation'!$A$1:'Age Calculation'!$Q$1))","v":"SEN"},41578,null,37.32,48.93,53.67,43.54,null,{"$f":"MIN(S53,V53,AG53,AJ53,AM53,AV53,AY53,BB53,BH53,BN53,BW53,BZ53,CC53,CJ53,CM53,CP53,CZ53,DC53,DL53,DO53,DU53,EA53,ED53,EG53)","v":39.49},null,null,{"$f":"'Points Calculation'!BQ46","v":{"$error":"#REF!"}},{"$f":"'Points Calculation'!BZ46","v":{"$error":"#REF!"}},null,null,null,null,null,null,null,null,null,null,null,null,null,null,null,null,null,null,null,null,"-","-","DNF",null,null,null,null,null,null,null,null,null,null,null,null,null,null,null,null,null,null,null,null,null,null,null,null,null,null,null,null,null,null,null,null,null,null,null,null,null,null,null,"-","-","dnf",null,null,null,null,4,2,49.02,null,null,null,32,3,{"$f":"190.23+16.17","v":206.39999999999998},"-","-","dns",null,null,null,null,9,4,97.79,9,3,61.42,null,null,null,null,null,null,8,1,70.95,5,1,39.49,null,null,null,7,1,{"$f":"105.79+11.91","v":117.7}]
["Oliver Weeks","M",2001,{"$f":"INDEX('Age Calculation'!$A$1:'Age Calculation'!$Q$108,MATCH(C54,'Age Calculation'!$A$1:'Age Calculation'!$A$108),MATCH($A$1,'Age Calculation'!$A$1:'Age Calculation'!$Q$1))","v":"U16"},19051,null,53.47,66.97,35.07,46.15,null,{"$f":"MIN(S54,V54,AG54,AJ54,AM54,AV54,AY54,BB54,BH54,BN54,BW54,BZ54,CC54,CJ54,CM54,CP54,CZ54,DC54,DL54,DO54,DU54,EA54,ED54,EG54)","v":31.66},{"$f":"MIN(Y54,Z54,AC54,AD54,AP54,AS54,BQ54,BT54,CF54,CG54,CV54,CW54,DF54,DI54)","v":50.370000000000005},null,{"$f":"'Points Calculation'!BQ53","v":{"$error":"#REF!"}},{"$f":"'Points Calculation'!BZ53","v":{"$error":"#REF!"}},null,null,null,null,null,null,10,2,79.819999999999993,75.11,9,1,68.23,79,7,1,57.37,null,null,null,11,2,55.05,11,2,{"$f":"75.65+5.52","v":81.17},9,1,65.55,null,null,null,null,null,null,null,null,null,null,null,null,9,1,62.03,null,null,null,null,null,null,5,1,{"$f":"42.6+7.77","v":50.370000000000005},10,2,{"$f":"43.64+12.19","v":55.83},5,1,47.21,null,null,null,11,1,55.93,null,null,null,null,11,2,83.37,3,1,48.46,4,1,{"$f":"25.79+16.17","v":41.96},13,1,"GS",null,null,null,null,7,1,79.61,7,1,55.47,15,2,52.45,21,4,71,7,1,61.45,8,1,50.92,null,null,null,"-","-","dnf",null,null,null,2,1,"GS",4,1,{"$f":"29.05+2.61","v":31.66},9,1,60.63,32,9,527.5]
["Phil Emmerson","M",1990,{"$f":"INDEX('Age Calculation'!$A$1:'Age Calculation'!$Q$108,MATCH(C55,'Age Calculation'!$A$1:'Age Calculation'!$A$108),MATCH($A$1,'Age Calculation'!$A$1:'Age Calculation'!$Q$1))","v":"SEN"},21084,null,null,null,null,null,null,0,null,null,{"$f":"'Points Calculation'!BQ48","v":{"$error":"#REF!"}},{"$f":"'Points Calculation'!BZ48","v":{"$error":"#REF!"}}]
["Jack Rigby","M",1995,{"$f":"INDEX('Age Calculation'!$A$1:'Age Calculation'!$Q$108,MATCH(C56,'Age Calculation'!$A$1:'Age Calculation'!$A$108),MATCH($A$1,'Age Calculation'!$A$1:'Age Calculation'!$Q$1))","v":"U21"},41722,null,null,null,60.48,44.57,null,null,{"$f":"MIN(Y56,Z56,AC56,AD56,AP56,AS56,BQ56,BT56,CF56,CG56,CV56,CW56,DF56,DI56)","v":76.38},null,{"$f":"'Points Calculation'!BQ47","v":{"$error":"#REF!"}},{"$f":"'Points Calculation'!BZ47","v":{"$error":"#REF!"}},null,null,null,null,null,null,null,null,null,null,null,null,null,null,null,null,null,null,null,null,null,null,null,null,null,null,null,null,null,null,null,null,null,null,null,null,null,null,null,null,null,null,null,null,null,null,null,null,null,null,null,null,null,null,null,null,null,null,null,null,null,null,null,null,null,null,null,null,null,null,null,null,null,null,null,null,null,null,null,null,null,6,3,{"$f":"67.08+13.22","v":80.3},76.38]
["Nick Miller","M",1993,{"$f":"INDEX('Age Calculation'!$A$1:'Age Calculation'!$Q$108,MATCH(C57,'Age Calculation'!$A$1:'Age Calculation'!$A$108),MATCH($A$1,'Age Calculation'!$A$1:'Age Calculation'!$Q$1))","v":"SEN"},18607,null,null,null,null,null,null,{"$f":"MIN(S57,V57,AG57,AJ57,AM57,AV57,AY57,BB57,BH57,BN57,BW57,BZ57,CC57,CJ57,CM57,CP57,CZ57,DC57,DL57)","v":0},null,null,{"$f":"'Points Calculation'!BQ50","v":{"$error":"#REF!"}},{"$f":"'Points Calculation'!BZ50","v":{"$error":"#REF!"}}]
["Alasdair Thorley","M",1994,{"$f":"INDEX('Age Calculation'!$A$1:'Age Calculation'!$Q$108,MATCH(C58,'Age Calculation'!$A$1:'Age Calculation'!$A$108),MATCH($A$1,'Age Calculation'!$A$1:'Age Calculation'!$Q$1))","v":"SEN"},18586,null,null,null,null,null,null,0,null,null,{"$f":"'Points Calculation'!BQ51","v":{"$error":"#REF!"}},{"$f":"'Points Calculation'!BZ51","v":{"$error":"#REF!"}}]
["Edmund Walker","M",1992,{"$f":"INDEX('Age Calculation'!$A$1:'Age Calculation'!$Q$108,MATCH(C59,'Age Calculation'!$A$1:'Age Calculation'!$A$108),MATCH($A$1,'Age Calculation'!$A$1:'Age Calculation'!$Q$1))","v":"SEN"},14213,null,50.77,92.59,59.18,105.85,null,{"$f":"MIN(S59,V59,AG59,AJ59,AM59,AV59,AY59,BB59,BH59,BN59,BW59,BZ59,CC59,CJ59,CM59,CP59,CZ59,DC59,DL59,DO59,DU59,EA59,ED59,EG59)","v":71.59},null,null,{"$f":"'Points Calculation'!BQ56","v":{"$error":"#REF!"}},{"$f":"'Points Calculation'!BZ56","v":{"$error":"#REF!"}},null,null,null,null,null,null,null,null,null,null,null,null,null,null,null,null,null,null,null,null,null,null,null,null,null,null,null,null,null,11,5,71.59,"-","-","DNF"]
["Mark Hawkins","M",1979,{"$f":"INDEX('Age Calculation'!$A$1:'Age Calculation'!$Q$108,MATCH(C60,'Age Calculation'!$A$1:'Age Calculation'!$A$108),MATCH($A$1,'Age Calculation'!$A$1:'Age Calculation'!$Q$1))","v":"MAS"},19163,null,55.53,73.739999999999995,52.15,83.23,null,{"$f":"MIN(S60,V60,AG60,AJ60,AM60,AV60,AY60,BB60,BH60,BN60,BW60,BZ60,CC60,CJ60,CM60,CP60,CZ60,DC60,DL60,DO60,DU60,EA60,ED60,EG60)","v":46.63},null,null,{"$f":"'Points Calculation'!BQ49","v":{"$error":"#REF!"}},{"$f":"'Points Calculation'!BZ49","v":{"$error":"#REF!"}},null,null,null,null,null,null,null,null,null,null,null,null,null,null,null,null,null,13,2,46.63,"-","-","DNF",null,null,null,null,null,null,null,null,null,null,null,null,null,null,null,null,null,null,null,null,null,null,null,null,null,null,null,null,null,null,null,null,null,null,null,null,null,null,null,"-","-","dnf",null,null,null,null,null,null,null,null,null,null,"-","-","dnf",7,3,"GS",null,null,null,null,"-","-","dnf"]
["James Smith","M",1992,{"$f":"INDEX('Age Calculation'!$A$1:'Age Calculation'!$Q$108,MATCH(C61,'Age Calculation'!$A$1:'Age Calculation'!$A$108),MATCH($A$1,'Age Calculation'!$A$1:'Age Calculation'!$Q$1))","v":"SEN"},21595,null,null,null,null,null,null,0,{"$f":"MIN(Y61,Z61,AC61,AD61,AP61,AS61,BQ61,BT38,CF38,CG38,CV60,CW60,DF60,DI60)","v":0},null,{"$f":"'Points Calculation'!BQ54","v":{"$error":"#REF!"}},{"$f":"'Points Calculation'!BZ54","v":{"$error":"#REF!"}}]
["Gareth Miller","M",1994,{"$f":"INDEX('Age Calculation'!$A$1:'Age Calculation'!$Q$108,MATCH(C62,'Age Calculation'!$A$1:'Age Calculation'!$A$108),MATCH($A$1,'Age Calculation'!$A$1:'Age Calculation'!$Q$1))","v":"SEN"},18509,null,null,null,null,null,null,0,{"$f":"MIN(Y62,Z62,AC62,AD62,AP62,AS62,BQ62,BT39,CF39,CG39,CV61,CW61,DF61,DI61)","v":0},null,{"$f":"'Points Calculation'!BQ55","v":{"$error":"#REF!"}},{"$f":"'Points Calculation'!BZ55","v":{"$error":"#REF!"}}]
["Thomas Upton","M",2001,{"$f":"INDEX('Age Calculation'!$A$1:'Age Calculation'!$Q$108,MATCH(C63,'Age Calculation'!$A$1:'Age Calculation'!$A$108),MATCH($A$1,'Age Calculation'!$A$1:'Age Calculation'!$Q$1))","v":"U16"},21051,null,104.95,121.49,70.14,97.61,null,{"$f":"MIN(S63,V63,AG63,AJ63,AM63,AV63,AY63,BB63,BH63,BN63,BW63,BZ63,CC63,CJ63,CM63,CP63,CZ63,DC63,DL63,DO63,DU63,EA63,ED63,EG63)","v":64.28},{"$f":"MIN(Y63,Z63,AC63,AD63,AP63,AS63,BQ63,BT63,CF63,CG63,CV63,CW63,DF63,DI63)","v":107.3},null,{"$f":"'Points Calculation'!BQ67","v":{"$error":"#REF!"}},{"$f":"'Points Calculation'!BZ67","v":{"$error":"#REF!"}},26,12,{"$f":"1060.73+123.67","v":1184.4000000000001},null,null,null,36,12,165.34,217.7,25,7,166.96,182.1,25,5,117.37,20,3,96.98,23,6,104.9,36,11,{"$f":"159.49+5.52","v":165.01000000000002},35,10,157.97,28,2,128.55000000000001,18,4,103.26,null,null,null,null,null,null,null,null,null,null,null,null,null,null,null,31,10,{"$f":"137.26+7.77","v":145.03},29,10,{"$f":"107.76+12.19","v":119.95},15,2,66.45,null,null,null,22,2,86.83,null,null,null,null,24,3,150.69999999999999,5,1,64.28,9,2,{"$f":"61.13+16.17","v":77.300000000000011},27,6,"GS",null,null,null,null,19,4,129.47,16,3,97.41,38,9,107.3,36,10,110.27,13,3,86.85,null,null,null,null,null,null,null,null,null,null,null,null,null,null,null,null,null,null,null,null,null,7,3,85.79]
["Jordan Rigby","M",2000,{"$f":"INDEX('Age Calculation'!$A$1:'Age Calculation'!$Q$108,MATCH(C64,'Age Calculation'!$A$1:'Age Calculation'!$A$108),MATCH($A$1,'Age Calculation'!$A$1:'Age Calculation'!$Q$1))","v":"U16"},19910,null,null,null,null,null,null,0,{"$f":"MIN(Y64,Z64,AC64,AD64,AP64,AS64,BQ64,BT41,CF41,CG41,CV63,CW63,DF63,DI63)","v":107.3},null,{"$f":"'Points Calculation'!BQ57","v":{"$error":"#REF!"}},{"$f":"'Points Calculation'!BZ57","v":{"$error":"#REF!"}}]
["Thomas Lawrence","M",1999,{"$f":"INDEX('Age Calculation'!$A$1:'Age Calculation'!$Q$108,MATCH(C65,'Age Calculation'!$A$1:'Age Calculation'!$A$108),MATCH($A$1,'Age Calculation'!$A$1:'Age Calculation'!$Q$1))","v":"U18"},19941,null,103.46,143.83000000000001,72.88,202.98,null,{"$f":"MIN(S65,V65,AG65,AJ65,AM65,AV65,AY65,BB65,BH65,BN65,BW65,BZ65,CC65,CJ65,CM65,CP65,CZ65,DC65,DL65,DO65,DU65,EA65,ED65,EG65)","v":63.38},null,null,{"$f":"'Points Calculation'!BQ63","v":{"$error":"#REF!"}},{"$f":"'Points Calculation'!BZ63","v":{"$error":"#REF!"}},null,null,null,null,null,null,null,null,null,null,null,null,null,null,13,5,78.69,null,null,null,null,null,null,null,null,null,null,null,null,24,8,116.01,null,null,null,null,null,null,null,null,null,null,null,null,null,null,null,null,null,null,null,null,null,null,null,null,13,3,63.38,null,null,null,24,8,102.5,null,null,null,null,13,2,85.85,null,null,null,null,null,null,null,null,null,null,null,null,null,null,null,null,null,null,null,null,null,null,null,null,null,null,null,null,22,12,90.8,null,null,null,null,null,null,null,null,null,null,null,null,16,2,{"$f":"106.59+2.61","v":109.2},37,9,610.20000000000005]
["Roger Crombleholme","M",1957,{"$f":"INDEX('Age Calculation'!$A$1:'Age Calculation'!$Q$108,MATCH(C66,'Age Calculation'!$A$1:'Age Calculation'!$A$108),MATCH($A$1,'Age Calculation'!$A$1:'Age Calculation'!$Q$1))","v":"MAS"},5666,null,null,null,null,null,null,0,{"$f":"MIN(Y66,Z66,AC66,AD66,AP66,AS66,BQ66,BT43,CF43,CG43,CV65,CW65,DF65,DI65)","v":0},null,{"$f":"'Points Calculation'!BQ59","v":{"$error":"#REF!"}},{"$f":"'Points Calculation'!BZ59","v":{"$error":"#REF!"}}]
["Joey Frost","M",1995,{"$f":"INDEX('Age Calculation'!$A$1:'Age Calculation'!$Q$108,MATCH(C67,'Age Calculation'!$A$1:'Age Calculation'!$A$108),MATCH($A$1,'Age Calculation'!$A$1:'Age Calculation'!$Q$1))","v":"U21"},20677,null,null,null,null,null,null,0,{"$f":"MIN(Y67,Z67,AC67,AD67,AP67,AS67,BQ67,BT44,CF44,CG44,CV66,CW66,DF66,DI66)","v":0},null,{"$f":"'Points Calculation'!BQ60","v":{"$error":"#REF!"}},{"$f":"'Points Calculation'!BZ60","v":{"$error":"#REF!"}}]
["Sam Lee","M",1996,{"$f":"INDEX('Age Calculation'!$A$1:'Age Calculation'!$Q$108,MATCH(C68,'Age Calculation'!$A$1:'Age Calculation'!$A$108),MATCH($A$1,'Age Calculation'!$A$1:'Age Calculation'!$Q$1))","v":"U21"},41662,null,null,null,null,null,null,0,{"$f":"MIN(Y68,Z68,AC68,AD68,AP68,AS68,BQ68,BT45,CF45,CG45,CV67,CW67,DF67,DI67)","v":0},null,{"$f":"'Points Calculation'!BQ61","v":{"$error":"#REF!"}},{"$f":"'Points Calculation'!BZ61","v":{"$error":"#REF!"}}]
["Duncan Thorley","M",1997,{"$f":"INDEX('Age Calculation'!$A$1:'Age Calculation'!$Q$108,MATCH(C69,'Age Calculation'!$A$1:'Age Calculation'!$A$108),MATCH($A$1,'Age Calculation'!$A$1:'Age Calculation'!$Q$1))","v":"U21"},18998,null,null,null,null,null,null,0,{"$f":"MIN(Y69,Z69,AC69,AD69,AP69,AS69,BQ69,BT46,CF46,CG46,CV68,CW68,DF68,DI68)","v":0},null,{"$f":"'Points Calculation'!BQ62","v":{"$error":"#REF!"}},{"$f":"'Points Calculation'!BZ62","v":{"$error":"#REF!"}}]
["Nick Phelps","M",1997,{"$f":"INDEX('Age Calculation'!$A$1:'Age Calculation'!$Q$108,MATCH(C70,'Age Calculation'!$A$1:'Age Calculation'!$A$108),MATCH($A$1,'Age Calculation'!$A$1:'Age Calculation'!$Q$1))","v":"U21"},17840,null,103.06,173.53,95.66,96.03,null,{"$f":"MIN(S70,V70,AG70,AJ70,AM70,AV70,AY70,BB70,BH70,BN70,BW70,BZ70,CC70,CJ70,CM70,CP70,CZ70,DC70,DL70,DO70,DU70,EA70,ED70,EG70)","v":81.17},null,null,{"$f":"'Points Calculation'!BQ52","v":{"$error":"#REF!"}},{"$f":"'Points Calculation'!BZ52","v":{"$error":"#REF!"}},null,null,null,null,null,null,null,null,null,null,null,null,null,null,null,null,null,null,null,null,null,null,null,null,null,null,null,null,null,null,null,null,null,null,null,null,null,null,null,null,null,null,null,null,null,null,null,null,null,null,null,null,null,null,null,null,null,null,null,null,null,null,21,5,81.17]
["Seamus O'Brien","M",2002,{"$f":"INDEX('Age Calculation'!$A$1:'Age Calculation'!$Q$108,MATCH(C71,'Age Calculation'!$A$1:'Age Calculation'!$A$108),MATCH($A$1,'Age Calculation'!$A$1:'Age Calculation'!$Q$1))","v":"U14"},19737,null,999.99,91.11,999.99,91.11,null,null,{"$f":"MIN(Y71,Z71,AC71,AD71,AP71,AS71,BQ71,BT71,CF71,CG71,CV71,CW71,DF71,DI71)","v":74.94},null,{"$f":"'Points Calculation'!BQ78","v":{"$error":"#REF!"}},{"$f":"'Points Calculation'!BZ78","v":{"$error":"#REF!"}},null,null,null,null,null,null,15,3,110.04,106.8,17,2,103.17,101.42,null,null,null,null,null,null,null,null,null,"-","-","DNF",25,4,114.09,null,null,null,null,null,null,null,null,null,null,null,null,null,null,null,null,null,null,null,null,null,22,4,{"$f":"109.7+7.77","v":117.47},21,2,{"$f":"62.75+12.19","v":74.94},null,null,null,null,null,null,null,null,null,null,null,null,null,null,null,null,null,null,null,null,null,null,null,null,null,null,null,null,null,null,null,null,null,null,null,43,6,123.51]
["James Elgy","M",1993,{"$f":"INDEX('Age Calculation'!$A$1:'Age Calculation'!$Q$108,MATCH(C72,'Age Calculation'!$A$1:'Age Calculation'!$A$108),MATCH($A$1,'Age Calculation'!$A$1:'Age Calculation'!$Q$1))","v":"SEN"},19166,null,null,null,null,null,null,{"$f":"MIN(S72,V72,AG72,AJ72,AM72,AV72,AY72,BB72,BH72,BN72,BW72,BZ72,CC72,CJ72,CM72,CP72,CZ72,DC72,DL72)","v":0},{"$f":"MIN(Y72,Z72,AC72,AD72,AP72,AS72,BQ72,BT72,CF72,CG72,CV72,CW72,DF72,DI72)","v":0},null,{"$f":"'Points Calculation'!BQ65","v":{"$error":"#REF!"}},{"$f":"'Points Calculation'!BZ65","v":{"$error":"#REF!"}}]
["Toby Tarrant","M",1997,{"$f":"INDEX('Age Calculation'!$A$1:'Age Calculation'!$Q$108,MATCH(C73,'Age Calculation'!$A$1:'Age Calculation'!$A$108),MATCH($A$1,'Age Calculation'!$A$1:'Age Calculation'!$Q$1))","v":"U21"},21550,null,null,null,null,null,null,0,{"$f":"MIN(Y73,Z73,AC73,AD73,AP73,AS73,BQ73,BT73,CF73,CG73,CV73,CW73,DF73,DI73)","v":0},null,{"$f":"'Points Calculation'!BQ66","v":{"$error":"#REF!"}},{"$f":"'Points Calculation'!BZ66","v":{"$error":"#REF!"}}]
["Sam Dewison","M",1998,{"$f":"INDEX('Age Calculation'!$A$1:'Age Calculation'!$Q$108,MATCH(C74,'Age Calculation'!$A$1:'Age Calculation'!$A$108),MATCH($A$1,'Age Calculation'!$A$1:'Age Calculation'!$Q$1))","v":"U18"},20846,null,null,null,70.88,167.34,null,{"$f":"MIN(S74,V74,AG74,AJ74,AM74,AV74,AY74,BB74,BH74,BN74,BW74,BZ74,CC74,CJ74,CM74,CP74,CZ74,DC74,DL74,DO74,DU74,EA74,ED74,EG74)","v":60.52},null,null,{"$f":"'Points Calculation'!BQ58","v":{"$error":"#REF!"}},{"$f":"'Points Calculation'!BZ58","v":{"$error":"#REF!"}},null,null,null,null,null,null,null,null,null,null,null,null,null,null,null,null,null,18,5,93.3,null,null,null,null,null,null,null,null,null,null,null,null,null,null,null,null,null,null,null,null,null,null,null,null,null,null,null,null,null,null,null,null,null,null,null,null,null,null,null,null,null,null,23,7,88.79,null,null,null,null,null,null,null,4,2,60.52]
["Ethan Hemming","M",2001,{"$f":"INDEX('Age Calculation'!$A$1:'Age Calculation'!$Q$108,MATCH(C75,'Age Calculation'!$A$1:'Age Calculation'!$A$108),MATCH($A$1,'Age Calculation'!$A$1:'Age Calculation'!$Q$1))","v":"U16"},19829,null,999.99,999.99,130.27000000000001,211.04,null,{"$f":"MIN(S75,V75,AG75,AJ75,AM75,AV75,AY75,BB75,BH75,BN75,BW75,BZ75,CC75,CJ75,CM75,CP75,CZ75,DC75,DL75,DO75,DU75,EA75,ED75,EG75)","v":127.03},null,null,{"$f":"'Points Calculation'!BQ64","v":{"$error":"#REF!"}},{"$f":"'Points Calculation'!BZ64","v":{"$error":"#REF!"}},null,null," ",null,null,null,null,null,null,null,null,null,null,null,27,8,148.72999999999999,null,null,null,null,null,null,null,null,null,null,null,null,33,4,136.99,"-","-","DNF",null,null,null,null,null,null,null,null,null,null,null,null,null,null,null,null,null,null,null,null,null,null,null,null,null,null,null,"-","-","dnf",null,null,null,null,29,5,156.47,13,4,127.03,null,null,null,null,null,null,null,null,null,null,null,null,null,null,null,null,null,null,null,null,null,null,null,null,null,42,14,281.5]
["Samuel Doherty","M",1999,{"$f":"INDEX('Age Calculation'!$A$1:'Age Calculation'!$Q$108,MATCH(C76,'Age Calculation'!$A$1:'Age Calculation'!$A$108),MATCH($A$1,'Age Calculation'!$A$1:'Age Calculation'!$Q$1))","v":"U18"},19572,null,null,null,null,null,null,0,{"$f":"MIN(Y76,Z76,AC76,AD76,AP76,AS76,BQ76,BT53,CF53,CG53,CV75,CW75,DF75,DI75)","v":0},null,{"$f":"'Points Calculation'!BQ69","v":{"$error":"#REF!"}},{"$f":"'Points Calculation'!BZ69","v":{"$error":"#REF!"}}]
["Adam Kent","M",1991,"SEN",19737,null,114.45,180.25,111.82,999.99,null,{"$f":"MIN(S77,V77,AG77,AJ77,AM77,AV77,AY77,BB77,BH77,BN77,BW77,BZ77,CC77,CJ77,CM77,CP77,CZ77,DC77,DL77,DO77,DU77,EA77,ED77,EG77)","v":113.35},null,null,{"$f":"'Points Calculation'!BQ77","v":{"$error":"#REF!"}},{"$f":"'Points Calculation'!BZ77","v":{"$error":"#REF!"}},null,null,null,1,1,113.77,null,null,null,null,null,null,null,null,null,null,null,null,null,null,27,4,126.86,null,null,null,null,null,null,null,null,null,null,null,null,null,null,null,null,null,null,null,null,null,null,null,null,null,null,null,null,null,null,null,null,null,"-","-","dnf",null,null,null,null,null,null,null,null,null,null,null,null,null,12,2,113.35,null,null,null,null,null,null,null,null,null,null,null,null,null,37,6,310.35000000000002]
["Karl Hancock","M",1995,{"$f":"INDEX('Age Calculation'!$A$1:'Age Calculation'!$Q$108,MATCH(C78,'Age Calculation'!$A$1:'Age Calculation'!$A$108),MATCH($A$1,'Age Calculation'!$A$1:'Age Calculation'!$Q$1))","v":"U21"},18616,null,null,null,null,null,null,0,{"$f":"MIN(Y78,Z78,AC78,AD78,AP78,AS78,BQ78,BT55,CF55,CG55,CV77,CW77,DF77,DI77)","v":0},null,{"$f":"'Points Calculation'!BQ70","v":{"$error":"#REF!"}},{"$f":"'Points Calculation'!BZ70","v":{"$error":"#REF!"}}]
["John Elgy","M",1951,{"$f":"INDEX('Age Calculation'!$A$1:'Age Calculation'!$Q$108,MATCH(C79,'Age Calculation'!$A$1:'Age Calculation'!$A$108),MATCH($A$1,'Age Calculation'!$A$1:'Age Calculation'!$Q$1))","v":"MAS"},19164,null,null,null,null,null,null,0,0,null,{"$f":"'Points Calculation'!BQ71","v":{"$error":"#REF!"}},{"$f":"'Points Calculation'!BZ71","v":{"$error":"#REF!"}}]
["Matthew Kirkland","M",1992,{"$f":"INDEX('Age Calculation'!$A$1:'Age Calculation'!$Q$108,MATCH(C80,'Age Calculation'!$A$1:'Age Calculation'!$A$108),MATCH($A$1,'Age Calculation'!$A$1:'Age Calculation'!$Q$1))","v":"SEN"},21633,null,null,null,null,null,null,0,0,null,{"$f":"'Points Calculation'!BQ72","v":{"$error":"#REF!"}},{"$f":"'Points Calculation'!BZ72","v":{"$error":"#REF!"}}]
["Phil Deller","M",1959,{"$f":"INDEX('Age Calculation'!$A$1:'Age Calculation'!$Q$108,MATCH(C81,'Age Calculation'!$A$1:'Age Calculation'!$A$108),MATCH($A$1,'Age Calculation'!$A$1:'Age Calculation'!$Q$1))","v":"MAS"},17039,null,null,null,null,null,null,0,0,null,{"$f":"'Points Calculation'!BQ73","v":{"$error":"#REF!"}},{"$f":"'Points Calculation'!BZ73","v":{"$error":"#REF!"}}]
["David Hancock","M",1964,{"$f":"INDEX('Age Calculation'!$A$1:'Age Calculation'!$Q$108,MATCH(C82,'Age Calculation'!$A$1:'Age Calculation'!$A$108),MATCH($A$1,'Age Calculation'!$A$1:'Age Calculation'!$Q$1))","v":"MAS"},17037,null,null,null,null,null,null,0,0,null,{"$f":"'Points Calculation'!BQ74","v":{"$error":"#REF!"}},{"$f":"'Points Calculation'!BZ74","v":{"$error":"#REF!"}}]
["Joe Bird","M",1994,{"$f":"INDEX('Age Calculation'!$A$1:'Age Calculation'!$Q$108,MATCH(C83,'Age Calculation'!$A$1:'Age Calculation'!$A$108),MATCH($A$1,'Age Calculation'!$A$1:'Age Calculation'!$Q$1))","v":"SEN"},21714,null,null,null,null,null,null,0,0,null,{"$f":"'Points Calculation'!BQ75","v":{"$error":"#REF!"}},{"$f":"'Points Calculation'!BZ75","v":{"$error":"#REF!"}}]
["Jake Heard","M",1998,{"$f":"INDEX('Age Calculation'!$A$1:'Age Calculation'!$Q$108,MATCH(C84,'Age Calculation'!$A$1:'Age Calculation'!$A$108),MATCH($A$1,'Age Calculation'!$A$1:'Age Calculation'!$Q$1))","v":"U18"},21075,null,null,null,null,null,null,0,0,null,{"$f":"'Points Calculation'!BQ76","v":{"$error":"#REF!"}},{"$f":"'Points Calculation'!BZ76","v":{"$error":"#REF!"}}]
["James Care","M",2002,{"$f":"INDEX('Age Calculation'!$A$1:'Age Calculation'!$Q$108,MATCH(C85,'Age Calculation'!$A$1:'Age Calculation'!$A$108),MATCH($A$1,'Age Calculation'!$A$1:'Age Calculation'!$Q$1))","v":"U14"},20590,null,null,null,null,null,null,0,0,null,{"$f":"'Points Calculation'!BQ77","v":{"$error":"#REF!"}},{"$f":"'Points Calculation'!BZ77","v":{"$error":"#REF!"}}]
["Edward Guy","M",2001,{"$f":"INDEX('Age Calculation'!$A$1:'Age Calculation'!$Q$108,MATCH(C86,'Age Calculation'!$A$1:'Age Calculation'!$A$108),MATCH($A$1,'Age Calculation'!$A$1:'Age Calculation'!$Q$1))","v":"U16"},19379,null,138.32,286.87,164.24,243.4,null,null,{"$f":"MIN(Y86,Z86,AC86,AD86,AP86,AS86,BQ86,BT86,CF86,CG86,CV86,CW86,DF86,DI86)","v":196.58},null,{"$f":"'Points Calculation'!BQ68","v":{"$error":"#REF!"}},{"$f":"'Points Calculation'!BZ68","v":{"$error":"#REF!"}},null,null,null,null,null,null,38,13,223.99,196.58]
["Thomas Jinks","M",2001,"U16",22484,null,999.99,999.99,288.58999999999997,142.36000000000001,null,null,{"$f":"MIN(Y87,Z87,AC87,AD87,AP87,AS87,BQ87,BT87,CF87,CG87,CV87,CW87,DF87,DI87)","v":131.9},null,null,null,null,null,null,null,null,null,47,16,278.73,346.21,37,13,235.19,327.78,null,null,null,null,null,null,null,null,null,null,null,null,null,null,null,null,null,null,null,null,null,null,null,null,null,null,null,null,null,null,null,null,null,null,null,null,41,14,{"$f":"170.67+7.77","v":178.44},51,18,{"$f":"166.56+12.19","v":178.75},null,null,null,null,null,null,null,null,null,16,5,{"$f":"112.2+19.7","v":131.9},{"$f":"165.54+14.57","v":180.10999999999999},null,null,null,null,null,null,null,null,null,null,null,null,null,null,null,null,null,null,null,null,null,null,59,16,185.64,57,16,198.36,45,20,241.94,null,null,null,null,null,null,null,null,null,null,null,null,null,null,null,null,null,null,null,null,null,23,7,163.33000000000001]
["Daniel Giles","M",2003,{"$f":"INDEX('Age Calculation'!$A$1:'Age Calculation'!$Q$108,MATCH(C88,'Age Calculation'!$A$1:'Age Calculation'!$A$108),MATCH($A$1,'Age Calculation'!$A$1:'Age Calculation'!$Q$1))","v":"U14"},22203,null,999.99,999.99,241.01,999.99,null,{"$f":"MIN(S88,V88,AG88,AJ88,AM88,AV88,AY88,BB88,BH88,BN88,BW88,BZ88,CC88,CJ88,CM88,CP88,CZ88,DC88,DL88,DO88,DU88,EA88,ED88,EG88)","v":204.36},null,null,999.99,999.99,null,null,null,null,null,null,null,null,null,null,null,null,null,null,52,13,370.09,null,null,null,null,null,null,null,null,null,null,null,null,65,12,328.58,47,8,204.36,null,null,null,null,null,null,null,null,null,null,null,null,null,null,null,null,null,null,null,null,null,null,null,null,null,null,null,null,null,null,null,null,null,null,52,8,277.66000000000003]
["James Shakeshaft","M",2004,"U14","Day",null,null,null,null,null,null,{"$f":"MIN(S89,V89,AG89,AJ89,AM89,AV89,AY89,BB89,BH89,BN89,BW89,BZ89,CC89,CJ89,CM89,CP89,CZ89,DC89,DL89,DO89,DU89,EA89,ED89,EG89)","v":312.54000000000002},null,null,null,null,null,null,null,null,null,null,null,null,null,null,null,null,null,null,null,null,null,null,null,null,null,null,null,null,null,null,null,null,null,null,null,null,null,null,null,null,null,null,null,null,null,null,null,null,null,null,null,null,null,null,null,null,null,null,null,null,null,null,null,null,null,null,59,11,312.54000000000002]
["Matthew Treuge","M",2002,{"$f":"INDEX('Age Calculation'!$A$1:'Age Calculation'!$Q$108,MATCH(C90,'Age Calculation'!$A$1:'Age Calculation'!$A$108),MATCH($A$1,'Age Calculation'!$A$1:'Age Calculation'!$Q$1))","v":"U14"},20670,null,null,null,null,null,null,{"$f":"'Points Calculation'!$BO79","v":{"$error":"#REF!"}},{"$f":"'Points Calculation'!$BX79","v":{"$error":"#REF!"}},null,{"$f":"'Points Calculation'!BQ79","v":{"$error":"#REF!"}},{"$f":"'Points Calculation'!BZ79","v":{"$error":"#REF!"}}]
["JJ Frost","M",1993,{"$f":"INDEX('Age Calculation'!$A$1:'Age Calculation'!$Q$108,MATCH(C91,'Age Calculation'!$A$1:'Age Calculation'!$A$108),MATCH($A$1,'Age Calculation'!$A$1:'Age Calculation'!$Q$1))","v":"SEN"},20676,null,null,null,null,null,null,"NR","NR",null,"NR","NR"]
["Ben Hall","M",1994,{"$f":"INDEX('Age Calculation'!$A$1:'Age Calculation'!$Q$108,MATCH(C92,'Age Calculation'!$A$1:'Age Calculation'!$A$108),MATCH($A$1,'Age Calculation'!$A$1:'Age Calculation'!$Q$1))","v":"SEN"},21130,null,null,null,null,null,null,"NR","NR",null,"NR","NR"]
["Matthew Waller","M",1999,{"$f":"INDEX('Age Calculation'!$A$1:'Age Calculation'!$Q$108,MATCH(C93,'Age Calculation'!$A$1:'Age Calculation'!$A$108),MATCH($A$1,'Age Calculation'!$A$1:'Age Calculation'!$Q$1))","v":"U18"},17958,null,null,null,null,null,null,"NR","NR",null,"NR","NR"]
["Patrick Kelly","M",2000,"U16","Day",null,null,null,null,null,null,"NR","NR",null,"NR","NR"]
["Macaulay Clover","M",2002,{"$f":"INDEX('Age Calculation'!$A$1:'Age Calculation'!$Q$108,MATCH(C95,'Age Calculation'!$A$1:'Age Calculation'!$A$108),MATCH($A$1,'Age Calculation'!$A$1:'Age Calculation'!$Q$1))","v":"U14"},"Day",null,"NR","NR",{"$error":"#REF!"},{"$error":"#N/A"},null,"NR","NR",null,"NR","NR"]
[null,null,null,null,null,null,null,null,null,null,null,null,null,null,null,null,{"$f":"COUNTIF(Q8:Q95,\"<=3\")","v":2},{"$f":"COUNTIF(R8:R95,\"<=3\")","v":3},{"$f":"COUNTA(S8:S95)","v":5},{"$f":"COUNTIF(T8:T95,\"<=3\")","v":1},{"$f":"COUNTIF(U8:U95,\"<=3\")","v":2},{"$f":"COUNTA(V8:V95)","v":2},{"$f":"COUNTIF(W8:W95,\"<=3\")","v":2},{"$f":"COUNTIF(X8:X95,\"<=3\")","v":7},{"$f":"COUNTA(Y8:Y95)","v":12},{"$f":"COUNTA(Z8:Z95)","v":12},{"$f":"COUNTIF(AA8:AA95,\"<=3\")","v":2},{"$f":"COUNTIF(AB8:AB95,\"<=3\")","v":6},{"$f":"COUNTA(AC8:AC95)","v":11},{"$f":"COUNTA(AD8:AD95)","v":11},{"$f":"COUNTIF(AE8:AE95,\"<=3\")","v":1},{"$f":"COUNTIF(AF8:AF95,\"<=3\")","v":5},{"$f":"COUNTA(AG8:AG95)","v":11},{"$f":"COUNTIF(AH8:AH95,\"<=3\")","v":2},{"$f":"COUNTIF(AI8:AI95,\"<=3\")","v":6},{"$f":"COUNTA(AJ8:AJ95)","v":12},{"$f":"COUNTIF(AK8:AK95,\"<=3\")","v":2},{"$f":"COUNTIF(AL8:AL95,\"<=3\")","v":8},{"$f":"COUNTA(AM8:AM95)","v":13},{"$f":"COUNTIF(AN8:AN95,\"<=3\")","v":3},{"$f":"COUNTIF(AO8:AO95,\"<=3\")","v":6},{"$f":"COUNTA(AP8:AP95)","v":10},{"$f":"COUNTIF(AQ8:AQ95,\"<=3\")","v":3},{"$f":"COUNTIF(AR8:AR95,\"<=3\")","v":7},{"$f":"COUNTA(AS8:AS95)","v":10},{"$f":"COUNTIF(AT8:AT95,\"<=3\")","v":3},{"$f":"COUNTIF(AU8:AU95,\"<=3\")","v":7},{"$f":"COUNTA(AV8:AV95)","v":15},{"$f":"COUNTIF(AW8:AW95,\"<=3\")","v":3},{"$f":"COUNTIF(AX8:AX95,\"<=3\")","v":6},{"$f":"COUNTA(AY8:AY95)","v":13},{"$f":"COUNTIF(AZ8:AZ95,\"<=3\")","v":0},{"$f":"COUNTIF(BA8:BA95,\"<=3\")","v":0},{"$f":"COUNTA(BB8:BB95)","v":0},{"$f":"COUNTIF(BC24:BC95,\"<=3\")","v":0},{"$f":"COUNTIF(BD8:BD95,\"<=3\")","v":0},{"$f":"COUNTA(BE8:BE95)","v":0},{"$f":"COUNTIF(BF8:BF95,\"<=3\")","v":2},{"$f":"COUNTIF(BG8:BG95,\"<=3\")","v":4},{"$f":"COUNTA(BH8:BH95)","v":5},{"$f":"COUNTIF(BI24:BI95,\"<=3\")","v":0},{"$f":"COUNTIF(BJ8:BJ95,\"<=3\")","v":0},{"$f":"COUNTA(BK8:BK95)","v":0},{"$f":"COUNTIF(BL8:BL95,\"<=3\")","v":0},{"$f":"COUNTIF(BM8:BM95,\"<=3\")","v":0},{"$f":"COUNTA(BN8:BN95)","v":0},{"$f":"COUNTIF(BO8:BO95,\"<=3\")","v":2},{"$f":"COUNTIF(BP8:BP95,\"<=3\")","v":4},{"$f":"COUNTA(BQ8:BQ95)","v":10},{"$f":"COUNTIF(BR8:BR95,\"<=3\")","v":2},{"$f":"COUNTIF(BS8:BS95,\"<=3\")","v":6},{"$f":"COUNTA(BT8:BT95)","v":11},{"$f":"COUNTIF(BU8:BU95,\"<=3\")","v":2},{"$f":"COUNTIF(BV8:BV95,\"<=3\")","v":9},{"$f":"COUNTA(BW8:BW95)","v":12},{"$f":"COUNTIF(BX8:BX95,\"<=3\")","v":0},{"$f":"COUNTIF(BY8:BY95,\"<=3\")","v":0},{"$f":"COUNTA(BZ8:BZ95)","v":0},{"$f":"COUNTIF(CA8:CA95,\"<=3\")","v":3},{"$f":"COUNTIF(CB8:CB95,\"<=3\")","v":8},{"$f":"COUNTA(CC8:CC95)","v":19},{"$f":"COUNTIF(CD8:CD95,\"<=3\")","v":0},{"$f":"COUNTIF(CE8:CE95,\"<=3\")","v":1},{"$f":"COUNTA(CF8:CF95)","v":2},{"$f":"COUNTA(CG8:CG95)","v":2},{"$f":"COUNTIF(CH8:CH95,\"<=3\")","v":2},{"$f":"COUNTIF(CI8:CI95,\"<=3\")","v":11},{"$f":"COUNT(CJ8:CJ95)","v":14},{"$f":"COUNTIF(CK8:CK95,\"<=3\")","v":1},{"$f":"COUNTIF(CL8:CL95,\"<=3\")","v":4},{"$f":"COUNT(CM8:CM95)","v":7},{"$f":"COUNTIF(CN8:CN95,\"<=3\")","v":2},{"$f":"COUNTIF(CO8:CO95,\"<=3\")","v":9},{"$f":"COUNT(CP8:CP95)","v":11},{"$f":"COUNTIF(CQ8:CQ95,\"<=3\")","v":1},{"$f":"COUNTIF(CR8:CR95,\"<=3\")","v":8},{"$f":"COUNT(CS8:CS95)","v":0},{"$f":"COUNTIF(CT8:CT95,\"<=3\")","v":0},{"$f":"COUNTIF(CU8:CU95,\"<=3\")","v":2},{"$f":"COUNT(CV8:CV95)","v":2},{"$f":"COUNTA(CW8:CW95)","v":2},{"$f":"COUNTIF(CX8:CX95,\"<=3\")","v":3},{"$f":"COUNTIF(CY8:CY95,\"<=3\")","v":7},{"$f":"COUNT(CZ8:CZ95)","v":10},{"$f":"COUNTIF(DA8:DA95,\"<=3\")","v":4},{"$f":"COUNTIF(DB8:DB95,\"<=3\")","v":7},{"$f":"COUNT(DC8:DC95)","v":9},{"$f":"COUNTIF(DD8:DD95,\"<=3\")","v":2},{"$f":"COUNTIF(DE8:DE95,\"<=3\")","v":3},{"$f":"COUNT(DF8:DF95)","v":11},{"$f":"COUNTIF(DG8:DG95,\"<=3\")","v":1},{"$f":"COUNTIF(DH8:DH95,\"<=3\")","v":2},{"$f":"COUNT(DI8:DI95)","v":9},{"$f":"COUNTIF(DJ8:DJ95,\"<=3\")","v":2},{"$f":"COUNTIF(DK8:DK95,\"<=3\")","v":8},{"$f":"COUNT(DL8:DL95)","v":11},{"$f":"COUNTIF(DM8:DM95,\"<=3\")","v":2},{"$f":"COUNTIF(DN8:DN95,\"<=3\")","v":7},{"$f":"COUNT(DO8:DO95)","v":10},{"$f":"COUNTIF(DP8:DP95,\"<=3\")","v":0},{"$f":"COUNTIF(DQ8:DQ95,\"<=3\")","v":0},{"$f":"COUNT(DR8:DR95)","v":1},{"$f":"COUNTIF(DS8:DS95,\"<=3\")","v":0},{"$f":"COUNTIF(DT8:DT95,\"<=3\")","v":1},{"$f":"COUNT(DU8:DU95)","v":1},{"$f":"COUNTIF(DV8:DV95,\"<=3\")","v":1},{"$f":"COUNTIF(DW8:DW95,\"<=3\")","v":1},{"$f":"COUNT(DX8:DX95)","v":1},{"$f":"COUNTIF(DY8:DY95,\"<=3\")","v":1},{"$f":"COUNTIF(DZ8:DZ95,\"<=3\")","v":1},{"$f":"COUNT(EA8:EA95)","v":0},{"$f":"COUNTIF(EB8:EB95,\"<=3\")","v":1},{"$f":"COUNTIF(EC8:EC95,\"<=3\")","v":3},{"$f":"COUNT(ED8:ED95)","v":3},{"$f":"COUNTIF(EE8:EE95,\"<=3\")","v":1},{"$f":"COUNTIF(EF8:EF95,\"<=3\")","v":2},{"$f":"COUNT(EG8:EG95)","v":3},{"$f":"COUNTIF(EH8:EH95,\"<=3\")","v":1},{"$f":"COUNTIF(EI8:EI95,\"<=3\")","v":5},{"$f":"COUNT(EJ8:EJ95)","v":9}]
[]
["Figures in red (outdoor) or blue (indoor) - used for current year seed point calculations"]
["Note: Final seed point list cannot use start of year in the calculation unless used alone",null,null,null,null,null,null,null,null,null,null,null,null,null,null,null,null,null,null,null,null,null,null," "]
[]
[]
[null,null,null,null,null,null,null,null,null,null,null,null,null,null,null,null,null,null,null,null,null,null,null,null,null,null,null,null,null,null," "]
[]
[null,null,null,"Number of Registered Racers",{"$f":"COUNTIFS(#REF!,\">0\")","v":{"$error":"#REF!"}}]
[null,null,null,"Number of Unregistered Racers",{"$f":"COUNTIF(#REF!,\"=NR\")","v":{"$error":"#REF!"}}]
[null,null,null,null,null,null,{"$f":"COUNTIFS(G24:G95,\">0\")","v":20}]
[]
[null,null,null,null,"Number of Point Reductions"]

{"sheet":"Points Calculation","index":1,"n_rows":83,"n_cols":116,"rows_kept":83,"cut":false,"hidden":true,"merged":[[1,61,1,68],[1,70,1,77],[1,101,1,104],[1,96,1,99]]}
["Race",{"$f":"'Races, Positions & Points'!Q2","v":"Excel"},{"$f":"'Races, Positions & Points'!T2","v":"Excel"},{"$f":"'Races, Positions & Points'!#REF!","v":{"$error":"#REF!"}},{"$f":"'Races, Positions & Points'!W2","v":"Telford CN"},{"$f":"'Races, Positions & Points'!W2","v":"Telford CN"},{"$f":"'Races, Positions & Points'!AA2","v":"Manchester CN"},{"$f":"'Races, Positions & Points'!AA2","v":"Manchester CN"},{"$f":"'Races, Positions & Points'!AE2","v":"SSW CH + Team"},{"$f":"'Races, Positions & Points'!AH2","v":"Gloucester CN"},{"$f":"'Races, Positions & Points'!AK2","v":"GBR #O1"},{"$f":"'Races, Positions & Points'!AN2","v":"GBR #I1"},{"$f":"'Races, Positions & Points'!AQ2","v":"GBR #I2"},{"$f":"'Races, Positions & Points'!AT2","v":"Norfolk CN"},{"$f":"'Races, Positions & Points'!AW2","v":"Ipswich CN"},{"$f":"'Races, Positions & Points'!AZ2","v":"Firpark CN"},{"$f":"'Races, Positions & Points'!BC2","v":0},{"$f":"'Races, Positions & Points'!BF2","v":"SASA CN"},{"$f":"'Races, Positions & Points'!BI2","v":0},{"$f":"'Races, Positions & Points'!BL2","v":"LSRA CN"},{"$f":"'Races, Positions & Points'!BO2","v":"GBR #I3"},{"$f":"'Races, Positions & Points'!BR2","v":"Scot Ind Champs"},{"$f":"'Races, Positions & Points'!BU2","v":"GBR #O2"},{"$f":"'Races, Positions & Points'!BU2","v":"GBR #O2"},{"$f":"'Races, Positions & Points'!BX2","v":"GBR #O3"},{"$f":"'Races, Positions & Points'!CD2","v":"Lions CN"},{"$f":"'Races, Positions & Points'!CA2","v":"Midland CN"},{"$f":"'Races, Positions & Points'!CH2","v":"Pendle CN"},{"$f":"'Races, Positions & Points'!CK2","v":"Avon & WC CN"},{"$f":"'Races, Positions & Points'!CT2","v":"Hemel CN"},{"$f":"'Races, Positions & Points'!CN2","v":"GBR #O4"},{"$f":"'Races, Positions & Points'!CX2","v":"GBR #O6"},{"$f":"'Races, Positions & Points'!#REF!","v":{"$error":"#REF!"}},{"$f":"'Races, Positions & Points'!DA2","v":"All England Champ"},{"$f":"'Races, Positions & Points'!DD2","v":"Anglo Welsh Indoor Champs"},{"$f":"'Races, Positions & Points'!DG2","v":"British Indoor Champs"},{"$f":"'Races, Positions & Points'!DJ2","v":"Welsh Champs"},{"$f":"'Races, Positions & Points'!DM2","v":"British Champs"},{"$f":"'Races, Positions & Points'!DP2","v":"Lowlands Indoor Champs"},{"$f":"'Races, Positions & Points'!#REF!","v":{"$error":"#REF!"}},{"$f":"'Races, Positions & Points'!DS2","v":"Scottish Dryslope Champs"},{"$f":"'Races, Positions & Points'!DV2","v":"Lowlands Indoor Champs"},{"$f":"'Races, Positions & Points'!DY2","v":"Scottish Dryslope Champs GS"},{"$f":"'Races, Positions & Points'!EB2","v":"Irish Champs"},{"$f":"'Races, Positions & Points'!EE2","v":"European Champs"},{"$f":"'Races, Positions & Points'!#REF!","v":{"$error":"#REF!"}},{"$f":"'Races, Positions & Points'!#REF!","v":{"$error":"#REF!"}},{"$f":"'Races, Positions & Points'!#REF!","v":{"$error":"#REF!"}},{"$f":"'Races, Positions & Points'!#REF!","v":{"$error":"#REF!"}},{"$f":"'Races, Positions & Points'!#REF!","v":{"$error":"#REF!"}},{"$f":"'Races, Positions & Points'!#REF!","v":{"$error":"#REF!"}},null,"CN/10pt In","CN/10 pt Out","GBR In","GBR Out","Ch In","Ch Out",null,"Registration Number","Start of Year Points","Best Race Points","Second Best Race Points","Points Calc Based on Best Two Races","Points Based on Best Result and start of year","Points Calc Based on Best Race Plus 20% Loading","Points","End of Season Maximum","Projected End of Season Points",null,"Best Race Points","Second Best Race Points","Points Calc Based on Best Two Races","Points Based on Best Result and start of year","Points Calc Based on Best Race Plus 20% Loading","Points","End of Season Maximum","Projected End of Season Points",null,"min Castleford","min CF","min Braehead","min Hemel","min Pontypool","min glos","min Pendle","min FirPark","min Hillend","min Sunderland","min Bromley","min Norfolk","min Ipswich","min welwyn","min Southampton","min Dublin",null,"Best Race Points (0/5pt races)","Second Best Race Points  (0/5pt races)","Points Calc Based on Best Two Races  (0/5pt races)","Points Calc Based on Best Race Plus 20% Loading  (0/5pt races)",null,"Best Race Points (0/5pt races)","Second Best Race Points  (0/5pt races)","Points Calc Based on Best Two Races  (0/5pt races)","Points Calc Based on Best Race Plus 20% Loading  (0/5pt races)",null,"min Castleford  (0/5pt races)","min CF  (0/5pt races)","min Braehead  (0/5pt races)","min Pontypool  (0/5pt races)","min glos  (0/5pt races)","min Pendle  (0/5pt races)","min Hillend  (0/5pt races)","min Sunderland  (0/5pt races)","min Norfolk  (0/5pt races)","min Dublin  (0/5pt races)"]
["Venue",{"$f":"'Races, Positions & Points'!Q3","v":"Pontypool"},{"$f":"'Races, Positions & Points'!T3","v":"Pembrey"},{"$f":"'Races, Positions & Points'!#REF!","v":{"$error":"#REF!"}},{"$f":"'Races, Positions & Points'!W3","v":"Manchester"},{"$f":"'Races, Positions & Points'!W3","v":"Manchester"},{"$f":"'Races, Positions & Points'!AA3","v":"Manchester"},{"$f":"'Races, Positions & Points'!AA3","v":"Manchester"},{"$f":"'Races, Positions & Points'!AE3","v":"Gloucester"},{"$f":"'Races, Positions & Points'!AH3","v":"Gloucester"},{"$f":"'Races, Positions & Points'!AK3","v":"Gloucester"},{"$f":"'Races, Positions & Points'!AN3","v":"Manchester"},{"$f":"'Races, Positions & Points'!AQ3","v":"Manchester"},{"$f":"'Races, Positions & Points'!AT3","v":"Norwich"},{"$f":"'Races, Positions & Points'!AW3","v":"Ipswich"},{"$f":"'Races, Positions & Points'!AZ3","v":"Firpark"},{"$f":"'Races, Positions & Points'!BC3","v":0},{"$f":"'Races, Positions & Points'!BF3","v":"Southampton"},{"$f":"'Races, Positions & Points'!BI3","v":0},{"$f":"'Races, Positions & Points'!BL3","v":"Edinburgh"},{"$f":"'Races, Positions & Points'!BO3","v":"Glasgow"},{"$f":"'Races, Positions & Points'!BR3","v":"Glasgow"},{"$f":"'Races, Positions & Points'!BU3","v":"Gloucester"},{"$f":"'Races, Positions & Points'!BU3","v":"Gloucester"},{"$f":"'Races, Positions & Points'!BX3","v":"Gloucester"},{"$f":"'Races, Positions & Points'!CD3","v":"Castleford"},{"$f":"'Races, Positions & Points'!CA3","v":"Gloucester"},{"$f":"'Races, Positions & Points'!CH3","v":"Pendle"},{"$f":"'Races, Positions & Points'!CK3","v":"Mendip"},{"$f":"'Races, Positions & Points'!CT3","v":"Hemel"},{"$f":"'Races, Positions & Points'!CN3","v":"Pontypool"},{"$f":"'Races, Positions & Points'!CX3","v":"Pontypool"},{"$f":"'Races, Positions & Points'!#REF!","v":{"$error":"#REF!"}},{"$f":"'Races, Positions & Points'!DA3","v":"Sunderland"},{"$f":"'Races, Positions & Points'!DD3","v":"Manchester"},{"$f":"'Races, Positions & Points'!DG3","v":"Manchester"},{"$f":"'Races, Positions & Points'!DJ3","v":"Pontypool"},{"$f":"'Races, Positions & Points'!DM3","v":"Pontypool"},{"$f":"'Races, Positions & Points'!DP3","v":"Landgraff, NL"},{"$f":"'Races, Positions & Points'!#REF!","v":{"$error":"#REF!"}},{"$f":"'Races, Positions & Points'!DS3","v":"Edinburgh"},{"$f":"'Races, Positions & Points'!DV3","v":"Landgraff, NL"},{"$f":"'Races, Positions & Points'!DY3","v":"Edinburgh"},{"$f":"'Races, Positions & Points'!EB3","v":"Dublin"},{"$f":"'Races, Positions & Points'!EE3","v":"Dublin"},{"$f":"'Races, Positions & Points'!#REF!","v":{"$error":"#REF!"}},{"$f":"'Races, Positions & Points'!#REF!","v":{"$error":"#REF!"}},{"$f":"'Races, Positions & Points'!#REF!","v":{"$error":"#REF!"}},{"$f":"'Races, Positions & Points'!#REF!","v":{"$error":"#REF!"}},{"$f":"'Races, Positions & Points'!#REF!","v":{"$error":"#REF!"}},{"$f":"'Races, Positions & Points'!#REF!","v":{"$error":"#REF!"}},null,null,null,null,null,null,null,null,null,null,"Outdoor",null,null,null,null,null,null,null,null,"Indoor",null,null,null,null,null,null,null,null,null,null,null,null,null,null,null,null,null,null,null,null,null,null,null,null,null,"Outdoor",null,null,null,null,"Indoor"]
["Min Penalty",{"$f":"'Races, Positions & Points'!Q4","v":40},{"$f":"'Races, Positions & Points'!T4","v":40},{"$f":"'Races, Positions & Points'!#REF!","v":{"$error":"#REF!"}},{"$f":"'Races, Positions & Points'!W4","v":10},{"$f":"'Races, Positions & Points'!W4","v":10},{"$f":"'Races, Positions & Points'!AA4","v":10},{"$f":"'Races, Positions & Points'!AA4","v":10},{"$f":"'Races, Positions & Points'!AE4","v":10},{"$f":"'Races, Positions & Points'!AH4","v":10},{"$f":"'Races, Positions & Points'!AK4","v":5},{"$f":"'Races, Positions & Points'!AN4","v":5},{"$f":"'Races, Positions & Points'!AQ4","v":5},{"$f":"'Races, Positions & Points'!AT4","v":10},{"$f":"'Races, Positions & Points'!AW4","v":10},{"$f":"'Races, Positions & Points'!AZ4","v":10},{"$f":"'Races, Positions & Points'!BC4","v":10},{"$f":"'Races, Positions & Points'!BF4","v":10},{"$f":"'Races, Positions & Points'!BI4","v":10},{"$f":"'Races, Positions & Points'!BL4","v":10},{"$f":"'Races, Positions & Points'!BO4","v":5},{"$f":"'Races, Positions & Points'!BR4","v":0},{"$f":"'Races, Positions & Points'!BU4","v":5},{"$f":"'Races, Positions & Points'!BU4","v":5},{"$f":"'Races, Positions & Points'!BX4","v":5},{"$f":"'Races, Positions & Points'!CD4","v":10},{"$f":"'Races, Positions & Points'!CA4","v":10},{"$f":"'Races, Positions & Points'!CH4","v":10},{"$f":"'Races, Positions & Points'!CK4","v":10},{"$f":"'Races, Positions & Points'!CT4","v":10},{"$f":"'Races, Positions & Points'!CN4","v":5},{"$f":"'Races, Positions & Points'!CX4","v":5},{"$f":"'Races, Positions & Points'!#REF!","v":{"$error":"#REF!"}},{"$f":"'Races, Positions & Points'!DA4","v":0},{"$f":"'Races, Positions & Points'!DD4","v":0},{"$f":"'Races, Positions & Points'!DG4","v":0},{"$f":"'Races, Positions & Points'!DJ4","v":0},{"$f":"'Races, Positions & Points'!DM4","v":0},{"$f":"'Races, Positions & Points'!DP4","v":0},{"$f":"'Races, Positions & Points'!#REF!","v":{"$error":"#REF!"}},{"$f":"'Races, Positions & Points'!DS4","v":0},{"$f":"'Races, Positions & Points'!DV4","v":0},{"$f":"'Races, Positions & Points'!DY4","v":0},{"$f":"'Races, Positions & Points'!EB4","v":0},{"$f":"'Races, Positions & Points'!EE4","v":0},{"$f":"'Races, Positions & Points'!#REF!","v":{"$error":"#REF!"}},{"$f":"'Races, Positions & Points'!#REF!","v":{"$error":"#REF!"}},{"$f":"'Races, Positions & Points'!#REF!","v":{"$error":"#REF!"}},{"$f":"'Races, Positions & Points'!#REF!","v":{"$error":"#REF!"}},{"$f":"'Races, Positions & Points'!#REF!","v":{"$error":"#REF!"}},{"$f":"'Races, Positions & Points'!#REF!","v":{"$error":"#REF!"}}]
["Type",{"$f":"'Races, Positions & Points'!S4","v":"Out"},{"$f":"'Races, Positions & Points'!V4","v":"Out"},{"$f":"'Races, Positions & Points'!#REF!","v":{"$error":"#REF!"}},{"$f":"'Races, Positions & Points'!Y4","v":0},{"$f":"'Races, Positions & Points'!Y4","v":0},{"$f":"'Races, Positions & Points'!AC4","v":0},{"$f":"'Races, Positions & Points'!AC4","v":0},{"$f":"'Races, Positions & Points'!AG4","v":"Out"},{"$f":"'Races, Positions & Points'!AJ4","v":"Out"},{"$f":"'Races, Positions & Points'!AM4","v":"Out"},{"$f":"'Races, Positions & Points'!AP4","v":"In"},{"$f":"'Races, Positions & Points'!AS4","v":"In"},{"$f":"'Races, Positions & Points'!AV4","v":"Out"},{"$f":"'Races, Positions & Points'!AY4","v":"Out"},{"$f":"'Races, Positions & Points'!BB4","v":"Out"},{"$f":"'Races, Positions & Points'!BE4","v":"Out"},{"$f":"'Races, Positions & Points'!BH4","v":"Out"},{"$f":"'Races, Positions & Points'!BK4","v":"Out"},{"$f":"'Races, Positions & Points'!BQ4","v":"In"},{"$f":"'Races, Positions & Points'!#REF!","v":{"$error":"#REF!"}},{"$f":"'Races, Positions & Points'!BT4","v":"In"},{"$f":"'Races, Positions & Points'!#REF!","v":{"$error":"#REF!"}},{"$f":"'Races, Positions & Points'!#REF!","v":{"$error":"#REF!"}},{"$f":"'Races, Positions & Points'!BZ4","v":"Out"},{"$f":"'Races, Positions & Points'!CG4","v":"In"},{"$f":"'Races, Positions & Points'!CC4","v":"Out"},{"$f":"'Races, Positions & Points'!CJ4","v":"Out"},{"$f":"'Races, Positions & Points'!CM4","v":"Out"},{"$f":"'Races, Positions & Points'!CW4","v":"In"},{"$f":"'Races, Positions & Points'!CP4","v":"Out"},{"$f":"'Races, Positions & Points'!CZ4","v":"Out"},{"$f":"'Races, Positions & Points'!#REF!","v":{"$error":"#REF!"}},{"$f":"'Races, Positions & Points'!DC4","v":"Out"},{"$f":"'Races, Positions & Points'!DF4","v":"In"},{"$f":"'Races, Positions & Points'!DI4","v":"In"},{"$f":"'Races, Positions & Points'!DL4","v":"Out"},{"$f":"'Races, Positions & Points'!DO4","v":"Out"},{"$f":"'Races, Positions & Points'!DR4","v":"In"},{"$f":"'Races, Positions & Points'!DS4","v":0},{"$f":"'Races, Positions & Points'!DU4","v":"Out"},{"$f":"'Races, Positions & Points'!DX4","v":"In"},{"$f":"'Races, Positions & Points'!EA4","v":"Out"},{"$f":"'Races, Positions & Points'!ED4","v":"Out"},{"$f":"'Races, Positions & Points'!EG4","v":"Out"},{"$f":"'Races, Positions & Points'!#REF!","v":{"$error":"#REF!"}},{"$f":"'Races, Positions & Points'!#REF!","v":{"$error":"#REF!"}},{"$f":"'Races, Positions & Points'!#REF!","v":{"$error":"#REF!"}},{"$f":"'Races, Positions & Points'!#REF!","v":{"$error":"#REF!"}},{"$f":"'Races, Positions & Points'!#REF!","v":{"$error":"#REF!"}},{"$f":"'Races, Positions & Points'!#REF!","v":{"$error":"#REF!"}}]
["Separate Event?","Y","Y","Y","Y","N","Y","N","Y","Y","Y","Y","Y","Y","Y","Y","Y","Y","Y","Y","Y","Y","Y","N","Y","Y","Y","Y","Y","Y","Y","Y","Y","Y","Y","Y","Y","Y","Y","Y","Y","Y","Y","Y","Y","Y","Y","Y","Y","Y","Y"]
[]
[]
[{"$f":"'Races, Positions & Points'!A42","v":"Ella Giles"},{"$f":"IF('Races, Positions & Points'!S42=\"\",\"\",'Races, Positions & Points'!S42)","v":""},{"$f":"IF('Races, Positions & Points'!V42=\"\",\"\",'Races, Positions & Points'!V42)","v":""},{"$f":"IF('Races, Positions & Points'!#REF!=\"\",\"\",'Races, Positions & Points'!#REF!)","v":{"$error":"#REF!"}},{"$f":"IF('Races, Positions & Points'!Y42=\"\",\"\",'Races, Positions & Points'!Y42)","v":""},{"$f":"IF('Races, Positions & Points'!Z42=\"\",\"\",'Races, Positions & Points'!Z42)","v":""},{"$f":"IF('Races, Positions & Points'!AC42=\"\",\"\",'Races, Positions & Points'!AC42)","v":"dnf"},{"$f":"IF('Races, Positions & Points'!AD42=\"\",\"\",'Races, Positions & Points'!AD42)","v":435.68},{"$f":"IF('Races, Positions & Points'!AG42=\"\",\"\",'Races, Positions & Points'!AG42)","v":276.60000000000002},{"$f":"IF('Races, Positions & Points'!AJ42=\"\",\"\",'Races, Positions & Points'!AJ42)","v":""},{"$f":"IF('Races, Positions & Points'!AM42=\"\",\"\",'Races, Positions & Points'!AM42)","v":""},{"$f":"IF('Races, Positions & Points'!AP42=\"\",\"\",'Races, Positions & Points'!AP42)","v":""},{"$f":"IF('Races, Positions & Points'!AS42=\"\",\"\",'Races, Positions & Points'!AS42)","v":""},{"$f":"IF('Races, Positions & Points'!AV42=\"\",\"\",'Races, Positions & Points'!AV42)","v":184.42},{"$f":"IF('Races, Positions & Points'!AY42=\"\",\"\",'Races, Positions & Points'!AY42)","v":176.53},{"$f":"IF('Races, Positions & Points'!BB42=\"\",\"\",'Races, Positions & Points'!BB42)","v":""},{"$f":"IF('Races, Positions & Points'!BE42=\"\",\"\",'Races, Positions & Points'!BE42)","v":""},{"$f":"IF('Races, Positions & Points'!BH42=\"\",\"\",'Races, Positions & Points'!BH42)","v":""},{"$f":"IF('Races, Positions & Points'!BK42=\"\",\"\",'Races, Positions & Points'!BK42)","v":""},{"$f":"IF('Races, Positions & Points'!BN42=\"\",\"\",'Races, Positions & Points'!BN42)","v":""},{"$f":"IF('Races, Positions & Points'!BQ42=\"\",\"\",'Races, Positions & Points'!BQ42)","v":""},{"$f":"IF('Races, Positions & Points'!BT42=\"\",\"\",'Races, Positions & Points'!BT42)","v":""},{"$f":"IF('Races, Positions & Points'!#REF!=\"\",\"\",'Races, Positions & Points'!#REF!)","v":{"$error":"#REF!"}},{"$f":"IF('Races, Positions & Points'!BW42=\"\",\"\",'Races, Positions & Points'!BW42)","v":""},{"$f":"IF('Races, Positions & Points'!BZ42=\"\",\"\",'Races, Positions & Points'!BZ42)","v":""},{"$f":"IF('Races, Positions & Points'!CG42=\"\",\"\",'Races, Positions & Points'!CG42)","v":""},{"$f":"IF('Races, Positions & Points'!CC42=\"\",\"\",'Races, Positions & Points'!CC42)","v":208.65},{"$f":"IF('Races, Positions & Points'!CJ42=\"\",\"\",'Races, Positions & Points'!CJ42)","v":155.5},{"$f":"IF('Races, Positions & Points'!CM42=\"\",\"\",'Races, Positions & Points'!CM42)","v":""},{"$f":"IF('Races, Positions & Points'!CW42=\"\",\"\",'Races, Positions & Points'!CW42)","v":""},{"$f":"IF('Races, Positions & Points'!CP42=\"\",\"\",'Races, Positions & Points'!CP42)","v":""},{"$f":"IF('Races, Positions & Points'!CZ42=\"\",\"\",'Races, Positions & Points'!CZ42)","v":""},{"$f":"IF('Races, Positions & Points'!#REF!=\"\",\"\",'Races, Positions & Points'!#REF!)","v":{"$error":"#REF!"}},{"$f":"IF('Races, Positions & Points'!DC42=\"\",\"\",'Races, Positions & Points'!DC42)","v":""},{"$f":"IF('Races, Positions & Points'!DF42=\"\",\"\",'Races, Positions & Points'!DF42)","v":""},{"$f":"IF('Races, Positions & Points'!DI42=\"\",\"\",'Races, Positions & Points'!DI42)","v":""},{"$f":"IF('Races, Positions & Points'!DL42=\"\",\"\",'Races, Positions & Points'!DL42)","v":""},{"$f":"IF('Races, Positions & Points'!DO42=\"\",\"\",'Races, Positions & Points'!DO42)","v":""},{"$f":"IF('Races, Positions & Points'!DR42=\"\",\"\",'Races, Positions & Points'!DR42)","v":""},{"$f":"IF('Races, Positions & Points'!DS42=\"\",\"\",'Races, Positions & Points'!DS42)","v":""},{"$f":"IF('Races, Positions & Points'!DU42=\"\",\"\",'Races, Positions & Points'!DU42)","v":""},{"$f":"IF('Races, Positions & Points'!DX42=\"\",\"\",'Races, Positions & Points'!DX42)","v":""},{"$f":"IF('Races, Positions & Points'!EA42=\"\",\"\",'Races, Positions & Points'!EA42)","v":""},{"$f":"IF('Races, Positions & Points'!ED42=\"\",\"\",'Races, Positions & Points'!ED42)","v":""},{"$f":"IF('Races, Positions & Points'!EG42=\"\",\"\",'Races, Positions & Points'!EG42)","v":""},{"$f":"IF('Races, Positions & Points'!#REF!=\"\",\"\",'Races, Positions & Points'!#REF!)","v":{"$error":"#REF!"}},{"$f":"IF('Races, Positions & Points'!#REF!=\"\",\"\",'Races, Positions & Points'!#REF!)","v":{"$error":"#REF!"}},{"$f":"IF('Races, Positions & Points'!#REF!=\"\",\"\",'Races, Positions & Points'!#REF!)","v":{"$error":"#REF!"}},{"$f":"IF('Races, Positions & Points'!#REF!=\"\",\"\",'Races, Positions & Points'!#REF!)","v":{"$error":"#REF!"}},{"$f":"IF('Races, Positions & Points'!#REF!=\"\",\"\",'Races, Positions & Points'!#REF!)","v":{"$error":"#REF!"}},{"$f":"IF('Races, Positions & Points'!#REF!=\"\",\"\",'Races, Positions & Points'!#REF!)","v":{"$error":"#REF!"}},null,{"$f":"SUMPRODUCT(--(B$4:AY$4=\"In\"),--(B$3:AY$3>5),--(B$5:AY$5=\"Y\"),--(B8:AY8<>\"\"))","v":{"$error":"#REF!"}},{"$f":"SUMPRODUCT(--(B$4:AY$4=\"Out\"),--(B$3:AY$3>5),--(B$5:AY$5=\"Y\"),--(B8:AY8<>\"\"))","v":{"$error":"#REF!"}},{"$f":"SUMPRODUCT(--(B$4:AY$4=\"In\"),--(B$3:AY$3=5),--(B$5:AY$5=\"Y\"),--(B8:AY8<>\"\"))","v":{"$error":"#REF!"}},{"$f":"SUMPRODUCT(--(B$4:AY$4=\"Out\"),--(B$3:AY$3=5),--(B$5:AY$5=\"Y\"),--(B8:AY8<>\"\"))","v":{"$error":"#REF!"}},{"$f":"SUMPRODUCT(--(B$4:AY$4=\"In\"),--(B$3:AY$3=0),--(B$5:AY$5=\"Y\"),--(B8:AY8<>\"\"))","v":{"$error":"#REF!"}},{"$f":"SUMPRODUCT(--(B$4:AY$4=\"Out\"),--(B$3:AY$3=0),--(B$5:AY$5=\"Y\"),--(B8:AY8<>\"\"))","v":{"$error":"#REF!"}},null,{"$f":"'Races, Positions & Points'!E42","v":22176}]
[{"$f":"'Races, Positions & Points'!A8","v":"Tilley O'Brien"},{"$f":"IF('Races, Positions & Points'!S8=\"\",\"\",'Races, Positions & Points'!S8)","v":""},{"$f":"IF('Races, Positions & Points'!V8=\"\",\"\",'Races, Positions & Points'!V8)","v":""},{"$f":"IF('Races, Positions & Points'!#REF!=\"\",\"\",'Races, Positions & Points'!#REF!)","v":{"$error":"#REF!"}},{"$f":"IF('Races, Positions & Points'!Y8=\"\",\"\",'Races, Positions & Points'!Y8)","v":999.99},{"$f":"IF('Races, Positions & Points'!Z8=\"\",\"\",'Races, Positions & Points'!Z8)","v":999.99},{"$f":"IF('Races, Positions & Points'!AC8=\"\",\"\",'Races, Positions & Points'!AC8)","v":999.99},{"$f":"IF('Races, Positions & Points'!AD8=\"\",\"\",'Races, Positions & Points'!AD8)","v":999.99},{"$f":"IF('Races, Positions & Points'!AG8=\"\",\"\",'Races, Positions & Points'!AG8)","v":""},{"$f":"IF('Races, Positions & Points'!AJ8=\"\",\"\",'Races, Positions & Points'!AJ8)","v":""},{"$f":"IF('Races, Positions & Points'!AM8=\"\",\"\",'Races, Positions & Points'!AM8)","v":""},{"$f":"IF('Races, Positions & Points'!AP8=\"\",\"\",'Races, Positions & Points'!AP8)","v":999.99},{"$f":"IF('Races, Positions & Points'!AS8=\"\",\"\",'Races, Positions & Points'!AS8)","v":999.99},{"$f":"IF('Races, Positions & Points'!AV8=\"\",\"\",'Races, Positions & Points'!AV8)","v":""},{"$f":"IF('Races, Positions & Points'!AY8=\"\",\"\",'Races, Positions & Points'!AY8)","v":""},{"$f":"IF('Races, Positions & Points'!BB8=\"\",\"\",'Races, Positions & Points'!BB8)","v":""},{"$f":"IF('Races, Positions & Points'!BE8=\"\",\"\",'Races, Positions & Points'!BE8)","v":""},{"$f":"IF('Races, Positions & Points'!BH8=\"\",\"\",'Races, Positions & Points'!BH8)","v":""},{"$f":"IF('Races, Positions & Points'!BK8=\"\",\"\",'Races, Positions & Points'!BK8)","v":""},{"$f":"IF('Races, Positions & Points'!BN8=\"\",\"\",'Races, Positions & Points'!BN8)","v":""},{"$f":"IF('Races, Positions & Points'!BQ8=\"\",\"\",'Races, Positions & Points'!BQ8)","v":999.99},{"$f":"IF('Races, Positions & Points'!BT8=\"\",\"\",'Races, Positions & Points'!BT8)","v":999.99},{"$f":"IF('Races, Positions & Points'!#REF!=\"\",\"\",'Races, Positions & Points'!#REF!)","v":{"$error":"#REF!"}},{"$f":"IF('Races, Positions & Points'!BW8=\"\",\"\",'Races, Positions & Points'!BW8)","v":""},{"$f":"IF('Races, Positions & Points'!BZ8=\"\",\"\",'Races, Positions & Points'!BZ8)","v":""},{"$f":"IF('Races, Positions & Points'!CG8=\"\",\"\",'Races, Positions & Points'!CG8)","v":""},{"$f":"IF('Races, Positions & Points'!CC8=\"\",\"\",'Races, Positions & Points'!CC8)","v":""},{"$f":"IF('Races, Positions & Points'!CJ8=\"\",\"\",'Races, Positions & Points'!CJ8)","v":""},{"$f":"IF('Races, Positions & Points'!CM8=\"\",\"\",'Races, Positions & Points'!CM8)","v":""},{"$f":"IF('Races, Positions & Points'!CW8=\"\",\"\",'Races, Positions & Points'!CW8)","v":""},{"$f":"IF('Races, Positions & Points'!CP8=\"\",\"\",'Races, Positions & Points'!CP8)","v":""},{"$f":"IF('Races, Positions & Points'!CZ8=\"\",\"\",'Races, Positions & Points'!CZ8)","v":""},{"$f":"IF('Races, Positions & Points'!#REF!=\"\",\"\",'Races, Positions & Points'!#REF!)","v":{"$error":"#REF!"}},{"$f":"IF('Races, Positions & Points'!DC8=\"\",\"\",'Races, Positions & Points'!DC8)","v":""},{"$f":"IF('Races, Positions & Points'!DF8=\"\",\"\",'Races, Positions & Points'!DF8)","v":999.99},{"$f":"IF('Races, Positions & Points'!DI8=\"\",\"\",'Races, Positions & Points'!DI8)","v":""},{"$f":"IF('Races, Positions & Points'!DL8=\"\",\"\",'Races, Positions & Points'!DL8)","v":""},{"$f":"IF('Races, Positions & Points'!DO8=\"\",\"\",'Races, Positions & Points'!DO8)","v":""},{"$f":"IF('Races, Positions & Points'!DR8=\"\",\"\",'Races, Positions & Points'!DR8)","v":""},{"$f":"IF('Races, Positions & Points'!DS8=\"\",\"\",'Races, Positions & Points'!DS8)","v":""},{"$f":"IF('Races, Positions & Points'!DU8=\"\",\"\",'Races, Positions & Points'!DU8)","v":""},{"$f":"IF('Races, Positions & Points'!DX8=\"\",\"\",'Races, Positions & Points'!DX8)","v":""},{"$f":"IF('Races, Positions & Points'!EA8=\"\",\"\",'Races, Positions & Points'!EA8)","v":""},{"$f":"IF('Races, Positions & Points'!ED8=\"\",\"\",'Races, Positions & Points'!ED8)","v":""},{"$f":"IF('Races, Positions & Points'!EG8=\"\",\"\",'Races, Positions & Points'!EG8)","v":""},{"$f":"IF('Races, Positions & Points'!#REF!=\"\",\"\",'Races, Positions & Points'!#REF!)","v":{"$error":"#REF!"}},{"$f":"IF('Races, Positions & Points'!#REF!=\"\",\"\",'Races, Positions & Points'!#REF!)","v":{"$error":"#REF!"}},{"$f":"IF('Races, Positions & Points'!#REF!=\"\",\"\",'Races, Positions & Points'!#REF!)","v":{"$error":"#REF!"}},{"$f":"IF('Races, Positions & Points'!#REF!=\"\",\"\",'Races, Positions & Points'!#REF!)","v":{"$error":"#REF!"}},{"$f":"IF('Races, Positions & Points'!#REF!=\"\",\"\",'Races, Positions & Points'!#REF!)","v":{"$error":"#REF!"}},{"$f":"IF('Races, Positions & Points'!#REF!=\"\",\"\",'Races, Positions & Points'!#REF!)","v":{"$error":"#REF!"}},null,{"$f":"SUMPRODUCT(--(B$4:AY$4=\"In\"),--(B$3:AY$3>5),--(B$5:AY$5=\"Y\"),--(B9:AY9<>\"\"))","v":{"$error":"#REF!"}},{"$f":"SUMPRODUCT(--(B$4:AY$4=\"Out\"),--(B$3:AY$3>5),--(B$5:AY$5=\"Y\"),--(B9:AY9<>\"\"))","v":{"$error":"#REF!"}},{"$f":"SUMPRODUCT(--(B$4:AY$4=\"In\"),--(B$3:AY$3=5),--(B$5:AY$5=\"Y\"),--(B9:AY9<>\"\"))","v":{"$error":"#REF!"}},{"$error":"#REF!"},{"$f":"SUMPRODUCT(--(B$4:AY$4=\"In\"),--(B$3:AY$3=0),--(B$5:AY$5=\"Y\"),--(B9:AY9<>\"\"))","v":{"$error":"#REF!"}},{"$f":"SUMPRODUCT(--(B$4:AY$4=\"Out\"),--(B$3:AY$3=0),--(B$5:AY$5=\"Y\"),--(B9:AY9<>\"\"))","v":{"$error":"#REF!"}},null,{"$f":"'Races, Positions & Points'!E8","v":20809}]
[{"$f":"'Races, Positions & Points'!#REF!","v":{"$error":"#REF!"}},{"$f":"IF('Races, Positions & Points'!#REF!=\"\",\"\",'Races, Positions & Points'!#REF!)","v":{"$error":"#REF!"}},{"$f":"IF('Races, Positions & Points'!#REF!=\"\",\"\",'Races, Positions & Points'!#REF!)","v":{"$error":"#REF!"}},{"$f":"IF('Races, Positions & Points'!#REF!=\"\",\"\",'Races, Positions & Points'!#REF!)","v":{"$error":"#REF!"}},{"$f":"IF('Races, Positions & Points'!#REF!=\"\",\"\",'Races, Positions & Points'!#REF!)","v":{"$error":"#REF!"}},{"$f":"IF('Races, Positions & Points'!#REF!=\"\",\"\",'Races, Positions & Points'!#REF!)","v":{"$error":"#REF!"}},{"$f":"IF('Races, Positions & Points'!#REF!=\"\",\"\",'Races, Positions & Points'!#REF!)","v":{"$error":"#REF!"}},{"$f":"IF('Races, Positions & Points'!#REF!=\"\",\"\",'Races, Positions & Points'!#REF!)","v":{"$error":"#REF!"}},{"$f":"IF('Races, Positions & Points'!#REF!=\"\",\"\",'Races, Positions & Points'!#REF!)","v":{"$error":"#REF!"}},{"$f":"IF('Races, Positions & Points'!#REF!=\"\",\"\",'Races, Positions & Points'!#REF!)","v":{"$error":"#REF!"}},{"$f":"IF('Races, Positions & Points'!#REF!=\"\",\"\",'Races, Positions & Points'!#REF!)","v":{"$error":"#REF!"}},{"$f":"IF('Races, Positions & Points'!#REF!=\"\",\"\",'Races, Positions & Points'!#REF!)","v":{"$error":"#REF!"}},{"$f":"IF('Races, Positions & Points'!#REF!=\"\",\"\",'Races, Positions & Points'!#REF!)","v":{"$error":"#REF!"}},{"$f":"IF('Races, Positions & Points'!#REF!=\"\",\"\",'Races, Positions & Points'!#REF!)","v":{"$error":"#REF!"}},{"$f":"IF('Races, Positions & Points'!#REF!=\"\",\"\",'Races, Positions & Points'!#REF!)","v":{"$error":"#REF!"}},{"$f":"IF('Races, Positions & Points'!#REF!=\"\",\"\",'Races, Positions & Points'!#REF!)","v":{"$error":"#REF!"}},{"$f":"IF('Races, Positions & Points'!#REF!=\"\",\"\",'Races, Positions & Points'!#REF!)","v":{"$error":"#REF!"}},{"$f":"IF('Races, Positions & Points'!#REF!=\"\",\"\",'Races, Positions & Points'!#REF!)","v":{"$error":"#REF!"}},{"$f":"IF('Races, Positions & Points'!#REF!=\"\",\"\",'Races, Positions & Points'!#REF!)","v":{"$error":"#REF!"}},{"$f":"IF('Races, Positions & Points'!#REF!=\"\",\"\",'Races, Positions & Points'!#REF!)","v":{"$error":"#REF!"}},{"$f":"IF('Races, Positions & Points'!#REF!=\"\",\"\",'Races, Positions & Points'!#REF!)","v":{"$error":"#REF!"}},{"$f":"IF('Races, Positions & Points'!#REF!=\"\",\"\",'Races, Positions & Points'!#REF!)","v":{"$error":"#REF!"}},{"$f":"IF('Races, Positions & Points'!#REF!=\"\",\"\",'Races, Positions & Points'!#REF!)","v":{"$error":"#REF!"}},{"$f":"IF('Races, Positions & Points'!#REF!=\"\",\"\",'Races, Positions & Points'!#REF!)","v":{"$error":"#REF!"}},{"$f":"IF('Races, Positions & Points'!#REF!=\"\",\"\",'Races, Positions & Points'!#REF!)","v":{"$error":"#REF!"}},{"$f":"IF('Races, Positions & Points'!#REF!=\"\",\"\",'Races, Positions & Points'!#REF!)","v":{"$error":"#REF!"}},{"$f":"IF('Races, Positions & Points'!#REF!=\"\",\"\",'Races, Positions & Points'!#REF!)","v":{"$error":"#REF!"}},{"$f":"IF('Races, Positions & Points'!#REF!=\"\",\"\",'Races, Positions & Points'!#REF!)","v":{"$error":"#REF!"}},{"$f":"IF('Races, Positions & Points'!#REF!=\"\",\"\",'Races, Positions & Points'!#REF!)","v":{"$error":"#REF!"}},{"$f":"IF('Races, Positions & Points'!#REF!=\"\",\"\",'Races, Positions & Points'!#REF!)","v":{"$error":"#REF!"}},{"$f":"IF('Races, Positions & Points'!#REF!=\"\",\"\",'Races, Positions & Points'!#REF!)","v":{"$error":"#REF!"}},{"$f":"IF('Races, Positions & Points'!#REF!=\"\",\"\",'Races, Positions & Points'!#REF!)","v":{"$error":"#REF!"}},{"$f":"IF('Races, Positions & Points'!#REF!=\"\",\"\",'Races, Positions & Points'!#REF!)","v":{"$error":"#REF!"}},{"$f":"IF('Races, Positions & Points'!#REF!=\"\",\"\",'Races, Positions & Points'!#REF!)","v":{"$error":"#REF!"}},{"$f":"IF('Races, Positions & Points'!#REF!=\"\",\"\",'Races, Positions & Points'!#REF!)","v":{"$error":"#REF!"}},{"$f":"IF('Races, Positions & Points'!#REF!=\"\",\"\",'Races, Positions & Points'!#REF!)","v":{"$error":"#REF!"}},{"$f":"IF('Races, Positions & Points'!#REF!=\"\",\"\",'Races, Positions & Points'!#REF!)","v":{"$error":"#REF!"}},{"$f":"IF('Races, Positions & Points'!#REF!=\"\",\"\",'Races, Positions & Points'!#REF!)","v":{"$error":"#REF!"}},{"$f":"IF('Races, Positions & Points'!#REF!=\"\",\"\",'Races, Positions & Points'!#REF!)","v":{"$error":"#REF!"}},{"$f":"IF('Races, Positions & Points'!#REF!=\"\",\"\",'Races, Positions & Points'!#REF!)","v":{"$error":"#REF!"}},{"$f":"IF('Races, Positions & Points'!#REF!=\"\",\"\",'Races, Positions & Points'!#REF!)","v":{"$error":"#REF!"}},{"$f":"IF('Races, Positions & Points'!#REF!=\"\",\"\",'Races, Positions & Points'!#REF!)","v":{"$error":"#REF!"}},{"$f":"IF('Races, Positions & Points'!#REF!=\"\",\"\",'Races, Positions & Points'!#REF!)","v":{"$error":"#REF!"}},{"$f":"IF('Races, Positions & Points'!#REF!=\"\",\"\",'Races, Positions & Points'!#REF!)","v":{"$error":"#REF!"}},{"$f":"IF('Races, Positions & Points'!#REF!=\"\",\"\",'Races, Positions & Points'!#REF!)","v":{"$error":"#REF!"}},{"$f":"IF('Races, Positions & Points'!#REF!=\"\",\"\",'Races, Positions & Points'!#REF!)","v":{"$error":"#REF!"}},{"$f":"IF('Races, Positions & Points'!#REF!=\"\",\"\",'Races, Positions & Points'!#REF!)","v":{"$error":"#REF!"}},{"$f":"IF('Races, Positions & Points'!#REF!=\"\",\"\",'Races, Positions & Points'!#REF!)","v":{"$error":"#REF!"}},{"$f":"IF('Races, Positions & Points'!#REF!=\"\",\"\",'Races, Positions & Points'!#REF!)","v":{"$error":"#REF!"}},{"$f":"IF('Races, Positions & Points'!#REF!=\"\",\"\",'Races, Positions & Points'!#REF!)","v":{"$error":"#REF!"}},{"$f":"IF('Races, Positions & Points'!#REF!=\"\",\"\",'Races, Positions & Points'!#REF!)","v":{"$error":"#REF!"}},null,{"$error":"#REF!"},{"$error":"#REF!"},{"$error":"#REF!"},{"$error":"#REF!"},{"$error":"#REF!"},{"$error":"#REF!"},null,{"$f":"'Races, Positions & Points'!#REF!","v":{"$error":"#REF!"}}]
[{"$f":"'Races, Positions & Points'!A12","v":"Anya Hemming"},{"$f":"IF('Races, Positions & Points'!S12=\"\",\"\",'Races, Positions & Points'!S12)","v":""},{"$f":"IF('Races, Positions & Points'!V12=\"\",\"\",'Races, Positions & Points'!V12)","v":""},{"$f":"IF('Races, Positions & Points'!#REF!=\"\",\"\",'Races, Positions & Points'!#REF!)","v":{"$error":"#REF!"}},{"$f":"IF('Races, Positions & Points'!Y12=\"\",\"\",'Races, Positions & Points'!Y12)","v":""},{"$f":"IF('Races, Positions & Points'!Z12=\"\",\"\",'Races, Positions & Points'!Z12)","v":""},{"$f":"IF('Races, Positions & Points'!AC12=\"\",\"\",'Races, Positions & Points'!AC12)","v":""},{"$f":"IF('Races, Positions & Points'!AD12=\"\",\"\",'Races, Positions & Points'!AD12)","v":""},{"$f":"IF('Races, Positions & Points'!AG12=\"\",\"\",'Races, Positions & Points'!AG12)","v":999.99},{"$f":"IF('Races, Positions & Points'!AJ12=\"\",\"\",'Races, Positions & Points'!AJ12)","v":""},{"$f":"IF('Races, Positions & Points'!AM12=\"\",\"\",'Races, Positions & Points'!AM12)","v":""},{"$f":"IF('Races, Positions & Points'!AP12=\"\",\"\",'Races, Positions & Points'!AP12)","v":""},{"$f":"IF('Races, Positions & Points'!AS12=\"\",\"\",'Races, Positions & Points'!AS12)","v":999.99},{"$f":"IF('Races, Positions & Points'!AV12=\"\",\"\",'Races, Positions & Points'!AV12)","v":999.99},{"$f":"IF('Races, Positions & Points'!AY12=\"\",\"\",'Races, Positions & Points'!AY12)","v":999.99},{"$f":"IF('Races, Positions & Points'!BB12=\"\",\"\",'Races, Positions & Points'!BB12)","v":""},{"$f":"IF('Races, Positions & Points'!BE12=\"\",\"\",'Races, Positions & Points'!BE12)","v":""},{"$f":"IF('Races, Positions & Points'!BH12=\"\",\"\",'Races, Positions & Points'!BH12)","v":""},{"$f":"IF('Races, Positions & Points'!BK12=\"\",\"\",'Races, Positions & Points'!BK12)","v":""},{"$f":"IF('Races, Positions & Points'!BN12=\"\",\"\",'Races, Positions & Points'!BN12)","v":""},{"$f":"IF('Races, Positions & Points'!BQ12=\"\",\"\",'Races, Positions & Points'!BQ12)","v":""},{"$f":"IF('Races, Positions & Points'!BT12=\"\",\"\",'Races, Positions & Points'!BT12)","v":""},{"$f":"IF('Races, Positions & Points'!#REF!=\"\",\"\",'Races, Positions & Points'!#REF!)","v":{"$error":"#REF!"}},{"$f":"IF('Races, Positions & Points'!BW12=\"\",\"\",'Races, Positions & Points'!BW12)","v":""},{"$f":"IF('Races, Positions & Points'!BZ12=\"\",\"\",'Races, Positions & Points'!BZ12)","v":""},{"$f":"IF('Races, Positions & Points'!CG12=\"\",\"\",'Races, Positions & Points'!CG12)","v":""},{"$f":"IF('Races, Positions & Points'!CC12=\"\",\"\",'Races, Positions & Points'!CC12)","v":""},{"$f":"IF('Races, Positions & Points'!CJ12=\"\",\"\",'Races, Positions & Points'!CJ12)","v":999.99},{"$f":"IF('Races, Positions & Points'!CM12=\"\",\"\",'Races, Positions & Points'!CM12)","v":999.99},{"$f":"IF('Races, Positions & Points'!CW12=\"\",\"\",'Races, Positions & Points'!CW12)","v":""},{"$f":"IF('Races, Positions & Points'!CP12=\"\",\"\",'Races, Positions & Points'!CP12)","v":""},{"$f":"IF('Races, Positions & Points'!CZ12=\"\",\"\",'Races, Positions & Points'!CZ12)","v":""},{"$f":"IF('Races, Positions & Points'!#REF!=\"\",\"\",'Races, Positions & Points'!#REF!)","v":{"$error":"#REF!"}},{"$f":"IF('Races, Positions & Points'!DC12=\"\",\"\",'Races, Positions & Points'!DC12)","v":""},{"$f":"IF('Races, Positions & Points'!DF12=\"\",\"\",'Races, Positions & Points'!DF12)","v":""},{"$f":"IF('Races, Positions & Points'!DI12=\"\",\"\",'Races, Positions & Points'!DI12)","v":""},{"$f":"IF('Races, Positions & Points'!DL12=\"\",\"\",'Races, Positions & Points'!DL12)","v":""},{"$f":"IF('Races, Positions & Points'!DO12=\"\",\"\",'Races, Positions & Points'!DO12)","v":""},{"$f":"IF('Races, Positions & Points'!DR12=\"\",\"\",'Races, Positions & Points'!DR12)","v":""},{"$f":"IF('Races, Positions & Points'!DS12=\"\",\"\",'Races, Positions & Points'!DS12)","v":""},{"$f":"IF('Races, Positions & Points'!DU12=\"\",\"\",'Races, Positions & Points'!DU12)","v":""},{"$f":"IF('Races, Positions & Points'!DX12=\"\",\"\",'Races, Positions & Points'!DX12)","v":""},{"$f":"IF('Races, Positions & Points'!EA12=\"\",\"\",'Races, Positions & Points'!EA12)","v":""},{"$f":"IF('Races, Positions & Points'!ED12=\"\",\"\",'Races, Positions & Points'!ED12)","v":""},{"$f":"IF('Races, Positions & Points'!EG12=\"\",\"\",'Races, Positions & Points'!EG12)","v":""},{"$f":"IF('Races, Positions & Points'!#REF!=\"\",\"\",'Races, Positions & Points'!#REF!)","v":{"$error":"#REF!"}},{"$f":"IF('Races, Positions & Points'!#REF!=\"\",\"\",'Races, Positions & Points'!#REF!)","v":{"$error":"#REF!"}},{"$f":"IF('Races, Positions & Points'!#REF!=\"\",\"\",'Races, Positions & Points'!#REF!)","v":{"$error":"#REF!"}},{"$f":"IF('Races, Positions & Points'!#REF!=\"\",\"\",'Races, Positions & Points'!#REF!)","v":{"$error":"#REF!"}},{"$f":"IF('Races, Positions & Points'!#REF!=\"\",\"\",'Races, Positions & Points'!#REF!)","v":{"$error":"#REF!"}},{"$f":"IF('Races, Positions & Points'!#REF!=\"\",\"\",'Races, Positions & Points'!#REF!)","v":{"$error":"#REF!"}},null,{"$error":"#REF!"},{"$error":"#REF!"},{"$error":"#REF!"},{"$error":"#REF!"},{"$error":"#REF!"},{"$error":"#REF!"},null,{"$f":"'Races, Positions & Points'!E12","v":21569}]
[{"$f":"'Races, Positions & Points'!A13","v":"Aaliyah Llewellyn"},{"$f":"IF('Races, Positions & Points'!S13=\"\",\"\",'Races, Positions & Points'!S13)","v":""},{"$f":"IF('Races, Positions & Points'!V13=\"\",\"\",'Races, Positions & Points'!V13)","v":""},{"$f":"IF('Races, Positions & Points'!#REF!=\"\",\"\",'Races, Positions & Points'!#REF!)","v":{"$error":"#REF!"}},{"$f":"IF('Races, Positions & Points'!Y13=\"\",\"\",'Races, Positions & Points'!Y13)","v":""},{"$f":"IF('Races, Positions & Points'!Z13=\"\",\"\",'Races, Positions & Points'!Z13)","v":""},{"$f":"IF('Races, Positions & Points'!AC13=\"\",\"\",'Races, Positions & Points'!AC13)","v":""},{"$f":"IF('Races, Positions & Points'!AD13=\"\",\"\",'Races, Positions & Points'!AD13)","v":""},{"$f":"IF('Races, Positions & Points'!AG13=\"\",\"\",'Races, Positions & Points'!AG13)","v":""},{"$f":"IF('Races, Positions & Points'!AJ13=\"\",\"\",'Races, Positions & Points'!AJ13)","v":""},{"$f":"IF('Races, Positions & Points'!AM13=\"\",\"\",'Races, Positions & Points'!AM13)","v":""},{"$f":"IF('Races, Positions & Points'!AP13=\"\",\"\",'Races, Positions & Points'!AP13)","v":""},{"$f":"IF('Races, Positions & Points'!AS13=\"\",\"\",'Races, Positions & Points'!AS13)","v":""},{"$f":"IF('Races, Positions & Points'!AV13=\"\",\"\",'Races, Positions & Points'!AV13)","v":""},{"$f":"IF('Races, Positions & Points'!AY13=\"\",\"\",'Races, Positions & Points'!AY13)","v":""},{"$f":"IF('Races, Positions & Points'!BB13=\"\",\"\",'Races, Positions & Points'!BB13)","v":""},{"$f":"IF('Races, Positions & Points'!BE13=\"\",\"\",'Races, Positions & Points'!BE13)","v":""},{"$f":"IF('Races, Positions & Points'!BH13=\"\",\"\",'Races, Positions & Points'!BH13)","v":""},{"$f":"IF('Races, Positions & Points'!BK13=\"\",\"\",'Races, Positions & Points'!BK13)","v":""},{"$f":"IF('Races, Positions & Points'!BN13=\"\",\"\",'Races, Positions & Points'!BN13)","v":""},{"$f":"IF('Races, Positions & Points'!BQ13=\"\",\"\",'Races, Positions & Points'!BQ13)","v":""},{"$f":"IF('Races, Positions & Points'!BT13=\"\",\"\",'Races, Positions & Points'!BT13)","v":""},{"$f":"IF('Races, Positions & Points'!#REF!=\"\",\"\",'Races, Positions & Points'!#REF!)","v":{"$error":"#REF!"}},{"$f":"IF('Races, Positions & Points'!BW13=\"\",\"\",'Races, Positions & Points'!BW13)","v":""},{"$f":"IF('Races, Positions & Points'!BZ13=\"\",\"\",'Races, Positions & Points'!BZ13)","v":""},{"$f":"IF('Races, Positions & Points'!CG13=\"\",\"\",'Races, Positions & Points'!CG13)","v":""},{"$f":"IF('Races, Positions & Points'!CC13=\"\",\"\",'Races, Positions & Points'!CC13)","v":""},{"$f":"IF('Races, Positions & Points'!CJ13=\"\",\"\",'Races, Positions & Points'!CJ13)","v":""},{"$f":"IF('Races, Positions & Points'!CM13=\"\",\"\",'Races, Positions & Points'!CM13)","v":""},{"$f":"IF('Races, Positions & Points'!CW13=\"\",\"\",'Races, Positions & Points'!CW13)","v":""},{"$f":"IF('Races, Positions & Points'!CP13=\"\",\"\",'Races, Positions & Points'!CP13)","v":""},{"$f":"IF('Races, Positions & Points'!CZ13=\"\",\"\",'Races, Positions & Points'!CZ13)","v":""},{"$f":"IF('Races, Positions & Points'!#REF!=\"\",\"\",'Races, Positions & Points'!#REF!)","v":{"$error":"#REF!"}},{"$f":"IF('Races, Positions & Points'!DC13=\"\",\"\",'Races, Positions & Points'!DC13)","v":""},{"$f":"IF('Races, Positions & Points'!DF13=\"\",\"\",'Races, Positions & Points'!DF13)","v":""},{"$f":"IF('Races, Positions & Points'!DI13=\"\",\"\",'Races, Positions & Points'!DI13)","v":""},{"$f":"IF('Races, Positions & Points'!DL13=\"\",\"\",'Races, Positions & Points'!DL13)","v":""},{"$f":"IF('Races, Positions & Points'!DO13=\"\",\"\",'Races, Positions & Points'!DO13)","v":""},{"$f":"IF('Races, Positions & Points'!DR13=\"\",\"\",'Races, Positions & Points'!DR13)","v":""},{"$f":"IF('Races, Positions & Points'!DS13=\"\",\"\",'Races, Positions & Points'!DS13)","v":""},{"$f":"IF('Races, Positions & Points'!DU13=\"\",\"\",'Races, Positions & Points'!DU13)","v":""},{"$f":"IF('Races, Positions & Points'!DX13=\"\",\"\",'Races, Positions & Points'!DX13)","v":""},{"$f":"IF('Races, Positions & Points'!EA13=\"\",\"\",'Races, Positions & Points'!EA13)","v":""},{"$f":"IF('Races, Positions & Points'!ED13=\"\",\"\",'Races, Positions & Points'!ED13)","v":""},{"$f":"IF('Races, Positions & Points'!EG13=\"\",\"\",'Races, Positions & Points'!EG13)","v":""},{"$f":"IF('Races, Positions & Points'!#REF!=\"\",\"\",'Races, Positions & Points'!#REF!)","v":{"$error":"#REF!"}},{"$f":"IF('Races, Positions & Points'!#REF!=\"\",\"\",'Races, Positions & Points'!#REF!)","v":{"$error":"#REF!"}},{"$f":"IF('Races, Positions & Points'!#REF!=\"\",\"\",'Races, Positions & Points'!#REF!)","v":{"$error":"#REF!"}},{"$f":"IF('Races, Positions & Points'!#REF!=\"\",\"\",'Races, Positions & Points'!#REF!)","v":{"$error":"#REF!"}},{"$f":"IF('Races, Positions & Points'!#REF!=\"\",\"\",'Races, Positions & Points'!#REF!)","v":{"$error":"#REF!"}},{"$f":"IF('Races, Positions & Points'!#REF!=\"\",\"\",'Races, Positions & Points'!#REF!)","v":{"$error":"#REF!"}},null,{"$error":"#REF!"},{"$error":"#REF!"},{"$error":"#REF!"},{"$error":"#REF!"},{"$error":"#REF!"},{"$error":"#REF!"},null,{"$f":"'Races, Positions & Points'!E13","v":22015}]
[]
[{"$f":"'Races, Positions & Points'!A15","v":"James Shakeshaft"},{"$f":"IF('Races, Positions & Points'!S15=\"\",\"\",'Races, Positions & Points'!S15)","v":""},{"$f":"IF('Races, Positions & Points'!V15=\"\",\"\",'Races, Positions & Points'!V15)","v":""},{"$f":"IF('Races, Positions & Points'!#REF!=\"\",\"\",'Races, Positions & Points'!#REF!)","v":{"$error":"#REF!"}},{"$f":"IF('Races, Positions & Points'!Y15=\"\",\"\",'Races, Positions & Points'!Y15)","v":""},{"$f":"IF('Races, Positions & Points'!Z15=\"\",\"\",'Races, Positions & Points'!Z15)","v":""},{"$f":"IF('Races, Positions & Points'!AC15=\"\",\"\",'Races, Positions & Points'!AC15)","v":""},{"$f":"IF('Races, Positions & Points'!AD15=\"\",\"\",'Races, Positions & Points'!AD15)","v":""},{"$f":"IF('Races, Positions & Points'!AG15=\"\",\"\",'Races, Positions & Points'!AG15)","v":""},{"$f":"IF('Races, Positions & Points'!AJ15=\"\",\"\",'Races, Positions & Points'!AJ15)","v":""},{"$f":"IF('Races, Positions & Points'!AM15=\"\",\"\",'Races, Positions & Points'!AM15)","v":""},{"$f":"IF('Races, Positions & Points'!AP15=\"\",\"\",'Races, Positions & Points'!AP15)","v":""},{"$f":"IF('Races, Positions & Points'!AS15=\"\",\"\",'Races, Positions & Points'!AS15)","v":""},{"$f":"IF('Races, Positions & Points'!AV15=\"\",\"\",'Races, Positions & Points'!AV15)","v":""},{"$f":"IF('Races, Positions & Points'!AY15=\"\",\"\",'Races, Positions & Points'!AY15)","v":""},{"$f":"IF('Races, Positions & Points'!BB15=\"\",\"\",'Races, Positions & Points'!BB15)","v":""},{"$f":"IF('Races, Positions & Points'!BE15=\"\",\"\",'Races, Positions & Points'!BE15)","v":""},{"$f":"IF('Races, Positions & Points'!BH15=\"\",\"\",'Races, Positions & Points'!BH15)","v":""},{"$f":"IF('Races, Positions & Points'!BK15=\"\",\"\",'Races, Positions & Points'!BK15)","v":""},{"$f":"IF('Races, Positions & Points'!BN15=\"\",\"\",'Races, Positions & Points'!BN15)","v":""},{"$f":"IF('Races, Positions & Points'!BQ15=\"\",\"\",'Races, Positions & Points'!BQ15)","v":""},{"$f":"IF('Races, Positions & Points'!BT15=\"\",\"\",'Races, Positions & Points'!BT15)","v":""},{"$f":"IF('Races, Positions & Points'!#REF!=\"\",\"\",'Races, Positions & Points'!#REF!)","v":{"$error":"#REF!"}},{"$f":"IF('Races, Positions & Points'!BW15=\"\",\"\",'Races, Positions & Points'!BW15)","v":""},{"$f":"IF('Races, Positions & Points'!BZ15=\"\",\"\",'Races, Positions & Points'!BZ15)","v":""},{"$f":"IF('Races, Positions & Points'!CG15=\"\",\"\",'Races, Positions & Points'!CG15)","v":""},{"$f":"IF('Races, Positions & Points'!CC15=\"\",\"\",'Races, Positions & Points'!CC15)","v":""},{"$f":"IF('Races, Positions & Points'!CJ15=\"\",\"\",'Races, Positions & Points'!CJ15)","v":""},{"$f":"IF('Races, Positions & Points'!CM15=\"\",\"\",'Races, Positions & Points'!CM15)","v":""},{"$f":"IF('Races, Positions & Points'!CW15=\"\",\"\",'Races, Positions & Points'!CW15)","v":""},{"$f":"IF('Races, Positions & Points'!CP15=\"\",\"\",'Races, Positions & Points'!CP15)","v":""},{"$f":"IF('Races, Positions & Points'!CZ15=\"\",\"\",'Races, Positions & Points'!CZ15)","v":""},{"$f":"IF('Races, Positions & Points'!#REF!=\"\",\"\",'Races, Positions & Points'!#REF!)","v":{"$error":"#REF!"}},{"$f":"IF('Races, Positions & Points'!DC15=\"\",\"\",'Races, Positions & Points'!DC15)","v":""},{"$f":"IF('Races, Positions & Points'!DF15=\"\",\"\",'Races, Positions & Points'!DF15)","v":""},{"$f":"IF('Races, Positions & Points'!DI15=\"\",\"\",'Races, Positions & Points'!DI15)","v":""},{"$f":"IF('Races, Positions & Points'!DL15=\"\",\"\",'Races, Positions & Points'!DL15)","v":""},{"$f":"IF('Races, Positions & Points'!DO15=\"\",\"\",'Races, Positions & Points'!DO15)","v":""},{"$f":"IF('Races, Positions & Points'!DR15=\"\",\"\",'Races, Positions & Points'!DR15)","v":""},{"$f":"IF('Races, Positions & Points'!DS15=\"\",\"\",'Races, Positions & Points'!DS15)","v":""},{"$f":"IF('Races, Positions & Points'!DU15=\"\",\"\",'Races, Positions & Points'!DU15)","v":""},{"$f":"IF('Races, Positions & Points'!DX15=\"\",\"\",'Races, Positions & Points'!DX15)","v":""},{"$f":"IF('Races, Positions & Points'!EA15=\"\",\"\",'Races, Positions & Points'!EA15)","v":""},{"$f":"IF('Races, Positions & Points'!ED15=\"\",\"\",'Races, Positions & Points'!ED15)","v":""},{"$f":"IF('Races, Positions & Points'!EG15=\"\",\"\",'Races, Positions & Points'!EG15)","v":""},{"$f":"IF('Races, Positions & Points'!#REF!=\"\",\"\",'Races, Positions & Points'!#REF!)","v":{"$error":"#REF!"}},{"$f":"IF('Races, Positions & Points'!#REF!=\"\",\"\",'Races, Positions & Points'!#REF!)","v":{"$error":"#REF!"}},{"$f":"IF('Races, Positions & Points'!#REF!=\"\",\"\",'Races, Positions & Points'!#REF!)","v":{"$error":"#REF!"}},{"$f":"IF('Races, Positions & Points'!#REF!=\"\",\"\",'Races, Positions & Points'!#REF!)","v":{"$error":"#REF!"}},{"$f":"IF('Races, Positions & Points'!#REF!=\"\",\"\",'Races, Positions & Points'!#REF!)","v":{"$error":"#REF!"}},{"$f":"IF('Races, Positions & Points'!#REF!=\"\",\"\",'Races, Positions & Points'!#REF!)","v":{"$error":"#REF!"}},null,{"$f":"SUMPRODUCT(--(B$4:AY$4=\"In\"),--(B$3:AY$3>5),--(B$5:AY$5=\"Y\"),--(B14:AY14<>\"\"))","v":{"$error":"#REF!"}},{"$f":"SUMPRODUCT(--(B$4:AY$4=\"Out\"),--(B$3:AY$3>5),--(B$5:AY$5=\"Y\"),--(B14:AY14<>\"\"))","v":{"$error":"#REF!"}},{"$f":"SUMPRODUCT(--(B$4:AY$4=\"In\"),--(B$3:AY$3=5),--(B$5:AY$5=\"Y\"),--(B14:AY14<>\"\"))","v":{"$error":"#REF!"}},{"$f":"SUMPRODUCT(--(B$4:AY$4=\"Out\"),--(B$3:AY$3=5),--(B$5:AY$5=\"Y\"),--(B14:AY14<>\"\"))","v":{"$error":"#REF!"}},{"$f":"SUMPRODUCT(--(B$4:AY$4=\"In\"),--(B$3:AY$3=0),--(B$5:AY$5=\"Y\"),--(B14:AY14<>\"\"))","v":{"$error":"#REF!"}},{"$f":"SUMPRODUCT(--(B$4:AY$4=\"Out\"),--(B$3:AY$3=0),--(B$5:AY$5=\"Y\"),--(B14:AY14<>\"\"))","v":{"$error":"#REF!"}},null,{"$f":"'Races, Positions & Points'!E15","v":20340}]
[{"$f":"'Races, Positions & Points'!A16","v":"Daniel Hadley"},{"$f":"IF('Races, Positions & Points'!S16=\"\",\"\",'Races, Positions & Points'!S16)","v":""},{"$f":"IF('Races, Positions & Points'!V16=\"\",\"\",'Races, Positions & Points'!V16)","v":""},{"$f":"IF('Races, Positions & Points'!#REF!=\"\",\"\",'Races, Positions & Points'!#REF!)","v":{"$error":"#REF!"}},{"$f":"IF('Races, Positions & Points'!Y16=\"\",\"\",'Races, Positions & Points'!Y16)","v":""},{"$f":"IF('Races, Positions & Points'!Z16=\"\",\"\",'Races, Positions & Points'!Z16)","v":""},{"$f":"IF('Races, Positions & Points'!AC16=\"\",\"\",'Races, Positions & Points'!AC16)","v":""},{"$f":"IF('Races, Positions & Points'!AD16=\"\",\"\",'Races, Positions & Points'!AD16)","v":""},{"$f":"IF('Races, Positions & Points'!AG16=\"\",\"\",'Races, Positions & Points'!AG16)","v":""},{"$f":"IF('Races, Positions & Points'!AJ16=\"\",\"\",'Races, Positions & Points'!AJ16)","v":""},{"$f":"IF('Races, Positions & Points'!AM16=\"\",\"\",'Races, Positions & Points'!AM16)","v":""},{"$f":"IF('Races, Positions & Points'!AP16=\"\",\"\",'Races, Positions & Points'!AP16)","v":""},{"$f":"IF('Races, Positions & Points'!AS16=\"\",\"\",'Races, Positions & Points'!AS16)","v":""},{"$f":"IF('Races, Positions & Points'!AV16=\"\",\"\",'Races, Positions & Points'!AV16)","v":""},{"$f":"IF('Races, Positions & Points'!AY16=\"\",\"\",'Races, Positions & Points'!AY16)","v":""},{"$f":"IF('Races, Positions & Points'!BB16=\"\",\"\",'Races, Positions & Points'!BB16)","v":""},{"$f":"IF('Races, Positions & Points'!BE16=\"\",\"\",'Races, Positions & Points'!BE16)","v":""},{"$f":"IF('Races, Positions & Points'!BH16=\"\",\"\",'Races, Positions & Points'!BH16)","v":""},{"$f":"IF('Races, Positions & Points'!BK16=\"\",\"\",'Races, Positions & Points'!BK16)","v":""},{"$f":"IF('Races, Positions & Points'!BN16=\"\",\"\",'Races, Positions & Points'!BN16)","v":""},{"$f":"IF('Races, Positions & Points'!BQ16=\"\",\"\",'Races, Positions & Points'!BQ16)","v":""},{"$f":"IF('Races, Positions & Points'!BT16=\"\",\"\",'Races, Positions & Points'!BT16)","v":""},{"$f":"IF('Races, Positions & Points'!#REF!=\"\",\"\",'Races, Positions & Points'!#REF!)","v":{"$error":"#REF!"}},{"$f":"IF('Races, Positions & Points'!BW16=\"\",\"\",'Races, Positions & Points'!BW16)","v":""},{"$f":"IF('Races, Positions & Points'!BZ16=\"\",\"\",'Races, Positions & Points'!BZ16)","v":""},{"$f":"IF('Races, Positions & Points'!CG16=\"\",\"\",'Races, Positions & Points'!CG16)","v":""},{"$f":"IF('Races, Positions & Points'!CC16=\"\",\"\",'Races, Positions & Points'!CC16)","v":""},{"$f":"IF('Races, Positions & Points'!CJ16=\"\",\"\",'Races, Positions & Points'!CJ16)","v":""},{"$f":"IF('Races, Positions & Points'!CM16=\"\",\"\",'Races, Positions & Points'!CM16)","v":""},{"$f":"IF('Races, Positions & Points'!CW16=\"\",\"\",'Races, Positions & Points'!CW16)","v":""},{"$f":"IF('Races, Positions & Points'!CP16=\"\",\"\",'Races, Positions & Points'!CP16)","v":""},{"$f":"IF('Races, Positions & Points'!CZ16=\"\",\"\",'Races, Positions & Points'!CZ16)","v":""},{"$f":"IF('Races, Positions & Points'!#REF!=\"\",\"\",'Races, Positions & Points'!#REF!)","v":{"$error":"#REF!"}},{"$f":"IF('Races, Positions & Points'!DC16=\"\",\"\",'Races, Positions & Points'!DC16)","v":""},{"$f":"IF('Races, Positions & Points'!DF16=\"\",\"\",'Races, Positions & Points'!DF16)","v":""},{"$f":"IF('Races, Positions & Points'!DI16=\"\",\"\",'Races, Positions & Points'!DI16)","v":""},{"$f":"IF('Races, Positions & Points'!DL16=\"\",\"\",'Races, Positions & Points'!DL16)","v":""},{"$f":"IF('Races, Positions & Points'!DO16=\"\",\"\",'Races, Positions & Points'!DO16)","v":""},{"$f":"IF('Races, Positions & Points'!DR16=\"\",\"\",'Races, Positions & Points'!DR16)","v":""},{"$f":"IF('Races, Positions & Points'!DS16=\"\",\"\",'Races, Positions & Points'!DS16)","v":""},{"$f":"IF('Races, Positions & Points'!DU16=\"\",\"\",'Races, Positions & Points'!DU16)","v":""},{"$f":"IF('Races, Positions & Points'!DX16=\"\",\"\",'Races, Positions & Points'!DX16)","v":""},{"$f":"IF('Races, Positions & Points'!EA16=\"\",\"\",'Races, Positions & Points'!EA16)","v":""},{"$f":"IF('Races, Positions & Points'!ED16=\"\",\"\",'Races, Positions & Points'!ED16)","v":""},{"$f":"IF('Races, Positions & Points'!EG16=\"\",\"\",'Races, Positions & Points'!EG16)","v":""},{"$f":"IF('Races, Positions & Points'!#REF!=\"\",\"\",'Races, Positions & Points'!#REF!)","v":{"$error":"#REF!"}},{"$f":"IF('Races, Positions & Points'!#REF!=\"\",\"\",'Races, Positions & Points'!#REF!)","v":{"$error":"#REF!"}},{"$f":"IF('Races, Positions & Points'!#REF!=\"\",\"\",'Races, Positions & Points'!#REF!)","v":{"$error":"#REF!"}},{"$f":"IF('Races, Positions & Points'!#REF!=\"\",\"\",'Races, Positions & Points'!#REF!)","v":{"$error":"#REF!"}},{"$f":"IF('Races, Positions & Points'!#REF!=\"\",\"\",'Races, Positions & Points'!#REF!)","v":{"$error":"#REF!"}},{"$f":"IF('Races, Positions & Points'!#REF!=\"\",\"\",'Races, Positions & Points'!#REF!)","v":{"$error":"#REF!"}},null,{"$error":"#REF!"},{"$error":"#REF!"},{"$error":"#REF!"},{"$error":"#REF!"},{"$error":"#REF!"},{"$error":"#REF!"},null,{"$f":"'Races, Positions & Points'!E16","v":20719}]
[{"$f":"'Races, Positions & Points'!A17","v":"Jack Teague"},{"$f":"IF('Races, Positions & Points'!S17=\"\",\"\",'Races, Positions & Points'!S17)","v":""},{"$f":"IF('Races, Positions & Points'!V17=\"\",\"\",'Races, Positions & Points'!V17)","v":""},{"$f":"IF('Races, Positions & Points'!#REF!=\"\",\"\",'Races, Positions & Points'!#REF!)","v":{"$error":"#REF!"}},{"$f":"IF('Races, Positions & Points'!Y17=\"\",\"\",'Races, Positions & Points'!Y17)","v":""},{"$f":"IF('Races, Positions & Points'!Z17=\"\",\"\",'Races, Positions & Points'!Z17)","v":""},{"$f":"IF('Races, Positions & Points'!AC17=\"\",\"\",'Races, Positions & Points'!AC17)","v":""},{"$f":"IF('Races, Positions & Points'!AD17=\"\",\"\",'Races, Positions & Points'!AD17)","v":""},{"$f":"IF('Races, Positions & Points'!AG17=\"\",\"\",'Races, Positions & Points'!AG17)","v":""},{"$f":"IF('Races, Positions & Points'!AJ17=\"\",\"\",'Races, Positions & Points'!AJ17)","v":""},{"$f":"IF('Races, Positions & Points'!AM17=\"\",\"\",'Races, Positions & Points'!AM17)","v":""},{"$f":"IF('Races, Positions & Points'!AP17=\"\",\"\",'Races, Positions & Points'!AP17)","v":""},{"$f":"IF('Races, Positions & Points'!AS17=\"\",\"\",'Races, Positions & Points'!AS17)","v":""},{"$f":"IF('Races, Positions & Points'!AV17=\"\",\"\",'Races, Positions & Points'!AV17)","v":""},{"$f":"IF('Races, Positions & Points'!AY17=\"\",\"\",'Races, Positions & Points'!AY17)","v":""},{"$f":"IF('Races, Positions & Points'!BB17=\"\",\"\",'Races, Positions & Points'!BB17)","v":""},{"$f":"IF('Races, Positions & Points'!BE17=\"\",\"\",'Races, Positions & Points'!BE17)","v":""},{"$f":"IF('Races, Positions & Points'!BH17=\"\",\"\",'Races, Positions & Points'!BH17)","v":""},{"$f":"IF('Races, Positions & Points'!BK17=\"\",\"\",'Races, Positions & Points'!BK17)","v":""},{"$f":"IF('Races, Positions & Points'!BN17=\"\",\"\",'Races, Positions & Points'!BN17)","v":""},{"$f":"IF('Races, Positions & Points'!BQ17=\"\",\"\",'Races, Positions & Points'!BQ17)","v":""},{"$f":"IF('Races, Positions & Points'!BT17=\"\",\"\",'Races, Positions & Points'!BT17)","v":""},{"$f":"IF('Races, Positions & Points'!#REF!=\"\",\"\",'Races, Positions & Points'!#REF!)","v":{"$error":"#REF!"}},{"$f":"IF('Races, Positions & Points'!BW17=\"\",\"\",'Races, Positions & Points'!BW17)","v":""},{"$f":"IF('Races, Positions & Points'!BZ17=\"\",\"\",'Races, Positions & Points'!BZ17)","v":""},{"$f":"IF('Races, Positions & Points'!CG17=\"\",\"\",'Races, Positions & Points'!CG17)","v":""},{"$f":"IF('Races, Positions & Points'!CC17=\"\",\"\",'Races, Positions & Points'!CC17)","v":""},{"$f":"IF('Races, Positions & Points'!CJ17=\"\",\"\",'Races, Positions & Points'!CJ17)","v":""},{"$f":"IF('Races, Positions & Points'!CM17=\"\",\"\",'Races, Positions & Points'!CM17)","v":""},{"$f":"IF('Races, Positions & Points'!CW17=\"\",\"\",'Races, Positions & Points'!CW17)","v":""},{"$f":"IF('Races, Positions & Points'!CP17=\"\",\"\",'Races, Positions & Points'!CP17)","v":""},{"$f":"IF('Races, Positions & Points'!CZ17=\"\",\"\",'Races, Positions & Points'!CZ17)","v":""},{"$f":"IF('Races, Positions & Points'!#REF!=\"\",\"\",'Races, Positions & Points'!#REF!)","v":{"$error":"#REF!"}},{"$f":"IF('Races, Positions & Points'!DC17=\"\",\"\",'Races, Positions & Points'!DC17)","v":""},{"$f":"IF('Races, Positions & Points'!DF17=\"\",\"\",'Races, Positions & Points'!DF17)","v":""},{"$f":"IF('Races, Positions & Points'!DI17=\"\",\"\",'Races, Positions & Points'!DI17)","v":""},{"$f":"IF('Races, Positions & Points'!DL17=\"\",\"\",'Races, Positions & Points'!DL17)","v":""},{"$f":"IF('Races, Positions & Points'!DO17=\"\",\"\",'Races, Positions & Points'!DO17)","v":""},{"$f":"IF('Races, Positions & Points'!DR17=\"\",\"\",'Races, Positions & Points'!DR17)","v":""},{"$f":"IF('Races, Positions & Points'!DS17=\"\",\"\",'Races, Positions & Points'!DS17)","v":""},{"$f":"IF('Races, Positions & Points'!DU17=\"\",\"\",'Races, Positions & Points'!DU17)","v":""},{"$f":"IF('Races, Positions & Points'!DX17=\"\",\"\",'Races, Positions & Points'!DX17)","v":""},{"$f":"IF('Races, Positions & Points'!EA17=\"\",\"\",'Races, Positions & Points'!EA17)","v":""},{"$f":"IF('Races, Positions & Points'!ED17=\"\",\"\",'Races, Positions & Points'!ED17)","v":""},{"$f":"IF('Races, Positions & Points'!EG17=\"\",\"\",'Races, Positions & Points'!EG17)","v":""},{"$f":"IF('Races, Positions & Points'!#REF!=\"\",\"\",'Races, Positions & Points'!#REF!)","v":{"$error":"#REF!"}},{"$f":"IF('Races, Positions & Points'!#REF!=\"\",\"\",'Races, Positions & Points'!#REF!)","v":{"$error":"#REF!"}},{"$f":"IF('Races, Positions & Points'!#REF!=\"\",\"\",'Races, Positions & Points'!#REF!)","v":{"$error":"#REF!"}},{"$f":"IF('Races, Positions & Points'!#REF!=\"\",\"\",'Races, Positions & Points'!#REF!)","v":{"$error":"#REF!"}},{"$f":"IF('Races, Positions & Points'!#REF!=\"\",\"\",'Races, Positions & Points'!#REF!)","v":{"$error":"#REF!"}},{"$f":"IF('Races, Positions & Points'!#REF!=\"\",\"\",'Races, Positions & Points'!#REF!)","v":{"$error":"#REF!"}},null,{"$error":"#REF!"},{"$error":"#REF!"},{"$error":"#REF!"},{"$error":"#REF!"},{"$error":"#REF!"},{"$error":"#REF!"},null,{"$f":"'Races, Positions & Points'!E17","v":20630}]
[{"$f":"'Races, Positions & Points'!A18","v":"Jack Upton"},{"$f":"IF('Races, Positions & Points'!S18=\"\",\"\",'Races, Positions & Points'!S18)","v":999.99},{"$f":"IF('Races, Positions & Points'!V18=\"\",\"\",'Races, Positions & Points'!V18)","v":""},{"$f":"IF('Races, Positions & Points'!#REF!=\"\",\"\",'Races, Positions & Points'!#REF!)","v":{"$error":"#REF!"}},{"$f":"IF('Races, Positions & Points'!Y18=\"\",\"\",'Races, Positions & Points'!Y18)","v":999.99},{"$f":"IF('Races, Positions & Points'!Z18=\"\",\"\",'Races, Positions & Points'!Z18)","v":999.99},{"$f":"IF('Races, Positions & Points'!AC18=\"\",\"\",'Races, Positions & Points'!AC18)","v":999.99},{"$f":"IF('Races, Positions & Points'!AD18=\"\",\"\",'Races, Positions & Points'!AD18)","v":999.99},{"$f":"IF('Races, Positions & Points'!AG18=\"\",\"\",'Races, Positions & Points'!AG18)","v":999.99},{"$f":"IF('Races, Positions & Points'!AJ18=\"\",\"\",'Races, Positions & Points'!AJ18)","v":999.99},{"$f":"IF('Races, Positions & Points'!AM18=\"\",\"\",'Races, Positions & Points'!AM18)","v":999.99},{"$f":"IF('Races, Positions & Points'!AP18=\"\",\"\",'Races, Positions & Points'!AP18)","v":999.99},{"$f":"IF('Races, Positions & Points'!AS18=\"\",\"\",'Races, Positions & Points'!AS18)","v":999.99},{"$f":"IF('Races, Positions & Points'!AV18=\"\",\"\",'Races, Positions & Points'!AV18)","v":999.99},{"$f":"IF('Races, Positions & Points'!AY18=\"\",\"\",'Races, Positions & Points'!AY18)","v":999.99},{"$f":"IF('Races, Positions & Points'!BB18=\"\",\"\",'Races, Positions & Points'!BB18)","v":""},{"$f":"IF('Races, Positions & Points'!BE18=\"\",\"\",'Races, Positions & Points'!BE18)","v":""},{"$f":"IF('Races, Positions & Points'!BH18=\"\",\"\",'Races, Positions & Points'!BH18)","v":""},{"$f":"IF('Races, Positions & Points'!BK18=\"\",\"\",'Races, Positions & Points'!BK18)","v":""},{"$f":"IF('Races, Positions & Points'!BN18=\"\",\"\",'Races, Positions & Points'!BN18)","v":""},{"$f":"IF('Races, Positions & Points'!BQ18=\"\",\"\",'Races, Positions & Points'!BQ18)","v":999.99},{"$f":"IF('Races, Positions & Points'!BT18=\"\",\"\",'Races, Positions & Points'!BT18)","v":999.99},{"$f":"IF('Races, Positions & Points'!#REF!=\"\",\"\",'Races, Positions & Points'!#REF!)","v":{"$error":"#REF!"}},{"$f":"IF('Races, Positions & Points'!BW18=\"\",\"\",'Races, Positions & Points'!BW18)","v":999.99},{"$f":"IF('Races, Positions & Points'!BZ18=\"\",\"\",'Races, Positions & Points'!BZ18)","v":""},{"$f":"IF('Races, Positions & Points'!CG18=\"\",\"\",'Races, Positions & Points'!CG18)","v":""},{"$f":"IF('Races, Positions & Points'!CC18=\"\",\"\",'Races, Positions & Points'!CC18)","v":999.99},{"$f":"IF('Races, Positions & Points'!CJ18=\"\",\"\",'Races, Positions & Points'!CJ18)","v":999.99},{"$f":"IF('Races, Positions & Points'!CM18=\"\",\"\",'Races, Positions & Points'!CM18)","v":""},{"$f":"IF('Races, Positions & Points'!CW18=\"\",\"\",'Races, Positions & Points'!CW18)","v":""},{"$f":"IF('Races, Positions & Points'!CP18=\"\",\"\",'Races, Positions & Points'!CP18)","v":999.99},{"$f":"IF('Races, Positions & Points'!CZ18=\"\",\"\",'Races, Positions & Points'!CZ18)","v":999.99},{"$f":"IF('Races, Positions & Points'!#REF!=\"\",\"\",'Races, Positions & Points'!#REF!)","v":{"$error":"#REF!"}},{"$f":"IF('Races, Positions & Points'!DC18=\"\",\"\",'Races, Positions & Points'!DC18)","v":999.99},{"$f":"IF('Races, Positions & Points'!DF18=\"\",\"\",'Races, Positions & Points'!DF18)","v":999.99},{"$f":"IF('Races, Positions & Points'!DI18=\"\",\"\",'Races, Positions & Points'!DI18)","v":999.99},{"$f":"IF('Races, Positions & Points'!DL18=\"\",\"\",'Races, Positions & Points'!DL18)","v":999.99},{"$f":"IF('Races, Positions & Points'!DO18=\"\",\"\",'Races, Positions & Points'!DO18)","v":999.99},{"$f":"IF('Races, Positions & Points'!DR18=\"\",\"\",'Races, Positions & Points'!DR18)","v":""},{"$f":"IF('Races, Positions & Points'!DS18=\"\",\"\",'Races, Positions & Points'!DS18)","v":""},{"$f":"IF('Races, Positions & Points'!DU18=\"\",\"\",'Races, Positions & Points'!DU18)","v":""},{"$f":"IF('Races, Positions & Points'!DX18=\"\",\"\",'Races, Positions & Points'!DX18)","v":""},{"$f":"IF('Races, Positions & Points'!EA18=\"\",\"\",'Races, Positions & Points'!EA18)","v":""},{"$f":"IF('Races, Positions & Points'!ED18=\"\",\"\",'Races, Positions & Points'!ED18)","v":""},{"$f":"IF('Races, Positions & Points'!EG18=\"\",\"\",'Races, Positions & Points'!EG18)","v":""},{"$f":"IF('Races, Positions & Points'!#REF!=\"\",\"\",'Races, Positions & Points'!#REF!)","v":{"$error":"#REF!"}},{"$f":"IF('Races, Positions & Points'!#REF!=\"\",\"\",'Races, Positions & Points'!#REF!)","v":{"$error":"#REF!"}},{"$f":"IF('Races, Positions & Points'!#REF!=\"\",\"\",'Races, Positions & Points'!#REF!)","v":{"$error":"#REF!"}},{"$f":"IF('Races, Positions & Points'!#REF!=\"\",\"\",'Races, Positions & Points'!#REF!)","v":{"$error":"#REF!"}},{"$f":"IF('Races, Positions & Points'!#REF!=\"\",\"\",'Races, Positions & Points'!#REF!)","v":{"$error":"#REF!"}},{"$f":"IF('Races, Positions & Points'!#REF!=\"\",\"\",'Races, Positions & Points'!#REF!)","v":{"$error":"#REF!"}},null,{"$error":"#REF!"},{"$error":"#REF!"},{"$error":"#REF!"},{"$error":"#REF!"},{"$error":"#REF!"},{"$error":"#REF!"},null,{"$f":"'Races, Positions & Points'!E18","v":21052}]
[{"$f":"'Races, Positions & Points'!A19","v":"Keiran Woolley"},{"$f":"IF('Races, Positions & Points'!S19=\"\",\"\",'Races, Positions & Points'!S19)","v":999.99},{"$f":"IF('Races, Positions & Points'!V19=\"\",\"\",'Races, Positions & Points'!V19)","v":""},{"$f":"IF('Races, Positions & Points'!#REF!=\"\",\"\",'Races, Positions & Points'!#REF!)","v":{"$error":"#REF!"}},{"$f":"IF('Races, Positions & Points'!Y19=\"\",\"\",'Races, Positions & Points'!Y19)","v":999.99},{"$f":"IF('Races, Positions & Points'!Z19=\"\",\"\",'Races, Positions & Points'!Z19)","v":999.99},{"$f":"IF('Races, Positions & Points'!AC19=\"\",\"\",'Races, Positions & Points'!AC19)","v":999.99},{"$f":"IF('Races, Positions & Points'!AD19=\"\",\"\",'Races, Positions & Points'!AD19)","v":999.99},{"$f":"IF('Races, Positions & Points'!AG19=\"\",\"\",'Races, Positions & Points'!AG19)","v":""},{"$f":"IF('Races, Positions & Points'!AJ19=\"\",\"\",'Races, Positions & Points'!AJ19)","v":999.99},{"$f":"IF('Races, Positions & Points'!AM19=\"\",\"\",'Races, Positions & Points'!AM19)","v":999.99},{"$f":"IF('Races, Positions & Points'!AP19=\"\",\"\",'Races, Positions & Points'!AP19)","v":999.99},{"$f":"IF('Races, Positions & Points'!AS19=\"\",\"\",'Races, Positions & Points'!AS19)","v":999.99},{"$f":"IF('Races, Positions & Points'!AV19=\"\",\"\",'Races, Positions & Points'!AV19)","v":""},{"$f":"IF('Races, Positions & Points'!AY19=\"\",\"\",'Races, Positions & Points'!AY19)","v":""},{"$f":"IF('Races, Positions & Points'!BB19=\"\",\"\",'Races, Positions & Points'!BB19)","v":""},{"$f":"IF('Races, Positions & Points'!BE19=\"\",\"\",'Races, Positions & Points'!BE19)","v":""},{"$f":"IF('Races, Positions & Points'!BH19=\"\",\"\",'Races, Positions & Points'!BH19)","v":""},{"$f":"IF('Races, Positions & Points'!BK19=\"\",\"\",'Races, Positions & Points'!BK19)","v":""},{"$f":"IF('Races, Positions & Points'!BN19=\"\",\"\",'Races, Positions & Points'!BN19)","v":""},{"$f":"IF('Races, Positions & Points'!BQ19=\"\",\"\",'Races, Positions & Points'!BQ19)","v":999.99},{"$f":"IF('Races, Positions & Points'!BT19=\"\",\"\",'Races, Positions & Points'!BT19)","v":999.99},{"$f":"IF('Races, Positions & Points'!#REF!=\"\",\"\",'Races, Positions & Points'!#REF!)","v":{"$error":"#REF!"}},{"$f":"IF('Races, Positions & Points'!BW19=\"\",\"\",'Races, Positions & Points'!BW19)","v":999.99},{"$f":"IF('Races, Positions & Points'!BZ19=\"\",\"\",'Races, Positions & Points'!BZ19)","v":""},{"$f":"IF('Races, Positions & Points'!CG19=\"\",\"\",'Races, Positions & Points'!CG19)","v":""},{"$f":"IF('Races, Positions & Points'!CC19=\"\",\"\",'Races, Positions & Points'!CC19)","v":999.99},{"$f":"IF('Races, Positions & Points'!CJ19=\"\",\"\",'Races, Positions & Points'!CJ19)","v":""},{"$f":"IF('Races, Positions & Points'!CM19=\"\",\"\",'Races, Positions & Points'!CM19)","v":""},{"$f":"IF('Races, Positions & Points'!CW19=\"\",\"\",'Races, Positions & Points'!CW19)","v":""},{"$f":"IF('Races, Positions & Points'!CP19=\"\",\"\",'Races, Positions & Points'!CP19)","v":999.99},{"$f":"IF('Races, Positions & Points'!CZ19=\"\",\"\",'Races, Positions & Points'!CZ19)","v":999.99},{"$f":"IF('Races, Positions & Points'!#REF!=\"\",\"\",'Races, Positions & Points'!#REF!)","v":{"$error":"#REF!"}},{"$f":"IF('Races, Positions & Points'!DC19=\"\",\"\",'Races, Positions & Points'!DC19)","v":999.99},{"$f":"IF('Races, Positions & Points'!DF19=\"\",\"\",'Races, Positions & Points'!DF19)","v":""},{"$f":"IF('Races, Positions & Points'!DI19=\"\",\"\",'Races, Positions & Points'!DI19)","v":""},{"$f":"IF('Races, Positions & Points'!DL19=\"\",\"\",'Races, Positions & Points'!DL19)","v":999.99},{"$f":"IF('Races, Positions & Points'!DO19=\"\",\"\",'Races, Positions & Points'!DO19)","v":999.99},{"$f":"IF('Races, Positions & Points'!DX19=\"\",\"\",'Races, Positions & Points'!DX19)","v":999.99},{"$f":"IF('Races, Positions & Points'!DS19=\"\",\"\",'Races, Positions & Points'!DS19)","v":""},{"$f":"IF('Races, Positions & Points'!DU19=\"\",\"\",'Races, Positions & Points'!DU19)","v":""},{"$f":"IF('Races, Positions & Points'!#REF!=\"\",\"\",'Races, Positions & Points'!#REF!)","v":{"$error":"#REF!"}},{"$f":"IF('Races, Positions & Points'!EA19=\"\",\"\",'Races, Positions & Points'!EA19)","v":""},{"$f":"IF('Races, Positions & Points'!ED19=\"\",\"\",'Races, Positions & Points'!ED19)","v":""},{"$f":"IF('Races, Positions & Points'!EG19=\"\",\"\",'Races, Positions & Points'!EG19)","v":""},{"$f":"IF('Races, Positions & Points'!#REF!=\"\",\"\",'Races, Positions & Points'!#REF!)","v":{"$error":"#REF!"}},{"$f":"IF('Races, Positions & Points'!#REF!=\"\",\"\",'Races, Positions & Points'!#REF!)","v":{"$error":"#REF!"}},{"$f":"IF('Races, Positions & Points'!#REF!=\"\",\"\",'Races, Positions & Points'!#REF!)","v":{"$error":"#REF!"}},{"$f":"IF('Races, Positions & Points'!#REF!=\"\",\"\",'Races, Positions & Points'!#REF!)","v":{"$error":"#REF!"}},{"$f":"IF('Races, Positions & Points'!#REF!=\"\",\"\",'Races, Positions & Points'!#REF!)","v":{"$error":"#REF!"}},{"$f":"IF('Races, Positions & Points'!#REF!=\"\",\"\",'Races, Positions & Points'!#REF!)","v":{"$error":"#REF!"}},null,{"$error":"#REF!"},{"$error":"#REF!"},{"$error":"#REF!"},{"$error":"#REF!"},{"$error":"#REF!"},{"$error":"#REF!"},null,{"$f":"'Races, Positions & Points'!E19","v":21837}]
[{"$f":"'Races, Positions & Points'!A21","v":"Noah Bailey"},{"$f":"IF('Races, Positions & Points'!S21=\"\",\"\",'Races, Positions & Points'!S21)","v":""},{"$f":"IF('Races, Positions & Points'!V21=\"\",\"\",'Races, Positions & Points'!V21)","v":""},{"$f":"IF('Races, Positions & Points'!#REF!=\"\",\"\",'Races, Positions & Points'!#REF!)","v":{"$error":"#REF!"}},{"$f":"IF('Races, Positions & Points'!Y21=\"\",\"\",'Races, Positions & Points'!Y21)","v":""},{"$f":"IF('Races, Positions & Points'!Z21=\"\",\"\",'Races, Positions & Points'!Z21)","v":""},{"$f":"IF('Races, Positions & Points'!AC21=\"\",\"\",'Races, Positions & Points'!AC21)","v":""},{"$f":"IF('Races, Positions & Points'!AD21=\"\",\"\",'Races, Positions & Points'!AD21)","v":""},{"$f":"IF('Races, Positions & Points'!AG21=\"\",\"\",'Races, Positions & Points'!AG21)","v":""},{"$f":"IF('Races, Positions & Points'!AJ21=\"\",\"\",'Races, Positions & Points'!AJ21)","v":""},{"$f":"IF('Races, Positions & Points'!AM21=\"\",\"\",'Races, Positions & Points'!AM21)","v":""},{"$f":"IF('Races, Positions & Points'!AP21=\"\",\"\",'Races, Positions & Points'!AP21)","v":""},{"$f":"IF('Races, Positions & Points'!AS21=\"\",\"\",'Races, Positions & Points'!AS21)","v":""},{"$f":"IF('Races, Positions & Points'!AV21=\"\",\"\",'Races, Positions & Points'!AV21)","v":""},{"$f":"IF('Races, Positions & Points'!AY21=\"\",\"\",'Races, Positions & Points'!AY21)","v":""},{"$f":"IF('Races, Positions & Points'!BB21=\"\",\"\",'Races, Positions & Points'!BB21)","v":""},{"$f":"IF('Races, Positions & Points'!BE21=\"\",\"\",'Races, Positions & Points'!BE21)","v":""},{"$f":"IF('Races, Positions & Points'!BH21=\"\",\"\",'Races, Positions & Points'!BH21)","v":""},{"$f":"IF('Races, Positions & Points'!BK21=\"\",\"\",'Races, Positions & Points'!BK21)","v":""},{"$f":"IF('Races, Positions & Points'!BN21=\"\",\"\",'Races, Positions & Points'!BN21)","v":""},{"$f":"IF('Races, Positions & Points'!BQ21=\"\",\"\",'Races, Positions & Points'!BQ21)","v":""},{"$f":"IF('Races, Positions & Points'!BT21=\"\",\"\",'Races, Positions & Points'!BT21)","v":""},{"$f":"IF('Races, Positions & Points'!#REF!=\"\",\"\",'Races, Positions & Points'!#REF!)","v":{"$error":"#REF!"}},{"$f":"IF('Races, Positions & Points'!BW21=\"\",\"\",'Races, Positions & Points'!BW21)","v":""},{"$f":"IF('Races, Positions & Points'!BZ21=\"\",\"\",'Races, Positions & Points'!BZ21)","v":""},{"$f":"IF('Races, Positions & Points'!CG21=\"\",\"\",'Races, Positions & Points'!CG21)","v":""},{"$f":"IF('Races, Positions & Points'!CC21=\"\",\"\",'Races, Positions & Points'!CC21)","v":""},{"$f":"IF('Races, Positions & Points'!CJ21=\"\",\"\",'Races, Positions & Points'!CJ21)","v":""},{"$f":"IF('Races, Positions & Points'!CM21=\"\",\"\",'Races, Positions & Points'!CM21)","v":""},{"$f":"IF('Races, Positions & Points'!CW21=\"\",\"\",'Races, Positions & Points'!CW21)","v":""},{"$f":"IF('Races, Positions & Points'!CP21=\"\",\"\",'Races, Positions & Points'!CP21)","v":""},{"$f":"IF('Races, Positions & Points'!CZ21=\"\",\"\",'Races, Positions & Points'!CZ21)","v":""},{"$f":"IF('Races, Positions & Points'!#REF!=\"\",\"\",'Races, Positions & Points'!#REF!)","v":{"$error":"#REF!"}},{"$f":"IF('Races, Positions & Points'!DC21=\"\",\"\",'Races, Positions & Points'!DC21)","v":""},{"$f":"IF('Races, Positions & Points'!DF21=\"\",\"\",'Races, Positions & Points'!DF21)","v":""},{"$f":"IF('Races, Positions & Points'!DI21=\"\",\"\",'Races, Positions & Points'!DI21)","v":""},{"$f":"IF('Races, Positions & Points'!DL21=\"\",\"\",'Races, Positions & Points'!DL21)","v":""},{"$f":"IF('Races, Positions & Points'!DO21=\"\",\"\",'Races, Positions & Points'!DO21)","v":""},{"$f":"IF('Races, Positions & Points'!DR21=\"\",\"\",'Races, Positions & Points'!DR21)","v":""},{"$f":"IF('Races, Positions & Points'!DS21=\"\",\"\",'Races, Positions & Points'!DS21)","v":""},{"$f":"IF('Races, Positions & Points'!DU21=\"\",\"\",'Races, Positions & Points'!DU21)","v":""},{"$f":"IF('Races, Positions & Points'!DX21=\"\",\"\",'Races, Positions & Points'!DX21)","v":""},{"$f":"IF('Races, Positions & Points'!EA21=\"\",\"\",'Races, Positions & Points'!EA21)","v":""},{"$f":"IF('Races, Positions & Points'!ED21=\"\",\"\",'Races, Positions & Points'!ED21)","v":""},{"$f":"IF('Races, Positions & Points'!EG21=\"\",\"\",'Races, Positions & Points'!EG21)","v":""},{"$f":"IF('Races, Positions & Points'!#REF!=\"\",\"\",'Races, Positions & Points'!#REF!)","v":{"$error":"#REF!"}},{"$f":"IF('Races, Positions & Points'!#REF!=\"\",\"\",'Races, Positions & Points'!#REF!)","v":{"$error":"#REF!"}},{"$f":"IF('Races, Positions & Points'!#REF!=\"\",\"\",'Races, Positions & Points'!#REF!)","v":{"$error":"#REF!"}},{"$f":"IF('Races, Positions & Points'!#REF!=\"\",\"\",'Races, Positions & Points'!#REF!)","v":{"$error":"#REF!"}},{"$f":"IF('Races, Positions & Points'!#REF!=\"\",\"\",'Races, Positions & Points'!#REF!)","v":{"$error":"#REF!"}},{"$f":"IF('Races, Positions & Points'!#REF!=\"\",\"\",'Races, Positions & Points'!#REF!)","v":{"$error":"#REF!"}},null,{"$error":"#REF!"},{"$error":"#REF!"},{"$error":"#REF!"},{"$error":"#REF!"},{"$error":"#REF!"},{"$error":"#REF!"},null,{"$f":"'Races, Positions & Points'!E21","v":22198}]
[{"$f":"'Races, Positions & Points'!A89","v":"James Shakeshaft"},{"$f":"IF('Races, Positions & Points'!S89=\"\",\"\",'Races, Positions & Points'!S89)","v":""},{"$f":"IF('Races, Positions & Points'!V89=\"\",\"\",'Races, Positions & Points'!V89)","v":""},{"$f":"IF('Races, Positions & Points'!#REF!=\"\",\"\",'Races, Positions & Points'!#REF!)","v":{"$error":"#REF!"}},{"$f":"IF('Races, Positions & Points'!Y89=\"\",\"\",'Races, Positions & Points'!Y89)","v":""},{"$f":"IF('Races, Positions & Points'!Z89=\"\",\"\",'Races, Positions & Points'!Z89)","v":""},{"$f":"IF('Races, Positions & Points'!AC89=\"\",\"\",'Races, Positions & Points'!AC89)","v":""},{"$f":"IF('Races, Positions & Points'!AD89=\"\",\"\",'Races, Positions & Points'!AD89)","v":""},{"$f":"IF('Races, Positions & Points'!AG89=\"\",\"\",'Races, Positions & Points'!AG89)","v":""},{"$f":"IF('Races, Positions & Points'!AJ89=\"\",\"\",'Races, Positions & Points'!AJ89)","v":""},{"$f":"IF('Races, Positions & Points'!AM89=\"\",\"\",'Races, Positions & Points'!AM89)","v":""},{"$f":"IF('Races, Positions & Points'!AP89=\"\",\"\",'Races, Positions & Points'!AP89)","v":""},{"$f":"IF('Races, Positions & Points'!AS89=\"\",\"\",'Races, Positions & Points'!AS89)","v":""},{"$f":"IF('Races, Positions & Points'!AV89=\"\",\"\",'Races, Positions & Points'!AV89)","v":""},{"$f":"IF('Races, Positions & Points'!AY89=\"\",\"\",'Races, Positions & Points'!AY89)","v":""},{"$f":"IF('Races, Positions & Points'!BB89=\"\",\"\",'Races, Positions & Points'!BB89)","v":""},{"$f":"IF('Races, Positions & Points'!BE89=\"\",\"\",'Races, Positions & Points'!BE89)","v":""},{"$f":"IF('Races, Positions & Points'!BH89=\"\",\"\",'Races, Positions & Points'!BH89)","v":""},{"$f":"IF('Races, Positions & Points'!BK89=\"\",\"\",'Races, Positions & Points'!BK89)","v":""},{"$f":"IF('Races, Positions & Points'!BN89=\"\",\"\",'Races, Positions & Points'!BN89)","v":""},{"$f":"IF('Races, Positions & Points'!BQ89=\"\",\"\",'Races, Positions & Points'!BQ89)","v":""},{"$f":"IF('Races, Positions & Points'!BT89=\"\",\"\",'Races, Positions & Points'!BT89)","v":""},{"$f":"IF('Races, Positions & Points'!#REF!=\"\",\"\",'Races, Positions & Points'!#REF!)","v":{"$error":"#REF!"}},{"$f":"IF('Races, Positions & Points'!BW89=\"\",\"\",'Races, Positions & Points'!BW89)","v":""},{"$f":"IF('Races, Positions & Points'!BZ89=\"\",\"\",'Races, Positions & Points'!BZ89)","v":""},{"$f":"IF('Races, Positions & Points'!CG89=\"\",\"\",'Races, Positions & Points'!CG89)","v":""},{"$f":"IF('Races, Positions & Points'!CC89=\"\",\"\",'Races, Positions & Points'!CC89)","v":312.54000000000002},{"$f":"IF('Races, Positions & Points'!CJ89=\"\",\"\",'Races, Positions & Points'!CJ89)","v":""},{"$f":"IF('Races, Positions & Points'!CM89=\"\",\"\",'Races, Positions & Points'!CM89)","v":""},{"$f":"IF('Races, Positions & Points'!CW89=\"\",\"\",'Races, Positions & Points'!CW89)","v":""},{"$f":"IF('Races, Positions & Points'!CP89=\"\",\"\",'Races, Positions & Points'!CP89)","v":""},{"$f":"IF('Races, Positions & Points'!CZ89=\"\",\"\",'Races, Positions & Points'!CZ89)","v":""},{"$f":"IF('Races, Positions & Points'!#REF!=\"\",\"\",'Races, Positions & Points'!#REF!)","v":{"$error":"#REF!"}},{"$f":"IF('Races, Positions & Points'!DC89=\"\",\"\",'Races, Positions & Points'!DC89)","v":""},{"$f":"IF('Races, Positions & Points'!DF89=\"\",\"\",'Races, Positions & Points'!DF89)","v":""},{"$f":"IF('Races, Positions & Points'!DI89=\"\",\"\",'Races, Positions & Points'!DI89)","v":""},{"$f":"IF('Races, Positions & Points'!DL89=\"\",\"\",'Races, Positions & Points'!DL89)","v":""},{"$f":"IF('Races, Positions & Points'!DO89=\"\",\"\",'Races, Positions & Points'!DO89)","v":""},{"$f":"IF('Races, Positions & Points'!DR89=\"\",\"\",'Races, Positions & Points'!DR89)","v":""},{"$f":"IF('Races, Positions & Points'!DS89=\"\",\"\",'Races, Positions & Points'!DS89)","v":""},{"$f":"IF('Races, Positions & Points'!DU89=\"\",\"\",'Races, Positions & Points'!DU89)","v":""},{"$f":"IF('Races, Positions & Points'!DX89=\"\",\"\",'Races, Positions & Points'!DX89)","v":""},{"$f":"IF('Races, Positions & Points'!EA89=\"\",\"\",'Races, Positions & Points'!EA89)","v":""},{"$f":"IF('Races, Positions & Points'!ED89=\"\",\"\",'Races, Positions & Points'!ED89)","v":""},{"$f":"IF('Races, Positions & Points'!EG89=\"\",\"\",'Races, Positions & Points'!EG89)","v":""},{"$f":"IF('Races, Positions & Points'!#REF!=\"\",\"\",'Races, Positions & Points'!#REF!)","v":{"$error":"#REF!"}},{"$f":"IF('Races, Positions & Points'!#REF!=\"\",\"\",'Races, Positions & Points'!#REF!)","v":{"$error":"#REF!"}},{"$f":"IF('Races, Positions & Points'!#REF!=\"\",\"\",'Races, Positions & Points'!#REF!)","v":{"$error":"#REF!"}},{"$f":"IF('Races, Positions & Points'!#REF!=\"\",\"\",'Races, Positions & Points'!#REF!)","v":{"$error":"#REF!"}},{"$f":"IF('Races, Positions & Points'!#REF!=\"\",\"\",'Races, Positions & Points'!#REF!)","v":{"$error":"#REF!"}},{"$f":"IF('Races, Positions & Points'!#REF!=\"\",\"\",'Races, Positions & Points'!#REF!)","v":{"$error":"#REF!"}},null,{"$error":"#REF!"},{"$error":"#REF!"},{"$error":"#REF!"},{"$error":"#REF!"},{"$error":"#REF!"},{"$error":"#REF!"},null,{"$f":"'Races, Positions & Points'!E89","v":"Day"}]
[null,null,null,null,null,null,null,null,null,null,null,null,null,null,null,null,null,null,null,null,null,null,null,null,null,null,null,null,null,null,null,null,null,null,null,null,null,null,null,null,null,null,null,null,null,null,null,null,null,null,null,null,null,null,null,null,null,null,null,null,null,null,null,null,null,null,null,null,null,null,null,null,null,null,null,null,null,null,null,{"$f":"IF(MIN(C21,K21,L21,AH21,AI21,,AK21,AL21)>0,MIN(C21,K21,L21,AH21,AI21,,AK21,AL21),\"\")","v":""},{"$f":"IF(MIN(E21,F21,G21,H21,Z21,AF21,AG21,AP21,AQ21,AU21)>0,MIN(E21,F21,G21,H21,Z21,AF21,AG21,AP21,AQ21,AU21),\"\")","v":""},{"$f":"IF(MIN(T21,V21)>0,MIN(T21,V21),\"\")","v":""},{"$f":"IF(MIN(W21,X21)>0,MIN(W21,X21),\"\")","v":""},{"$f":"IF(MIN(B21,M21,N21,AR21,AS21)>0,MIN(B21,M21,N21,AR21,AS21),\"\")","v":""},{"$f":"IF(MIN(D21,O21,AB21,AC21,AE21)>0,MIN(D21,O21,AB21,AC21,AE21),\"\")","v":""},{"$f":"IF(MIN(I21,J21)>0,MIN(I21,J21),\"\")","v":""},{"$f":"IF(Q21>0,Q21,\"\")","v":""},{"$f":"IF(MIN(S21,AM21,AT21,AY21)>0,MIN(S21,AM21,AT21,AY21),\"\")","v":""},{"$f":"IF(MIN(P21,R21)>0,MIN(P21,R21),\"\")","v":""},{"$f":"IF(U21>0,U21,\"\")","v":""},{"$f":"IF(MIN(Y21,AO21)>0,MIN(Y21,AO21),\"\")","v":""},{"$f":"IF(AA21>0,AA21,\"\")","v":""},{"$f":"IF(AD21>0,AD21,\"\")","v":""},{"$f":"IF(AJ21>0,AJ21,\"\")","v":""},{"$f":"IF(MIN(AV21,AW21)>0,MIN(AV21,AW21),\"\")","v":""},null,{"$f":"IF(MIN(DF21:DL21)>0,MIN(DF21:DL21),\"\")","v":""},{"$f":"IF(ISERROR(SMALL(DF21:DL21,2)),\"\",SMALL(DF21:DL21,2))","v":""},{"$f":"IF(ISERROR(SMALL(DF21:DL21,2)),\"\",AVERAGE(CS21,CT21))","v":""},{"$f":"IF(ISERROR(CS21*1.2),\"\",IF(CS21<50,CS21+10,CS21*1.2))","v":""},null,{"$f":"IF(MIN(DC21:DE21)>0,MIN(DC21:DE21),\"\")","v":""},{"$f":"IF(ISERROR(SMALL(DC21:DE21,2)),\"\",SMALL(DC21:DE21,2))","v":""},{"$f":"IF(ISERROR(SMALL(DC21:DE21,2)),\"\",AVERAGE(CX21,CY21))","v":""},{"$f":"IF(ISERROR(CX21*1.2),\"\",IF(CX21<50,CX21+10,CX21*1.2))","v":""},null,{"$f":"IF(MIN(C21,K21,L21,AH21,AI21,AK21,AL21)>0,MIN(C21,K21,L21,AH21,AI21,AK21,AL21),\"\")","v":""},{"$f":"IF(MIN(Z21,AF21,AG21,AP21,AQ21,AU21)>0,MIN(Z21,AF21,AG21,AP21,AQ21,AU21),\"\")","v":""},{"$f":"IF(MIN(T21,V21)>0,MIN(T21,V21),\"\")","v":""},{"$f":"IF(MIN(M21,N21,AR21,AS21)>0,MIN(M21,N21,AR21,AS21),\"\")","v":""},{"$f":"IF(MIN(O21,AE21),MIN(O21,AE21),\"\")","v":""},{"$f":"IF(J21>0,J21,\"\")","v":""},{"$f":"IF(MIN(AM21,AY21)>0,MIN(AM21,AY21),\"\")","v":""},{"$f":"IF(R21>0,R21,\"\")","v":""},{"$f":"IF(AO21>0,AO21,\"\")","v":""},{"$f":"IF(MIN(AV21,AW21),MIN(AV21,AW21),\"\")","v":""}]
[{"$f":"'Races, Positions & Points'!A24","v":"Rachel Bill"},{"$f":"IF('Races, Positions & Points'!S24=\"\",\"\",'Races, Positions & Points'!S24)","v":""},{"$f":"IF('Races, Positions & Points'!V24=\"\",\"\",'Races, Positions & Points'!V24)","v":""},{"$f":"IF('Races, Positions & Points'!#REF!=\"\",\"\",'Races, Positions & Points'!#REF!)","v":{"$error":"#REF!"}},{"$f":"IF('Races, Positions & Points'!Y24=\"\",\"\",'Races, Positions & Points'!Y24)","v":""},{"$f":"IF('Races, Positions & Points'!Z24=\"\",\"\",'Races, Positions & Points'!Z24)","v":""},{"$f":"IF('Races, Positions & Points'!AC24=\"\",\"\",'Races, Positions & Points'!AC24)","v":""},{"$f":"IF('Races, Positions & Points'!AD24=\"\",\"\",'Races, Positions & Points'!AD24)","v":""},{"$f":"IF('Races, Positions & Points'!AG24=\"\",\"\",'Races, Positions & Points'!AG24)","v":""},{"$f":"IF('Races, Positions & Points'!AJ24=\"\",\"\",'Races, Positions & Points'!AJ24)","v":""},{"$f":"IF('Races, Positions & Points'!AM24=\"\",\"\",'Races, Positions & Points'!AM24)","v":""},{"$f":"IF('Races, Positions & Points'!AP24=\"\",\"\",'Races, Positions & Points'!AP24)","v":""},{"$f":"IF('Races, Positions & Points'!AS24=\"\",\"\",'Races, Positions & Points'!AS24)","v":""},{"$f":"IF('Races, Positions & Points'!AV24=\"\",\"\",'Races, Positions & Points'!AV24)","v":""},{"$f":"IF('Races, Positions & Points'!AY24=\"\",\"\",'Races, Positions & Points'!AY24)","v":""},{"$f":"IF('Races, Positions & Points'!BB24=\"\",\"\",'Races, Positions & Points'!BB24)","v":""},{"$f":"IF('Races, Positions & Points'!BE24=\"\",\"\",'Races, Positions & Points'!BE24)","v":""},{"$f":"IF('Races, Positions & Points'!BH24=\"\",\"\",'Races, Positions & Points'!BH24)","v":""},{"$f":"IF('Races, Positions & Points'!BK24=\"\",\"\",'Races, Positions & Points'!BK24)","v":""},{"$f":"IF('Races, Positions & Points'!BN24=\"\",\"\",'Races, Positions & Points'!BN24)","v":""},{"$f":"IF('Races, Positions & Points'!BQ24=\"\",\"\",'Races, Positions & Points'!BQ24)","v":""},{"$f":"IF('Races, Positions & Points'!BT24=\"\",\"\",'Races, Positions & Points'!BT24)","v":""},{"$f":"IF('Races, Positions & Points'!#REF!=\"\",\"\",'Races, Positions & Points'!#REF!)","v":{"$error":"#REF!"}},{"$f":"IF('Races, Positions & Points'!BW24=\"\",\"\",'Races, Positions & Points'!BW24)","v":""},{"$f":"IF('Races, Positions & Points'!BZ24=\"\",\"\",'Races, Positions & Points'!BZ24)","v":""},{"$f":"IF('Races, Positions & Points'!CG24=\"\",\"\",'Races, Positions & Points'!CG24)","v":""},{"$f":"IF('Races, Positions & Points'!CC24=\"\",\"\",'Races, Positions & Points'!CC24)","v":""},{"$f":"IF('Races, Positions & Points'!CJ24=\"\",\"\",'Races, Positions & Points'!CJ24)","v":""},{"$f":"IF('Races, Positions & Points'!CM24=\"\",\"\",'Races, Positions & Points'!CM24)","v":""},{"$f":"IF('Races, Positions & Points'!CW24=\"\",\"\",'Races, Positions & Points'!CW24)","v":""},{"$f":"IF('Races, Positions & Points'!CP24=\"\",\"\",'Races, Positions & Points'!CP24)","v":""},{"$f":"IF('Races, Positions & Points'!CZ24=\"\",\"\",'Races, Positions & Points'!CZ24)","v":""},{"$f":"IF('Races, Positions & Points'!#REF!=\"\",\"\",'Races, Positions & Points'!#REF!)","v":{"$error":"#REF!"}},{"$f":"IF('Races, Positions & Points'!DC24=\"\",\"\",'Races, Positions & Points'!DC24)","v":""},{"$f":"IF('Races, Positions & Points'!DF24=\"\",\"\",'Races, Positions & Points'!DF24)","v":""},{"$f":"IF('Races, Positions & Points'!DI24=\"\",\"\",'Races, Positions & Points'!DI24)","v":""},{"$f":"IF('Races, Positions & Points'!DL24=\"\",\"\",'Races, Positions & Points'!DL24)","v":""},{"$f":"IF('Races, Positions & Points'!DO24=\"\",\"\",'Races, Positions & Points'!DO24)","v":""},{"$f":"IF('Races, Positions & Points'!DR24=\"\",\"\",'Races, Positions & Points'!DR24)","v":""},{"$f":"IF('Races, Positions & Points'!DS24=\"\",\"\",'Races, Positions & Points'!DS24)","v":""},{"$f":"IF('Races, Positions & Points'!DU24=\"\",\"\",'Races, Positions & Points'!DU24)","v":""},{"$f":"IF('Races, Positions & Points'!DX24=\"\",\"\",'Races, Positions & Points'!DX24)","v":""},{"$f":"IF('Races, Positions & Points'!EA24=\"\",\"\",'Races, Positions & Points'!EA24)","v":""},{"$f":"IF('Races, Positions & Points'!ED24=\"\",\"\",'Races, Positions & Points'!ED24)","v":""},{"$f":"IF('Races, Positions & Points'!EG24=\"\",\"\",'Races, Positions & Points'!EG24)","v":""},{"$f":"IF('Races, Positions & Points'!#REF!=\"\",\"\",'Races, Positions & Points'!#REF!)","v":{"$error":"#REF!"}},{"$f":"IF('Races, Positions & Points'!#REF!=\"\",\"\",'Races, Positions & Points'!#REF!)","v":{"$error":"#REF!"}},{"$f":"IF('Races, Positions & Points'!#REF!=\"\",\"\",'Races, Positions & Points'!#REF!)","v":{"$error":"#REF!"}},{"$f":"IF('Races, Positions & Points'!#REF!=\"\",\"\",'Races, Positions & Points'!#REF!)","v":{"$error":"#REF!"}},{"$f":"IF('Races, Positions & Points'!#REF!=\"\",\"\",'Races, Positions & Points'!#REF!)","v":{"$error":"#REF!"}},{"$f":"IF('Races, Positions & Points'!#REF!=\"\",\"\",'Races, Positions & Points'!#REF!)","v":{"$error":"#REF!"}},null,{"$f":"SUMPRODUCT(--(B$4:AY$4=\"In\"),--(B$3:AY$3>5),--(B$5:AY$5=\"Y\"),--(B22:AY22<>\"\"))","v":{"$error":"#REF!"}},{"$f":"SUMPRODUCT(--(B$4:AY$4=\"Out\"),--(B$3:AY$3>5),--(B$5:AY$5=\"Y\"),--(B22:AY22<>\"\"))","v":{"$error":"#REF!"}},{"$f":"SUMPRODUCT(--(B$4:AY$4=\"In\"),--(B$3:AY$3=5),--(B$5:AY$5=\"Y\"),--(B22:AY22<>\"\"))","v":{"$error":"#REF!"}},{"$f":"SUMPRODUCT(--(B$4:AY$4=\"Out\"),--(B$3:AY$3=5),--(B$5:AY$5=\"Y\"),--(B22:AY22<>\"\"))","v":{"$error":"#REF!"}},{"$f":"SUMPRODUCT(--(B$4:AY$4=\"In\"),--(B$3:AY$3=0),--(B$5:AY$5=\"Y\"),--(B22:AY22<>\"\"))","v":{"$error":"#REF!"}},{"$f":"SUMPRODUCT(--(B$4:AY$4=\"Out\"),--(B$3:AY$3=0),--(B$5:AY$5=\"Y\"),--(B22:AY22<>\"\"))","v":{"$error":"#REF!"}},null,{"$f":"'Races, Positions & Points'!E24","v":20168},{"$f":"'Races, Positions & Points'!#REF!","v":{"$error":"#REF!"}},{"$f":"IF(MIN(CF22:CQ22)<999.99,IF(MIN(CF22:CQ22)>0,MIN(CF22:CQ22),\"\"),\"\")","v":{"$error":"#REF!"}},{"$f":"IF(ISERROR(SMALL(CF22:CQ22,2)),\"\",SMALL(CF22:CQ22,2))","v":""},{"$f":"IF(ISERROR(SMALL(CF22:CQ22,2)),\"\",ROUND(AVERAGE(BJ22:BK22),2))","v":""},{"$f":"IF(BI22<999.99,IF(AVERAGE(BI22,BJ22)>0,ROUND(AVERAGE(BI22,BJ22),2),\"\"),\"\")","v":{"$error":"#REF!"}},{"$f":"IF(ISERROR(BJ22*1.2),\"\",IF(BJ22<50,BJ22+10,ROUND(BJ22*1.2,2)))","v":""},{"$f":"MIN(BI22,BL22,BM22,BN22)","v":{"$error":"#REF!"}},{"$f":"IF(BI22*0.2<10,BI22+10,IF(BI22*1.2>999.99,999.99,ROUND(BI22*1.2,2)))","v":{"$error":"#REF!"}},{"$f":"MIN(BL22,BN22,BP22)","v":{"$error":"#REF!"}},null,{"$f":"IF(MIN(CB22:CE22)<999.99,IF(MIN(CB22:CE22)>0,MIN(CB22:CE22),\"\"),\"\")","v":{"$error":"#REF!"}},{"$f":"IF(ISERROR(SMALL(CB22:CE22,2)),\"\",SMALL(CB22:CE22,2))","v":""},{"$f":"IF(ISERROR(SMALL(CB22:CE22,2)),\"\",ROUND(AVERAGE(BS22:BT22),2))","v":""},{"$f":"IF(BI22<999.99,IF(AVERAGE(BI22,BS22)>0,ROUND(AVERAGE(BI22,BS22),2),\"\"),\"\")","v":{"$error":"#REF!"}},{"$f":"IF(ISERROR(BS22*1.2),\"\",IF(BS22<50,BS22+10,ROUND(BS22*1.2,2)))","v":""},{"$f":"MIN(BI22,BU22,BV22,BW22)","v":{"$error":"#REF!"}},{"$f":"IF(BI22*0.2<10,BI22+10,IF(BI22*1.2>999.99,999.99,ROUND(BI22*1.2,2)))","v":{"$error":"#REF!"}},{"$f":"MIN(BU22,BW22,BY22)","v":{"$error":"#REF!"}},null,{"$f":"IF(MIN(C22,K22,L22,AH22,AI22,AK22,AL22)>0,MIN(C22,K22,L22,AH22,AI22,AK22,AL22),\"\")","v":""},{"$error":"#REF!"},"",{"$error":"#REF!"},"",{"$error":"#REF!"},"","",{"$error":"#REF!"},"","","","","","",{"$error":"#REF!"},null,{"$f":"IF(MIN(DF22:DL22)>0,MIN(DF22:DL22),\"\")","v":{"$error":"#REF!"}},{"$f":"IF(ISERROR(SMALL(DF22:DL22,2)),\"\",SMALL(DF22:DL22,2))","v":""},{"$f":"IF(ISERROR(SMALL(DF22:DL22,2)),\"\",AVERAGE(CS22,CT22))","v":""},{"$f":"IF(ISERROR(CS22*1.2),\"\",IF(CS22<50,CS22+10,IF(CS22<999.99,CS22*1.2,\"\")))","v":""},null,{"$f":"IF(MIN(DC22:DE22)>0,MIN(DC22:DE22),\"\")","v":{"$error":"#REF!"}},{"$f":"IF(ISERROR(SMALL(DC22:DE22,2)),\"\",SMALL(DC22:DE22,2))","v":""},{"$f":"IF(ISERROR(SMALL(DC22:DE22,2)),\"\",AVERAGE(CX22,CY22))","v":""},{"$f":"IF(ISERROR(CX22*1.2),\"\",IF(CX22<50,CX22+10,CX22*1.2))","v":""},null,"",{"$error":"#REF!"},"","","","",{"$error":"#REF!"},"",{"$f":"IF(AO22>0,AO22,\"\")","v":""},{"$error":"#REF!"}]
[{"$f":"'Races, Positions & Points'!A25","v":"Lucy Deller"},{"$f":"IF('Races, Positions & Points'!S25=\"\",\"\",'Races, Positions & Points'!S25)","v":""},{"$f":"IF('Races, Positions & Points'!V25=\"\",\"\",'Races, Positions & Points'!V25)","v":""},{"$f":"IF('Races, Positions & Points'!#REF!=\"\",\"\",'Races, Positions & Points'!#REF!)","v":{"$error":"#REF!"}},{"$f":"IF('Races, Positions & Points'!Y25=\"\",\"\",'Races, Positions & Points'!Y25)","v":""},{"$f":"IF('Races, Positions & Points'!Z25=\"\",\"\",'Races, Positions & Points'!Z25)","v":""},{"$f":"IF('Races, Positions & Points'!AC25=\"\",\"\",'Races, Positions & Points'!AC25)","v":""},{"$f":"IF('Races, Positions & Points'!AD25=\"\",\"\",'Races, Positions & Points'!AD25)","v":""},{"$f":"IF('Races, Positions & Points'!AG25=\"\",\"\",'Races, Positions & Points'!AG25)","v":""},{"$f":"IF('Races, Positions & Points'!AJ25=\"\",\"\",'Races, Positions & Points'!AJ25)","v":""},{"$f":"IF('Races, Positions & Points'!AM25=\"\",\"\",'Races, Positions & Points'!AM25)","v":""},{"$f":"IF('Races, Positions & Points'!AP25=\"\",\"\",'Races, Positions & Points'!AP25)","v":""},{"$f":"IF('Races, Positions & Points'!AS25=\"\",\"\",'Races, Positions & Points'!AS25)","v":""},{"$f":"IF('Races, Positions & Points'!AV25=\"\",\"\",'Races, Positions & Points'!AV25)","v":""},{"$f":"IF('Races, Positions & Points'!AY25=\"\",\"\",'Races, Positions & Points'!AY25)","v":""},{"$f":"IF('Races, Positions & Points'!BB25=\"\",\"\",'Races, Positions & Points'!BB25)","v":""},{"$f":"IF('Races, Positions & Points'!BE25=\"\",\"\",'Races, Positions & Points'!BE25)","v":""},{"$f":"IF('Races, Positions & Points'!BH25=\"\",\"\",'Races, Positions & Points'!BH25)","v":""},{"$f":"IF('Races, Positions & Points'!BK25=\"\",\"\",'Races, Positions & Points'!BK25)","v":""},{"$f":"IF('Races, Positions & Points'!BN25=\"\",\"\",'Races, Positions & Points'!BN25)","v":""},{"$f":"IF('Races, Positions & Points'!BQ25=\"\",\"\",'Races, Positions & Points'!BQ25)","v":""},{"$f":"IF('Races, Positions & Points'!BT25=\"\",\"\",'Races, Positions & Points'!BT25)","v":""},{"$f":"IF('Races, Positions & Points'!#REF!=\"\",\"\",'Races, Positions & Points'!#REF!)","v":{"$error":"#REF!"}},{"$f":"IF('Races, Positions & Points'!BW25=\"\",\"\",'Races, Positions & Points'!BW25)","v":""},{"$f":"IF('Races, Positions & Points'!BZ25=\"\",\"\",'Races, Positions & Points'!BZ25)","v":""},{"$f":"IF('Races, Positions & Points'!CG25=\"\",\"\",'Races, Positions & Points'!CG25)","v":""},{"$f":"IF('Races, Positions & Points'!CC25=\"\",\"\",'Races, Positions & Points'!CC25)","v":""},{"$f":"IF('Races, Positions & Points'!CJ25=\"\",\"\",'Races, Positions & Points'!CJ25)","v":""},{"$f":"IF('Races, Positions & Points'!CM25=\"\",\"\",'Races, Positions & Points'!CM25)","v":""},{"$f":"IF('Races, Positions & Points'!CW25=\"\",\"\",'Races, Positions & Points'!CW25)","v":""},{"$f":"IF('Races, Positions & Points'!CP25=\"\",\"\",'Races, Positions & Points'!CP25)","v":""},{"$f":"IF('Races, Positions & Points'!CZ25=\"\",\"\",'Races, Positions & Points'!CZ25)","v":""},{"$f":"IF('Races, Positions & Points'!#REF!=\"\",\"\",'Races, Positions & Points'!#REF!)","v":{"$error":"#REF!"}},{"$f":"IF('Races, Positions & Points'!DC25=\"\",\"\",'Races, Positions & Points'!DC25)","v":""},{"$f":"IF('Races, Positions & Points'!DF25=\"\",\"\",'Races, Positions & Points'!DF25)","v":""},{"$f":"IF('Races, Positions & Points'!DI25=\"\",\"\",'Races, Positions & Points'!DI25)","v":""},{"$f":"IF('Races, Positions & Points'!DL25=\"\",\"\",'Races, Positions & Points'!DL25)","v":""},{"$f":"IF('Races, Positions & Points'!DO25=\"\",\"\",'Races, Positions & Points'!DO25)","v":""},{"$f":"IF('Races, Positions & Points'!DR25=\"\",\"\",'Races, Positions & Points'!DR25)","v":""},{"$f":"IF('Races, Positions & Points'!DS25=\"\",\"\",'Races, Positions & Points'!DS25)","v":""},{"$f":"IF('Races, Positions & Points'!DU25=\"\",\"\",'Races, Positions & Points'!DU25)","v":""},{"$f":"IF('Races, Positions & Points'!DX25=\"\",\"\",'Races, Positions & Points'!DX25)","v":""},{"$f":"IF('Races, Positions & Points'!EA25=\"\",\"\",'Races, Positions & Points'!EA25)","v":""},{"$f":"IF('Races, Positions & Points'!ED25=\"\",\"\",'Races, Positions & Points'!ED25)","v":""},{"$f":"IF('Races, Positions & Points'!EG25=\"\",\"\",'Races, Positions & Points'!EG25)","v":""},{"$f":"IF('Races, Positions & Points'!#REF!=\"\",\"\",'Races, Positions & Points'!#REF!)","v":{"$error":"#REF!"}},{"$f":"IF('Races, Positions & Points'!#REF!=\"\",\"\",'Races, Positions & Points'!#REF!)","v":{"$error":"#REF!"}},{"$f":"IF('Races, Positions & Points'!#REF!=\"\",\"\",'Races, Positions & Points'!#REF!)","v":{"$error":"#REF!"}},{"$f":"IF('Races, Positions & Points'!#REF!=\"\",\"\",'Races, Positions & Points'!#REF!)","v":{"$error":"#REF!"}},{"$f":"IF('Races, Positions & Points'!#REF!=\"\",\"\",'Races, Positions & Points'!#REF!)","v":{"$error":"#REF!"}},{"$f":"IF('Races, Positions & Points'!#REF!=\"\",\"\",'Races, Positions & Points'!#REF!)","v":{"$error":"#REF!"}},null,{"$error":"#REF!"},{"$error":"#REF!"},{"$error":"#REF!"},{"$error":"#REF!"},{"$error":"#REF!"},{"$error":"#REF!"},null,{"$f":"'Races, Positions & Points'!E25","v":17888},{"$f":"'Races, Positions & Points'!#REF!","v":{"$error":"#REF!"}},{"$f":"IF(MIN(CF23:CQ23)<999.99,IF(MIN(CF23:CQ23)>0,MIN(CF23:CQ23),\"\"),\"\")","v":{"$error":"#REF!"}},{"$f":"IF(ISERROR(SMALL(CF23:CQ23,2)),\"\",SMALL(CF23:CQ23,2))","v":""},{"$f":"IF(ISERROR(SMALL(CF23:CQ23,2)),\"\",ROUND(AVERAGE(BJ23:BK23),2))","v":""},{"$f":"IF(BI23<999.99,IF(AVERAGE(BI23,BJ23)>0,ROUND(AVERAGE(BI23,BJ23),2),\"\"),\"\")","v":{"$error":"#REF!"}},{"$f":"IF(ISERROR(BJ23*1.2),\"\",IF(BJ23<50,BJ23+10,ROUND(BJ23*1.2,2)))","v":""},{"$f":"MIN(BI23,BL23,BM23,BN23)","v":{"$error":"#REF!"}},{"$f":"IF(BI23*0.2<10,BI23+10,IF(BI23*1.2>999.99,999.99,ROUND(BI23*1.2,2)))","v":{"$error":"#REF!"}},{"$f":"MIN(BL23,BN23,BP23)","v":{"$error":"#REF!"}},null,{"$f":"IF(MIN(CB23:CE23)<999.99,IF(MIN(CB23:CE23)>0,MIN(CB23:CE23),\"\"),\"\")","v":{"$error":"#REF!"}},{"$f":"IF(ISERROR(SMALL(CB23:CE23,2)),\"\",SMALL(CB23:CE23,2))","v":""},{"$f":"IF(ISERROR(SMALL(CB23:CE23,2)),\"\",ROUND(AVERAGE(BS23:BT23),2))","v":""},{"$f":"IF(BI23<999.99,IF(AVERAGE(BI23,BS23)>0,ROUND(AVERAGE(BI23,BS23),2),\"\"),\"\")","v":{"$error":"#REF!"}},{"$f":"IF(ISERROR(BS23*1.2),\"\",IF(BS23<50,BS23+10,ROUND(BS23*1.2,2)))","v":""},{"$f":"MIN(BI23,BU23,BV23,BW23)","v":{"$error":"#REF!"}},{"$f":"IF(BI23*0.2<10,BI23+10,IF(BI23*1.2>999.99,999.99,ROUND(BI23*1.2,2)))","v":{"$error":"#REF!"}},{"$f":"MIN(BU23,BW23,BY23)","v":{"$error":"#REF!"}},null,"",{"$error":"#REF!"},"",{"$error":"#REF!"},"",{"$error":"#REF!"},"","",{"$error":"#REF!"},"","","","","","",{"$error":"#REF!"},null,{"$f":"IF(MIN(DF23:DL23)>0,MIN(DF23:DL23),\"\")","v":{"$error":"#REF!"}},{"$f":"IF(ISERROR(SMALL(DF23:DL23,2)),\"\",SMALL(DF23:DL23,2))","v":""},"","",null,{"$f":"IF(MIN(DC23:DE23)>0,MIN(DC23:DE23),\"\")","v":{"$error":"#REF!"}},{"$f":"IF(ISERROR(SMALL(DC23:DE23,2)),\"\",SMALL(DC23:DE23,2))","v":""},{"$f":"IF(ISERROR(SMALL(DC23:DE23,2)),\"\",AVERAGE(CX23,CY23))","v":""},{"$f":"IF(ISERROR(CX23*1.2),\"\",IF(CX23<50,CX23+10,CX23*1.2))","v":""},null,"",{"$error":"#REF!"},"","","","",{"$error":"#REF!"},"","",{"$error":"#REF!"}]
[{"$f":"'Races, Positions & Points'!A26","v":"Helena Newboult"},{"$f":"IF('Races, Positions & Points'!S26=\"\",\"\",'Races, Positions & Points'!S26)","v":""},{"$f":"IF('Races, Positions & Points'!V26=\"\",\"\",'Races, Positions & Points'!V26)","v":""},{"$f":"IF('Races, Positions & Points'!#REF!=\"\",\"\",'Races, Positions & Points'!#REF!)","v":{"$error":"#REF!"}},{"$f":"IF('Races, Positions & Points'!Y26=\"\",\"\",'Races, Positions & Points'!Y26)","v":""},{"$f":"IF('Races, Positions & Points'!Z26=\"\",\"\",'Races, Positions & Points'!Z26)","v":""},{"$f":"IF('Races, Positions & Points'!AC26=\"\",\"\",'Races, Positions & Points'!AC26)","v":""},{"$f":"IF('Races, Positions & Points'!AD26=\"\",\"\",'Races, Positions & Points'!AD26)","v":""},{"$f":"IF('Races, Positions & Points'!AG26=\"\",\"\",'Races, Positions & Points'!AG26)","v":""},{"$f":"IF('Races, Positions & Points'!AJ26=\"\",\"\",'Races, Positions & Points'!AJ26)","v":26.82},{"$f":"IF('Races, Positions & Points'!AM26=\"\",\"\",'Races, Positions & Points'!AM26)","v":""},{"$f":"IF('Races, Positions & Points'!AP26=\"\",\"\",'Races, Positions & Points'!AP26)","v":""},{"$f":"IF('Races, Positions & Points'!AS26=\"\",\"\",'Races, Positions & Points'!AS26)","v":""},{"$f":"IF('Races, Positions & Points'!AV26=\"\",\"\",'Races, Positions & Points'!AV26)","v":12.67},{"$f":"IF('Races, Positions & Points'!AY26=\"\",\"\",'Races, Positions & Points'!AY26)","v":10},{"$f":"IF('Races, Positions & Points'!BB26=\"\",\"\",'Races, Positions & Points'!BB26)","v":""},{"$f":"IF('Races, Positions & Points'!BE26=\"\",\"\",'Races, Positions & Points'!BE26)","v":""},{"$f":"IF('Races, Positions & Points'!BH26=\"\",\"\",'Races, Positions & Points'!BH26)","v":18.299999999999997},{"$f":"IF('Races, Positions & Points'!BK26=\"\",\"\",'Races, Positions & Points'!BK26)","v":""},{"$f":"IF('Races, Positions & Points'!BN26=\"\",\"\",'Races, Positions & Points'!BN26)","v":""},{"$f":"IF('Races, Positions & Points'!BQ26=\"\",\"\",'Races, Positions & Points'!BQ26)","v":""},{"$f":"IF('Races, Positions & Points'!BT26=\"\",\"\",'Races, Positions & Points'!BT26)","v":""},{"$f":"IF('Races, Positions & Points'!#REF!=\"\",\"\",'Races, Positions & Points'!#REF!)","v":{"$error":"#REF!"}},{"$f":"IF('Races, Positions & Points'!BW26=\"\",\"\",'Races, Positions & Points'!BW26)","v":""},{"$f":"IF('Races, Positions & Points'!BZ26=\"\",\"\",'Races, Positions & Points'!BZ26)","v":""},{"$f":"IF('Races, Positions & Points'!CG26=\"\",\"\",'Races, Positions & Points'!CG26)","v":""},{"$f":"IF('Races, Positions & Points'!CC26=\"\",\"\",'Races, Positions & Points'!CC26)","v":""},{"$f":"IF('Races, Positions & Points'!CJ26=\"\",\"\",'Races, Positions & Points'!CJ26)","v":14.6},{"$f":"IF('Races, Positions & Points'!CM26=\"\",\"\",'Races, Positions & Points'!CM26)","v":""},{"$f":"IF('Races, Positions & Points'!CW26=\"\",\"\",'Races, Positions & Points'!CW26)","v":""},{"$f":"IF('Races, Positions & Points'!CP26=\"\",\"\",'Races, Positions & Points'!CP26)","v":123.86},{"$f":"IF('Races, Positions & Points'!CZ26=\"\",\"\",'Races, Positions & Points'!CZ26)","v":22.31},{"$f":"IF('Races, Positions & Points'!#REF!=\"\",\"\",'Races, Positions & Points'!#REF!)","v":{"$error":"#REF!"}},{"$f":"IF('Races, Positions & Points'!DC26=\"\",\"\",'Races, Positions & Points'!DC26)","v":""},{"$f":"IF('Races, Positions & Points'!DF26=\"\",\"\",'Races, Positions & Points'!DF26)","v":""},{"$f":"IF('Races, Positions & Points'!DI26=\"\",\"\",'Races, Positions & Points'!DI26)","v":""},{"$f":"IF('Races, Positions & Points'!DL26=\"\",\"\",'Races, Positions & Points'!DL26)","v":""},{"$f":"IF('Races, Positions & Points'!DO26=\"\",\"\",'Races, Positions & Points'!DO26)","v":""},{"$f":"IF('Races, Positions & Points'!DR26=\"\",\"\",'Races, Positions & Points'!DR26)","v":""},{"$f":"IF('Races, Positions & Points'!DS26=\"\",\"\",'Races, Positions & Points'!DS26)","v":""},{"$f":"IF('Races, Positions & Points'!DU26=\"\",\"\",'Races, Positions & Points'!DU26)","v":""},{"$f":"IF('Races, Positions & Points'!DX26=\"\",\"\",'Races, Positions & Points'!DX26)","v":""},{"$f":"IF('Races, Positions & Points'!EA26=\"\",\"\",'Races, Positions & Points'!EA26)","v":""},{"$f":"IF('Races, Positions & Points'!ED26=\"\",\"\",'Races, Positions & Points'!ED26)","v":""},{"$f":"IF('Races, Positions & Points'!EG26=\"\",\"\",'Races, Positions & Points'!EG26)","v":""},{"$f":"IF('Races, Positions & Points'!#REF!=\"\",\"\",'Races, Positions & Points'!#REF!)","v":{"$error":"#REF!"}},{"$f":"IF('Races, Positions & Points'!#REF!=\"\",\"\",'Races, Positions & Points'!#REF!)","v":{"$error":"#REF!"}},{"$f":"IF('Races, Positions & Points'!#REF!=\"\",\"\",'Races, Positions & Points'!#REF!)","v":{"$error":"#REF!"}},{"$f":"IF('Races, Positions & Points'!#REF!=\"\",\"\",'Races, Positions & Points'!#REF!)","v":{"$error":"#REF!"}},{"$f":"IF('Races, Positions & Points'!#REF!=\"\",\"\",'Races, Positions & Points'!#REF!)","v":{"$error":"#REF!"}},{"$f":"IF('Races, Positions & Points'!#REF!=\"\",\"\",'Races, Positions & Points'!#REF!)","v":{"$error":"#REF!"}},null,{"$error":"#REF!"},{"$error":"#REF!"},{"$error":"#REF!"},{"$error":"#REF!"},{"$error":"#REF!"},{"$error":"#REF!"},null,{"$f":"'Races, Positions & Points'!E26","v":20696},{"$f":"'Races, Positions & Points'!#REF!","v":{"$error":"#REF!"}},{"$error":"#REF!"},"","",{"$error":"#REF!"},"",{"$error":"#REF!"},{"$error":"#REF!"},{"$error":"#REF!"},null,{"$error":"#REF!"},"","",{"$error":"#REF!"},"",{"$error":"#REF!"},{"$error":"#REF!"},{"$error":"#REF!"},null,"",{"$error":"#REF!"},"",{"$error":"#REF!"},12.67,{"$error":"#REF!"},26.82,"",{"$error":"#REF!"},18.299999999999997,"","","","","",{"$error":"#REF!"},null,{"$f":"IF(MIN(DF24:DL24)>0,MIN(DF24:DL24),\"\")","v":{"$error":"#REF!"}},{"$f":"IF(ISERROR(SMALL(DF24:DL24,2)),\"\",SMALL(DF24:DL24,2))","v":""},"","",null,{"$f":"IF(MIN(DC24:DE24)>0,MIN(DC24:DE24),\"\")","v":{"$error":"#REF!"}},{"$f":"IF(ISERROR(SMALL(DC24:DE24,2)),\"\",SMALL(DC24:DE24,2))","v":""},{"$f":"IF(ISERROR(SMALL(DC24:DE24,2)),\"\",AVERAGE(CX24,CY24))","v":""},{"$f":"IF(ISERROR(CX24*1.2),\"\",IF(CX24<50,CX24+10,CX24*1.2))","v":""},null,"",{"$error":"#REF!"},"",12.67,10,26.82,{"$error":"#REF!"},18.299999999999997,"",{"$error":"#REF!"}]
[{"$f":"'Races, Positions & Points'!A27","v":"Rowan Vernon"},{"$f":"IF('Races, Positions & Points'!S27=\"\",\"\",'Races, Positions & Points'!S27)","v":""},{"$f":"IF('Races, Positions & Points'!V27=\"\",\"\",'Races, Positions & Points'!V27)","v":""},{"$f":"IF('Races, Positions & Points'!#REF!=\"\",\"\",'Races, Positions & Points'!#REF!)","v":{"$error":"#REF!"}},{"$f":"IF('Races, Positions & Points'!Y27=\"\",\"\",'Races, Positions & Points'!Y27)","v":""},{"$f":"IF('Races, Positions & Points'!Z27=\"\",\"\",'Races, Positions & Points'!Z27)","v":""},{"$f":"IF('Races, Positions & Points'!AC27=\"\",\"\",'Races, Positions & Points'!AC27)","v":""},{"$f":"IF('Races, Positions & Points'!AD27=\"\",\"\",'Races, Positions & Points'!AD27)","v":""},{"$f":"IF('Races, Positions & Points'!AG27=\"\",\"\",'Races, Positions & Points'!AG27)","v":""},{"$f":"IF('Races, Positions & Points'!AJ27=\"\",\"\",'Races, Positions & Points'!AJ27)","v":""},{"$f":"IF('Races, Positions & Points'!AM27=\"\",\"\",'Races, Positions & Points'!AM27)","v":""},{"$f":"IF('Races, Positions & Points'!AP27=\"\",\"\",'Races, Positions & Points'!AP27)","v":""},{"$f":"IF('Races, Positions & Points'!AS27=\"\",\"\",'Races, Positions & Points'!AS27)","v":""},{"$f":"IF('Races, Positions & Points'!AV27=\"\",\"\",'Races, Positions & Points'!AV27)","v":""},{"$f":"IF('Races, Positions & Points'!AY27=\"\",\"\",'Races, Positions & Points'!AY27)","v":""},{"$f":"IF('Races, Positions & Points'!BB27=\"\",\"\",'Races, Positions & Points'!BB27)","v":""},{"$f":"IF('Races, Positions & Points'!BE27=\"\",\"\",'Races, Positions & Points'!BE27)","v":""},{"$f":"IF('Races, Positions & Points'!BH27=\"\",\"\",'Races, Positions & Points'!BH27)","v":""},{"$f":"IF('Races, Positions & Points'!BK27=\"\",\"\",'Races, Positions & Points'!BK27)","v":""},{"$f":"IF('Races, Positions & Points'!BN27=\"\",\"\",'Races, Positions & Points'!BN27)","v":""},{"$f":"IF('Races, Positions & Points'!BQ27=\"\",\"\",'Races, Positions & Points'!BQ27)","v":""},{"$f":"IF('Races, Positions & Points'!BT27=\"\",\"\",'Races, Positions & Points'!BT27)","v":""},{"$f":"IF('Races, Positions & Points'!#REF!=\"\",\"\",'Races, Positions & Points'!#REF!)","v":{"$error":"#REF!"}},{"$f":"IF('Races, Positions & Points'!BW27=\"\",\"\",'Races, Positions & Points'!BW27)","v":""},{"$f":"IF('Races, Positions & Points'!BZ27=\"\",\"\",'Races, Positions & Points'!BZ27)","v":""},{"$f":"IF('Races, Positions & Points'!CG27=\"\",\"\",'Races, Positions & Points'!CG27)","v":""},{"$f":"IF('Races, Positions & Points'!CC27=\"\",\"\",'Races, Positions & Points'!CC27)","v":""},{"$f":"IF('Races, Positions & Points'!CJ27=\"\",\"\",'Races, Positions & Points'!CJ27)","v":""},{"$f":"IF('Races, Positions & Points'!CM27=\"\",\"\",'Races, Positions & Points'!CM27)","v":""},{"$f":"IF('Races, Positions & Points'!CW27=\"\",\"\",'Races, Positions & Points'!CW27)","v":""},{"$f":"IF('Races, Positions & Points'!CP27=\"\",\"\",'Races, Positions & Points'!CP27)","v":""},{"$f":"IF('Races, Positions & Points'!CZ27=\"\",\"\",'Races, Positions & Points'!CZ27)","v":""},{"$f":"IF('Races, Positions & Points'!#REF!=\"\",\"\",'Races, Positions & Points'!#REF!)","v":{"$error":"#REF!"}},{"$f":"IF('Races, Positions & Points'!DC27=\"\",\"\",'Races, Positions & Points'!DC27)","v":""},{"$f":"IF('Races, Positions & Points'!DF27=\"\",\"\",'Races, Positions & Points'!DF27)","v":""},{"$f":"IF('Races, Positions & Points'!DI27=\"\",\"\",'Races, Positions & Points'!DI27)","v":""},{"$f":"IF('Races, Positions & Points'!DL27=\"\",\"\",'Races, Positions & Points'!DL27)","v":""},{"$f":"IF('Races, Positions & Points'!DO27=\"\",\"\",'Races, Positions & Points'!DO27)","v":""},{"$f":"IF('Races, Positions & Points'!DR27=\"\",\"\",'Races, Positions & Points'!DR27)","v":""},{"$f":"IF('Races, Positions & Points'!DS27=\"\",\"\",'Races, Positions & Points'!DS27)","v":""},{"$f":"IF('Races, Positions & Points'!DU27=\"\",\"\",'Races, Positions & Points'!DU27)","v":""},{"$f":"IF('Races, Positions & Points'!DX27=\"\",\"\",'Races, Positions & Points'!DX27)","v":""},{"$f":"IF('Races, Positions & Points'!EA27=\"\",\"\",'Races, Positions & Points'!EA27)","v":""},{"$f":"IF('Races, Positions & Points'!ED27=\"\",\"\",'Races, Positions & Points'!ED27)","v":""},{"$f":"IF('Races, Positions & Points'!EG27=\"\",\"\",'Races, Positions & Points'!EG27)","v":""},{"$f":"IF('Races, Positions & Points'!#REF!=\"\",\"\",'Races, Positions & Points'!#REF!)","v":{"$error":"#REF!"}},{"$f":"IF('Races, Positions & Points'!#REF!=\"\",\"\",'Races, Positions & Points'!#REF!)","v":{"$error":"#REF!"}},{"$f":"IF('Races, Positions & Points'!#REF!=\"\",\"\",'Races, Positions & Points'!#REF!)","v":{"$error":"#REF!"}},{"$f":"IF('Races, Positions & Points'!#REF!=\"\",\"\",'Races, Positions & Points'!#REF!)","v":{"$error":"#REF!"}},{"$f":"IF('Races, Positions & Points'!#REF!=\"\",\"\",'Races, Positions & Points'!#REF!)","v":{"$error":"#REF!"}},{"$f":"IF('Races, Positions & Points'!#REF!=\"\",\"\",'Races, Positions & Points'!#REF!)","v":{"$error":"#REF!"}},null,{"$error":"#REF!"},{"$error":"#REF!"},{"$error":"#REF!"},{"$error":"#REF!"},{"$error":"#REF!"},{"$error":"#REF!"},null,{"$f":"'Races, Positions & Points'!E27","v":13381},{"$f":"'Races, Positions & Points'!#REF!","v":{"$error":"#REF!"}},{"$error":"#REF!"},"","",{"$error":"#REF!"},"",{"$error":"#REF!"},{"$error":"#REF!"},{"$error":"#REF!"},null,{"$error":"#REF!"},"","",{"$error":"#REF!"},"",{"$error":"#REF!"},{"$error":"#REF!"},{"$error":"#REF!"},null,"",{"$error":"#REF!"},"",{"$error":"#REF!"},"",{"$error":"#REF!"},"","",{"$error":"#REF!"},"","","","","","",{"$error":"#REF!"},null,{"$f":"IF(MIN(DF25:DL25)>0,MIN(DF25:DL25),\"\")","v":{"$error":"#REF!"}},{"$f":"IF(ISERROR(SMALL(DF25:DL25,2)),\"\",SMALL(DF25:DL25,2))","v":""},"","",null,{"$f":"IF(MIN(DC25:DE25)>0,MIN(DC25:DE25),\"\")","v":{"$error":"#REF!"}},{"$f":"IF(ISERROR(SMALL(DC25:DE25,2)),\"\",SMALL(DC25:DE25,2))","v":""},{"$f":"IF(ISERROR(SMALL(DC25:DE25,2)),\"\",AVERAGE(CX25,CY25))","v":""},{"$f":"IF(ISERROR(CX25*1.2),\"\",IF(CX25<50,CX25+10,CX25*1.2))","v":""},null,"",{"$error":"#REF!"},"","","","",{"$error":"#REF!"},"","",{"$error":"#REF!"}]
[{"$f":"'Races, Positions & Points'!A28","v":"Jessica Mayhew"},{"$f":"IF('Races, Positions & Points'!S28=\"\",\"\",'Races, Positions & Points'!S28)","v":""},{"$f":"IF('Races, Positions & Points'!V28=\"\",\"\",'Races, Positions & Points'!V28)","v":""},{"$f":"IF('Races, Positions & Points'!#REF!=\"\",\"\",'Races, Positions & Points'!#REF!)","v":{"$error":"#REF!"}},{"$f":"IF('Races, Positions & Points'!Y28=\"\",\"\",'Races, Positions & Points'!Y28)","v":""},{"$f":"IF('Races, Positions & Points'!Z28=\"\",\"\",'Races, Positions & Points'!Z28)","v":""},{"$f":"IF('Races, Positions & Points'!AC28=\"\",\"\",'Races, Positions & Points'!AC28)","v":""},{"$f":"IF('Races, Positions & Points'!AD28=\"\",\"\",'Races, Positions & Points'!AD28)","v":""},{"$f":"IF('Races, Positions & Points'!AG28=\"\",\"\",'Races, Positions & Points'!AG28)","v":56.04},{"$f":"IF('Races, Positions & Points'!AJ28=\"\",\"\",'Races, Positions & Points'!AJ28)","v":""},{"$f":"IF('Races, Positions & Points'!AM28=\"\",\"\",'Races, Positions & Points'!AM28)","v":"DNF"},{"$f":"IF('Races, Positions & Points'!AP28=\"\",\"\",'Races, Positions & Points'!AP28)","v":""},{"$f":"IF('Races, Positions & Points'!AS28=\"\",\"\",'Races, Positions & Points'!AS28)","v":""},{"$f":"IF('Races, Positions & Points'!AV28=\"\",\"\",'Races, Positions & Points'!AV28)","v":55.85},{"$f":"IF('Races, Positions & Points'!AY28=\"\",\"\",'Races, Positions & Points'!AY28)","v":56.48},{"$f":"IF('Races, Positions & Points'!BB28=\"\",\"\",'Races, Positions & Points'!BB28)","v":""},{"$f":"IF('Races, Positions & Points'!BE28=\"\",\"\",'Races, Positions & Points'!BE28)","v":""},{"$f":"IF('Races, Positions & Points'!BH28=\"\",\"\",'Races, Positions & Points'!BH28)","v":""},{"$f":"IF('Races, Positions & Points'!BK28=\"\",\"\",'Races, Positions & Points'!BK28)","v":""},{"$f":"IF('Races, Positions & Points'!BN28=\"\",\"\",'Races, Positions & Points'!BN28)","v":""},{"$f":"IF('Races, Positions & Points'!BQ28=\"\",\"\",'Races, Positions & Points'!BQ28)","v":""},{"$f":"IF('Races, Positions & Points'!BT28=\"\",\"\",'Races, Positions & Points'!BT28)","v":""},{"$f":"IF('Races, Positions & Points'!#REF!=\"\",\"\",'Races, Positions & Points'!#REF!)","v":{"$error":"#REF!"}},{"$f":"IF('Races, Positions & Points'!BW28=\"\",\"\",'Races, Positions & Points'!BW28)","v":64.41},{"$f":"IF('Races, Positions & Points'!BZ28=\"\",\"\",'Races, Positions & Points'!BZ28)","v":""},{"$f":"IF('Races, Positions & Points'!CG28=\"\",\"\",'Races, Positions & Points'!CG28)","v":""},{"$f":"IF('Races, Positions & Points'!CC28=\"\",\"\",'Races, Positions & Points'!CC28)","v":42.97},{"$f":"IF('Races, Positions & Points'!CJ28=\"\",\"\",'Races, Positions & Points'!CJ28)","v":26.22},{"$f":"IF('Races, Positions & Points'!CM28=\"\",\"\",'Races, Positions & Points'!CM28)","v":""},{"$f":"IF('Races, Positions & Points'!CW28=\"\",\"\",'Races, Positions & Points'!CW28)","v":""},{"$f":"IF('Races, Positions & Points'!CP28=\"\",\"\",'Races, Positions & Points'!CP28)","v":356.97},{"$f":"IF('Races, Positions & Points'!CZ28=\"\",\"\",'Races, Positions & Points'!CZ28)","v":""},{"$f":"IF('Races, Positions & Points'!#REF!=\"\",\"\",'Races, Positions & Points'!#REF!)","v":{"$error":"#REF!"}},{"$f":"IF('Races, Positions & Points'!DC28=\"\",\"\",'Races, Positions & Points'!DC28)","v":""},{"$f":"IF('Races, Positions & Points'!DF28=\"\",\"\",'Races, Positions & Points'!DF28)","v":""},{"$f":"IF('Races, Positions & Points'!DI28=\"\",\"\",'Races, Positions & Points'!DI28)","v":""},{"$f":"IF('Races, Positions & Points'!DL28=\"\",\"\",'Races, Positions & Points'!DL28)","v":76.680000000000007},{"$f":"IF('Races, Positions & Points'!DO28=\"\",\"\",'Races, Positions & Points'!DO28)","v":67.099999999999994},{"$f":"IF('Races, Positions & Points'!DR28=\"\",\"\",'Races, Positions & Points'!DR28)","v":""},{"$f":"IF('Races, Positions & Points'!DS28=\"\",\"\",'Races, Positions & Points'!DS28)","v":""},{"$f":"IF('Races, Positions & Points'!DU28=\"\",\"\",'Races, Positions & Points'!DU28)","v":""},{"$f":"IF('Races, Positions & Points'!DX28=\"\",\"\",'Races, Positions & Points'!DX28)","v":""},{"$f":"IF('Races, Positions & Points'!EA28=\"\",\"\",'Races, Positions & Points'!EA28)","v":""},{"$f":"IF('Races, Positions & Points'!ED28=\"\",\"\",'Races, Positions & Points'!ED28)","v":""},{"$f":"IF('Races, Positions & Points'!EG28=\"\",\"\",'Races, Positions & Points'!EG28)","v":""},{"$f":"IF('Races, Positions & Points'!#REF!=\"\",\"\",'Races, Positions & Points'!#REF!)","v":{"$error":"#REF!"}},{"$f":"IF('Races, Positions & Points'!#REF!=\"\",\"\",'Races, Positions & Points'!#REF!)","v":{"$error":"#REF!"}},{"$f":"IF('Races, Positions & Points'!#REF!=\"\",\"\",'Races, Positions & Points'!#REF!)","v":{"$error":"#REF!"}},{"$f":"IF('Races, Positions & Points'!#REF!=\"\",\"\",'Races, Positions & Points'!#REF!)","v":{"$error":"#REF!"}},{"$f":"IF('Races, Positions & Points'!#REF!=\"\",\"\",'Races, Positions & Points'!#REF!)","v":{"$error":"#REF!"}},{"$f":"IF('Races, Positions & Points'!#REF!=\"\",\"\",'Races, Positions & Points'!#REF!)","v":{"$error":"#REF!"}},null,{"$error":"#REF!"},{"$error":"#REF!"},{"$error":"#REF!"},{"$error":"#REF!"},{"$error":"#REF!"},{"$error":"#REF!"},null,{"$f":"'Races, Positions & Points'!E28","v":21014},{"$f":"'Races, Positions & Points'!#REF!","v":{"$error":"#REF!"}},{"$error":"#REF!"},"","",{"$error":"#REF!"},"",{"$error":"#REF!"},{"$error":"#REF!"},{"$error":"#REF!"},null,{"$error":"#REF!"},"","",{"$error":"#REF!"},"",{"$error":"#REF!"},{"$error":"#REF!"},{"$error":"#REF!"},null,67.099999999999994,{"$error":"#REF!"},"",{"$error":"#REF!"},55.85,{"$error":"#REF!"},56.04,"",{"$error":"#REF!"},"","","",42.97,"","",{"$error":"#REF!"},null,{"$error":"#REF!"},"","","",null,{"$error":"#REF!"},"","","",null,67.099999999999994,{"$error":"#REF!"},"",55.85,56.48,"",{"$error":"#REF!"},"","",{"$error":"#REF!"}]
[{"$f":"'Races, Positions & Points'!A29","v":"Elisabeth Thomas"},{"$f":"IF('Races, Positions & Points'!S29=\"\",\"\",'Races, Positions & Points'!S29)","v":""},{"$f":"IF('Races, Positions & Points'!V29=\"\",\"\",'Races, Positions & Points'!V29)","v":""},{"$f":"IF('Races, Positions & Points'!#REF!=\"\",\"\",'Races, Positions & Points'!#REF!)","v":{"$error":"#REF!"}},{"$f":"IF('Races, Positions & Points'!Y29=\"\",\"\",'Races, Positions & Points'!Y29)","v":""},{"$f":"IF('Races, Positions & Points'!Z29=\"\",\"\",'Races, Positions & Points'!Z29)","v":""},{"$f":"IF('Races, Positions & Points'!AC29=\"\",\"\",'Races, Positions & Points'!AC29)","v":""},{"$f":"IF('Races, Positions & Points'!AD29=\"\",\"\",'Races, Positions & Points'!AD29)","v":""},{"$f":"IF('Races, Positions & Points'!AG29=\"\",\"\",'Races, Positions & Points'!AG29)","v":""},{"$f":"IF('Races, Positions & Points'!AJ29=\"\",\"\",'Races, Positions & Points'!AJ29)","v":""},{"$f":"IF('Races, Positions & Points'!AM29=\"\",\"\",'Races, Positions & Points'!AM29)","v":""},{"$f":"IF('Races, Positions & Points'!AP29=\"\",\"\",'Races, Positions & Points'!AP29)","v":""},{"$f":"IF('Races, Positions & Points'!AS29=\"\",\"\",'Races, Positions & Points'!AS29)","v":""},{"$f":"IF('Races, Positions & Points'!AV29=\"\",\"\",'Races, Positions & Points'!AV29)","v":""},{"$f":"IF('Races, Positions & Points'!AY29=\"\",\"\",'Races, Positions & Points'!AY29)","v":""},{"$f":"IF('Races, Positions & Points'!BB29=\"\",\"\",'Races, Positions & Points'!BB29)","v":""},{"$f":"IF('Races, Positions & Points'!BE29=\"\",\"\",'Races, Positions & Points'!BE29)","v":""},{"$f":"IF('Races, Positions & Points'!BH29=\"\",\"\",'Races, Positions & Points'!BH29)","v":""},{"$f":"IF('Races, Positions & Points'!BK29=\"\",\"\",'Races, Positions & Points'!BK29)","v":""},{"$f":"IF('Races, Positions & Points'!BN29=\"\",\"\",'Races, Positions & Points'!BN29)","v":""},{"$f":"IF('Races, Positions & Points'!BQ29=\"\",\"\",'Races, Positions & Points'!BQ29)","v":""},{"$f":"IF('Races, Positions & Points'!BT29=\"\",\"\",'Races, Positions & Points'!BT29)","v":""},{"$f":"IF('Races, Positions & Points'!#REF!=\"\",\"\",'Races, Positions & Points'!#REF!)","v":{"$error":"#REF!"}},{"$f":"IF('Races, Positions & Points'!BW29=\"\",\"\",'Races, Positions & Points'!BW29)","v":""},{"$f":"IF('Races, Positions & Points'!BZ29=\"\",\"\",'Races, Positions & Points'!BZ29)","v":""},{"$f":"IF('Races, Positions & Points'!CG29=\"\",\"\",'Races, Positions & Points'!CG29)","v":""},{"$f":"IF('Races, Positions & Points'!CC29=\"\",\"\",'Races, Positions & Points'!CC29)","v":""},{"$f":"IF('Races, Positions & Points'!CJ29=\"\",\"\",'Races, Positions & Points'!CJ29)","v":""},{"$f":"IF('Races, Positions & Points'!CM29=\"\",\"\",'Races, Positions & Points'!CM29)","v":""},{"$f":"IF('Races, Positions & Points'!CW29=\"\",\"\",'Races, Positions & Points'!CW29)","v":""},{"$f":"IF('Races, Positions & Points'!CP29=\"\",\"\",'Races, Positions & Points'!CP29)","v":""},{"$f":"IF('Races, Positions & Points'!CZ29=\"\",\"\",'Races, Positions & Points'!CZ29)","v":""},{"$f":"IF('Races, Positions & Points'!#REF!=\"\",\"\",'Races, Positions & Points'!#REF!)","v":{"$error":"#REF!"}},{"$f":"IF('Races, Positions & Points'!DC29=\"\",\"\",'Races, Positions & Points'!DC29)","v":""},{"$f":"IF('Races, Positions & Points'!DF29=\"\",\"\",'Races, Positions & Points'!DF29)","v":""},{"$f":"IF('Races, Positions & Points'!DI29=\"\",\"\",'Races, Positions & Points'!DI29)","v":""},{"$f":"IF('Races, Positions & Points'!DL29=\"\",\"\",'Races, Positions & Points'!DL29)","v":""},{"$f":"IF('Races, Positions & Points'!DO29=\"\",\"\",'Races, Positions & Points'!DO29)","v":""},{"$f":"IF('Races, Positions & Points'!DR29=\"\",\"\",'Races, Positions & Points'!DR29)","v":""},{"$f":"IF('Races, Positions & Points'!DS29=\"\",\"\",'Races, Positions & Points'!DS29)","v":""},{"$f":"IF('Races, Positions & Points'!DU29=\"\",\"\",'Races, Positions & Points'!DU29)","v":""},{"$f":"IF('Races, Positions & Points'!DX29=\"\",\"\",'Races, Positions & Points'!DX29)","v":""},{"$f":"IF('Races, Positions & Points'!EA29=\"\",\"\",'Races, Positions & Points'!EA29)","v":""},{"$f":"IF('Races, Positions & Points'!ED29=\"\",\"\",'Races, Positions & Points'!ED29)","v":""},{"$f":"IF('Races, Positions & Points'!EG29=\"\",\"\",'Races, Positions & Points'!EG29)","v":""},{"$f":"IF('Races, Positions & Points'!#REF!=\"\",\"\",'Races, Positions & Points'!#REF!)","v":{"$error":"#REF!"}},{"$f":"IF('Races, Positions & Points'!#REF!=\"\",\"\",'Races, Positions & Points'!#REF!)","v":{"$error":"#REF!"}},{"$f":"IF('Races, Positions & Points'!#REF!=\"\",\"\",'Races, Positions & Points'!#REF!)","v":{"$error":"#REF!"}},{"$f":"IF('Races, Positions & Points'!#REF!=\"\",\"\",'Races, Positions & Points'!#REF!)","v":{"$error":"#REF!"}},{"$f":"IF('Races, Positions & Points'!#REF!=\"\",\"\",'Races, Positions & Points'!#REF!)","v":{"$error":"#REF!"}},{"$f":"IF('Races, Positions & Points'!#REF!=\"\",\"\",'Races, Positions & Points'!#REF!)","v":{"$error":"#REF!"}},null,{"$error":"#REF!"},{"$error":"#REF!"},{"$error":"#REF!"},{"$error":"#REF!"},{"$error":"#REF!"},{"$error":"#REF!"},null,{"$f":"'Races, Positions & Points'!E29","v":18033},{"$f":"'Races, Positions & Points'!#REF!","v":{"$error":"#REF!"}},{"$error":"#REF!"},"","",{"$error":"#REF!"},"",{"$error":"#REF!"},{"$error":"#REF!"},{"$error":"#REF!"},null,{"$error":"#REF!"},"","",{"$error":"#REF!"},"",{"$error":"#REF!"},{"$error":"#REF!"},{"$error":"#REF!"},null,"",{"$error":"#REF!"},"",{"$error":"#REF!"},"",{"$error":"#REF!"},"","",{"$error":"#REF!"},"","","","","","",{"$error":"#REF!"},null,{"$error":"#REF!"},"","","",null,{"$error":"#REF!"},"","","",null,"",{"$error":"#REF!"},"","","","",{"$error":"#REF!"},"","",{"$error":"#REF!"}]
[{"$f":"'Races, Positions & Points'!A31","v":"Maxine Hancock"},{"$f":"IF('Races, Positions & Points'!S31=\"\",\"\",'Races, Positions & Points'!S31)","v":""},{"$f":"IF('Races, Positions & Points'!V31=\"\",\"\",'Races, Positions & Points'!V31)","v":""},{"$f":"IF('Races, Positions & Points'!#REF!=\"\",\"\",'Races, Positions & Points'!#REF!)","v":{"$error":"#REF!"}},{"$f":"IF('Races, Positions & Points'!Y31=\"\",\"\",'Races, Positions & Points'!Y31)","v":56},{"$f":"IF('Races, Positions & Points'!Z31=\"\",\"\",'Races, Positions & Points'!Z31)","v":58.88},{"$f":"IF('Races, Positions & Points'!AC31=\"\",\"\",'Races, Positions & Points'!AC31)","v":86.07},{"$f":"IF('Races, Positions & Points'!AD31=\"\",\"\",'Races, Positions & Points'!AD31)","v":108.26},{"$f":"IF('Races, Positions & Points'!AG31=\"\",\"\",'Races, Positions & Points'!AG31)","v":""},{"$f":"IF('Races, Positions & Points'!AJ31=\"\",\"\",'Races, Positions & Points'!AJ31)","v":""},{"$f":"IF('Races, Positions & Points'!AM31=\"\",\"\",'Races, Positions & Points'!AM31)","v":""},{"$f":"IF('Races, Positions & Points'!AP31=\"\",\"\",'Races, Positions & Points'!AP31)","v":76.349999999999994},{"$f":"IF('Races, Positions & Points'!AS31=\"\",\"\",'Races, Positions & Points'!AS31)","v":"DNF"},{"$f":"IF('Races, Positions & Points'!AV31=\"\",\"\",'Races, Positions & Points'!AV31)","v":""},{"$f":"IF('Races, Positions & Points'!AY31=\"\",\"\",'Races, Positions & Points'!AY31)","v":""},{"$f":"IF('Races, Positions & Points'!BB31=\"\",\"\",'Races, Positions & Points'!BB31)","v":""},{"$f":"IF('Races, Positions & Points'!BE31=\"\",\"\",'Races, Positions & Points'!BE31)","v":""},{"$f":"IF('Races, Positions & Points'!BH31=\"\",\"\",'Races, Positions & Points'!BH31)","v":""},{"$f":"IF('Races, Positions & Points'!BK31=\"\",\"\",'Races, Positions & Points'!BK31)","v":""},{"$f":"IF('Races, Positions & Points'!BN31=\"\",\"\",'Races, Positions & Points'!BN31)","v":""},{"$f":"IF('Races, Positions & Points'!BQ31=\"\",\"\",'Races, Positions & Points'!BQ31)","v":119.92},{"$f":"IF('Races, Positions & Points'!#REF!=\"\",\"\",'Races, Positions & Points'!#REF!)","v":{"$error":"#REF!"}},{"$f":"IF('Races, Positions & Points'!#REF!=\"\",\"\",'Races, Positions & Points'!#REF!)","v":{"$error":"#REF!"}},{"$f":"IF('Races, Positions & Points'!BW31=\"\",\"\",'Races, Positions & Points'!BW31)","v":""},{"$f":"IF('Races, Positions & Points'!BZ31=\"\",\"\",'Races, Positions & Points'!BZ31)","v":""},{"$f":"IF('Races, Positions & Points'!CG31=\"\",\"\",'Races, Positions & Points'!CG31)","v":82.85},{"$f":"IF('Races, Positions & Points'!CC31=\"\",\"\",'Races, Positions & Points'!CC31)","v":""},{"$f":"IF('Races, Positions & Points'!CJ31=\"\",\"\",'Races, Positions & Points'!CJ31)","v":""},{"$f":"IF('Races, Positions & Points'!CM31=\"\",\"\",'Races, Positions & Points'!CM31)","v":""},{"$f":"IF('Races, Positions & Points'!CW31=\"\",\"\",'Races, Positions & Points'!CW31)","v":88.03},{"$f":"IF('Races, Positions & Points'!CP31=\"\",\"\",'Races, Positions & Points'!CP31)","v":""},{"$f":"IF('Races, Positions & Points'!CZ31=\"\",\"\",'Races, Positions & Points'!CZ31)","v":""},{"$f":"IF('Races, Positions & Points'!#REF!=\"\",\"\",'Races, Positions & Points'!#REF!)","v":{"$error":"#REF!"}},{"$f":"IF('Races, Positions & Points'!DC31=\"\",\"\",'Races, Positions & Points'!DC31)","v":""},{"$f":"IF('Races, Positions & Points'!DF31=\"\",\"\",'Races, Positions & Points'!DF31)","v":108.62},{"$f":"IF('Races, Positions & Points'!DI31=\"\",\"\",'Races, Positions & Points'!DI31)","v":113.11},{"$f":"IF('Races, Positions & Points'!DL31=\"\",\"\",'Races, Positions & Points'!DL31)","v":""},{"$f":"IF('Races, Positions & Points'!DO31=\"\",\"\",'Races, Positions & Points'!DO31)","v":""},{"$f":"IF('Races, Positions & Points'!DX31=\"\",\"\",'Races, Positions & Points'!DX31)","v":"??"},{"$f":"IF('Races, Positions & Points'!DS31=\"\",\"\",'Races, Positions & Points'!DS31)","v":""},{"$f":"IF('Races, Positions & Points'!DU31=\"\",\"\",'Races, Positions & Points'!DU31)","v":""},{"$f":"IF('Races, Positions & Points'!#REF!=\"\",\"\",'Races, Positions & Points'!#REF!)","v":{"$error":"#REF!"}},{"$f":"IF('Races, Positions & Points'!EA31=\"\",\"\",'Races, Positions & Points'!EA31)","v":""},{"$f":"IF('Races, Positions & Points'!ED31=\"\",\"\",'Races, Positions & Points'!ED31)","v":""},{"$f":"IF('Races, Positions & Points'!EG31=\"\",\"\",'Races, Positions & Points'!EG31)","v":""},{"$f":"IF('Races, Positions & Points'!#REF!=\"\",\"\",'Races, Positions & Points'!#REF!)","v":{"$error":"#REF!"}},{"$f":"IF('Races, Positions & Points'!#REF!=\"\",\"\",'Races, Positions & Points'!#REF!)","v":{"$error":"#REF!"}},{"$f":"IF('Races, Positions & Points'!#REF!=\"\",\"\",'Races, Positions & Points'!#REF!)","v":{"$error":"#REF!"}},{"$f":"IF('Races, Positions & Points'!#REF!=\"\",\"\",'Races, Positions & Points'!#REF!)","v":{"$error":"#REF!"}},{"$f":"IF('Races, Positions & Points'!#REF!=\"\",\"\",'Races, Positions & Points'!#REF!)","v":{"$error":"#REF!"}},{"$f":"IF('Races, Positions & Points'!#REF!=\"\",\"\",'Races, Positions & Points'!#REF!)","v":{"$error":"#REF!"}},null,{"$error":"#REF!"},{"$error":"#REF!"},{"$error":"#REF!"},{"$error":"#REF!"},{"$error":"#REF!"},{"$error":"#REF!"},null,{"$f":"'Races, Positions & Points'!E31","v":18617},{"$f":"'Races, Positions & Points'!#REF!","v":{"$error":"#REF!"}},{"$error":"#REF!"},"","",{"$error":"#REF!"},"",{"$error":"#REF!"},{"$error":"#REF!"},{"$error":"#REF!"},null,{"$error":"#REF!"},"","",{"$error":"#REF!"},"",{"$error":"#REF!"},{"$error":"#REF!"},{"$error":"#REF!"},null,76.349999999999994,{"$error":"#REF!"},{"$error":"#REF!"},{"$error":"#REF!"},"",{"$error":"#REF!"},"","",{"$error":"#REF!"},"",119.92,"","",88.03,113.11,{"$error":"#REF!"},null,{"$error":"#REF!"},"","","",null,{"$error":"#REF!"},"","","",null,76.349999999999994,{"$error":"#REF!"},{"$error":"#REF!"},"","","",{"$error":"#REF!"},"","",{"$error":"#REF!"}]
[{"$f":"'Races, Positions & Points'!A32","v":"Ellie Jackson"},{"$f":"IF('Races, Positions & Points'!S32=\"\",\"\",'Races, Positions & Points'!S32)","v":""},{"$f":"IF('Races, Positions & Points'!V32=\"\",\"\",'Races, Positions & Points'!V32)","v":""},{"$f":"IF('Races, Positions & Points'!#REF!=\"\",\"\",'Races, Positions & Points'!#REF!)","v":{"$error":"#REF!"}},{"$f":"IF('Races, Positions & Points'!Y32=\"\",\"\",'Races, Positions & Points'!Y32)","v":160},{"$f":"IF('Races, Positions & Points'!Z32=\"\",\"\",'Races, Positions & Points'!Z32)","v":136.36000000000001},{"$f":"IF('Races, Positions & Points'!AC32=\"\",\"\",'Races, Positions & Points'!AC32)","v":""},{"$f":"IF('Races, Positions & Points'!AD32=\"\",\"\",'Races, Positions & Points'!AD32)","v":""},{"$f":"IF('Races, Positions & Points'!AG32=\"\",\"\",'Races, Positions & Points'!AG32)","v":""},{"$f":"IF('Races, Positions & Points'!AJ32=\"\",\"\",'Races, Positions & Points'!AJ32)","v":173.66000000000003},{"$f":"IF('Races, Positions & Points'!AM32=\"\",\"\",'Races, Positions & Points'!AM32)","v":150.41999999999999},{"$f":"IF('Races, Positions & Points'!AP32=\"\",\"\",'Races, Positions & Points'!AP32)","v":690.25},{"$f":"IF('Races, Positions & Points'!AS32=\"\",\"\",'Races, Positions & Points'!AS32)","v":116.53},{"$f":"IF('Races, Positions & Points'!AV32=\"\",\"\",'Races, Positions & Points'!AV32)","v":""},{"$f":"IF('Races, Positions & Points'!AY32=\"\",\"\",'Races, Positions & Points'!AY32)","v":""},{"$f":"IF('Races, Positions & Points'!BB32=\"\",\"\",'Races, Positions & Points'!BB32)","v":""},{"$f":"IF('Races, Positions & Points'!BE32=\"\",\"\",'Races, Positions & Points'!BE32)","v":""},{"$f":"IF('Races, Positions & Points'!BH32=\"\",\"\",'Races, Positions & Points'!BH32)","v":""},{"$f":"IF('Races, Positions & Points'!BK32=\"\",\"\",'Races, Positions & Points'!BK32)","v":""},{"$f":"IF('Races, Positions & Points'!BN32=\"\",\"\",'Races, Positions & Points'!BN32)","v":""},{"$f":"IF('Races, Positions & Points'!BQ32=\"\",\"\",'Races, Positions & Points'!BQ32)","v":143.58000000000001},{"$f":"IF('Races, Positions & Points'!BT32=\"\",\"\",'Races, Positions & Points'!BT32)","v":139.63000000000002},{"$f":"IF('Races, Positions & Points'!#REF!=\"\",\"\",'Races, Positions & Points'!#REF!)","v":{"$error":"#REF!"}},{"$f":"IF('Races, Positions & Points'!BW32=\"\",\"\",'Races, Positions & Points'!BW32)","v":144.38999999999999},{"$f":"IF('Races, Positions & Points'!BZ32=\"\",\"\",'Races, Positions & Points'!BZ32)","v":""},{"$f":"IF('Races, Positions & Points'!CG32=\"\",\"\",'Races, Positions & Points'!CG32)","v":""},{"$f":"IF('Races, Positions & Points'!CC32=\"\",\"\",'Races, Positions & Points'!CC32)","v":132.85},{"$f":"IF('Races, Positions & Points'!CJ32=\"\",\"\",'Races, Positions & Points'!CJ32)","v":90.62},{"$f":"IF('Races, Positions & Points'!CM32=\"\",\"\",'Races, Positions & Points'!CM32)","v":"dnf"},{"$f":"IF('Races, Positions & Points'!CW32=\"\",\"\",'Races, Positions & Points'!CW32)","v":""},{"$f":"IF('Races, Positions & Points'!CP32=\"\",\"\",'Races, Positions & Points'!CP32)","v":115.83},{"$f":"IF('Races, Positions & Points'!CZ32=\"\",\"\",'Races, Positions & Points'!CZ32)","v":122.4},{"$f":"IF('Races, Positions & Points'!#REF!=\"\",\"\",'Races, Positions & Points'!#REF!)","v":{"$error":"#REF!"}},{"$f":"IF('Races, Positions & Points'!DC32=\"\",\"\",'Races, Positions & Points'!DC32)","v":""},{"$f":"IF('Races, Positions & Points'!DF32=\"\",\"\",'Races, Positions & Points'!DF32)","v":120.58},{"$f":"IF('Races, Positions & Points'!DI32=\"\",\"\",'Races, Positions & Points'!DI32)","v":95.26},{"$f":"IF('Races, Positions & Points'!DL32=\"\",\"\",'Races, Positions & Points'!DL32)","v":136.46},{"$f":"IF('Races, Positions & Points'!DO32=\"\",\"\",'Races, Positions & Points'!DO32)","v":104.51},{"$f":"IF('Races, Positions & Points'!DR32=\"\",\"\",'Races, Positions & Points'!DR32)","v":""},{"$f":"IF('Races, Positions & Points'!DS32=\"\",\"\",'Races, Positions & Points'!DS32)","v":""},{"$f":"IF('Races, Positions & Points'!DU32=\"\",\"\",'Races, Positions & Points'!DU32)","v":""},{"$f":"IF('Races, Positions & Points'!DX32=\"\",\"\",'Races, Positions & Points'!DX32)","v":""},{"$f":"IF('Races, Positions & Points'!EA32=\"\",\"\",'Races, Positions & Points'!EA32)","v":""},{"$f":"IF('Races, Positions & Points'!ED32=\"\",\"\",'Races, Positions & Points'!ED32)","v":""},{"$f":"IF('Races, Positions & Points'!EG32=\"\",\"\",'Races, Positions & Points'!EG32)","v":""},{"$f":"IF('Races, Positions & Points'!#REF!=\"\",\"\",'Races, Positions & Points'!#REF!)","v":{"$error":"#REF!"}},{"$f":"IF('Races, Positions & Points'!#REF!=\"\",\"\",'Races, Positions & Points'!#REF!)","v":{"$error":"#REF!"}},{"$f":"IF('Races, Positions & Points'!#REF!=\"\",\"\",'Races, Positions & Points'!#REF!)","v":{"$error":"#REF!"}},{"$f":"IF('Races, Positions & Points'!#REF!=\"\",\"\",'Races, Positions & Points'!#REF!)","v":{"$error":"#REF!"}},{"$f":"IF('Races, Positions & Points'!#REF!=\"\",\"\",'Races, Positions & Points'!#REF!)","v":{"$error":"#REF!"}},{"$f":"IF('Races, Positions & Points'!#REF!=\"\",\"\",'Races, Positions & Points'!#REF!)","v":{"$error":"#REF!"}},null,{"$error":"#REF!"},{"$error":"#REF!"},{"$error":"#REF!"},{"$f":"SUMPRODUCT(--(B$4:AY$4=\"Out\"),--(B$3:AY$3=5),--(B$5:AY$5=\"Y\"),--(B29:AY29<>\"\"))","v":{"$error":"#REF!"}},{"$error":"#REF!"},{"$error":"#REF!"},null,{"$f":"'Races, Positions & Points'!E32","v":21024},{"$f":"'Races, Positions & Points'!#REF!","v":{"$error":"#REF!"}},{"$error":"#REF!"},"","",{"$error":"#REF!"},"",{"$error":"#REF!"},{"$error":"#REF!"},{"$error":"#REF!"},null,{"$error":"#REF!"},"","",{"$error":"#REF!"},"",{"$error":"#REF!"},{"$error":"#REF!"},{"$error":"#REF!"},null,104.51,{"$error":"#REF!"},139.63000000000002,{"$error":"#REF!"},116.53,{"$error":"#REF!"},173.66000000000003,"",{"$error":"#REF!"},"",143.58000000000001,"",132.85,"",95.26,{"$error":"#REF!"},null,{"$error":"#REF!"},"","","",null,{"$error":"#REF!"},"","","",null,104.51,{"$error":"#REF!"},139.63000000000002,116.53,115.83,173.66000000000003,{"$error":"#REF!"},"","",{"$error":"#REF!"}]
[{"$f":"'Races, Positions & Points'!A33","v":"Hannah Shakeshaft"},{"$f":"IF('Races, Positions & Points'!S33=\"\",\"\",'Races, Positions & Points'!S33)","v":""},{"$f":"IF('Races, Positions & Points'!V33=\"\",\"\",'Races, Positions & Points'!V33)","v":""},{"$f":"IF('Races, Positions & Points'!#REF!=\"\",\"\",'Races, Positions & Points'!#REF!)","v":{"$error":"#REF!"}},{"$f":"IF('Races, Positions & Points'!Y33=\"\",\"\",'Races, Positions & Points'!Y33)","v":""},{"$f":"IF('Races, Positions & Points'!Z33=\"\",\"\",'Races, Positions & Points'!Z33)","v":""},{"$f":"IF('Races, Positions & Points'!AC33=\"\",\"\",'Races, Positions & Points'!AC33)","v":""},{"$f":"IF('Races, Positions & Points'!AD33=\"\",\"\",'Races, Positions & Points'!AD33)","v":""},{"$f":"IF('Races, Positions & Points'!AG33=\"\",\"\",'Races, Positions & Points'!AG33)","v":""},{"$f":"IF('Races, Positions & Points'!AJ33=\"\",\"\",'Races, Positions & Points'!AJ33)","v":""},{"$f":"IF('Races, Positions & Points'!AM33=\"\",\"\",'Races, Positions & Points'!AM33)","v":""},{"$f":"IF('Races, Positions & Points'!AP33=\"\",\"\",'Races, Positions & Points'!AP33)","v":""},{"$f":"IF('Races, Positions & Points'!AS33=\"\",\"\",'Races, Positions & Points'!AS33)","v":""},{"$f":"IF('Races, Positions & Points'!AV33=\"\",\"\",'Races, Positions & Points'!AV33)","v":""},{"$f":"IF('Races, Positions & Points'!AY33=\"\",\"\",'Races, Positions & Points'!AY33)","v":""},{"$f":"IF('Races, Positions & Points'!BB33=\"\",\"\",'Races, Positions & Points'!BB33)","v":""},{"$f":"IF('Races, Positions & Points'!BE33=\"\",\"\",'Races, Positions & Points'!BE33)","v":""},{"$f":"IF('Races, Positions & Points'!BH33=\"\",\"\",'Races, Positions & Points'!BH33)","v":""},{"$f":"IF('Races, Positions & Points'!BK33=\"\",\"\",'Races, Positions & Points'!BK33)","v":""},{"$f":"IF('Races, Positions & Points'!BN33=\"\",\"\",'Races, Positions & Points'!BN33)","v":""},{"$f":"IF('Races, Positions & Points'!BQ33=\"\",\"\",'Races, Positions & Points'!BQ33)","v":""},{"$f":"IF('Races, Positions & Points'!BT33=\"\",\"\",'Races, Positions & Points'!BT33)","v":""},{"$f":"IF('Races, Positions & Points'!#REF!=\"\",\"\",'Races, Positions & Points'!#REF!)","v":{"$error":"#REF!"}},{"$f":"IF('Races, Positions & Points'!BW33=\"\",\"\",'Races, Positions & Points'!BW33)","v":""},{"$f":"IF('Races, Positions & Points'!BZ33=\"\",\"\",'Races, Positions & Points'!BZ33)","v":""},{"$f":"IF('Races, Positions & Points'!CG33=\"\",\"\",'Races, Positions & Points'!CG33)","v":""},{"$f":"IF('Races, Positions & Points'!CC33=\"\",\"\",'Races, Positions & Points'!CC33)","v":""},{"$f":"IF('Races, Positions & Points'!CJ33=\"\",\"\",'Races, Positions & Points'!CJ33)","v":""},{"$f":"IF('Races, Positions & Points'!CM33=\"\",\"\",'Races, Positions & Points'!CM33)","v":""},{"$f":"IF('Races, Positions & Points'!CW33=\"\",\"\",'Races, Positions & Points'!CW33)","v":""},{"$f":"IF('Races, Positions & Points'!CP33=\"\",\"\",'Races, Positions & Points'!CP33)","v":""},{"$f":"IF('Races, Positions & Points'!CZ33=\"\",\"\",'Races, Positions & Points'!CZ33)","v":""},{"$f":"IF('Races, Positions & Points'!#REF!=\"\",\"\",'Races, Positions & Points'!#REF!)","v":{"$error":"#REF!"}},{"$f":"IF('Races, Positions & Points'!DC33=\"\",\"\",'Races, Positions & Points'!DC33)","v":""},{"$f":"IF('Races, Positions & Points'!DF33=\"\",\"\",'Races, Positions & Points'!DF33)","v":""},{"$f":"IF('Races, Positions & Points'!DI33=\"\",\"\",'Races, Positions & Points'!DI33)","v":""},{"$f":"IF('Races, Positions & Points'!DL33=\"\",\"\",'Races, Positions & Points'!DL33)","v":""},{"$f":"IF('Races, Positions & Points'!DO33=\"\",\"\",'Races, Positions & Points'!DO33)","v":""},{"$f":"IF('Races, Positions & Points'!DR33=\"\",\"\",'Races, Positions & Points'!DR33)","v":""},{"$f":"IF('Races, Positions & Points'!DS33=\"\",\"\",'Races, Positions & Points'!DS33)","v":""},{"$f":"IF('Races, Positions & Points'!DU33=\"\",\"\",'Races, Positions & Points'!DU33)","v":""},{"$f":"IF('Races, Positions & Points'!DX33=\"\",\"\",'Races, Positions & Points'!DX33)","v":""},{"$f":"IF('Races, Positions & Points'!EA33=\"\",\"\",'Races, Positions & Points'!EA33)","v":""},{"$f":"IF('Races, Positions & Points'!ED33=\"\",\"\",'Races, Positions & Points'!ED33)","v":""},{"$f":"IF('Races, Positions & Points'!EG33=\"\",\"\",'Races, Positions & Points'!EG33)","v":""},{"$f":"IF('Races, Positions & Points'!#REF!=\"\",\"\",'Races, Positions & Points'!#REF!)","v":{"$error":"#REF!"}},{"$f":"IF('Races, Positions & Points'!#REF!=\"\",\"\",'Races, Positions & Points'!#REF!)","v":{"$error":"#REF!"}},{"$f":"IF('Races, Positions & Points'!#REF!=\"\",\"\",'Races, Positions & Points'!#REF!)","v":{"$error":"#REF!"}},{"$f":"IF('Races, Positions & Points'!#REF!=\"\",\"\",'Races, Positions & Points'!#REF!)","v":{"$error":"#REF!"}},{"$f":"IF('Races, Positions & Points'!#REF!=\"\",\"\",'Races, Positions & Points'!#REF!)","v":{"$error":"#REF!"}},{"$f":"IF('Races, Positions & Points'!#REF!=\"\",\"\",'Races, Positions & Points'!#REF!)","v":{"$error":"#REF!"}},null,{"$error":"#REF!"},{"$error":"#REF!"},{"$error":"#REF!"},{"$f":"SUMPRODUCT(--(B$4:AY$4=\"Out\"),--(B$3:AY$3=5),--(B$5:AY$5=\"Y\"),--(B30:AY30<>\"\"))","v":{"$error":"#REF!"}},{"$error":"#REF!"},{"$error":"#REF!"},null,{"$f":"'Races, Positions & Points'!E33","v":19833},{"$f":"'Races, Positions & Points'!#REF!","v":{"$error":"#REF!"}},{"$error":"#REF!"},"","",{"$error":"#REF!"},"",{"$error":"#REF!"},{"$error":"#REF!"},{"$error":"#REF!"},null,{"$error":"#REF!"},"","",{"$error":"#REF!"},"",{"$error":"#REF!"},{"$error":"#REF!"},{"$error":"#REF!"},null,"",{"$error":"#REF!"},"",{"$error":"#REF!"},"",{"$error":"#REF!"},"","",{"$error":"#REF!"},"","","","","","",{"$error":"#REF!"},null,{"$error":"#REF!"},"","","",null,{"$error":"#REF!"},"","","",null,"",{"$error":"#REF!"},"","","","",{"$error":"#REF!"},"","",{"$error":"#REF!"}]
[{"$f":"'Races, Positions & Points'!A34","v":"Chloe Care"},{"$f":"IF('Races, Positions & Points'!S34=\"\",\"\",'Races, Positions & Points'!S34)","v":""},{"$f":"IF('Races, Positions & Points'!V34=\"\",\"\",'Races, Positions & Points'!V34)","v":""},{"$f":"IF('Races, Positions & Points'!#REF!=\"\",\"\",'Races, Positions & Points'!#REF!)","v":{"$error":"#REF!"}},{"$f":"IF('Races, Positions & Points'!Y34=\"\",\"\",'Races, Positions & Points'!Y34)","v":""},{"$f":"IF('Races, Positions & Points'!Z34=\"\",\"\",'Races, Positions & Points'!Z34)","v":""},{"$f":"IF('Races, Positions & Points'!AC34=\"\",\"\",'Races, Positions & Points'!AC34)","v":""},{"$f":"IF('Races, Positions & Points'!AD34=\"\",\"\",'Races, Positions & Points'!AD34)","v":""},{"$f":"IF('Races, Positions & Points'!AG34=\"\",\"\",'Races, Positions & Points'!AG34)","v":""},{"$f":"IF('Races, Positions & Points'!AJ34=\"\",\"\",'Races, Positions & Points'!AJ34)","v":""},{"$f":"IF('Races, Positions & Points'!AM34=\"\",\"\",'Races, Positions & Points'!AM34)","v":""},{"$f":"IF('Races, Positions & Points'!AP34=\"\",\"\",'Races, Positions & Points'!AP34)","v":""},{"$f":"IF('Races, Positions & Points'!AS34=\"\",\"\",'Races, Positions & Points'!AS34)","v":""},{"$f":"IF('Races, Positions & Points'!AV34=\"\",\"\",'Races, Positions & Points'!AV34)","v":""},{"$f":"IF('Races, Positions & Points'!AY34=\"\",\"\",'Races, Positions & Points'!AY34)","v":""},{"$f":"IF('Races, Positions & Points'!BB34=\"\",\"\",'Races, Positions & Points'!BB34)","v":""},{"$f":"IF('Races, Positions & Points'!BE34=\"\",\"\",'Races, Positions & Points'!BE34)","v":""},{"$f":"IF('Races, Positions & Points'!BH34=\"\",\"\",'Races, Positions & Points'!BH34)","v":""},{"$f":"IF('Races, Positions & Points'!BK34=\"\",\"\",'Races, Positions & Points'!BK34)","v":""},{"$f":"IF('Races, Positions & Points'!BN34=\"\",\"\",'Races, Positions & Points'!BN34)","v":""},{"$f":"IF('Races, Positions & Points'!BQ34=\"\",\"\",'Races, Positions & Points'!BQ34)","v":""},{"$f":"IF('Races, Positions & Points'!BT34=\"\",\"\",'Races, Positions & Points'!BT34)","v":""},{"$f":"IF('Races, Positions & Points'!#REF!=\"\",\"\",'Races, Positions & Points'!#REF!)","v":{"$error":"#REF!"}},{"$f":"IF('Races, Positions & Points'!BW34=\"\",\"\",'Races, Positions & Points'!BW34)","v":""},{"$f":"IF('Races, Positions & Points'!BZ34=\"\",\"\",'Races, Positions & Points'!BZ34)","v":""},{"$f":"IF('Races, Positions & Points'!CG34=\"\",\"\",'Races, Positions & Points'!CG34)","v":""},{"$f":"IF('Races, Positions & Points'!CC34=\"\",\"\",'Races, Positions & Points'!CC34)","v":""},{"$f":"IF('Races, Positions & Points'!CJ34=\"\",\"\",'Races, Positions & Points'!CJ34)","v":""},{"$f":"IF('Races, Positions & Points'!CM34=\"\",\"\",'Races, Positions & Points'!CM34)","v":""},{"$f":"IF('Races, Positions & Points'!CW34=\"\",\"\",'Races, Positions & Points'!CW34)","v":""},{"$f":"IF('Races, Positions & Points'!CP34=\"\",\"\",'Races, Positions & Points'!CP34)","v":""},{"$f":"IF('Races, Positions & Points'!CZ34=\"\",\"\",'Races, Positions & Points'!CZ34)","v":""},{"$f":"IF('Races, Positions & Points'!#REF!=\"\",\"\",'Races, Positions & Points'!#REF!)","v":{"$error":"#REF!"}},{"$f":"IF('Races, Positions & Points'!DC34=\"\",\"\",'Races, Positions & Points'!DC34)","v":""},{"$f":"IF('Races, Positions & Points'!DF34=\"\",\"\",'Races, Positions & Points'!DF34)","v":""},{"$f":"IF('Races, Positions & Points'!DI34=\"\",\"\",'Races, Positions & Points'!DI34)","v":""},{"$f":"IF('Races, Positions & Points'!DL34=\"\",\"\",'Races, Positions & Points'!DL34)","v":""},{"$f":"IF('Races, Positions & Points'!DO34=\"\",\"\",'Races, Positions & Points'!DO34)","v":""},{"$f":"IF('Races, Positions & Points'!DR34=\"\",\"\",'Races, Positions & Points'!DR34)","v":""},{"$f":"IF('Races, Positions & Points'!DS34=\"\",\"\",'Races, Positions & Points'!DS34)","v":""},{"$f":"IF('Races, Positions & Points'!DU34=\"\",\"\",'Races, Positions & Points'!DU34)","v":""},{"$f":"IF('Races, Positions & Points'!DX34=\"\",\"\",'Races, Positions & Points'!DX34)","v":""},{"$f":"IF('Races, Positions & Points'!EA34=\"\",\"\",'Races, Positions & Points'!EA34)","v":""},{"$f":"IF('Races, Positions & Points'!ED34=\"\",\"\",'Races, Positions & Points'!ED34)","v":""},{"$f":"IF('Races, Positions & Points'!EG34=\"\",\"\",'Races, Positions & Points'!EG34)","v":""},{"$f":"IF('Races, Positions & Points'!#REF!=\"\",\"\",'Races, Positions & Points'!#REF!)","v":{"$error":"#REF!"}},{"$f":"IF('Races, Positions & Points'!#REF!=\"\",\"\",'Races, Positions & Points'!#REF!)","v":{"$error":"#REF!"}},{"$f":"IF('Races, Positions & Points'!#REF!=\"\",\"\",'Races, Positions & Points'!#REF!)","v":{"$error":"#REF!"}},{"$f":"IF('Races, Positions & Points'!#REF!=\"\",\"\",'Races, Positions & Points'!#REF!)","v":{"$error":"#REF!"}},{"$f":"IF('Races, Positions & Points'!#REF!=\"\",\"\",'Races, Positions & Points'!#REF!)","v":{"$error":"#REF!"}},{"$f":"IF('Races, Positions & Points'!#REF!=\"\",\"\",'Races, Positions & Points'!#REF!)","v":{"$error":"#REF!"}},null,{"$error":"#REF!"},{"$error":"#REF!"},{"$error":"#REF!"},{"$error":"#REF!"},{"$error":"#REF!"},{"$error":"#REF!"},null,{"$f":"'Races, Positions & Points'!E34","v":19983},{"$f":"'Races, Positions & Points'!#REF!","v":{"$error":"#REF!"}},{"$error":"#REF!"},"","",{"$error":"#REF!"},"",{"$error":"#REF!"},{"$error":"#REF!"},{"$error":"#REF!"},null,{"$error":"#REF!"},"","",{"$error":"#REF!"},"",{"$error":"#REF!"},{"$error":"#REF!"},{"$error":"#REF!"},null,"",{"$error":"#REF!"},"",{"$error":"#REF!"},"",{"$error":"#REF!"},"","",{"$error":"#REF!"},"","","","","","",{"$error":"#REF!"},null,{"$error":"#REF!"},"","","",null,{"$error":"#REF!"},"","","",null,"",{"$error":"#REF!"},"","","","",{"$error":"#REF!"},"","",{"$error":"#REF!"}]
[{"$f":"'Races, Positions & Points'!A35","v":"Geraldine Elgy"},{"$f":"IF('Races, Positions & Points'!S35=\"\",\"\",'Races, Positions & Points'!S35)","v":""},{"$f":"IF('Races, Positions & Points'!V35=\"\",\"\",'Races, Positions & Points'!V35)","v":""},{"$f":"IF('Races, Positions & Points'!#REF!=\"\",\"\",'Races, Positions & Points'!#REF!)","v":{"$error":"#REF!"}},{"$f":"IF('Races, Positions & Points'!Y35=\"\",\"\",'Races, Positions & Points'!Y35)","v":""},{"$f":"IF('Races, Positions & Points'!Z35=\"\",\"\",'Races, Positions & Points'!Z35)","v":""},{"$f":"IF('Races, Positions & Points'!AC35=\"\",\"\",'Races, Positions & Points'!AC35)","v":""},{"$f":"IF('Races, Positions & Points'!AD35=\"\",\"\",'Races, Positions & Points'!AD35)","v":""},{"$f":"IF('Races, Positions & Points'!AG35=\"\",\"\",'Races, Positions & Points'!AG35)","v":""},{"$f":"IF('Races, Positions & Points'!AJ35=\"\",\"\",'Races, Positions & Points'!AJ35)","v":""},{"$f":"IF('Races, Positions & Points'!AM35=\"\",\"\",'Races, Positions & Points'!AM35)","v":""},{"$f":"IF('Races, Positions & Points'!AP35=\"\",\"\",'Races, Positions & Points'!AP35)","v":""},{"$f":"IF('Races, Positions & Points'!AS35=\"\",\"\",'Races, Positions & Points'!AS35)","v":""},{"$f":"IF('Races, Positions & Points'!AV35=\"\",\"\",'Races, Positions & Points'!AV35)","v":""},{"$f":"IF('Races, Positions & Points'!AY35=\"\",\"\",'Races, Positions & Points'!AY35)","v":""},{"$f":"IF('Races, Positions & Points'!BB35=\"\",\"\",'Races, Positions & Points'!BB35)","v":""},{"$f":"IF('Races, Positions & Points'!BE35=\"\",\"\",'Races, Positions & Points'!BE35)","v":""},{"$f":"IF('Races, Positions & Points'!BH35=\"\",\"\",'Races, Positions & Points'!BH35)","v":""},{"$f":"IF('Races, Positions & Points'!BK35=\"\",\"\",'Races, Positions & Points'!BK35)","v":""},{"$f":"IF('Races, Positions & Points'!BN35=\"\",\"\",'Races, Positions & Points'!BN35)","v":""},{"$f":"IF('Races, Positions & Points'!BQ35=\"\",\"\",'Races, Positions & Points'!BQ35)","v":""},{"$f":"IF('Races, Positions & Points'!BT35=\"\",\"\",'Races, Positions & Points'!BT35)","v":""},{"$f":"IF('Races, Positions & Points'!#REF!=\"\",\"\",'Races, Positions & Points'!#REF!)","v":{"$error":"#REF!"}},{"$f":"IF('Races, Positions & Points'!BW35=\"\",\"\",'Races, Positions & Points'!BW35)","v":""},{"$f":"IF('Races, Positions & Points'!BZ35=\"\",\"\",'Races, Positions & Points'!BZ35)","v":""},{"$f":"IF('Races, Positions & Points'!CG35=\"\",\"\",'Races, Positions & Points'!CG35)","v":""},{"$f":"IF('Races, Positions & Points'!CC35=\"\",\"\",'Races, Positions & Points'!CC35)","v":""},{"$f":"IF('Races, Positions & Points'!CJ35=\"\",\"\",'Races, Positions & Points'!CJ35)","v":""},{"$f":"IF('Races, Positions & Points'!CM35=\"\",\"\",'Races, Positions & Points'!CM35)","v":""},{"$f":"IF('Races, Positions & Points'!CW35=\"\",\"\",'Races, Positions & Points'!CW35)","v":""},{"$f":"IF('Races, Positions & Points'!CP35=\"\",\"\",'Races, Positions & Points'!CP35)","v":""},{"$f":"IF('Races, Positions & Points'!CZ35=\"\",\"\",'Races, Positions & Points'!CZ35)","v":""},{"$f":"IF('Races, Positions & Points'!#REF!=\"\",\"\",'Races, Positions & Points'!#REF!)","v":{"$error":"#REF!"}},{"$f":"IF('Races, Positions & Points'!DC35=\"\",\"\",'Races, Positions & Points'!DC35)","v":""},{"$f":"IF('Races, Positions & Points'!DF35=\"\",\"\",'Races, Positions & Points'!DF35)","v":""},{"$f":"IF('Races, Positions & Points'!DI35=\"\",\"\",'Races, Positions & Points'!DI35)","v":""},{"$f":"IF('Races, Positions & Points'!DL35=\"\",\"\",'Races, Positions & Points'!DL35)","v":""},{"$f":"IF('Races, Positions & Points'!DO35=\"\",\"\",'Races, Positions & Points'!DO35)","v":""},{"$f":"IF('Races, Positions & Points'!DR35=\"\",\"\",'Races, Positions & Points'!DR35)","v":""},{"$f":"IF('Races, Positions & Points'!DS35=\"\",\"\",'Races, Positions & Points'!DS35)","v":""},{"$f":"IF('Races, Positions & Points'!DU35=\"\",\"\",'Races, Positions & Points'!DU35)","v":""},{"$f":"IF('Races, Positions & Points'!DX35=\"\",\"\",'Races, Positions & Points'!DX35)","v":""},{"$f":"IF('Races, Positions & Points'!EA35=\"\",\"\",'Races, Positions & Points'!EA35)","v":""},{"$f":"IF('Races, Positions & Points'!ED35=\"\",\"\",'Races, Positions & Points'!ED35)","v":""},{"$f":"IF('Races, Positions & Points'!EG35=\"\",\"\",'Races, Positions & Points'!EG35)","v":""},{"$f":"IF('Races, Positions & Points'!#REF!=\"\",\"\",'Races, Positions & Points'!#REF!)","v":{"$error":"#REF!"}},{"$f":"IF('Races, Positions & Points'!#REF!=\"\",\"\",'Races, Positions & Points'!#REF!)","v":{"$error":"#REF!"}},{"$f":"IF('Races, Positions & Points'!#REF!=\"\",\"\",'Races, Positions & Points'!#REF!)","v":{"$error":"#REF!"}},{"$f":"IF('Races, Positions & Points'!#REF!=\"\",\"\",'Races, Positions & Points'!#REF!)","v":{"$error":"#REF!"}},{"$f":"IF('Races, Positions & Points'!#REF!=\"\",\"\",'Races, Positions & Points'!#REF!)","v":{"$error":"#REF!"}},{"$f":"IF('Races, Positions & Points'!#REF!=\"\",\"\",'Races, Positions & Points'!#REF!)","v":{"$error":"#REF!"}},null,{"$error":"#REF!"},{"$error":"#REF!"},{"$error":"#REF!"},{"$error":"#REF!"},{"$error":"#REF!"},{"$error":"#REF!"},null,{"$f":"'Races, Positions & Points'!E35","v":19165},{"$f":"'Races, Positions & Points'!#REF!","v":{"$error":"#REF!"}},{"$error":"#REF!"},"","",{"$error":"#REF!"},"",{"$error":"#REF!"},{"$error":"#REF!"},{"$error":"#REF!"},null,{"$error":"#REF!"},"","",{"$error":"#REF!"},"",{"$error":"#REF!"},{"$error":"#REF!"},{"$error":"#REF!"},null,"",{"$error":"#REF!"},"",{"$error":"#REF!"},"",{"$error":"#REF!"},"","",{"$error":"#REF!"},"","","","","","",{"$error":"#REF!"},null,{"$error":"#REF!"},"","","",null,{"$error":"#REF!"},"","","",null,"",{"$error":"#REF!"},"","","","",{"$error":"#REF!"},"","",{"$error":"#REF!"}]
[{"$f":"'Races, Positions & Points'!A36","v":"Laura Newboult"},{"$f":"IF('Races, Positions & Points'!S36=\"\",\"\",'Races, Positions & Points'!S36)","v":""},{"$f":"IF('Races, Positions & Points'!V36=\"\",\"\",'Races, Positions & Points'!V36)","v":""},{"$f":"IF('Races, Positions & Points'!#REF!=\"\",\"\",'Races, Positions & Points'!#REF!)","v":{"$error":"#REF!"}},{"$f":"IF('Races, Positions & Points'!Y36=\"\",\"\",'Races, Positions & Points'!Y36)","v":""},{"$f":"IF('Races, Positions & Points'!Z36=\"\",\"\",'Races, Positions & Points'!Z36)","v":""},{"$f":"IF('Races, Positions & Points'!AC36=\"\",\"\",'Races, Positions & Points'!AC36)","v":""},{"$f":"IF('Races, Positions & Points'!AD36=\"\",\"\",'Races, Positions & Points'!AD36)","v":""},{"$f":"IF('Races, Positions & Points'!AG36=\"\",\"\",'Races, Positions & Points'!AG36)","v":""},{"$f":"IF('Races, Positions & Points'!AJ36=\"\",\"\",'Races, Positions & Points'!AJ36)","v":""},{"$f":"IF('Races, Positions & Points'!AM36=\"\",\"\",'Races, Positions & Points'!AM36)","v":""},{"$f":"IF('Races, Positions & Points'!AP36=\"\",\"\",'Races, Positions & Points'!AP36)","v":""},{"$f":"IF('Races, Positions & Points'!AS36=\"\",\"\",'Races, Positions & Points'!AS36)","v":""},{"$f":"IF('Races, Positions & Points'!AV36=\"\",\"\",'Races, Positions & Points'!AV36)","v":""},{"$f":"IF('Races, Positions & Points'!AY36=\"\",\"\",'Races, Positions & Points'!AY36)","v":""},{"$f":"IF('Races, Positions & Points'!BB36=\"\",\"\",'Races, Positions & Points'!BB36)","v":""},{"$f":"IF('Races, Positions & Points'!BE36=\"\",\"\",'Races, Positions & Points'!BE36)","v":""},{"$f":"IF('Races, Positions & Points'!BH36=\"\",\"\",'Races, Positions & Points'!BH36)","v":""},{"$f":"IF('Races, Positions & Points'!BK36=\"\",\"\",'Races, Positions & Points'!BK36)","v":""},{"$f":"IF('Races, Positions & Points'!BN36=\"\",\"\",'Races, Positions & Points'!BN36)","v":""},{"$f":"IF('Races, Positions & Points'!BQ36=\"\",\"\",'Races, Positions & Points'!BQ36)","v":""},{"$f":"IF('Races, Positions & Points'!BT36=\"\",\"\",'Races, Positions & Points'!BT36)","v":""},{"$f":"IF('Races, Positions & Points'!#REF!=\"\",\"\",'Races, Positions & Points'!#REF!)","v":{"$error":"#REF!"}},{"$f":"IF('Races, Positions & Points'!BW36=\"\",\"\",'Races, Positions & Points'!BW36)","v":""},{"$f":"IF('Races, Positions & Points'!BZ36=\"\",\"\",'Races, Positions & Points'!BZ36)","v":""},{"$f":"IF('Races, Positions & Points'!CG36=\"\",\"\",'Races, Positions & Points'!CG36)","v":""},{"$f":"IF('Races, Positions & Points'!CC36=\"\",\"\",'Races, Positions & Points'!CC36)","v":""},{"$f":"IF('Races, Positions & Points'!CJ36=\"\",\"\",'Races, Positions & Points'!CJ36)","v":""},{"$f":"IF('Races, Positions & Points'!CM36=\"\",\"\",'Races, Positions & Points'!CM36)","v":""},{"$f":"IF('Races, Positions & Points'!CW36=\"\",\"\",'Races, Positions & Points'!CW36)","v":""},{"$f":"IF('Races, Positions & Points'!CP36=\"\",\"\",'Races, Positions & Points'!CP36)","v":""},{"$f":"IF('Races, Positions & Points'!CZ36=\"\",\"\",'Races, Positions & Points'!CZ36)","v":""},{"$f":"IF('Races, Positions & Points'!#REF!=\"\",\"\",'Races, Positions & Points'!#REF!)","v":{"$error":"#REF!"}},{"$f":"IF('Races, Positions & Points'!DC36=\"\",\"\",'Races, Positions & Points'!DC36)","v":""},{"$f":"IF('Races, Positions & Points'!DF36=\"\",\"\",'Races, Positions & Points'!DF36)","v":""},{"$f":"IF('Races, Positions & Points'!DI36=\"\",\"\",'Races, Positions & Points'!DI36)","v":""},{"$f":"IF('Races, Positions & Points'!DL36=\"\",\"\",'Races, Positions & Points'!DL36)","v":""},{"$f":"IF('Races, Positions & Points'!DO36=\"\",\"\",'Races, Positions & Points'!DO36)","v":""},{"$f":"IF('Races, Positions & Points'!DR36=\"\",\"\",'Races, Positions & Points'!DR36)","v":""},{"$f":"IF('Races, Positions & Points'!DS36=\"\",\"\",'Races, Positions & Points'!DS36)","v":""},{"$f":"IF('Races, Positions & Points'!DU36=\"\",\"\",'Races, Positions & Points'!DU36)","v":""},{"$f":"IF('Races, Positions & Points'!DX36=\"\",\"\",'Races, Positions & Points'!DX36)","v":""},{"$f":"IF('Races, Positions & Points'!EA36=\"\",\"\",'Races, Positions & Points'!EA36)","v":""},{"$f":"IF('Races, Positions & Points'!ED36=\"\",\"\",'Races, Positions & Points'!ED36)","v":""},{"$f":"IF('Races, Positions & Points'!EG36=\"\",\"\",'Races, Positions & Points'!EG36)","v":""},{"$f":"IF('Races, Positions & Points'!#REF!=\"\",\"\",'Races, Positions & Points'!#REF!)","v":{"$error":"#REF!"}},{"$f":"IF('Races, Positions & Points'!#REF!=\"\",\"\",'Races, Positions & Points'!#REF!)","v":{"$error":"#REF!"}},{"$f":"IF('Races, Positions & Points'!#REF!=\"\",\"\",'Races, Positions & Points'!#REF!)","v":{"$error":"#REF!"}},{"$f":"IF('Races, Positions & Points'!#REF!=\"\",\"\",'Races, Positions & Points'!#REF!)","v":{"$error":"#REF!"}},{"$f":"IF('Races, Positions & Points'!#REF!=\"\",\"\",'Races, Positions & Points'!#REF!)","v":{"$error":"#REF!"}},{"$f":"IF('Races, Positions & Points'!#REF!=\"\",\"\",'Races, Positions & Points'!#REF!)","v":{"$error":"#REF!"}},null,{"$error":"#REF!"},{"$error":"#REF!"},{"$error":"#REF!"},{"$error":"#REF!"},{"$error":"#REF!"},{"$error":"#REF!"},null,{"$f":"'Races, Positions & Points'!E36","v":20781},{"$f":"'Races, Positions & Points'!#REF!","v":{"$error":"#REF!"}},{"$error":"#REF!"},"","",{"$error":"#REF!"},"",{"$error":"#REF!"},{"$error":"#REF!"},{"$error":"#REF!"},null,{"$error":"#REF!"},"","",{"$error":"#REF!"},"",{"$error":"#REF!"},{"$error":"#REF!"},{"$error":"#REF!"},null,"",{"$error":"#REF!"},"",{"$error":"#REF!"},"",{"$error":"#REF!"},"","",{"$error":"#REF!"},"","","","","","",{"$error":"#REF!"},null,{"$error":"#REF!"},"","","",null,{"$error":"#REF!"},"","","",null,"",{"$error":"#REF!"},"","","","",{"$error":"#REF!"},"","",{"$error":"#REF!"}]
[{"$f":"'Races, Positions & Points'!A37","v":"Robyn Doherty"},{"$f":"IF('Races, Positions & Points'!S37=\"\",\"\",'Races, Positions & Points'!S37)","v":""},{"$f":"IF('Races, Positions & Points'!V37=\"\",\"\",'Races, Positions & Points'!V37)","v":""},{"$f":"IF('Races, Positions & Points'!#REF!=\"\",\"\",'Races, Positions & Points'!#REF!)","v":{"$error":"#REF!"}},{"$f":"IF('Races, Positions & Points'!Y37=\"\",\"\",'Races, Positions & Points'!Y37)","v":""},{"$f":"IF('Races, Positions & Points'!Z37=\"\",\"\",'Races, Positions & Points'!Z37)","v":""},{"$f":"IF('Races, Positions & Points'!AC37=\"\",\"\",'Races, Positions & Points'!AC37)","v":""},{"$f":"IF('Races, Positions & Points'!AD37=\"\",\"\",'Races, Positions & Points'!AD37)","v":""},{"$f":"IF('Races, Positions & Points'!AG37=\"\",\"\",'Races, Positions & Points'!AG37)","v":""},{"$f":"IF('Races, Positions & Points'!AJ37=\"\",\"\",'Races, Positions & Points'!AJ37)","v":""},{"$f":"IF('Races, Positions & Points'!AM37=\"\",\"\",'Races, Positions & Points'!AM37)","v":""},{"$f":"IF('Races, Positions & Points'!AP37=\"\",\"\",'Races, Positions & Points'!AP37)","v":""},{"$f":"IF('Races, Positions & Points'!AS37=\"\",\"\",'Races, Positions & Points'!AS37)","v":""},{"$f":"IF('Races, Positions & Points'!AV37=\"\",\"\",'Races, Positions & Points'!AV37)","v":""},{"$f":"IF('Races, Positions & Points'!AY37=\"\",\"\",'Races, Positions & Points'!AY37)","v":""},{"$f":"IF('Races, Positions & Points'!BB37=\"\",\"\",'Races, Positions & Points'!BB37)","v":""},{"$f":"IF('Races, Positions & Points'!BE37=\"\",\"\",'Races, Positions & Points'!BE37)","v":""},{"$f":"IF('Races, Positions & Points'!BH37=\"\",\"\",'Races, Positions & Points'!BH37)","v":""},{"$f":"IF('Races, Positions & Points'!BK37=\"\",\"\",'Races, Positions & Points'!BK37)","v":""},{"$f":"IF('Races, Positions & Points'!BN37=\"\",\"\",'Races, Positions & Points'!BN37)","v":""},{"$f":"IF('Races, Positions & Points'!BQ37=\"\",\"\",'Races, Positions & Points'!BQ37)","v":""},{"$f":"IF('Races, Positions & Points'!BT37=\"\",\"\",'Races, Positions & Points'!BT37)","v":""},{"$f":"IF('Races, Positions & Points'!#REF!=\"\",\"\",'Races, Positions & Points'!#REF!)","v":{"$error":"#REF!"}},{"$f":"IF('Races, Positions & Points'!BW37=\"\",\"\",'Races, Positions & Points'!BW37)","v":""},{"$f":"IF('Races, Positions & Points'!BZ37=\"\",\"\",'Races, Positions & Points'!BZ37)","v":""},{"$f":"IF('Races, Positions & Points'!CG37=\"\",\"\",'Races, Positions & Points'!CG37)","v":""},{"$f":"IF('Races, Positions & Points'!CC37=\"\",\"\",'Races, Positions & Points'!CC37)","v":""},{"$f":"IF('Races, Positions & Points'!CJ37=\"\",\"\",'Races, Positions & Points'!CJ37)","v":""},{"$f":"IF('Races, Positions & Points'!CM37=\"\",\"\",'Races, Positions & Points'!CM37)","v":""},{"$f":"IF('Races, Positions & Points'!CW37=\"\",\"\",'Races, Positions & Points'!CW37)","v":""},{"$f":"IF('Races, Positions & Points'!CP37=\"\",\"\",'Races, Positions & Points'!CP37)","v":""},{"$f":"IF('Races, Positions & Points'!CZ37=\"\",\"\",'Races, Positions & Points'!CZ37)","v":""},{"$f":"IF('Races, Positions & Points'!#REF!=\"\",\"\",'Races, Positions & Points'!#REF!)","v":{"$error":"#REF!"}},{"$f":"IF('Races, Positions & Points'!DC37=\"\",\"\",'Races, Positions & Points'!DC37)","v":""},{"$f":"IF('Races, Positions & Points'!DF37=\"\",\"\",'Races, Positions & Points'!DF37)","v":""},{"$f":"IF('Races, Positions & Points'!DI37=\"\",\"\",'Races, Positions & Points'!DI37)","v":""},{"$f":"IF('Races, Positions & Points'!DL37=\"\",\"\",'Races, Positions & Points'!DL37)","v":""},{"$f":"IF('Races, Positions & Points'!DO37=\"\",\"\",'Races, Positions & Points'!DO37)","v":""},{"$f":"IF('Races, Positions & Points'!DR37=\"\",\"\",'Races, Positions & Points'!DR37)","v":""},{"$f":"IF('Races, Positions & Points'!DS37=\"\",\"\",'Races, Positions & Points'!DS37)","v":""},{"$f":"IF('Races, Positions & Points'!DU37=\"\",\"\",'Races, Positions & Points'!DU37)","v":""},{"$f":"IF('Races, Positions & Points'!DX37=\"\",\"\",'Races, Positions & Points'!DX37)","v":""},{"$f":"IF('Races, Positions & Points'!EA37=\"\",\"\",'Races, Positions & Points'!EA37)","v":""},{"$f":"IF('Races, Positions & Points'!ED37=\"\",\"\",'Races, Positions & Points'!ED37)","v":""},{"$f":"IF('Races, Positions & Points'!EG37=\"\",\"\",'Races, Positions & Points'!EG37)","v":""},{"$f":"IF('Races, Positions & Points'!#REF!=\"\",\"\",'Races, Positions & Points'!#REF!)","v":{"$error":"#REF!"}},{"$f":"IF('Races, Positions & Points'!#REF!=\"\",\"\",'Races, Positions & Points'!#REF!)","v":{"$error":"#REF!"}},{"$f":"IF('Races, Positions & Points'!#REF!=\"\",\"\",'Races, Positions & Points'!#REF!)","v":{"$error":"#REF!"}},{"$f":"IF('Races, Positions & Points'!#REF!=\"\",\"\",'Races, Positions & Points'!#REF!)","v":{"$error":"#REF!"}},{"$f":"IF('Races, Positions & Points'!#REF!=\"\",\"\",'Races, Positions & Points'!#REF!)","v":{"$error":"#REF!"}},{"$f":"IF('Races, Positions & Points'!#REF!=\"\",\"\",'Races, Positions & Points'!#REF!)","v":{"$error":"#REF!"}},null,{"$error":"#REF!"},{"$error":"#REF!"},{"$error":"#REF!"},{"$error":"#REF!"},{"$error":"#REF!"},{"$error":"#REF!"},null,{"$f":"'Races, Positions & Points'!E37","v":19573},{"$f":"'Races, Positions & Points'!#REF!","v":{"$error":"#REF!"}},{"$error":"#REF!"},"","",{"$error":"#REF!"},"",{"$error":"#REF!"},{"$error":"#REF!"},{"$error":"#REF!"},null,{"$error":"#REF!"},"","",{"$error":"#REF!"},"",{"$error":"#REF!"},{"$error":"#REF!"},{"$error":"#REF!"},null,"",{"$error":"#REF!"},"",{"$error":"#REF!"},"",{"$error":"#REF!"},"","",{"$error":"#REF!"},"","","","","","",{"$error":"#REF!"},null,{"$error":"#REF!"},"","","",null,{"$error":"#REF!"},"","","",null,"",{"$error":"#REF!"},"","","","",{"$error":"#REF!"},"","",{"$error":"#REF!"}]
[{"$f":"'Races, Positions & Points'!A38","v":"Jane Lee"},{"$f":"IF('Races, Positions & Points'!S38=\"\",\"\",'Races, Positions & Points'!S38)","v":""},{"$f":"IF('Races, Positions & Points'!V38=\"\",\"\",'Races, Positions & Points'!V38)","v":""},{"$f":"IF('Races, Positions & Points'!#REF!=\"\",\"\",'Races, Positions & Points'!#REF!)","v":{"$error":"#REF!"}},{"$f":"IF('Races, Positions & Points'!Y38=\"\",\"\",'Races, Positions & Points'!Y38)","v":""},{"$f":"IF('Races, Positions & Points'!Z38=\"\",\"\",'Races, Positions & Points'!Z38)","v":""},{"$f":"IF('Races, Positions & Points'!AC38=\"\",\"\",'Races, Positions & Points'!AC38)","v":""},{"$f":"IF('Races, Positions & Points'!AD38=\"\",\"\",'Races, Positions & Points'!AD38)","v":""},{"$f":"IF('Races, Positions & Points'!AG38=\"\",\"\",'Races, Positions & Points'!AG38)","v":""},{"$f":"IF('Races, Positions & Points'!AJ38=\"\",\"\",'Races, Positions & Points'!AJ38)","v":""},{"$f":"IF('Races, Positions & Points'!AM38=\"\",\"\",'Races, Positions & Points'!AM38)","v":""},{"$f":"IF('Races, Positions & Points'!AP38=\"\",\"\",'Races, Positions & Points'!AP38)","v":""},{"$f":"IF('Races, Positions & Points'!AS38=\"\",\"\",'Races, Positions & Points'!AS38)","v":""},{"$f":"IF('Races, Positions & Points'!AV38=\"\",\"\",'Races, Positions & Points'!AV38)","v":""},{"$f":"IF('Races, Positions & Points'!AY38=\"\",\"\",'Races, Positions & Points'!AY38)","v":""},{"$f":"IF('Races, Positions & Points'!BB38=\"\",\"\",'Races, Positions & Points'!BB38)","v":""},{"$f":"IF('Races, Positions & Points'!BE38=\"\",\"\",'Races, Positions & Points'!BE38)","v":""},{"$f":"IF('Races, Positions & Points'!BH38=\"\",\"\",'Races, Positions & Points'!BH38)","v":""},{"$f":"IF('Races, Positions & Points'!BK38=\"\",\"\",'Races, Positions & Points'!BK38)","v":""},{"$f":"IF('Races, Positions & Points'!BN38=\"\",\"\",'Races, Positions & Points'!BN38)","v":""},{"$f":"IF('Races, Positions & Points'!BQ38=\"\",\"\",'Races, Positions & Points'!BQ38)","v":""},{"$f":"IF('Races, Positions & Points'!BT38=\"\",\"\",'Races, Positions & Points'!BT38)","v":""},{"$f":"IF('Races, Positions & Points'!#REF!=\"\",\"\",'Races, Positions & Points'!#REF!)","v":{"$error":"#REF!"}},{"$f":"IF('Races, Positions & Points'!BW38=\"\",\"\",'Races, Positions & Points'!BW38)","v":""},{"$f":"IF('Races, Positions & Points'!BZ38=\"\",\"\",'Races, Positions & Points'!BZ38)","v":""},{"$f":"IF('Races, Positions & Points'!CG38=\"\",\"\",'Races, Positions & Points'!CG38)","v":""},{"$f":"IF('Races, Positions & Points'!CC38=\"\",\"\",'Races, Positions & Points'!CC38)","v":""},{"$f":"IF('Races, Positions & Points'!CJ38=\"\",\"\",'Races, Positions & Points'!CJ38)","v":""},{"$f":"IF('Races, Positions & Points'!CM38=\"\",\"\",'Races, Positions & Points'!CM38)","v":""},{"$f":"IF('Races, Positions & Points'!CW38=\"\",\"\",'Races, Positions & Points'!CW38)","v":""},{"$f":"IF('Races, Positions & Points'!CP38=\"\",\"\",'Races, Positions & Points'!CP38)","v":""},{"$f":"IF('Races, Positions & Points'!CZ38=\"\",\"\",'Races, Positions & Points'!CZ38)","v":""},{"$f":"IF('Races, Positions & Points'!#REF!=\"\",\"\",'Races, Positions & Points'!#REF!)","v":{"$error":"#REF!"}},{"$f":"IF('Races, Positions & Points'!DC38=\"\",\"\",'Races, Positions & Points'!DC38)","v":""},{"$f":"IF('Races, Positions & Points'!DF38=\"\",\"\",'Races, Positions & Points'!DF38)","v":""},{"$f":"IF('Races, Positions & Points'!DI38=\"\",\"\",'Races, Positions & Points'!DI38)","v":""},{"$f":"IF('Races, Positions & Points'!DL38=\"\",\"\",'Races, Positions & Points'!DL38)","v":""},{"$f":"IF('Races, Positions & Points'!DO38=\"\",\"\",'Races, Positions & Points'!DO38)","v":""},{"$f":"IF('Races, Positions & Points'!DR38=\"\",\"\",'Races, Positions & Points'!DR38)","v":""},{"$f":"IF('Races, Positions & Points'!DS38=\"\",\"\",'Races, Positions & Points'!DS38)","v":""},{"$f":"IF('Races, Positions & Points'!DU38=\"\",\"\",'Races, Positions & Points'!DU38)","v":""},{"$f":"IF('Races, Positions & Points'!DX38=\"\",\"\",'Races, Positions & Points'!DX38)","v":""},{"$f":"IF('Races, Positions & Points'!EA38=\"\",\"\",'Races, Positions & Points'!EA38)","v":""},{"$f":"IF('Races, Positions & Points'!ED38=\"\",\"\",'Races, Positions & Points'!ED38)","v":""},{"$f":"IF('Races, Positions & Points'!EG38=\"\",\"\",'Races, Positions & Points'!EG38)","v":""},{"$f":"IF('Races, Positions & Points'!#REF!=\"\",\"\",'Races, Positions & Points'!#REF!)","v":{"$error":"#REF!"}},{"$f":"IF('Races, Positions & Points'!#REF!=\"\",\"\",'Races, Positions & Points'!#REF!)","v":{"$error":"#REF!"}},{"$f":"IF('Races, Positions & Points'!#REF!=\"\",\"\",'Races, Positions & Points'!#REF!)","v":{"$error":"#REF!"}},{"$f":"IF('Races, Positions & Points'!#REF!=\"\",\"\",'Races, Positions & Points'!#REF!)","v":{"$error":"#REF!"}},{"$f":"IF('Races, Positions & Points'!#REF!=\"\",\"\",'Races, Positions & Points'!#REF!)","v":{"$error":"#REF!"}},{"$f":"IF('Races, Positions & Points'!#REF!=\"\",\"\",'Races, Positions & Points'!#REF!)","v":{"$error":"#REF!"}},null,{"$error":"#REF!"},{"$error":"#REF!"},{"$error":"#REF!"},{"$error":"#REF!"},{"$error":"#REF!"},{"$error":"#REF!"},null,{"$f":"'Races, Positions & Points'!E38","v":41577},{"$f":"'Races, Positions & Points'!#REF!","v":{"$error":"#REF!"}},{"$error":"#REF!"},"","",{"$error":"#REF!"},"",{"$error":"#REF!"},{"$error":"#REF!"},{"$error":"#REF!"},null,{"$error":"#REF!"},"","",{"$error":"#REF!"},"",{"$error":"#REF!"},{"$error":"#REF!"},{"$error":"#REF!"},null,"",{"$error":"#REF!"},"",{"$error":"#REF!"},"",{"$error":"#REF!"},"","",{"$error":"#REF!"},"","","","","","",{"$error":"#REF!"},null,{"$error":"#REF!"},"","","",null,{"$error":"#REF!"},"","","",null,"",{"$error":"#REF!"},"","","","",{"$error":"#REF!"},"","",{"$error":"#REF!"}]
[{"$f":"'Races, Positions & Points'!A39","v":"Emily Dawes"},{"$f":"IF('Races, Positions & Points'!S39=\"\",\"\",'Races, Positions & Points'!S39)","v":""},{"$f":"IF('Races, Positions & Points'!V39=\"\",\"\",'Races, Positions & Points'!V39)","v":""},{"$f":"IF('Races, Positions & Points'!#REF!=\"\",\"\",'Races, Positions & Points'!#REF!)","v":{"$error":"#REF!"}},{"$f":"IF('Races, Positions & Points'!Y39=\"\",\"\",'Races, Positions & Points'!Y39)","v":""},{"$f":"IF('Races, Positions & Points'!Z39=\"\",\"\",'Races, Positions & Points'!Z39)","v":""},{"$f":"IF('Races, Positions & Points'!AC39=\"\",\"\",'Races, Positions & Points'!AC39)","v":""},{"$f":"IF('Races, Positions & Points'!AD39=\"\",\"\",'Races, Positions & Points'!AD39)","v":""},{"$f":"IF('Races, Positions & Points'!AG39=\"\",\"\",'Races, Positions & Points'!AG39)","v":""},{"$f":"IF('Races, Positions & Points'!AJ39=\"\",\"\",'Races, Positions & Points'!AJ39)","v":""},{"$f":"IF('Races, Positions & Points'!AM39=\"\",\"\",'Races, Positions & Points'!AM39)","v":""},{"$f":"IF('Races, Positions & Points'!AP39=\"\",\"\",'Races, Positions & Points'!AP39)","v":""},{"$f":"IF('Races, Positions & Points'!AS39=\"\",\"\",'Races, Positions & Points'!AS39)","v":""},{"$f":"IF('Races, Positions & Points'!AV39=\"\",\"\",'Races, Positions & Points'!AV39)","v":""},{"$f":"IF('Races, Positions & Points'!AY39=\"\",\"\",'Races, Positions & Points'!AY39)","v":""},{"$f":"IF('Races, Positions & Points'!BB39=\"\",\"\",'Races, Positions & Points'!BB39)","v":""},{"$f":"IF('Races, Positions & Points'!BE39=\"\",\"\",'Races, Positions & Points'!BE39)","v":""},{"$f":"IF('Races, Positions & Points'!BH39=\"\",\"\",'Races, Positions & Points'!BH39)","v":""},{"$f":"IF('Races, Positions & Points'!BK39=\"\",\"\",'Races, Positions & Points'!BK39)","v":""},{"$f":"IF('Races, Positions & Points'!BN39=\"\",\"\",'Races, Positions & Points'!BN39)","v":""},{"$f":"IF('Races, Positions & Points'!BQ39=\"\",\"\",'Races, Positions & Points'!BQ39)","v":""},{"$f":"IF('Races, Positions & Points'!BT39=\"\",\"\",'Races, Positions & Points'!BT39)","v":""},{"$f":"IF('Races, Positions & Points'!#REF!=\"\",\"\",'Races, Positions & Points'!#REF!)","v":{"$error":"#REF!"}},{"$f":"IF('Races, Positions & Points'!BW39=\"\",\"\",'Races, Positions & Points'!BW39)","v":""},{"$f":"IF('Races, Positions & Points'!BZ39=\"\",\"\",'Races, Positions & Points'!BZ39)","v":""},{"$f":"IF('Races, Positions & Points'!CG39=\"\",\"\",'Races, Positions & Points'!CG39)","v":""},{"$f":"IF('Races, Positions & Points'!CC39=\"\",\"\",'Races, Positions & Points'!CC39)","v":""},{"$f":"IF('Races, Positions & Points'!CJ39=\"\",\"\",'Races, Positions & Points'!CJ39)","v":""},{"$f":"IF('Races, Positions & Points'!CM39=\"\",\"\",'Races, Positions & Points'!CM39)","v":""},{"$f":"IF('Races, Positions & Points'!CW39=\"\",\"\",'Races, Positions & Points'!CW39)","v":""},{"$f":"IF('Races, Positions & Points'!CP39=\"\",\"\",'Races, Positions & Points'!CP39)","v":""},{"$f":"IF('Races, Positions & Points'!CZ39=\"\",\"\",'Races, Positions & Points'!CZ39)","v":""},{"$f":"IF('Races, Positions & Points'!#REF!=\"\",\"\",'Races, Positions & Points'!#REF!)","v":{"$error":"#REF!"}},{"$f":"IF('Races, Positions & Points'!DC39=\"\",\"\",'Races, Positions & Points'!DC39)","v":""},{"$f":"IF('Races, Positions & Points'!DF39=\"\",\"\",'Races, Positions & Points'!DF39)","v":""},{"$f":"IF('Races, Positions & Points'!DI39=\"\",\"\",'Races, Positions & Points'!DI39)","v":""},{"$f":"IF('Races, Positions & Points'!DL39=\"\",\"\",'Races, Positions & Points'!DL39)","v":""},{"$f":"IF('Races, Positions & Points'!DO39=\"\",\"\",'Races, Positions & Points'!DO39)","v":""},{"$f":"IF('Races, Positions & Points'!DR39=\"\",\"\",'Races, Positions & Points'!DR39)","v":""},{"$f":"IF('Races, Positions & Points'!DS39=\"\",\"\",'Races, Positions & Points'!DS39)","v":""},{"$f":"IF('Races, Positions & Points'!DU39=\"\",\"\",'Races, Positions & Points'!DU39)","v":""},{"$f":"IF('Races, Positions & Points'!DX39=\"\",\"\",'Races, Positions & Points'!DX39)","v":""},{"$f":"IF('Races, Positions & Points'!EA39=\"\",\"\",'Races, Positions & Points'!EA39)","v":""},{"$f":"IF('Races, Positions & Points'!ED39=\"\",\"\",'Races, Positions & Points'!ED39)","v":""},{"$f":"IF('Races, Positions & Points'!EG39=\"\",\"\",'Races, Positions & Points'!EG39)","v":""},{"$f":"IF('Races, Positions & Points'!#REF!=\"\",\"\",'Races, Positions & Points'!#REF!)","v":{"$error":"#REF!"}},{"$f":"IF('Races, Positions & Points'!#REF!=\"\",\"\",'Races, Positions & Points'!#REF!)","v":{"$error":"#REF!"}},{"$f":"IF('Races, Positions & Points'!#REF!=\"\",\"\",'Races, Positions & Points'!#REF!)","v":{"$error":"#REF!"}},{"$f":"IF('Races, Positions & Points'!#REF!=\"\",\"\",'Races, Positions & Points'!#REF!)","v":{"$error":"#REF!"}},{"$f":"IF('Races, Positions & Points'!#REF!=\"\",\"\",'Races, Positions & Points'!#REF!)","v":{"$error":"#REF!"}},{"$f":"IF('Races, Positions & Points'!#REF!=\"\",\"\",'Races, Positions & Points'!#REF!)","v":{"$error":"#REF!"}},null,{"$error":"#REF!"},{"$error":"#REF!"},{"$error":"#REF!"},{"$error":"#REF!"},{"$error":"#REF!"},{"$error":"#REF!"},null,{"$f":"'Races, Positions & Points'!E39","v":14263},{"$f":"'Races, Positions & Points'!#REF!","v":{"$error":"#REF!"}},{"$error":"#REF!"},"","",{"$error":"#REF!"},"",{"$error":"#REF!"},{"$error":"#REF!"},{"$error":"#REF!"},null,{"$error":"#REF!"},"","",{"$error":"#REF!"},"",{"$error":"#REF!"},{"$error":"#REF!"},{"$error":"#REF!"},null,"",{"$error":"#REF!"},"",{"$error":"#REF!"},"",{"$error":"#REF!"},"","",{"$error":"#REF!"},"","","","","","",{"$error":"#REF!"},null,{"$error":"#REF!"},"","","",null,{"$error":"#REF!"},"","","",null,"",{"$error":"#REF!"},"","","","",{"$error":"#REF!"},"","",{"$error":"#REF!"}]
[{"$f":"'Races, Positions & Points'!A40","v":"Sophia Phelps"},{"$f":"IF('Races, Positions & Points'!S40=\"\",\"\",'Races, Positions & Points'!S40)","v":""},{"$f":"IF('Races, Positions & Points'!V40=\"\",\"\",'Races, Positions & Points'!V40)","v":""},{"$f":"IF('Races, Positions & Points'!#REF!=\"\",\"\",'Races, Positions & Points'!#REF!)","v":{"$error":"#REF!"}},{"$f":"IF('Races, Positions & Points'!Y40=\"\",\"\",'Races, Positions & Points'!Y40)","v":""},{"$f":"IF('Races, Positions & Points'!Z40=\"\",\"\",'Races, Positions & Points'!Z40)","v":""},{"$f":"IF('Races, Positions & Points'!AC40=\"\",\"\",'Races, Positions & Points'!AC40)","v":""},{"$f":"IF('Races, Positions & Points'!AD40=\"\",\"\",'Races, Positions & Points'!AD40)","v":""},{"$f":"IF('Races, Positions & Points'!AG40=\"\",\"\",'Races, Positions & Points'!AG40)","v":""},{"$f":"IF('Races, Positions & Points'!AJ40=\"\",\"\",'Races, Positions & Points'!AJ40)","v":""},{"$f":"IF('Races, Positions & Points'!AM40=\"\",\"\",'Races, Positions & Points'!AM40)","v":""},{"$f":"IF('Races, Positions & Points'!AP40=\"\",\"\",'Races, Positions & Points'!AP40)","v":""},{"$f":"IF('Races, Positions & Points'!AS40=\"\",\"\",'Races, Positions & Points'!AS40)","v":""},{"$f":"IF('Races, Positions & Points'!AV40=\"\",\"\",'Races, Positions & Points'!AV40)","v":""},{"$f":"IF('Races, Positions & Points'!AY40=\"\",\"\",'Races, Positions & Points'!AY40)","v":""},{"$f":"IF('Races, Positions & Points'!BB40=\"\",\"\",'Races, Positions & Points'!BB40)","v":""},{"$f":"IF('Races, Positions & Points'!BE40=\"\",\"\",'Races, Positions & Points'!BE40)","v":""},{"$f":"IF('Races, Positions & Points'!BH40=\"\",\"\",'Races, Positions & Points'!BH40)","v":""},{"$f":"IF('Races, Positions & Points'!BK40=\"\",\"\",'Races, Positions & Points'!BK40)","v":""},{"$f":"IF('Races, Positions & Points'!BN40=\"\",\"\",'Races, Positions & Points'!BN40)","v":""},{"$f":"IF('Races, Positions & Points'!BQ40=\"\",\"\",'Races, Positions & Points'!BQ40)","v":""},{"$f":"IF('Races, Positions & Points'!BT40=\"\",\"\",'Races, Positions & Points'!BT40)","v":""},{"$f":"IF('Races, Positions & Points'!#REF!=\"\",\"\",'Races, Positions & Points'!#REF!)","v":{"$error":"#REF!"}},{"$f":"IF('Races, Positions & Points'!BW40=\"\",\"\",'Races, Positions & Points'!BW40)","v":""},{"$f":"IF('Races, Positions & Points'!BZ40=\"\",\"\",'Races, Positions & Points'!BZ40)","v":""},{"$f":"IF('Races, Positions & Points'!CG40=\"\",\"\",'Races, Positions & Points'!CG40)","v":""},{"$f":"IF('Races, Positions & Points'!CC40=\"\",\"\",'Races, Positions & Points'!CC40)","v":""},{"$f":"IF('Races, Positions & Points'!CJ40=\"\",\"\",'Races, Positions & Points'!CJ40)","v":""},{"$f":"IF('Races, Positions & Points'!CM40=\"\",\"\",'Races, Positions & Points'!CM40)","v":""},{"$f":"IF('Races, Positions & Points'!CW40=\"\",\"\",'Races, Positions & Points'!CW40)","v":""},{"$f":"IF('Races, Positions & Points'!CP40=\"\",\"\",'Races, Positions & Points'!CP40)","v":""},{"$f":"IF('Races, Positions & Points'!CZ40=\"\",\"\",'Races, Positions & Points'!CZ40)","v":""},{"$f":"IF('Races, Positions & Points'!#REF!=\"\",\"\",'Races, Positions & Points'!#REF!)","v":{"$error":"#REF!"}},{"$f":"IF('Races, Positions & Points'!DC40=\"\",\"\",'Races, Positions & Points'!DC40)","v":""},{"$f":"IF('Races, Positions & Points'!DF40=\"\",\"\",'Races, Positions & Points'!DF40)","v":""},{"$f":"IF('Races, Positions & Points'!DI40=\"\",\"\",'Races, Positions & Points'!DI40)","v":""},{"$f":"IF('Races, Positions & Points'!DL40=\"\",\"\",'Races, Positions & Points'!DL40)","v":""},{"$f":"IF('Races, Positions & Points'!DO40=\"\",\"\",'Races, Positions & Points'!DO40)","v":""},{"$f":"IF('Races, Positions & Points'!DR40=\"\",\"\",'Races, Positions & Points'!DR40)","v":""},{"$f":"IF('Races, Positions & Points'!DS40=\"\",\"\",'Races, Positions & Points'!DS40)","v":""},{"$f":"IF('Races, Positions & Points'!DU40=\"\",\"\",'Races, Positions & Points'!DU40)","v":""},{"$f":"IF('Races, Positions & Points'!DX40=\"\",\"\",'Races, Positions & Points'!DX40)","v":""},{"$f":"IF('Races, Positions & Points'!EA40=\"\",\"\",'Races, Positions & Points'!EA40)","v":""},{"$f":"IF('Races, Positions & Points'!ED40=\"\",\"\",'Races, Positions & Points'!ED40)","v":""},{"$f":"IF('Races, Positions & Points'!EG40=\"\",\"\",'Races, Positions & Points'!EG40)","v":""},{"$f":"IF('Races, Positions & Points'!#REF!=\"\",\"\",'Races, Positions & Points'!#REF!)","v":{"$error":"#REF!"}},{"$f":"IF('Races, Positions & Points'!#REF!=\"\",\"\",'Races, Positions & Points'!#REF!)","v":{"$error":"#REF!"}},{"$f":"IF('Races, Positions & Points'!#REF!=\"\",\"\",'Races, Positions & Points'!#REF!)","v":{"$error":"#REF!"}},{"$f":"IF('Races, Positions & Points'!#REF!=\"\",\"\",'Races, Positions & Points'!#REF!)","v":{"$error":"#REF!"}},{"$f":"IF('Races, Positions & Points'!#REF!=\"\",\"\",'Races, Positions & Points'!#REF!)","v":{"$error":"#REF!"}},{"$f":"IF('Races, Positions & Points'!#REF!=\"\",\"\",'Races, Positions & Points'!#REF!)","v":{"$error":"#REF!"}},null,{"$error":"#REF!"},{"$error":"#REF!"},{"$error":"#REF!"},{"$error":"#REF!"},{"$error":"#REF!"},{"$error":"#REF!"},null,{"$f":"'Races, Positions & Points'!E40","v":17839},{"$f":"'Races, Positions & Points'!#REF!","v":{"$error":"#REF!"}},{"$error":"#REF!"},"","",{"$error":"#REF!"},"",{"$error":"#REF!"},{"$error":"#REF!"},{"$error":"#REF!"},null,{"$error":"#REF!"},"","",{"$error":"#REF!"},"",{"$error":"#REF!"},{"$error":"#REF!"},{"$error":"#REF!"},null,"",{"$error":"#REF!"},"",{"$error":"#REF!"},"",{"$error":"#REF!"},"","",{"$error":"#REF!"},"","","","","","",{"$error":"#REF!"},null,{"$error":"#REF!"},"","","",null,{"$error":"#REF!"},"","","",null,"",{"$error":"#REF!"},"","","","",{"$error":"#REF!"},"","",{"$error":"#REF!"}]
[{"$f":"'Races, Positions & Points'!A41","v":"Olivia Waller"},{"$f":"IF('Races, Positions & Points'!S41=\"\",\"\",'Races, Positions & Points'!S41)","v":""},{"$f":"IF('Races, Positions & Points'!V41=\"\",\"\",'Races, Positions & Points'!V41)","v":""},{"$f":"IF('Races, Positions & Points'!#REF!=\"\",\"\",'Races, Positions & Points'!#REF!)","v":{"$error":"#REF!"}},{"$f":"IF('Races, Positions & Points'!Y41=\"\",\"\",'Races, Positions & Points'!Y41)","v":""},{"$f":"IF('Races, Positions & Points'!Z41=\"\",\"\",'Races, Positions & Points'!Z41)","v":""},{"$f":"IF('Races, Positions & Points'!AC41=\"\",\"\",'Races, Positions & Points'!AC41)","v":""},{"$f":"IF('Races, Positions & Points'!AD41=\"\",\"\",'Races, Positions & Points'!AD41)","v":""},{"$f":"IF('Races, Positions & Points'!AG41=\"\",\"\",'Races, Positions & Points'!AG41)","v":""},{"$f":"IF('Races, Positions & Points'!AJ41=\"\",\"\",'Races, Positions & Points'!AJ41)","v":""},{"$f":"IF('Races, Positions & Points'!AM41=\"\",\"\",'Races, Positions & Points'!AM41)","v":""},{"$f":"IF('Races, Positions & Points'!AP41=\"\",\"\",'Races, Positions & Points'!AP41)","v":""},{"$f":"IF('Races, Positions & Points'!AS41=\"\",\"\",'Races, Positions & Points'!AS41)","v":""},{"$f":"IF('Races, Positions & Points'!AV41=\"\",\"\",'Races, Positions & Points'!AV41)","v":""},{"$f":"IF('Races, Positions & Points'!AY41=\"\",\"\",'Races, Positions & Points'!AY41)","v":""},{"$f":"IF('Races, Positions & Points'!BB41=\"\",\"\",'Races, Positions & Points'!BB41)","v":""},{"$f":"IF('Races, Positions & Points'!BE41=\"\",\"\",'Races, Positions & Points'!BE41)","v":""},{"$f":"IF('Races, Positions & Points'!BH41=\"\",\"\",'Races, Positions & Points'!BH41)","v":""},{"$f":"IF('Races, Positions & Points'!BK41=\"\",\"\",'Races, Positions & Points'!BK41)","v":""},{"$f":"IF('Races, Positions & Points'!BN41=\"\",\"\",'Races, Positions & Points'!BN41)","v":""},{"$f":"IF('Races, Positions & Points'!BQ41=\"\",\"\",'Races, Positions & Points'!BQ41)","v":""},{"$f":"IF('Races, Positions & Points'!BT41=\"\",\"\",'Races, Positions & Points'!BT41)","v":""},{"$f":"IF('Races, Positions & Points'!#REF!=\"\",\"\",'Races, Positions & Points'!#REF!)","v":{"$error":"#REF!"}},{"$f":"IF('Races, Positions & Points'!BW41=\"\",\"\",'Races, Positions & Points'!BW41)","v":""},{"$f":"IF('Races, Positions & Points'!BZ41=\"\",\"\",'Races, Positions & Points'!BZ41)","v":""},{"$f":"IF('Races, Positions & Points'!CG41=\"\",\"\",'Races, Positions & Points'!CG41)","v":""},{"$f":"IF('Races, Positions & Points'!CC41=\"\",\"\",'Races, Positions & Points'!CC41)","v":""},{"$f":"IF('Races, Positions & Points'!CJ41=\"\",\"\",'Races, Positions & Points'!CJ41)","v":""},{"$f":"IF('Races, Positions & Points'!CM41=\"\",\"\",'Races, Positions & Points'!CM41)","v":""},{"$f":"IF('Races, Positions & Points'!CW41=\"\",\"\",'Races, Positions & Points'!CW41)","v":""},{"$f":"IF('Races, Positions & Points'!CP41=\"\",\"\",'Races, Positions & Points'!CP41)","v":""},{"$f":"IF('Races, Positions & Points'!CZ41=\"\",\"\",'Races, Positions & Points'!CZ41)","v":""},{"$f":"IF('Races, Positions & Points'!#REF!=\"\",\"\",'Races, Positions & Points'!#REF!)","v":{"$error":"#REF!"}},{"$f":"IF('Races, Positions & Points'!DC41=\"\",\"\",'Races, Positions & Points'!DC41)","v":""},{"$f":"IF('Races, Positions & Points'!DF41=\"\",\"\",'Races, Positions & Points'!DF41)","v":""},{"$f":"IF('Races, Positions & Points'!DI41=\"\",\"\",'Races, Positions & Points'!DI41)","v":""},{"$f":"IF('Races, Positions & Points'!DL41=\"\",\"\",'Races, Positions & Points'!DL41)","v":""},{"$f":"IF('Races, Positions & Points'!DO41=\"\",\"\",'Races, Positions & Points'!DO41)","v":""},{"$f":"IF('Races, Positions & Points'!DR41=\"\",\"\",'Races, Positions & Points'!DR41)","v":""},{"$f":"IF('Races, Positions & Points'!DS41=\"\",\"\",'Races, Positions & Points'!DS41)","v":""},{"$f":"IF('Races, Positions & Points'!DU41=\"\",\"\",'Races, Positions & Points'!DU41)","v":""},{"$f":"IF('Races, Positions & Points'!DX41=\"\",\"\",'Races, Positions & Points'!DX41)","v":""},{"$f":"IF('Races, Positions & Points'!EA41=\"\",\"\",'Races, Positions & Points'!EA41)","v":""},{"$f":"IF('Races, Positions & Points'!ED41=\"\",\"\",'Races, Positions & Points'!ED41)","v":""},{"$f":"IF('Races, Positions & Points'!EG41=\"\",\"\",'Races, Positions & Points'!EG41)","v":""},{"$f":"IF('Races, Positions & Points'!#REF!=\"\",\"\",'Races, Positions & Points'!#REF!)","v":{"$error":"#REF!"}},{"$f":"IF('Races, Positions & Points'!#REF!=\"\",\"\",'Races, Positions & Points'!#REF!)","v":{"$error":"#REF!"}},{"$f":"IF('Races, Positions & Points'!#REF!=\"\",\"\",'Races, Positions & Points'!#REF!)","v":{"$error":"#REF!"}},{"$f":"IF('Races, Positions & Points'!#REF!=\"\",\"\",'Races, Positions & Points'!#REF!)","v":{"$error":"#REF!"}},{"$f":"IF('Races, Positions & Points'!#REF!=\"\",\"\",'Races, Positions & Points'!#REF!)","v":{"$error":"#REF!"}},{"$f":"IF('Races, Positions & Points'!#REF!=\"\",\"\",'Races, Positions & Points'!#REF!)","v":{"$error":"#REF!"}},null,{"$error":"#REF!"},{"$error":"#REF!"},{"$error":"#REF!"},{"$error":"#REF!"},{"$error":"#REF!"},{"$error":"#REF!"},null,{"$f":"'Races, Positions & Points'!E41","v":17516},{"$f":"'Races, Positions & Points'!#REF!","v":{"$error":"#REF!"}},{"$error":"#REF!"},"","",{"$error":"#REF!"},"",{"$error":"#REF!"},{"$error":"#REF!"},{"$error":"#REF!"},null,{"$error":"#REF!"},"","",{"$error":"#REF!"},"",{"$error":"#REF!"},{"$error":"#REF!"},{"$error":"#REF!"},null,"",{"$error":"#REF!"},"",{"$error":"#REF!"},"",{"$error":"#REF!"},"","",{"$error":"#REF!"},"","","","","","",{"$error":"#REF!"},null,{"$error":"#REF!"},"","","",null,{"$error":"#REF!"},"","","",null,"",{"$error":"#REF!"},"","","","",{"$error":"#REF!"},"","",{"$error":"#REF!"}]
[{"$f":"'Races, Positions & Points'!A44","v":"Agathe Vallat"},{"$f":"IF('Races, Positions & Points'!S44=\"\",\"\",'Races, Positions & Points'!S44)","v":""},{"$f":"IF('Races, Positions & Points'!V44=\"\",\"\",'Races, Positions & Points'!V44)","v":""},{"$f":"IF('Races, Positions & Points'!#REF!=\"\",\"\",'Races, Positions & Points'!#REF!)","v":{"$error":"#REF!"}},{"$f":"IF('Races, Positions & Points'!Y44=\"\",\"\",'Races, Positions & Points'!Y44)","v":""},{"$f":"IF('Races, Positions & Points'!Z44=\"\",\"\",'Races, Positions & Points'!Z44)","v":""},{"$f":"IF('Races, Positions & Points'!AC44=\"\",\"\",'Races, Positions & Points'!AC44)","v":""},{"$f":"IF('Races, Positions & Points'!AD44=\"\",\"\",'Races, Positions & Points'!AD44)","v":""},{"$f":"IF('Races, Positions & Points'!AG44=\"\",\"\",'Races, Positions & Points'!AG44)","v":""},{"$f":"IF('Races, Positions & Points'!AJ44=\"\",\"\",'Races, Positions & Points'!AJ44)","v":""},{"$f":"IF('Races, Positions & Points'!AM44=\"\",\"\",'Races, Positions & Points'!AM44)","v":""},{"$f":"IF('Races, Positions & Points'!AP44=\"\",\"\",'Races, Positions & Points'!AP44)","v":""},{"$f":"IF('Races, Positions & Points'!AS44=\"\",\"\",'Races, Positions & Points'!AS44)","v":""},{"$f":"IF('Races, Positions & Points'!AV44=\"\",\"\",'Races, Positions & Points'!AV44)","v":""},{"$f":"IF('Races, Positions & Points'!AY44=\"\",\"\",'Races, Positions & Points'!AY44)","v":""},{"$f":"IF('Races, Positions & Points'!BB44=\"\",\"\",'Races, Positions & Points'!BB44)","v":""},{"$f":"IF('Races, Positions & Points'!BE44=\"\",\"\",'Races, Positions & Points'!BE44)","v":""},{"$f":"IF('Races, Positions & Points'!BH44=\"\",\"\",'Races, Positions & Points'!BH44)","v":""},{"$f":"IF('Races, Positions & Points'!BK44=\"\",\"\",'Races, Positions & Points'!BK44)","v":""},{"$f":"IF('Races, Positions & Points'!BN44=\"\",\"\",'Races, Positions & Points'!BN44)","v":""},{"$f":"IF('Races, Positions & Points'!BQ44=\"\",\"\",'Races, Positions & Points'!BQ44)","v":""},{"$f":"IF('Races, Positions & Points'!BT44=\"\",\"\",'Races, Positions & Points'!BT44)","v":""},{"$f":"IF('Races, Positions & Points'!#REF!=\"\",\"\",'Races, Positions & Points'!#REF!)","v":{"$error":"#REF!"}},{"$f":"IF('Races, Positions & Points'!BW44=\"\",\"\",'Races, Positions & Points'!BW44)","v":""},{"$f":"IF('Races, Positions & Points'!BZ44=\"\",\"\",'Races, Positions & Points'!BZ44)","v":""},{"$f":"IF('Races, Positions & Points'!CG44=\"\",\"\",'Races, Positions & Points'!CG44)","v":""},{"$f":"IF('Races, Positions & Points'!CC44=\"\",\"\",'Races, Positions & Points'!CC44)","v":""},{"$f":"IF('Races, Positions & Points'!CJ44=\"\",\"\",'Races, Positions & Points'!CJ44)","v":""},{"$f":"IF('Races, Positions & Points'!CM44=\"\",\"\",'Races, Positions & Points'!CM44)","v":""},{"$f":"IF('Races, Positions & Points'!CW44=\"\",\"\",'Races, Positions & Points'!CW44)","v":""},{"$f":"IF('Races, Positions & Points'!CP44=\"\",\"\",'Races, Positions & Points'!CP44)","v":""},{"$f":"IF('Races, Positions & Points'!CZ44=\"\",\"\",'Races, Positions & Points'!CZ44)","v":""},{"$f":"IF('Races, Positions & Points'!#REF!=\"\",\"\",'Races, Positions & Points'!#REF!)","v":{"$error":"#REF!"}},{"$f":"IF('Races, Positions & Points'!DC44=\"\",\"\",'Races, Positions & Points'!DC44)","v":""},{"$f":"IF('Races, Positions & Points'!DF44=\"\",\"\",'Races, Positions & Points'!DF44)","v":""},{"$f":"IF('Races, Positions & Points'!DI44=\"\",\"\",'Races, Positions & Points'!DI44)","v":""},{"$f":"IF('Races, Positions & Points'!DL44=\"\",\"\",'Races, Positions & Points'!DL44)","v":""},{"$f":"IF('Races, Positions & Points'!DO44=\"\",\"\",'Races, Positions & Points'!DO44)","v":""},{"$f":"IF('Races, Positions & Points'!DR44=\"\",\"\",'Races, Positions & Points'!DR44)","v":""},{"$f":"IF('Races, Positions & Points'!DS44=\"\",\"\",'Races, Positions & Points'!DS44)","v":""},{"$f":"IF('Races, Positions & Points'!DU44=\"\",\"\",'Races, Positions & Points'!DU44)","v":""},{"$f":"IF('Races, Positions & Points'!DX44=\"\",\"\",'Races, Positions & Points'!DX44)","v":""},{"$f":"IF('Races, Positions & Points'!EA44=\"\",\"\",'Races, Positions & Points'!EA44)","v":""},{"$f":"IF('Races, Positions & Points'!ED44=\"\",\"\",'Races, Positions & Points'!ED44)","v":""},{"$f":"IF('Races, Positions & Points'!EG44=\"\",\"\",'Races, Positions & Points'!EG44)","v":""},{"$f":"IF('Races, Positions & Points'!#REF!=\"\",\"\",'Races, Positions & Points'!#REF!)","v":{"$error":"#REF!"}},{"$f":"IF('Races, Positions & Points'!#REF!=\"\",\"\",'Races, Positions & Points'!#REF!)","v":{"$error":"#REF!"}},{"$f":"IF('Races, Positions & Points'!#REF!=\"\",\"\",'Races, Positions & Points'!#REF!)","v":{"$error":"#REF!"}},{"$f":"IF('Races, Positions & Points'!#REF!=\"\",\"\",'Races, Positions & Points'!#REF!)","v":{"$error":"#REF!"}},{"$f":"IF('Races, Positions & Points'!#REF!=\"\",\"\",'Races, Positions & Points'!#REF!)","v":{"$error":"#REF!"}},{"$f":"IF('Races, Positions & Points'!#REF!=\"\",\"\",'Races, Positions & Points'!#REF!)","v":{"$error":"#REF!"}},null,{"$error":"#REF!"},{"$error":"#REF!"},{"$error":"#REF!"},{"$error":"#REF!"},{"$error":"#REF!"},{"$error":"#REF!"},null,{"$f":"'Races, Positions & Points'!E44","v":21606},{"$f":"'Races, Positions & Points'!#REF!","v":{"$error":"#REF!"}},{"$error":"#REF!"},"","",{"$error":"#REF!"},"",{"$error":"#REF!"},{"$error":"#REF!"},{"$error":"#REF!"},null,{"$error":"#REF!"},"","",{"$error":"#REF!"},"",{"$error":"#REF!"},{"$error":"#REF!"},{"$error":"#REF!"},null,"",{"$error":"#REF!"},"",{"$error":"#REF!"},"",{"$error":"#REF!"},"","",{"$error":"#REF!"},"","","","","","",{"$error":"#REF!"},null,{"$error":"#REF!"},"","","",null,{"$error":"#REF!"},"","","",null,"",{"$error":"#REF!"},"","","","",{"$error":"#REF!"},"","",{"$error":"#REF!"}]
[{"$f":"'Races, Positions & Points'!A47","v":"Carys Phillips"},{"$f":"IF('Races, Positions & Points'!S47=\"\",\"\",'Races, Positions & Points'!S47)","v":""},{"$f":"IF('Races, Positions & Points'!V47=\"\",\"\",'Races, Positions & Points'!V47)","v":""},{"$f":"IF('Races, Positions & Points'!#REF!=\"\",\"\",'Races, Positions & Points'!#REF!)","v":{"$error":"#REF!"}},{"$f":"IF('Races, Positions & Points'!Y47=\"\",\"\",'Races, Positions & Points'!Y47)","v":""},{"$f":"IF('Races, Positions & Points'!Z47=\"\",\"\",'Races, Positions & Points'!Z47)","v":""},{"$f":"IF('Races, Positions & Points'!AC47=\"\",\"\",'Races, Positions & Points'!AC47)","v":""},{"$f":"IF('Races, Positions & Points'!AD47=\"\",\"\",'Races, Positions & Points'!AD47)","v":""},{"$f":"IF('Races, Positions & Points'!AG47=\"\",\"\",'Races, Positions & Points'!AG47)","v":""},{"$f":"IF('Races, Positions & Points'!AJ47=\"\",\"\",'Races, Positions & Points'!AJ47)","v":""},{"$f":"IF('Races, Positions & Points'!AM47=\"\",\"\",'Races, Positions & Points'!AM47)","v":""},{"$f":"IF('Races, Positions & Points'!AP47=\"\",\"\",'Races, Positions & Points'!AP47)","v":""},{"$f":"IF('Races, Positions & Points'!AS47=\"\",\"\",'Races, Positions & Points'!AS47)","v":""},{"$f":"IF('Races, Positions & Points'!AV47=\"\",\"\",'Races, Positions & Points'!AV47)","v":""},{"$f":"IF('Races, Positions & Points'!AY47=\"\",\"\",'Races, Positions & Points'!AY47)","v":""},{"$f":"IF('Races, Positions & Points'!BB47=\"\",\"\",'Races, Positions & Points'!BB47)","v":""},{"$f":"IF('Races, Positions & Points'!BE47=\"\",\"\",'Races, Positions & Points'!BE47)","v":""},{"$f":"IF('Races, Positions & Points'!BH47=\"\",\"\",'Races, Positions & Points'!BH47)","v":""},{"$f":"IF('Races, Positions & Points'!BK47=\"\",\"\",'Races, Positions & Points'!BK47)","v":""},{"$f":"IF('Races, Positions & Points'!BN47=\"\",\"\",'Races, Positions & Points'!BN47)","v":""},{"$f":"IF('Races, Positions & Points'!BQ47=\"\",\"\",'Races, Positions & Points'!BQ47)","v":""},{"$f":"IF('Races, Positions & Points'!BT47=\"\",\"\",'Races, Positions & Points'!BT47)","v":""},{"$f":"IF('Races, Positions & Points'!#REF!=\"\",\"\",'Races, Positions & Points'!#REF!)","v":{"$error":"#REF!"}},{"$f":"IF('Races, Positions & Points'!BW47=\"\",\"\",'Races, Positions & Points'!BW47)","v":""},{"$f":"IF('Races, Positions & Points'!BZ47=\"\",\"\",'Races, Positions & Points'!BZ47)","v":""},{"$f":"IF('Races, Positions & Points'!CG47=\"\",\"\",'Races, Positions & Points'!CG47)","v":""},{"$f":"IF('Races, Positions & Points'!CC47=\"\",\"\",'Races, Positions & Points'!CC47)","v":""},{"$f":"IF('Races, Positions & Points'!CJ47=\"\",\"\",'Races, Positions & Points'!CJ47)","v":""},{"$f":"IF('Races, Positions & Points'!CM47=\"\",\"\",'Races, Positions & Points'!CM47)","v":""},{"$f":"IF('Races, Positions & Points'!CW47=\"\",\"\",'Races, Positions & Points'!CW47)","v":""},{"$f":"IF('Races, Positions & Points'!CP47=\"\",\"\",'Races, Positions & Points'!CP47)","v":""},{"$f":"IF('Races, Positions & Points'!CZ47=\"\",\"\",'Races, Positions & Points'!CZ47)","v":""},{"$f":"IF('Races, Positions & Points'!#REF!=\"\",\"\",'Races, Positions & Points'!#REF!)","v":{"$error":"#REF!"}},{"$f":"IF('Races, Positions & Points'!DC47=\"\",\"\",'Races, Positions & Points'!DC47)","v":""},{"$f":"IF('Races, Positions & Points'!DF47=\"\",\"\",'Races, Positions & Points'!DF47)","v":""},{"$f":"IF('Races, Positions & Points'!DI47=\"\",\"\",'Races, Positions & Points'!DI47)","v":""},{"$f":"IF('Races, Positions & Points'!DL47=\"\",\"\",'Races, Positions & Points'!DL47)","v":""},{"$f":"IF('Races, Positions & Points'!DO47=\"\",\"\",'Races, Positions & Points'!DO47)","v":""},{"$f":"IF('Races, Positions & Points'!DR47=\"\",\"\",'Races, Positions & Points'!DR47)","v":""},{"$f":"IF('Races, Positions & Points'!DS47=\"\",\"\",'Races, Positions & Points'!DS47)","v":""},{"$f":"IF('Races, Positions & Points'!DU47=\"\",\"\",'Races, Positions & Points'!DU47)","v":""},{"$f":"IF('Races, Positions & Points'!DX47=\"\",\"\",'Races, Positions & Points'!DX47)","v":""},{"$f":"IF('Races, Positions & Points'!EA47=\"\",\"\",'Races, Positions & Points'!EA47)","v":""},{"$f":"IF('Races, Positions & Points'!ED47=\"\",\"\",'Races, Positions & Points'!ED47)","v":""},{"$f":"IF('Races, Positions & Points'!EG47=\"\",\"\",'Races, Positions & Points'!EG47)","v":""},{"$f":"IF('Races, Positions & Points'!#REF!=\"\",\"\",'Races, Positions & Points'!#REF!)","v":{"$error":"#REF!"}},{"$f":"IF('Races, Positions & Points'!#REF!=\"\",\"\",'Races, Positions & Points'!#REF!)","v":{"$error":"#REF!"}},{"$f":"IF('Races, Positions & Points'!#REF!=\"\",\"\",'Races, Positions & Points'!#REF!)","v":{"$error":"#REF!"}},{"$f":"IF('Races, Positions & Points'!#REF!=\"\",\"\",'Races, Positions & Points'!#REF!)","v":{"$error":"#REF!"}},{"$f":"IF('Races, Positions & Points'!#REF!=\"\",\"\",'Races, Positions & Points'!#REF!)","v":{"$error":"#REF!"}},{"$f":"IF('Races, Positions & Points'!#REF!=\"\",\"\",'Races, Positions & Points'!#REF!)","v":{"$error":"#REF!"}},null,{"$error":"#REF!"},{"$error":"#REF!"},{"$error":"#REF!"},{"$error":"#REF!"},{"$error":"#REF!"},{"$error":"#REF!"},null,{"$f":"'Races, Positions & Points'!E47","v":"Day"},{"$f":"'Races, Positions & Points'!#REF!","v":{"$error":"#REF!"}},{"$error":"#REF!"},"","",{"$error":"#REF!"},"",{"$error":"#REF!"},{"$error":"#REF!"},{"$error":"#REF!"},null,{"$error":"#REF!"},"","",{"$error":"#REF!"},"",{"$error":"#REF!"},{"$error":"#REF!"},{"$error":"#REF!"},null,"",{"$error":"#REF!"},"",{"$error":"#REF!"},"",{"$error":"#REF!"},"","",{"$error":"#REF!"},"","","","","","",{"$error":"#REF!"},null,{"$error":"#REF!"},"","","",null,{"$error":"#REF!"},"","","",null,"",{"$error":"#REF!"},"","","","",{"$error":"#REF!"},"","",{"$error":"#REF!"}]
[null,null,null,null,null,null,null,null,null,null,null,null,null,null,null,null,null,null,null,null,null,null,null,null,null,null,null,null,null,null,null,null,null,null,null,null,null,null,null,null,null,null,null,null,null,null,null,null,null,null,null,null,null,null,null,null,null,null,null,null,null,null,null,null,null,null,null,null,null,null,null,null,null,null,null,null,null,null,null,null,null,null,null,null,null,null,null,null,null,null,null,null,null,null,null,null,null,null,""]
[{"$f":"'Races, Positions & Points'!A49","v":"Harry Hornsby"},{"$f":"IF('Races, Positions & Points'!S49=\"\",\"\",'Races, Positions & Points'!S49)","v":""},{"$f":"IF('Races, Positions & Points'!V49=\"\",\"\",'Races, Positions & Points'!V49)","v":""},{"$f":"IF('Races, Positions & Points'!#REF!=\"\",\"\",'Races, Positions & Points'!#REF!)","v":{"$error":"#REF!"}},{"$f":"IF('Races, Positions & Points'!Y49=\"\",\"\",'Races, Positions & Points'!Y49)","v":""},{"$f":"IF('Races, Positions & Points'!Z49=\"\",\"\",'Races, Positions & Points'!Z49)","v":""},{"$f":"IF('Races, Positions & Points'!AC49=\"\",\"\",'Races, Positions & Points'!AC49)","v":""},{"$f":"IF('Races, Positions & Points'!AD49=\"\",\"\",'Races, Positions & Points'!AD49)","v":""},{"$f":"IF('Races, Positions & Points'!AG49=\"\",\"\",'Races, Positions & Points'!AG49)","v":""},{"$f":"IF('Races, Positions & Points'!AJ49=\"\",\"\",'Races, Positions & Points'!AJ49)","v":14.09},{"$f":"IF('Races, Positions & Points'!AM49=\"\",\"\",'Races, Positions & Points'!AM49)","v":""},{"$f":"IF('Races, Positions & Points'!AP49=\"\",\"\",'Races, Positions & Points'!AP49)","v":""},{"$f":"IF('Races, Positions & Points'!AS49=\"\",\"\",'Races, Positions & Points'!AS49)","v":""},{"$f":"IF('Races, Positions & Points'!AV49=\"\",\"\",'Races, Positions & Points'!AV49)","v":28.26},{"$f":"IF('Races, Positions & Points'!AY49=\"\",\"\",'Races, Positions & Points'!AY49)","v":14.45},{"$f":"IF('Races, Positions & Points'!BB49=\"\",\"\",'Races, Positions & Points'!BB49)","v":""},{"$f":"IF('Races, Positions & Points'!BE49=\"\",\"\",'Races, Positions & Points'!BE49)","v":""},{"$f":"IF('Races, Positions & Points'!BH49=\"\",\"\",'Races, Positions & Points'!BH49)","v":46.49},{"$f":"IF('Races, Positions & Points'!BK49=\"\",\"\",'Races, Positions & Points'!BK49)","v":""},{"$f":"IF('Races, Positions & Points'!BN49=\"\",\"\",'Races, Positions & Points'!BN49)","v":""},{"$f":"IF('Races, Positions & Points'!BQ49=\"\",\"\",'Races, Positions & Points'!BQ49)","v":""},{"$f":"IF('Races, Positions & Points'!BT49=\"\",\"\",'Races, Positions & Points'!BT49)","v":""},{"$f":"IF('Races, Positions & Points'!#REF!=\"\",\"\",'Races, Positions & Points'!#REF!)","v":{"$error":"#REF!"}},{"$f":"IF('Races, Positions & Points'!BW49=\"\",\"\",'Races, Positions & Points'!BW49)","v":"dnf"},{"$f":"IF('Races, Positions & Points'!BZ49=\"\",\"\",'Races, Positions & Points'!BZ49)","v":""},{"$f":"IF('Races, Positions & Points'!CG49=\"\",\"\",'Races, Positions & Points'!CG49)","v":""},{"$f":"IF('Races, Positions & Points'!CC49=\"\",\"\",'Races, Positions & Points'!CC49)","v":10},{"$f":"IF('Races, Positions & Points'!CJ49=\"\",\"\",'Races, Positions & Points'!CJ49)","v":""},{"$f":"IF('Races, Positions & Points'!CM49=\"\",\"\",'Races, Positions & Points'!CM49)","v":""},{"$f":"IF('Races, Positions & Points'!CW49=\"\",\"\",'Races, Positions & Points'!CW49)","v":""},{"$f":"IF('Races, Positions & Points'!CP49=\"\",\"\",'Races, Positions & Points'!CP49)","v":""},{"$f":"IF('Races, Positions & Points'!CZ49=\"\",\"\",'Races, Positions & Points'!CZ49)","v":""},{"$f":"IF('Races, Positions & Points'!#REF!=\"\",\"\",'Races, Positions & Points'!#REF!)","v":{"$error":"#REF!"}},{"$f":"IF('Races, Positions & Points'!DC49=\"\",\"\",'Races, Positions & Points'!DC49)","v":18.670000000000002},{"$f":"IF('Races, Positions & Points'!DF49=\"\",\"\",'Races, Positions & Points'!DF49)","v":""},{"$f":"IF('Races, Positions & Points'!DI49=\"\",\"\",'Races, Positions & Points'!DI49)","v":""},{"$f":"IF('Races, Positions & Points'!DL49=\"\",\"\",'Races, Positions & Points'!DL49)","v":""},{"$f":"IF('Races, Positions & Points'!DO49=\"\",\"\",'Races, Positions & Points'!DO49)","v":""},{"$f":"IF('Races, Positions & Points'!DR49=\"\",\"\",'Races, Positions & Points'!DR49)","v":""},{"$f":"IF('Races, Positions & Points'!DS49=\"\",\"\",'Races, Positions & Points'!DS49)","v":""},{"$f":"IF('Races, Positions & Points'!DU49=\"\",\"\",'Races, Positions & Points'!DU49)","v":""},{"$f":"IF('Races, Positions & Points'!DX49=\"\",\"\",'Races, Positions & Points'!DX49)","v":""},{"$f":"IF('Races, Positions & Points'!EA49=\"\",\"\",'Races, Positions & Points'!EA49)","v":""},{"$f":"IF('Races, Positions & Points'!ED49=\"\",\"\",'Races, Positions & Points'!ED49)","v":""},{"$f":"IF('Races, Positions & Points'!EG49=\"\",\"\",'Races, Positions & Points'!EG49)","v":""},{"$f":"IF('Races, Positions & Points'!#REF!=\"\",\"\",'Races, Positions & Points'!#REF!)","v":{"$error":"#REF!"}},{"$f":"IF('Races, Positions & Points'!#REF!=\"\",\"\",'Races, Positions & Points'!#REF!)","v":{"$error":"#REF!"}},{"$f":"IF('Races, Positions & Points'!#REF!=\"\",\"\",'Races, Positions & Points'!#REF!)","v":{"$error":"#REF!"}},{"$f":"IF('Races, Positions & Points'!#REF!=\"\",\"\",'Races, Positions & Points'!#REF!)","v":{"$error":"#REF!"}},{"$f":"IF('Races, Positions & Points'!#REF!=\"\",\"\",'Races, Positions & Points'!#REF!)","v":{"$error":"#REF!"}},{"$f":"IF('Races, Positions & Points'!#REF!=\"\",\"\",'Races, Positions & Points'!#REF!)","v":{"$error":"#REF!"}},null,{"$f":"SUMPRODUCT(--(B$4:AY$4=\"In\"),--(B$3:AY$3>5),--(B$5:AY$5=\"Y\"),--(B42:AY42<>\"\"))","v":{"$error":"#REF!"}},{"$f":"SUMPRODUCT(--(B$4:AY$4=\"Out\"),--(B$3:AY$3>5),--(B$5:AY$5=\"Y\"),--(B42:AY42<>\"\"))","v":{"$error":"#REF!"}},{"$f":"SUMPRODUCT(--(B$4:AY$4=\"In\"),--(B$3:AY$3=5),--(B$5:AY$5=\"Y\"),--(B42:AY42<>\"\"))","v":{"$error":"#REF!"}},{"$f":"SUMPRODUCT(--(B$4:AY$4=\"Out\"),--(B$3:AY$3=5),--(B$5:AY$5=\"Y\"),--(B42:AY42<>\"\"))","v":{"$error":"#REF!"}},{"$f":"SUMPRODUCT(--(B$4:AY$4=\"In\"),--(B$3:AY$3=0),--(B$5:AY$5=\"Y\"),--(B42:AY42<>\"\"))","v":{"$error":"#REF!"}},{"$f":"SUMPRODUCT(--(B$4:AY$4=\"Out\"),--(B$3:AY$3=0),--(B$5:AY$5=\"Y\"),--(B42:AY42<>\"\"))","v":{"$error":"#REF!"}},null,{"$f":"'Races, Positions & Points'!E49","v":17356},{"$f":"'Races, Positions & Points'!#REF!","v":{"$error":"#REF!"}},{"$error":"#REF!"},"","",{"$error":"#REF!"},"",{"$error":"#REF!"},{"$error":"#REF!"},{"$error":"#REF!"},null,{"$error":"#REF!"},"","",{"$error":"#REF!"},"",{"$error":"#REF!"},{"$error":"#REF!"},{"$error":"#REF!"},null,{"$f":"IF(MIN(C42,K42,L42,AH42,AI42,AK42,AL42)>0,MIN(C42,K42,L42,AH42,AI42,AK42,AL42),\"\")","v":18.670000000000002},{"$f":"IF(MIN(E42,F42,G42,H42,Z42,AF42,AG42,AP42,AQ42,AU42)>0,MIN(E42,F42,G42,H42,Z42,AF42,AG42,AP42,AQ42,AU42),\"\")","v":{"$error":"#REF!"}},{"$f":"IF(MIN(T42,V42)>0,MIN(T42,V42),\"\")","v":""},{"$f":"IF(MIN(W42,X42)>0,MIN(W42,X42),\"\")","v":{"$error":"#REF!"}},{"$f":"IF(MIN(B42,M42,N42,AR42,AS42)>0,MIN(B42,M42,N42,AR42,AS42),\"\")","v":28.26},{"$f":"IF(MIN(D42,O42,AB42,AC42,AE42)>0,MIN(D42,O42,AB42,AC42,AE42),\"\")","v":{"$error":"#REF!"}},{"$f":"IF(MIN(I42,J42)>0,MIN(I42,J42),\"\")","v":14.09},{"$f":"IF(Q42>0,Q42,\"\")","v":""},{"$f":"IF(MIN(S42,AM42,AT42,AY42)>0,MIN(S42,AM42,AT42,AY42),\"\")","v":{"$error":"#REF!"}},{"$f":"IF(MIN(P42,R42)>0,MIN(P42,R42),\"\")","v":46.49},{"$f":"IF(U42>0,U42,\"\")","v":""},{"$f":"IF(MIN(Y42,AO42)>0,MIN(Y42,AO42),\"\")","v":""},{"$f":"IF(AA42>0,AA42,\"\")","v":10},{"$f":"IF(AD42>0,AD42,\"\")","v":""},{"$f":"IF(AJ42>0,AJ42,\"\")","v":""},{"$f":"IF(MIN(AV42,AW42)>0,MIN(AV42,AW42),\"\")","v":{"$error":"#REF!"}},null,{"$error":"#REF!"},"","",{"$f":"IF(ISERROR(CS42*1.2),\"\",IF(CS42<50,CS42+10,IF(CS42<999.99,CS42*1.2,\"\")))","v":""},null,{"$error":"#REF!"},"","","",null,{"$f":"IF(MIN(C42,K42,L42,AH42,AI42,AK42,AL42)>0,MIN(C42,K42,L42,AH42,AI42,AK42,AL42),\"\")","v":18.670000000000002},{"$f":"IF(MIN(Z42,AF42,AG42,AP42,AQ42,AU42)>0,MIN(Z42,AF42,AG42,AP42,AQ42,AU42),\"\")","v":{"$error":"#REF!"}},{"$f":"IF(MIN(T42,V42)>0,MIN(T42,V42),\"\")","v":""},{"$f":"IF(MIN(M42,N42,AR42,AS42)>0,MIN(M42,N42,AR42,AS42),\"\")","v":28.26},{"$f":"IF(MIN(O42,AE42),MIN(O42,AE42),\"\")","v":14.45},{"$f":"IF(J42>0,J42,\"\")","v":14.09},{"$f":"IF(MIN(AM42,AY42)>0,MIN(AM42,AY42),\"\")","v":{"$error":"#REF!"}},{"$f":"IF(R42>0,R42,\"\")","v":46.49},"",{"$f":"IF(MIN(AV42,AW42),MIN(AV42,AW42),\"\")","v":{"$error":"#REF!"}}]
[{"$f":"'Races, Positions & Points'!A50","v":"Jonny Powell"},{"$f":"IF('Races, Positions & Points'!S50=\"\",\"\",'Races, Positions & Points'!S50)","v":""},{"$f":"IF('Races, Positions & Points'!V50=\"\",\"\",'Races, Positions & Points'!V50)","v":""},{"$f":"IF('Races, Positions & Points'!#REF!=\"\",\"\",'Races, Positions & Points'!#REF!)","v":{"$error":"#REF!"}},{"$f":"IF('Races, Positions & Points'!Y50=\"\",\"\",'Races, Positions & Points'!Y50)","v":""},{"$f":"IF('Races, Positions & Points'!Z50=\"\",\"\",'Races, Positions & Points'!Z50)","v":""},{"$f":"IF('Races, Positions & Points'!AC50=\"\",\"\",'Races, Positions & Points'!AC50)","v":""},{"$f":"IF('Races, Positions & Points'!AD50=\"\",\"\",'Races, Positions & Points'!AD50)","v":""},{"$f":"IF('Races, Positions & Points'!AG50=\"\",\"\",'Races, Positions & Points'!AG50)","v":""},{"$f":"IF('Races, Positions & Points'!AJ50=\"\",\"\",'Races, Positions & Points'!AJ50)","v":56.05},{"$f":"IF('Races, Positions & Points'!AM50=\"\",\"\",'Races, Positions & Points'!AM50)","v":56.27},{"$f":"IF('Races, Positions & Points'!AP50=\"\",\"\",'Races, Positions & Points'!AP50)","v":""},{"$f":"IF('Races, Positions & Points'!AS50=\"\",\"\",'Races, Positions & Points'!AS50)","v":""},{"$f":"IF('Races, Positions & Points'!AV50=\"\",\"\",'Races, Positions & Points'!AV50)","v":""},{"$f":"IF('Races, Positions & Points'!AY50=\"\",\"\",'Races, Positions & Points'!AY50)","v":""},{"$f":"IF('Races, Positions & Points'!BB50=\"\",\"\",'Races, Positions & Points'!BB50)","v":""},{"$f":"IF('Races, Positions & Points'!BE50=\"\",\"\",'Races, Positions & Points'!BE50)","v":""},{"$f":"IF('Races, Positions & Points'!BH50=\"\",\"\",'Races, Positions & Points'!BH50)","v":51.9},{"$f":"IF('Races, Positions & Points'!BK50=\"\",\"\",'Races, Positions & Points'!BK50)","v":""},{"$f":"IF('Races, Positions & Points'!BN50=\"\",\"\",'Races, Positions & Points'!BN50)","v":""},{"$f":"IF('Races, Positions & Points'!BQ50=\"\",\"\",'Races, Positions & Points'!BQ50)","v":""},{"$f":"IF('Races, Positions & Points'!BT50=\"\",\"\",'Races, Positions & Points'!BT50)","v":""},{"$f":"IF('Races, Positions & Points'!#REF!=\"\",\"\",'Races, Positions & Points'!#REF!)","v":{"$error":"#REF!"}},{"$f":"IF('Races, Positions & Points'!BW50=\"\",\"\",'Races, Positions & Points'!BW50)","v":""},{"$f":"IF('Races, Positions & Points'!BZ50=\"\",\"\",'Races, Positions & Points'!BZ50)","v":""},{"$f":"IF('Races, Positions & Points'!CG50=\"\",\"\",'Races, Positions & Points'!CG50)","v":""},{"$f":"IF('Races, Positions & Points'!CC50=\"\",\"\",'Races, Positions & Points'!CC50)","v":""},{"$f":"IF('Races, Positions & Points'!CJ50=\"\",\"\",'Races, Positions & Points'!CJ50)","v":""},{"$f":"IF('Races, Positions & Points'!CM50=\"\",\"\",'Races, Positions & Points'!CM50)","v":""},{"$f":"IF('Races, Positions & Points'!CW50=\"\",\"\",'Races, Positions & Points'!CW50)","v":""},{"$f":"IF('Races, Positions & Points'!CP50=\"\",\"\",'Races, Positions & Points'!CP50)","v":""},{"$f":"IF('Races, Positions & Points'!CZ50=\"\",\"\",'Races, Positions & Points'!CZ50)","v":""},{"$f":"IF('Races, Positions & Points'!#REF!=\"\",\"\",'Races, Positions & Points'!#REF!)","v":{"$error":"#REF!"}},{"$f":"IF('Races, Positions & Points'!DC50=\"\",\"\",'Races, Positions & Points'!DC50)","v":""},{"$f":"IF('Races, Positions & Points'!DF50=\"\",\"\",'Races, Positions & Points'!DF50)","v":""},{"$f":"IF('Races, Positions & Points'!DI50=\"\",\"\",'Races, Positions & Points'!DI50)","v":""},{"$f":"IF('Races, Positions & Points'!DL50=\"\",\"\",'Races, Positions & Points'!DL50)","v":""},{"$f":"IF('Races, Positions & Points'!DO50=\"\",\"\",'Races, Positions & Points'!DO50)","v":""},{"$f":"IF('Races, Positions & Points'!DR50=\"\",\"\",'Races, Positions & Points'!DR50)","v":""},{"$f":"IF('Races, Positions & Points'!DS50=\"\",\"\",'Races, Positions & Points'!DS50)","v":""},{"$f":"IF('Races, Positions & Points'!DU50=\"\",\"\",'Races, Positions & Points'!DU50)","v":""},{"$f":"IF('Races, Positions & Points'!DX50=\"\",\"\",'Races, Positions & Points'!DX50)","v":""},{"$f":"IF('Races, Positions & Points'!EA50=\"\",\"\",'Races, Positions & Points'!EA50)","v":""},{"$f":"IF('Races, Positions & Points'!ED50=\"\",\"\",'Races, Positions & Points'!ED50)","v":""},{"$f":"IF('Races, Positions & Points'!EG50=\"\",\"\",'Races, Positions & Points'!EG50)","v":""},{"$f":"IF('Races, Positions & Points'!#REF!=\"\",\"\",'Races, Positions & Points'!#REF!)","v":{"$error":"#REF!"}},{"$f":"IF('Races, Positions & Points'!#REF!=\"\",\"\",'Races, Positions & Points'!#REF!)","v":{"$error":"#REF!"}},{"$f":"IF('Races, Positions & Points'!#REF!=\"\",\"\",'Races, Positions & Points'!#REF!)","v":{"$error":"#REF!"}},{"$f":"IF('Races, Positions & Points'!#REF!=\"\",\"\",'Races, Positions & Points'!#REF!)","v":{"$error":"#REF!"}},{"$f":"IF('Races, Positions & Points'!#REF!=\"\",\"\",'Races, Positions & Points'!#REF!)","v":{"$error":"#REF!"}},{"$f":"IF('Races, Positions & Points'!#REF!=\"\",\"\",'Races, Positions & Points'!#REF!)","v":{"$error":"#REF!"}},null,{"$f":"SUMPRODUCT(--(B$4:AY$4=\"In\"),--(B$3:AY$3>5),--(B$5:AY$5=\"Y\"),--(B43:AY43<>\"\"))","v":{"$error":"#REF!"}},{"$f":"SUMPRODUCT(--(B$4:AY$4=\"Out\"),--(B$3:AY$3>5),--(B$5:AY$5=\"Y\"),--(B43:AY43<>\"\"))","v":{"$error":"#REF!"}},{"$f":"SUMPRODUCT(--(B$4:AY$4=\"In\"),--(B$3:AY$3=5),--(B$5:AY$5=\"Y\"),--(B43:AY43<>\"\"))","v":{"$error":"#REF!"}},{"$f":"SUMPRODUCT(--(B$4:AY$4=\"Out\"),--(B$3:AY$3=5),--(B$5:AY$5=\"Y\"),--(B43:AY43<>\"\"))","v":{"$error":"#REF!"}},{"$f":"SUMPRODUCT(--(B$4:AY$4=\"In\"),--(B$3:AY$3=0),--(B$5:AY$5=\"Y\"),--(B43:AY43<>\"\"))","v":{"$error":"#REF!"}},{"$f":"SUMPRODUCT(--(B$4:AY$4=\"Out\"),--(B$3:AY$3=0),--(B$5:AY$5=\"Y\"),--(B43:AY43<>\"\"))","v":{"$error":"#REF!"}},null,{"$f":"'Races, Positions & Points'!E50","v":17479},{"$f":"'Races, Positions & Points'!#REF!","v":{"$error":"#REF!"}},{"$error":"#REF!"},"","",{"$error":"#REF!"},"",{"$error":"#REF!"},{"$error":"#REF!"},{"$error":"#REF!"},null,{"$error":"#REF!"},"","",{"$error":"#REF!"},"",{"$error":"#REF!"},{"$error":"#REF!"},{"$error":"#REF!"},null,{"$f":"IF(MIN(C43,K43,L43,AH43,AI43,AK43,AL43)>0,MIN(C43,K43,L43,AH43,AI43,AK43,AL43),\"\")","v":56.27},{"$error":"#REF!"},"",{"$error":"#REF!"},"",{"$error":"#REF!"},56.05,"",{"$error":"#REF!"},51.9,"","","","","",{"$error":"#REF!"},null,{"$error":"#REF!"},"","","",null,{"$error":"#REF!"},"","","",null,56.27,{"$error":"#REF!"},"","","",56.05,{"$error":"#REF!"},51.9,"",{"$error":"#REF!"}]
[{"$f":"'Races, Positions & Points'!A51","v":"Andrew Du Plessis"},{"$f":"IF('Races, Positions & Points'!S51=\"\",\"\",'Races, Positions & Points'!S51)","v":""},{"$f":"IF('Races, Positions & Points'!V51=\"\",\"\",'Races, Positions & Points'!V51)","v":""},{"$f":"IF('Races, Positions & Points'!#REF!=\"\",\"\",'Races, Positions & Points'!#REF!)","v":{"$error":"#REF!"}},{"$f":"IF('Races, Positions & Points'!Y51=\"\",\"\",'Races, Positions & Points'!Y51)","v":""},{"$f":"IF('Races, Positions & Points'!Z51=\"\",\"\",'Races, Positions & Points'!Z51)","v":""},{"$f":"IF('Races, Positions & Points'!AC51=\"\",\"\",'Races, Positions & Points'!AC51)","v":""},{"$f":"IF('Races, Positions & Points'!AD51=\"\",\"\",'Races, Positions & Points'!AD51)","v":""},{"$f":"IF('Races, Positions & Points'!AG51=\"\",\"\",'Races, Positions & Points'!AG51)","v":""},{"$f":"IF('Races, Positions & Points'!AJ51=\"\",\"\",'Races, Positions & Points'!AJ51)","v":""},{"$f":"IF('Races, Positions & Points'!AM51=\"\",\"\",'Races, Positions & Points'!AM51)","v":""},{"$f":"IF('Races, Positions & Points'!AP51=\"\",\"\",'Races, Positions & Points'!AP51)","v":""},{"$f":"IF('Races, Positions & Points'!AS51=\"\",\"\",'Races, Positions & Points'!AS51)","v":""},{"$f":"IF('Races, Positions & Points'!AV51=\"\",\"\",'Races, Positions & Points'!AV51)","v":""},{"$f":"IF('Races, Positions & Points'!AY51=\"\",\"\",'Races, Positions & Points'!AY51)","v":""},{"$f":"IF('Races, Positions & Points'!BB51=\"\",\"\",'Races, Positions & Points'!BB51)","v":""},{"$f":"IF('Races, Positions & Points'!BE51=\"\",\"\",'Races, Positions & Points'!BE51)","v":""},{"$f":"IF('Races, Positions & Points'!BH51=\"\",\"\",'Races, Positions & Points'!BH51)","v":""},{"$f":"IF('Races, Positions & Points'!BK51=\"\",\"\",'Races, Positions & Points'!BK51)","v":""},{"$f":"IF('Races, Positions & Points'!BN51=\"\",\"\",'Races, Positions & Points'!BN51)","v":""},{"$f":"IF('Races, Positions & Points'!BQ51=\"\",\"\",'Races, Positions & Points'!BQ51)","v":""},{"$f":"IF('Races, Positions & Points'!BT51=\"\",\"\",'Races, Positions & Points'!BT51)","v":""},{"$f":"IF('Races, Positions & Points'!#REF!=\"\",\"\",'Races, Positions & Points'!#REF!)","v":{"$error":"#REF!"}},{"$f":"IF('Races, Positions & Points'!BW51=\"\",\"\",'Races, Positions & Points'!BW51)","v":""},{"$f":"IF('Races, Positions & Points'!BZ51=\"\",\"\",'Races, Positions & Points'!BZ51)","v":""},{"$f":"IF('Races, Positions & Points'!CG51=\"\",\"\",'Races, Positions & Points'!CG51)","v":""},{"$f":"IF('Races, Positions & Points'!CC51=\"\",\"\",'Races, Positions & Points'!CC51)","v":""},{"$f":"IF('Races, Positions & Points'!CJ51=\"\",\"\",'Races, Positions & Points'!CJ51)","v":""},{"$f":"IF('Races, Positions & Points'!CM51=\"\",\"\",'Races, Positions & Points'!CM51)","v":""},{"$f":"IF('Races, Positions & Points'!CW51=\"\",\"\",'Races, Positions & Points'!CW51)","v":""},{"$f":"IF('Races, Positions & Points'!CP51=\"\",\"\",'Races, Positions & Points'!CP51)","v":""},{"$f":"IF('Races, Positions & Points'!CZ51=\"\",\"\",'Races, Positions & Points'!CZ51)","v":""},{"$f":"IF('Races, Positions & Points'!#REF!=\"\",\"\",'Races, Positions & Points'!#REF!)","v":{"$error":"#REF!"}},{"$f":"IF('Races, Positions & Points'!DC51=\"\",\"\",'Races, Positions & Points'!DC51)","v":""},{"$f":"IF('Races, Positions & Points'!DF51=\"\",\"\",'Races, Positions & Points'!DF51)","v":""},{"$f":"IF('Races, Positions & Points'!DI51=\"\",\"\",'Races, Positions & Points'!DI51)","v":""},{"$f":"IF('Races, Positions & Points'!DL51=\"\",\"\",'Races, Positions & Points'!DL51)","v":""},{"$f":"IF('Races, Positions & Points'!DO51=\"\",\"\",'Races, Positions & Points'!DO51)","v":""},{"$f":"IF('Races, Positions & Points'!DR51=\"\",\"\",'Races, Positions & Points'!DR51)","v":""},{"$f":"IF('Races, Positions & Points'!DS51=\"\",\"\",'Races, Positions & Points'!DS51)","v":""},{"$f":"IF('Races, Positions & Points'!DU51=\"\",\"\",'Races, Positions & Points'!DU51)","v":""},{"$f":"IF('Races, Positions & Points'!DX51=\"\",\"\",'Races, Positions & Points'!DX51)","v":""},{"$f":"IF('Races, Positions & Points'!EA51=\"\",\"\",'Races, Positions & Points'!EA51)","v":""},{"$f":"IF('Races, Positions & Points'!ED51=\"\",\"\",'Races, Positions & Points'!ED51)","v":""},{"$f":"IF('Races, Positions & Points'!EG51=\"\",\"\",'Races, Positions & Points'!EG51)","v":""},{"$f":"IF('Races, Positions & Points'!#REF!=\"\",\"\",'Races, Positions & Points'!#REF!)","v":{"$error":"#REF!"}},{"$f":"IF('Races, Positions & Points'!#REF!=\"\",\"\",'Races, Positions & Points'!#REF!)","v":{"$error":"#REF!"}},{"$f":"IF('Races, Positions & Points'!#REF!=\"\",\"\",'Races, Positions & Points'!#REF!)","v":{"$error":"#REF!"}},{"$f":"IF('Races, Positions & Points'!#REF!=\"\",\"\",'Races, Positions & Points'!#REF!)","v":{"$error":"#REF!"}},{"$f":"IF('Races, Positions & Points'!#REF!=\"\",\"\",'Races, Positions & Points'!#REF!)","v":{"$error":"#REF!"}},{"$f":"IF('Races, Positions & Points'!#REF!=\"\",\"\",'Races, Positions & Points'!#REF!)","v":{"$error":"#REF!"}},null,{"$error":"#REF!"},{"$error":"#REF!"},{"$error":"#REF!"},{"$error":"#REF!"},{"$error":"#REF!"},{"$error":"#REF!"},null,{"$f":"'Races, Positions & Points'!E51","v":12318},{"$f":"'Races, Positions & Points'!#REF!","v":{"$error":"#REF!"}},{"$error":"#REF!"},"","",{"$error":"#REF!"},"",{"$error":"#REF!"},{"$error":"#REF!"},{"$error":"#REF!"},null,{"$error":"#REF!"},"","",{"$error":"#REF!"},"",{"$error":"#REF!"},{"$error":"#REF!"},{"$error":"#REF!"},null,"",{"$error":"#REF!"},"",{"$error":"#REF!"},"",{"$error":"#REF!"},"","",{"$error":"#REF!"},"","","","","","",{"$error":"#REF!"},null,{"$error":"#REF!"},"","","",null,{"$error":"#REF!"},"","","",null,"",{"$error":"#REF!"},"","","","",{"$error":"#REF!"},"","",{"$error":"#REF!"}]
[{"$f":"'Races, Positions & Points'!A52","v":"Adam Beardmore"},{"$f":"IF('Races, Positions & Points'!S52=\"\",\"\",'Races, Positions & Points'!S52)","v":""},{"$f":"IF('Races, Positions & Points'!V52=\"\",\"\",'Races, Positions & Points'!V52)","v":""},{"$f":"IF('Races, Positions & Points'!#REF!=\"\",\"\",'Races, Positions & Points'!#REF!)","v":{"$error":"#REF!"}},{"$f":"IF('Races, Positions & Points'!Y52=\"\",\"\",'Races, Positions & Points'!Y52)","v":""},{"$f":"IF('Races, Positions & Points'!Z52=\"\",\"\",'Races, Positions & Points'!Z52)","v":""},{"$f":"IF('Races, Positions & Points'!AC52=\"\",\"\",'Races, Positions & Points'!AC52)","v":""},{"$f":"IF('Races, Positions & Points'!AD52=\"\",\"\",'Races, Positions & Points'!AD52)","v":""},{"$f":"IF('Races, Positions & Points'!AG52=\"\",\"\",'Races, Positions & Points'!AG52)","v":""},{"$f":"IF('Races, Positions & Points'!AJ52=\"\",\"\",'Races, Positions & Points'!AJ52)","v":""},{"$f":"IF('Races, Positions & Points'!AM52=\"\",\"\",'Races, Positions & Points'!AM52)","v":""},{"$f":"IF('Races, Positions & Points'!AP52=\"\",\"\",'Races, Positions & Points'!AP52)","v":""},{"$f":"IF('Races, Positions & Points'!AS52=\"\",\"\",'Races, Positions & Points'!AS52)","v":""},{"$f":"IF('Races, Positions & Points'!AV52=\"\",\"\",'Races, Positions & Points'!AV52)","v":""},{"$f":"IF('Races, Positions & Points'!AY52=\"\",\"\",'Races, Positions & Points'!AY52)","v":""},{"$f":"IF('Races, Positions & Points'!BB52=\"\",\"\",'Races, Positions & Points'!BB52)","v":""},{"$f":"IF('Races, Positions & Points'!BE52=\"\",\"\",'Races, Positions & Points'!BE52)","v":""},{"$f":"IF('Races, Positions & Points'!BH52=\"\",\"\",'Races, Positions & Points'!BH52)","v":""},{"$f":"IF('Races, Positions & Points'!BK52=\"\",\"\",'Races, Positions & Points'!BK52)","v":""},{"$f":"IF('Races, Positions & Points'!BN52=\"\",\"\",'Races, Positions & Points'!BN52)","v":""},{"$f":"IF('Races, Positions & Points'!BQ52=\"\",\"\",'Races, Positions & Points'!BQ52)","v":""},{"$f":"IF('Races, Positions & Points'!BT52=\"\",\"\",'Races, Positions & Points'!BT52)","v":""},{"$f":"IF('Races, Positions & Points'!#REF!=\"\",\"\",'Races, Positions & Points'!#REF!)","v":{"$error":"#REF!"}},{"$f":"IF('Races, Positions & Points'!BW52=\"\",\"\",'Races, Positions & Points'!BW52)","v":""},{"$f":"IF('Races, Positions & Points'!BZ52=\"\",\"\",'Races, Positions & Points'!BZ52)","v":""},{"$f":"IF('Races, Positions & Points'!CG52=\"\",\"\",'Races, Positions & Points'!CG52)","v":""},{"$f":"IF('Races, Positions & Points'!CC52=\"\",\"\",'Races, Positions & Points'!CC52)","v":""},{"$f":"IF('Races, Positions & Points'!CJ52=\"\",\"\",'Races, Positions & Points'!CJ52)","v":""},{"$f":"IF('Races, Positions & Points'!CM52=\"\",\"\",'Races, Positions & Points'!CM52)","v":""},{"$f":"IF('Races, Positions & Points'!CW52=\"\",\"\",'Races, Positions & Points'!CW52)","v":""},{"$f":"IF('Races, Positions & Points'!CP52=\"\",\"\",'Races, Positions & Points'!CP52)","v":""},{"$f":"IF('Races, Positions & Points'!CZ52=\"\",\"\",'Races, Positions & Points'!CZ52)","v":""},{"$f":"IF('Races, Positions & Points'!#REF!=\"\",\"\",'Races, Positions & Points'!#REF!)","v":{"$error":"#REF!"}},{"$f":"IF('Races, Positions & Points'!DC52=\"\",\"\",'Races, Positions & Points'!DC52)","v":""},{"$f":"IF('Races, Positions & Points'!DF52=\"\",\"\",'Races, Positions & Points'!DF52)","v":""},{"$f":"IF('Races, Positions & Points'!DI52=\"\",\"\",'Races, Positions & Points'!DI52)","v":""},{"$f":"IF('Races, Positions & Points'!DL52=\"\",\"\",'Races, Positions & Points'!DL52)","v":""},{"$f":"IF('Races, Positions & Points'!DO52=\"\",\"\",'Races, Positions & Points'!DO52)","v":""},{"$f":"IF('Races, Positions & Points'!DR52=\"\",\"\",'Races, Positions & Points'!DR52)","v":""},{"$f":"IF('Races, Positions & Points'!DS52=\"\",\"\",'Races, Positions & Points'!DS52)","v":""},{"$f":"IF('Races, Positions & Points'!DU52=\"\",\"\",'Races, Positions & Points'!DU52)","v":""},{"$f":"IF('Races, Positions & Points'!DX52=\"\",\"\",'Races, Positions & Points'!DX52)","v":""},{"$f":"IF('Races, Positions & Points'!EA52=\"\",\"\",'Races, Positions & Points'!EA52)","v":""},{"$f":"IF('Races, Positions & Points'!ED52=\"\",\"\",'Races, Positions & Points'!ED52)","v":""},{"$f":"IF('Races, Positions & Points'!EG52=\"\",\"\",'Races, Positions & Points'!EG52)","v":""},{"$f":"IF('Races, Positions & Points'!#REF!=\"\",\"\",'Races, Positions & Points'!#REF!)","v":{"$error":"#REF!"}},{"$f":"IF('Races, Positions & Points'!#REF!=\"\",\"\",'Races, Positions & Points'!#REF!)","v":{"$error":"#REF!"}},{"$f":"IF('Races, Positions & Points'!#REF!=\"\",\"\",'Races, Positions & Points'!#REF!)","v":{"$error":"#REF!"}},{"$f":"IF('Races, Positions & Points'!#REF!=\"\",\"\",'Races, Positions & Points'!#REF!)","v":{"$error":"#REF!"}},{"$f":"IF('Races, Positions & Points'!#REF!=\"\",\"\",'Races, Positions & Points'!#REF!)","v":{"$error":"#REF!"}},{"$f":"IF('Races, Positions & Points'!#REF!=\"\",\"\",'Races, Positions & Points'!#REF!)","v":{"$error":"#REF!"}},null,{"$error":"#REF!"},{"$error":"#REF!"},{"$error":"#REF!"},{"$error":"#REF!"},{"$error":"#REF!"},{"$error":"#REF!"},null,{"$f":"'Races, Positions & Points'!E52","v":19704},{"$f":"'Races, Positions & Points'!#REF!","v":{"$error":"#REF!"}},{"$error":"#REF!"},"","",{"$error":"#REF!"},"",{"$error":"#REF!"},{"$error":"#REF!"},{"$error":"#REF!"},null,{"$error":"#REF!"},"","",{"$error":"#REF!"},"",{"$error":"#REF!"},{"$error":"#REF!"},{"$error":"#REF!"},null,"",{"$error":"#REF!"},"",{"$error":"#REF!"},"",{"$error":"#REF!"},"","",{"$error":"#REF!"},"","","","","","",{"$error":"#REF!"},null,{"$error":"#REF!"},"","","",null,{"$error":"#REF!"},"","","",null,"",{"$error":"#REF!"},"","","","",{"$error":"#REF!"},"","",{"$error":"#REF!"}]
[{"$f":"'Races, Positions & Points'!A53","v":"Adam. Lee"},{"$f":"IF('Races, Positions & Points'!S53=\"\",\"\",'Races, Positions & Points'!S53)","v":""},{"$f":"IF('Races, Positions & Points'!V53=\"\",\"\",'Races, Positions & Points'!V53)","v":""},{"$f":"IF('Races, Positions & Points'!#REF!=\"\",\"\",'Races, Positions & Points'!#REF!)","v":{"$error":"#REF!"}},{"$f":"IF('Races, Positions & Points'!Y53=\"\",\"\",'Races, Positions & Points'!Y53)","v":""},{"$f":"IF('Races, Positions & Points'!Z53=\"\",\"\",'Races, Positions & Points'!Z53)","v":""},{"$f":"IF('Races, Positions & Points'!AC53=\"\",\"\",'Races, Positions & Points'!AC53)","v":""},{"$f":"IF('Races, Positions & Points'!AD53=\"\",\"\",'Races, Positions & Points'!AD53)","v":""},{"$f":"IF('Races, Positions & Points'!AG53=\"\",\"\",'Races, Positions & Points'!AG53)","v":""},{"$f":"IF('Races, Positions & Points'!AJ53=\"\",\"\",'Races, Positions & Points'!AJ53)","v":""},{"$f":"IF('Races, Positions & Points'!AM53=\"\",\"\",'Races, Positions & Points'!AM53)","v":"DNF"},{"$f":"IF('Races, Positions & Points'!AP53=\"\",\"\",'Races, Positions & Points'!AP53)","v":""},{"$f":"IF('Races, Positions & Points'!AS53=\"\",\"\",'Races, Positions & Points'!AS53)","v":""},{"$f":"IF('Races, Positions & Points'!AV53=\"\",\"\",'Races, Positions & Points'!AV53)","v":""},{"$f":"IF('Races, Positions & Points'!AY53=\"\",\"\",'Races, Positions & Points'!AY53)","v":""},{"$f":"IF('Races, Positions & Points'!BB53=\"\",\"\",'Races, Positions & Points'!BB53)","v":""},{"$f":"IF('Races, Positions & Points'!BE53=\"\",\"\",'Races, Positions & Points'!BE53)","v":""},{"$f":"IF('Races, Positions & Points'!BH53=\"\",\"\",'Races, Positions & Points'!BH53)","v":""},{"$f":"IF('Races, Positions & Points'!BK53=\"\",\"\",'Races, Positions & Points'!BK53)","v":""},{"$f":"IF('Races, Positions & Points'!BN53=\"\",\"\",'Races, Positions & Points'!BN53)","v":""},{"$f":"IF('Races, Positions & Points'!BQ53=\"\",\"\",'Races, Positions & Points'!BQ53)","v":""},{"$f":"IF('Races, Positions & Points'!BT53=\"\",\"\",'Races, Positions & Points'!BT53)","v":""},{"$f":"IF('Races, Positions & Points'!#REF!=\"\",\"\",'Races, Positions & Points'!#REF!)","v":{"$error":"#REF!"}},{"$f":"IF('Races, Positions & Points'!BW53=\"\",\"\",'Races, Positions & Points'!BW53)","v":""},{"$f":"IF('Races, Positions & Points'!BZ53=\"\",\"\",'Races, Positions & Points'!BZ53)","v":""},{"$f":"IF('Races, Positions & Points'!CG53=\"\",\"\",'Races, Positions & Points'!CG53)","v":""},{"$f":"IF('Races, Positions & Points'!CC53=\"\",\"\",'Races, Positions & Points'!CC53)","v":"dnf"},{"$f":"IF('Races, Positions & Points'!CJ53=\"\",\"\",'Races, Positions & Points'!CJ53)","v":49.02},{"$f":"IF('Races, Positions & Points'!CM53=\"\",\"\",'Races, Positions & Points'!CM53)","v":""},{"$f":"IF('Races, Positions & Points'!CW53=\"\",\"\",'Races, Positions & Points'!CW53)","v":""},{"$f":"IF('Races, Positions & Points'!CP53=\"\",\"\",'Races, Positions & Points'!CP53)","v":206.39999999999998},{"$f":"IF('Races, Positions & Points'!CZ53=\"\",\"\",'Races, Positions & Points'!CZ53)","v":97.79},{"$f":"IF('Races, Positions & Points'!#REF!=\"\",\"\",'Races, Positions & Points'!#REF!)","v":{"$error":"#REF!"}},{"$f":"IF('Races, Positions & Points'!DC53=\"\",\"\",'Races, Positions & Points'!DC53)","v":61.42},{"$f":"IF('Races, Positions & Points'!DF53=\"\",\"\",'Races, Positions & Points'!DF53)","v":""},{"$f":"IF('Races, Positions & Points'!DI53=\"\",\"\",'Races, Positions & Points'!DI53)","v":""},{"$f":"IF('Races, Positions & Points'!DL53=\"\",\"\",'Races, Positions & Points'!DL53)","v":70.95},{"$f":"IF('Races, Positions & Points'!DO53=\"\",\"\",'Races, Positions & Points'!DO53)","v":39.49},{"$f":"IF('Races, Positions & Points'!DR53=\"\",\"\",'Races, Positions & Points'!DR53)","v":""},{"$f":"IF('Races, Positions & Points'!DS53=\"\",\"\",'Races, Positions & Points'!DS53)","v":7},{"$f":"IF('Races, Positions & Points'!DU53=\"\",\"\",'Races, Positions & Points'!DU53)","v":117.7},{"$f":"IF('Races, Positions & Points'!DX53=\"\",\"\",'Races, Positions & Points'!DX53)","v":""},{"$f":"IF('Races, Positions & Points'!EA53=\"\",\"\",'Races, Positions & Points'!EA53)","v":""},{"$f":"IF('Races, Positions & Points'!ED53=\"\",\"\",'Races, Positions & Points'!ED53)","v":""},{"$f":"IF('Races, Positions & Points'!EG53=\"\",\"\",'Races, Positions & Points'!EG53)","v":""},{"$f":"IF('Races, Positions & Points'!#REF!=\"\",\"\",'Races, Positions & Points'!#REF!)","v":{"$error":"#REF!"}},{"$f":"IF('Races, Positions & Points'!#REF!=\"\",\"\",'Races, Positions & Points'!#REF!)","v":{"$error":"#REF!"}},{"$f":"IF('Races, Positions & Points'!#REF!=\"\",\"\",'Races, Positions & Points'!#REF!)","v":{"$error":"#REF!"}},{"$f":"IF('Races, Positions & Points'!#REF!=\"\",\"\",'Races, Positions & Points'!#REF!)","v":{"$error":"#REF!"}},{"$f":"IF('Races, Positions & Points'!#REF!=\"\",\"\",'Races, Positions & Points'!#REF!)","v":{"$error":"#REF!"}},{"$f":"IF('Races, Positions & Points'!#REF!=\"\",\"\",'Races, Positions & Points'!#REF!)","v":{"$error":"#REF!"}},null,{"$error":"#REF!"},{"$error":"#REF!"},{"$error":"#REF!"},{"$error":"#REF!"},{"$error":"#REF!"},{"$error":"#REF!"},null,{"$f":"'Races, Positions & Points'!E53","v":41578},{"$f":"'Races, Positions & Points'!#REF!","v":{"$error":"#REF!"}},{"$error":"#REF!"},"","",{"$error":"#REF!"},"",{"$error":"#REF!"},{"$error":"#REF!"},{"$error":"#REF!"},null,{"$error":"#REF!"},"","",{"$error":"#REF!"},"",{"$error":"#REF!"},{"$error":"#REF!"},{"$error":"#REF!"},null,39.49,{"$error":"#REF!"},"",{"$error":"#REF!"},"",{"$error":"#REF!"},"","",{"$error":"#REF!"},"","",117.7,"dnf","","",{"$error":"#REF!"},null,{"$error":"#REF!"},"","","",null,{"$error":"#REF!"},"","","",null,39.49,{"$error":"#REF!"},"",{"$f":"IF(MIN(M46,N46,AR46,AS46)>0,MIN(M46,N46,AR46,AS46),\"\")","v":""},{"$f":"IF(MIN(O46,AE46),MIN(O46,AE46),\"\")","v":206.39999999999998},{"$f":"IF(J46>0,J46,\"\")","v":""},{"$f":"IF(MIN(AM46,AY46)>0,MIN(AM46,AY46),\"\")","v":{"$error":"#REF!"}},{"$f":"IF(R46>0,R46,\"\")","v":""},117.7,{"$f":"IF(MIN(AV46,AW46),MIN(AV46,AW46),\"\")","v":{"$error":"#REF!"}}]
[{"$f":"'Races, Positions & Points'!A54","v":"Oliver Weeks"},{"$f":"IF('Races, Positions & Points'!S54=\"\",\"\",'Races, Positions & Points'!S54)","v":""},{"$f":"IF('Races, Positions & Points'!V54=\"\",\"\",'Races, Positions & Points'!V54)","v":""},{"$f":"IF('Races, Positions & Points'!#REF!=\"\",\"\",'Races, Positions & Points'!#REF!)","v":{"$error":"#REF!"}},{"$f":"IF('Races, Positions & Points'!Y54=\"\",\"\",'Races, Positions & Points'!Y54)","v":79.819999999999993},{"$f":"IF('Races, Positions & Points'!Z54=\"\",\"\",'Races, Positions & Points'!Z54)","v":75.11},{"$f":"IF('Races, Positions & Points'!AC54=\"\",\"\",'Races, Positions & Points'!AC54)","v":68.23},{"$f":"IF('Races, Positions & Points'!AD54=\"\",\"\",'Races, Positions & Points'!AD54)","v":79},{"$f":"IF('Races, Positions & Points'!AG54=\"\",\"\",'Races, Positions & Points'!AG54)","v":57.37},{"$f":"IF('Races, Positions & Points'!AJ54=\"\",\"\",'Races, Positions & Points'!AJ54)","v":""},{"$f":"IF('Races, Positions & Points'!AM54=\"\",\"\",'Races, Positions & Points'!AM54)","v":55.05},{"$f":"IF('Races, Positions & Points'!AP54=\"\",\"\",'Races, Positions & Points'!AP54)","v":81.17},{"$f":"IF('Races, Positions & Points'!AS54=\"\",\"\",'Races, Positions & Points'!AS54)","v":65.55},{"$f":"IF('Races, Positions & Points'!AV54=\"\",\"\",'Races, Positions & Points'!AV54)","v":""},{"$f":"IF('Races, Positions & Points'!AY54=\"\",\"\",'Races, Positions & Points'!AY54)","v":""},{"$f":"IF('Races, Positions & Points'!BB54=\"\",\"\",'Races, Positions & Points'!BB54)","v":""},{"$f":"IF('Races, Positions & Points'!BE54=\"\",\"\",'Races, Positions & Points'!BE54)","v":""},{"$f":"IF('Races, Positions & Points'!BH54=\"\",\"\",'Races, Positions & Points'!BH54)","v":62.03},{"$f":"IF('Races, Positions & Points'!BK54=\"\",\"\",'Races, Positions & Points'!BK54)","v":""},{"$f":"IF('Races, Positions & Points'!BN54=\"\",\"\",'Races, Positions & Points'!BN54)","v":""},{"$f":"IF('Races, Positions & Points'!BQ54=\"\",\"\",'Races, Positions & Points'!BQ54)","v":50.370000000000005},{"$f":"IF('Races, Positions & Points'!BT54=\"\",\"\",'Races, Positions & Points'!BT54)","v":55.83},{"$f":"IF('Races, Positions & Points'!#REF!=\"\",\"\",'Races, Positions & Points'!#REF!)","v":{"$error":"#REF!"}},{"$f":"IF('Races, Positions & Points'!BW54=\"\",\"\",'Races, Positions & Points'!BW54)","v":47.21},{"$f":"IF('Races, Positions & Points'!BZ54=\"\",\"\",'Races, Positions & Points'!BZ54)","v":""},{"$f":"IF('Races, Positions & Points'!CG54=\"\",\"\",'Races, Positions & Points'!CG54)","v":""},{"$f":"IF('Races, Positions & Points'!CC54=\"\",\"\",'Races, Positions & Points'!CC54)","v":55.93},{"$f":"IF('Races, Positions & Points'!CJ54=\"\",\"\",'Races, Positions & Points'!CJ54)","v":83.37},{"$f":"IF('Races, Positions & Points'!CM54=\"\",\"\",'Races, Positions & Points'!CM54)","v":48.46},{"$f":"IF('Races, Positions & Points'!CW54=\"\",\"\",'Races, Positions & Points'!CW54)","v":""},{"$f":"IF('Races, Positions & Points'!CP54=\"\",\"\",'Races, Positions & Points'!CP54)","v":41.96},{"$f":"IF('Races, Positions & Points'!CZ54=\"\",\"\",'Races, Positions & Points'!CZ54)","v":79.61},{"$f":"IF('Races, Positions & Points'!#REF!=\"\",\"\",'Races, Positions & Points'!#REF!)","v":{"$error":"#REF!"}},{"$f":"IF('Races, Positions & Points'!DC54=\"\",\"\",'Races, Positions & Points'!DC54)","v":55.47},{"$f":"IF('Races, Positions & Points'!DF54=\"\",\"\",'Races, Positions & Points'!DF54)","v":52.45},{"$f":"IF('Races, Positions & Points'!DI54=\"\",\"\",'Races, Positions & Points'!DI54)","v":71},{"$f":"IF('Races, Positions & Points'!DL54=\"\",\"\",'Races, Positions & Points'!DL54)","v":61.45},{"$f":"IF('Races, Positions & Points'!DO54=\"\",\"\",'Races, Positions & Points'!DO54)","v":50.92},{"$f":"IF('Races, Positions & Points'!DR54=\"\",\"\",'Races, Positions & Points'!DR54)","v":""},{"$f":"IF('Races, Positions & Points'!DS54=\"\",\"\",'Races, Positions & Points'!DS54)","v":"-"},{"$f":"IF('Races, Positions & Points'!DU54=\"\",\"\",'Races, Positions & Points'!DU54)","v":"dnf"},{"$f":"IF('Races, Positions & Points'!DX54=\"\",\"\",'Races, Positions & Points'!DX54)","v":""},{"$f":"IF('Races, Positions & Points'!EA54=\"\",\"\",'Races, Positions & Points'!EA54)","v":"GS"},{"$f":"IF('Races, Positions & Points'!ED54=\"\",\"\",'Races, Positions & Points'!ED54)","v":31.66},{"$f":"IF('Races, Positions & Points'!EG54=\"\",\"\",'Races, Positions & Points'!EG54)","v":60.63},{"$f":"IF('Races, Positions & Points'!#REF!=\"\",\"\",'Races, Positions & Points'!#REF!)","v":{"$error":"#REF!"}},{"$f":"IF('Races, Positions & Points'!#REF!=\"\",\"\",'Races, Positions & Points'!#REF!)","v":{"$error":"#REF!"}},{"$f":"IF('Races, Positions & Points'!#REF!=\"\",\"\",'Races, Positions & Points'!#REF!)","v":{"$error":"#REF!"}},{"$f":"IF('Races, Positions & Points'!#REF!=\"\",\"\",'Races, Positions & Points'!#REF!)","v":{"$error":"#REF!"}},{"$f":"IF('Races, Positions & Points'!#REF!=\"\",\"\",'Races, Positions & Points'!#REF!)","v":{"$error":"#REF!"}},{"$f":"IF('Races, Positions & Points'!#REF!=\"\",\"\",'Races, Positions & Points'!#REF!)","v":{"$error":"#REF!"}},null,{"$error":"#REF!"},{"$error":"#REF!"},{"$error":"#REF!"},{"$error":"#REF!"},{"$error":"#REF!"},{"$error":"#REF!"},null,{"$f":"'Races, Positions & Points'!E54","v":19051},{"$f":"'Races, Positions & Points'!#REF!","v":{"$error":"#REF!"}},{"$error":"#REF!"},"","",{"$error":"#REF!"},"",{"$error":"#REF!"},{"$error":"#REF!"},{"$error":"#REF!"},null,{"$error":"#REF!"},"","",{"$error":"#REF!"},"",{"$error":"#REF!"},{"$error":"#REF!"},{"$error":"#REF!"},null,50.92,{"$error":"#REF!"},55.83,{"$error":"#REF!"},31.66,{"$error":"#REF!"},57.37,"",{"$error":"#REF!"},62.03,50.370000000000005,"",55.93,"",71,{"$error":"#REF!"},null,{"$error":"#REF!"},"","","",null,{"$error":"#REF!"},"","","",null,50.92,{"$error":"#REF!"},55.83,31.66,41.96,"",{"$error":"#REF!"},62.03,"dnf",{"$error":"#REF!"}]
[{"$f":"'Races, Positions & Points'!A55","v":"Phil Emmerson"},{"$f":"IF('Races, Positions & Points'!S55=\"\",\"\",'Races, Positions & Points'!S55)","v":""},{"$f":"IF('Races, Positions & Points'!V55=\"\",\"\",'Races, Positions & Points'!V55)","v":""},{"$f":"IF('Races, Positions & Points'!#REF!=\"\",\"\",'Races, Positions & Points'!#REF!)","v":{"$error":"#REF!"}},{"$f":"IF('Races, Positions & Points'!Y55=\"\",\"\",'Races, Positions & Points'!Y55)","v":""},{"$f":"IF('Races, Positions & Points'!Z55=\"\",\"\",'Races, Positions & Points'!Z55)","v":""},{"$f":"IF('Races, Positions & Points'!AC55=\"\",\"\",'Races, Positions & Points'!AC55)","v":""},{"$f":"IF('Races, Positions & Points'!AD55=\"\",\"\",'Races, Positions & Points'!AD55)","v":""},{"$f":"IF('Races, Positions & Points'!AG55=\"\",\"\",'Races, Positions & Points'!AG55)","v":""},{"$f":"IF('Races, Positions & Points'!AJ55=\"\",\"\",'Races, Positions & Points'!AJ55)","v":""},{"$f":"IF('Races, Positions & Points'!AM55=\"\",\"\",'Races, Positions & Points'!AM55)","v":""},{"$f":"IF('Races, Positions & Points'!AP55=\"\",\"\",'Races, Positions & Points'!AP55)","v":""},{"$f":"IF('Races, Positions & Points'!AS55=\"\",\"\",'Races, Positions & Points'!AS55)","v":""},{"$f":"IF('Races, Positions & Points'!AV55=\"\",\"\",'Races, Positions & Points'!AV55)","v":""},{"$f":"IF('Races, Positions & Points'!AY55=\"\",\"\",'Races, Positions & Points'!AY55)","v":""},{"$f":"IF('Races, Positions & Points'!BB55=\"\",\"\",'Races, Positions & Points'!BB55)","v":""},{"$f":"IF('Races, Positions & Points'!BE55=\"\",\"\",'Races, Positions & Points'!BE55)","v":""},{"$f":"IF('Races, Positions & Points'!BH55=\"\",\"\",'Races, Positions & Points'!BH55)","v":""},{"$f":"IF('Races, Positions & Points'!BK55=\"\",\"\",'Races, Positions & Points'!BK55)","v":""},{"$f":"IF('Races, Positions & Points'!BN55=\"\",\"\",'Races, Positions & Points'!BN55)","v":""},{"$f":"IF('Races, Positions & Points'!BQ55=\"\",\"\",'Races, Positions & Points'!BQ55)","v":""},{"$f":"IF('Races, Positions & Points'!BT55=\"\",\"\",'Races, Positions & Points'!BT55)","v":""},{"$f":"IF('Races, Positions & Points'!#REF!=\"\",\"\",'Races, Positions & Points'!#REF!)","v":{"$error":"#REF!"}},{"$f":"IF('Races, Positions & Points'!BW55=\"\",\"\",'Races, Positions & Points'!BW55)","v":""},{"$f":"IF('Races, Positions & Points'!BZ55=\"\",\"\",'Races, Positions & Points'!BZ55)","v":""},{"$f":"IF('Races, Positions & Points'!CG55=\"\",\"\",'Races, Positions & Points'!CG55)","v":""},{"$f":"IF('Races, Positions & Points'!CC55=\"\",\"\",'Races, Positions & Points'!CC55)","v":""},{"$f":"IF('Races, Positions & Points'!CJ55=\"\",\"\",'Races, Positions & Points'!CJ55)","v":""},{"$f":"IF('Races, Positions & Points'!CM55=\"\",\"\",'Races, Positions & Points'!CM55)","v":""},{"$f":"IF('Races, Positions & Points'!CW55=\"\",\"\",'Races, Positions & Points'!CW55)","v":""},{"$f":"IF('Races, Positions & Points'!CP55=\"\",\"\",'Races, Positions & Points'!CP55)","v":""},{"$f":"IF('Races, Positions & Points'!CZ55=\"\",\"\",'Races, Positions & Points'!CZ55)","v":""},{"$f":"IF('Races, Positions & Points'!#REF!=\"\",\"\",'Races, Positions & Points'!#REF!)","v":{"$error":"#REF!"}},{"$f":"IF('Races, Positions & Points'!DC55=\"\",\"\",'Races, Positions & Points'!DC55)","v":""},{"$f":"IF('Races, Positions & Points'!DF55=\"\",\"\",'Races, Positions & Points'!DF55)","v":""},{"$f":"IF('Races, Positions & Points'!DI55=\"\",\"\",'Races, Positions & Points'!DI55)","v":""},{"$f":"IF('Races, Positions & Points'!DL55=\"\",\"\",'Races, Positions & Points'!DL55)","v":""},{"$f":"IF('Races, Positions & Points'!DO55=\"\",\"\",'Races, Positions & Points'!DO55)","v":""},{"$f":"IF('Races, Positions & Points'!DR55=\"\",\"\",'Races, Positions & Points'!DR55)","v":""},{"$f":"IF('Races, Positions & Points'!DS55=\"\",\"\",'Races, Positions & Points'!DS55)","v":""},{"$f":"IF('Races, Positions & Points'!DU55=\"\",\"\",'Races, Positions & Points'!DU55)","v":""},{"$f":"IF('Races, Positions & Points'!DX55=\"\",\"\",'Races, Positions & Points'!DX55)","v":""},{"$f":"IF('Races, Positions & Points'!EA55=\"\",\"\",'Races, Positions & Points'!EA55)","v":""},{"$f":"IF('Races, Positions & Points'!ED55=\"\",\"\",'Races, Positions & Points'!ED55)","v":""},{"$f":"IF('Races, Positions & Points'!EG55=\"\",\"\",'Races, Positions & Points'!EG55)","v":""},{"$f":"IF('Races, Positions & Points'!#REF!=\"\",\"\",'Races, Positions & Points'!#REF!)","v":{"$error":"#REF!"}},{"$f":"IF('Races, Positions & Points'!#REF!=\"\",\"\",'Races, Positions & Points'!#REF!)","v":{"$error":"#REF!"}},{"$f":"IF('Races, Positions & Points'!#REF!=\"\",\"\",'Races, Positions & Points'!#REF!)","v":{"$error":"#REF!"}},{"$f":"IF('Races, Positions & Points'!#REF!=\"\",\"\",'Races, Positions & Points'!#REF!)","v":{"$error":"#REF!"}},{"$f":"IF('Races, Positions & Points'!#REF!=\"\",\"\",'Races, Positions & Points'!#REF!)","v":{"$error":"#REF!"}},{"$f":"IF('Races, Positions & Points'!#REF!=\"\",\"\",'Races, Positions & Points'!#REF!)","v":{"$error":"#REF!"}},null,{"$error":"#REF!"},{"$error":"#REF!"},{"$error":"#REF!"},{"$error":"#REF!"},{"$error":"#REF!"},{"$error":"#REF!"},null,{"$f":"'Races, Positions & Points'!E55","v":21084},{"$f":"'Races, Positions & Points'!#REF!","v":{"$error":"#REF!"}},{"$error":"#REF!"},"","",{"$error":"#REF!"},"",{"$error":"#REF!"},{"$error":"#REF!"},{"$error":"#REF!"},null,{"$error":"#REF!"},"","",{"$error":"#REF!"},"",{"$error":"#REF!"},{"$error":"#REF!"},{"$error":"#REF!"},null,"",{"$error":"#REF!"},"",{"$error":"#REF!"},"",{"$error":"#REF!"},"","",{"$error":"#REF!"},"","","","","","",{"$error":"#REF!"},null,{"$error":"#REF!"},"","","",null,{"$error":"#REF!"},"","","",null,"",{"$error":"#REF!"},"","","","",{"$error":"#REF!"},"","",{"$error":"#REF!"}]
[{"$f":"'Races, Positions & Points'!A56","v":"Jack Rigby"},{"$f":"IF('Races, Positions & Points'!S56=\"\",\"\",'Races, Positions & Points'!S56)","v":""},{"$f":"IF('Races, Positions & Points'!V56=\"\",\"\",'Races, Positions & Points'!V56)","v":""},{"$f":"IF('Races, Positions & Points'!#REF!=\"\",\"\",'Races, Positions & Points'!#REF!)","v":{"$error":"#REF!"}},{"$f":"IF('Races, Positions & Points'!Y56=\"\",\"\",'Races, Positions & Points'!Y56)","v":""},{"$f":"IF('Races, Positions & Points'!Z56=\"\",\"\",'Races, Positions & Points'!Z56)","v":""},{"$f":"IF('Races, Positions & Points'!AC56=\"\",\"\",'Races, Positions & Points'!AC56)","v":""},{"$f":"IF('Races, Positions & Points'!AD56=\"\",\"\",'Races, Positions & Points'!AD56)","v":""},{"$f":"IF('Races, Positions & Points'!AG56=\"\",\"\",'Races, Positions & Points'!AG56)","v":""},{"$f":"IF('Races, Positions & Points'!AJ56=\"\",\"\",'Races, Positions & Points'!AJ56)","v":""},{"$f":"IF('Races, Positions & Points'!AM56=\"\",\"\",'Races, Positions & Points'!AM56)","v":""},{"$f":"IF('Races, Positions & Points'!AP56=\"\",\"\",'Races, Positions & Points'!AP56)","v":""},{"$f":"IF('Races, Positions & Points'!AS56=\"\",\"\",'Races, Positions & Points'!AS56)","v":""},{"$f":"IF('Races, Positions & Points'!AV56=\"\",\"\",'Races, Positions & Points'!AV56)","v":""},{"$f":"IF('Races, Positions & Points'!AY56=\"\",\"\",'Races, Positions & Points'!AY56)","v":""},{"$f":"IF('Races, Positions & Points'!BB56=\"\",\"\",'Races, Positions & Points'!BB56)","v":""},{"$f":"IF('Races, Positions & Points'!BE56=\"\",\"\",'Races, Positions & Points'!BE56)","v":""},{"$f":"IF('Races, Positions & Points'!BH56=\"\",\"\",'Races, Positions & Points'!BH56)","v":""},{"$f":"IF('Races, Positions & Points'!BK56=\"\",\"\",'Races, Positions & Points'!BK56)","v":""},{"$f":"IF('Races, Positions & Points'!BN56=\"\",\"\",'Races, Positions & Points'!BN56)","v":""},{"$f":"IF('Races, Positions & Points'!BQ56=\"\",\"\",'Races, Positions & Points'!BQ56)","v":""},{"$f":"IF('Races, Positions & Points'!BT56=\"\",\"\",'Races, Positions & Points'!BT56)","v":""},{"$f":"IF('Races, Positions & Points'!#REF!=\"\",\"\",'Races, Positions & Points'!#REF!)","v":{"$error":"#REF!"}},{"$f":"IF('Races, Positions & Points'!BW56=\"\",\"\",'Races, Positions & Points'!BW56)","v":""},{"$f":"IF('Races, Positions & Points'!BZ56=\"\",\"\",'Races, Positions & Points'!BZ56)","v":""},{"$f":"IF('Races, Positions & Points'!CG56=\"\",\"\",'Races, Positions & Points'!CG56)","v":""},{"$f":"IF('Races, Positions & Points'!CC56=\"\",\"\",'Races, Positions & Points'!CC56)","v":""},{"$f":"IF('Races, Positions & Points'!CJ56=\"\",\"\",'Races, Positions & Points'!CJ56)","v":""},{"$f":"IF('Races, Positions & Points'!CM56=\"\",\"\",'Races, Positions & Points'!CM56)","v":""},{"$f":"IF('Races, Positions & Points'!CW56=\"\",\"\",'Races, Positions & Points'!CW56)","v":76.38},{"$f":"IF('Races, Positions & Points'!CP56=\"\",\"\",'Races, Positions & Points'!CP56)","v":""},{"$f":"IF('Races, Positions & Points'!CZ56=\"\",\"\",'Races, Positions & Points'!CZ56)","v":""},{"$f":"IF('Races, Positions & Points'!#REF!=\"\",\"\",'Races, Positions & Points'!#REF!)","v":{"$error":"#REF!"}},{"$f":"IF('Races, Positions & Points'!DC56=\"\",\"\",'Races, Positions & Points'!DC56)","v":""},{"$f":"IF('Races, Positions & Points'!DF56=\"\",\"\",'Races, Positions & Points'!DF56)","v":""},{"$f":"IF('Races, Positions & Points'!DI56=\"\",\"\",'Races, Positions & Points'!DI56)","v":""},{"$f":"IF('Races, Positions & Points'!DL56=\"\",\"\",'Races, Positions & Points'!DL56)","v":""},{"$f":"IF('Races, Positions & Points'!DO56=\"\",\"\",'Races, Positions & Points'!DO56)","v":""},{"$f":"IF('Races, Positions & Points'!DR56=\"\",\"\",'Races, Positions & Points'!DR56)","v":""},{"$f":"IF('Races, Positions & Points'!DS56=\"\",\"\",'Races, Positions & Points'!DS56)","v":""},{"$f":"IF('Races, Positions & Points'!DU56=\"\",\"\",'Races, Positions & Points'!DU56)","v":""},{"$f":"IF('Races, Positions & Points'!DX56=\"\",\"\",'Races, Positions & Points'!DX56)","v":""},{"$f":"IF('Races, Positions & Points'!EA56=\"\",\"\",'Races, Positions & Points'!EA56)","v":""},{"$f":"IF('Races, Positions & Points'!ED56=\"\",\"\",'Races, Positions & Points'!ED56)","v":""},{"$f":"IF('Races, Positions & Points'!EG56=\"\",\"\",'Races, Positions & Points'!EG56)","v":""},{"$f":"IF('Races, Positions & Points'!#REF!=\"\",\"\",'Races, Positions & Points'!#REF!)","v":{"$error":"#REF!"}},{"$f":"IF('Races, Positions & Points'!#REF!=\"\",\"\",'Races, Positions & Points'!#REF!)","v":{"$error":"#REF!"}},{"$f":"IF('Races, Positions & Points'!#REF!=\"\",\"\",'Races, Positions & Points'!#REF!)","v":{"$error":"#REF!"}},{"$f":"IF('Races, Positions & Points'!#REF!=\"\",\"\",'Races, Positions & Points'!#REF!)","v":{"$error":"#REF!"}},{"$f":"IF('Races, Positions & Points'!#REF!=\"\",\"\",'Races, Positions & Points'!#REF!)","v":{"$error":"#REF!"}},{"$f":"IF('Races, Positions & Points'!#REF!=\"\",\"\",'Races, Positions & Points'!#REF!)","v":{"$error":"#REF!"}},null,{"$error":"#REF!"},{"$error":"#REF!"},{"$error":"#REF!"},{"$error":"#REF!"},{"$error":"#REF!"},{"$error":"#REF!"},null,{"$f":"'Races, Positions & Points'!E56","v":41722},{"$f":"'Races, Positions & Points'!#REF!","v":{"$error":"#REF!"}},{"$error":"#REF!"},"","",{"$error":"#REF!"},"",{"$error":"#REF!"},{"$error":"#REF!"},{"$error":"#REF!"},null,{"$error":"#REF!"},"","",{"$error":"#REF!"},"",{"$error":"#REF!"},{"$error":"#REF!"},{"$error":"#REF!"},null,"",{"$error":"#REF!"},"",{"$error":"#REF!"},"",{"$error":"#REF!"},"","",{"$error":"#REF!"},"","","","",76.38,"",{"$error":"#REF!"},null,{"$error":"#REF!"},"","","",null,{"$error":"#REF!"},"","","",null,"",{"$error":"#REF!"},"","","","",{"$error":"#REF!"},"","",{"$error":"#REF!"}]
[{"$f":"'Races, Positions & Points'!A57","v":"Nick Miller"},{"$f":"IF('Races, Positions & Points'!S57=\"\",\"\",'Races, Positions & Points'!S57)","v":""},{"$f":"IF('Races, Positions & Points'!V57=\"\",\"\",'Races, Positions & Points'!V57)","v":""},{"$f":"IF('Races, Positions & Points'!#REF!=\"\",\"\",'Races, Positions & Points'!#REF!)","v":{"$error":"#REF!"}},{"$f":"IF('Races, Positions & Points'!Y57=\"\",\"\",'Races, Positions & Points'!Y57)","v":""},{"$f":"IF('Races, Positions & Points'!Z57=\"\",\"\",'Races, Positions & Points'!Z57)","v":""},{"$f":"IF('Races, Positions & Points'!AC57=\"\",\"\",'Races, Positions & Points'!AC57)","v":""},{"$f":"IF('Races, Positions & Points'!AD57=\"\",\"\",'Races, Positions & Points'!AD57)","v":""},{"$f":"IF('Races, Positions & Points'!AG57=\"\",\"\",'Races, Positions & Points'!AG57)","v":""},{"$f":"IF('Races, Positions & Points'!AJ57=\"\",\"\",'Races, Positions & Points'!AJ57)","v":""},{"$f":"IF('Races, Positions & Points'!AM57=\"\",\"\",'Races, Positions & Points'!AM57)","v":""},{"$f":"IF('Races, Positions & Points'!AP57=\"\",\"\",'Races, Positions & Points'!AP57)","v":""},{"$f":"IF('Races, Positions & Points'!AS57=\"\",\"\",'Races, Positions & Points'!AS57)","v":""},{"$f":"IF('Races, Positions & Points'!AV57=\"\",\"\",'Races, Positions & Points'!AV57)","v":""},{"$f":"IF('Races, Positions & Points'!AY57=\"\",\"\",'Races, Positions & Points'!AY57)","v":""},{"$f":"IF('Races, Positions & Points'!BB57=\"\",\"\",'Races, Positions & Points'!BB57)","v":""},{"$f":"IF('Races, Positions & Points'!BE57=\"\",\"\",'Races, Positions & Points'!BE57)","v":""},{"$f":"IF('Races, Positions & Points'!BH57=\"\",\"\",'Races, Positions & Points'!BH57)","v":""},{"$f":"IF('Races, Positions & Points'!BK57=\"\",\"\",'Races, Positions & Points'!BK57)","v":""},{"$f":"IF('Races, Positions & Points'!BN57=\"\",\"\",'Races, Positions & Points'!BN57)","v":""},{"$f":"IF('Races, Positions & Points'!BQ57=\"\",\"\",'Races, Positions & Points'!BQ57)","v":""},{"$f":"IF('Races, Positions & Points'!BT57=\"\",\"\",'Races, Positions & Points'!BT57)","v":""},{"$f":"IF('Races, Positions & Points'!#REF!=\"\",\"\",'Races, Positions & Points'!#REF!)","v":{"$error":"#REF!"}},{"$f":"IF('Races, Positions & Points'!BW57=\"\",\"\",'Races, Positions & Points'!BW57)","v":""},{"$f":"IF('Races, Positions & Points'!BZ57=\"\",\"\",'Races, Positions & Points'!BZ57)","v":""},{"$f":"IF('Races, Positions & Points'!CG57=\"\",\"\",'Races, Positions & Points'!CG57)","v":""},{"$f":"IF('Races, Positions & Points'!CC57=\"\",\"\",'Races, Positions & Points'!CC57)","v":""},{"$f":"IF('Races, Positions & Points'!CJ57=\"\",\"\",'Races, Positions & Points'!CJ57)","v":""},{"$f":"IF('Races, Positions & Points'!CM57=\"\",\"\",'Races, Positions & Points'!CM57)","v":""},{"$f":"IF('Races, Positions & Points'!CW57=\"\",\"\",'Races, Positions & Points'!CW57)","v":""},{"$f":"IF('Races, Positions & Points'!CP57=\"\",\"\",'Races, Positions & Points'!CP57)","v":""},{"$f":"IF('Races, Positions & Points'!CZ57=\"\",\"\",'Races, Positions & Points'!CZ57)","v":""},{"$f":"IF('Races, Positions & Points'!#REF!=\"\",\"\",'Races, Positions & Points'!#REF!)","v":{"$error":"#REF!"}},{"$f":"IF('Races, Positions & Points'!DC57=\"\",\"\",'Races, Positions & Points'!DC57)","v":""},{"$f":"IF('Races, Positions & Points'!DF57=\"\",\"\",'Races, Positions & Points'!DF57)","v":""},{"$f":"IF('Races, Positions & Points'!DI57=\"\",\"\",'Races, Positions & Points'!DI57)","v":""},{"$f":"IF('Races, Positions & Points'!DL57=\"\",\"\",'Races, Positions & Points'!DL57)","v":""},{"$f":"IF('Races, Positions & Points'!DO57=\"\",\"\",'Races, Positions & Points'!DO57)","v":""},{"$f":"IF('Races, Positions & Points'!DR57=\"\",\"\",'Races, Positions & Points'!DR57)","v":""},{"$f":"IF('Races, Positions & Points'!DS57=\"\",\"\",'Races, Positions & Points'!DS57)","v":""},{"$f":"IF('Races, Positions & Points'!DU57=\"\",\"\",'Races, Positions & Points'!DU57)","v":""},{"$f":"IF('Races, Positions & Points'!DX57=\"\",\"\",'Races, Positions & Points'!DX57)","v":""},{"$f":"IF('Races, Positions & Points'!EA57=\"\",\"\",'Races, Positions & Points'!EA57)","v":""},{"$f":"IF('Races, Positions & Points'!ED57=\"\",\"\",'Races, Positions & Points'!ED57)","v":""},{"$f":"IF('Races, Positions & Points'!EG57=\"\",\"\",'Races, Positions & Points'!EG57)","v":""},{"$f":"IF('Races, Positions & Points'!#REF!=\"\",\"\",'Races, Positions & Points'!#REF!)","v":{"$error":"#REF!"}},{"$f":"IF('Races, Positions & Points'!#REF!=\"\",\"\",'Races, Positions & Points'!#REF!)","v":{"$error":"#REF!"}},{"$f":"IF('Races, Positions & Points'!#REF!=\"\",\"\",'Races, Positions & Points'!#REF!)","v":{"$error":"#REF!"}},{"$f":"IF('Races, Positions & Points'!#REF!=\"\",\"\",'Races, Positions & Points'!#REF!)","v":{"$error":"#REF!"}},{"$f":"IF('Races, Positions & Points'!#REF!=\"\",\"\",'Races, Positions & Points'!#REF!)","v":{"$error":"#REF!"}},{"$f":"IF('Races, Positions & Points'!#REF!=\"\",\"\",'Races, Positions & Points'!#REF!)","v":{"$error":"#REF!"}},null,{"$error":"#REF!"},{"$error":"#REF!"},{"$error":"#REF!"},{"$error":"#REF!"},{"$error":"#REF!"},{"$error":"#REF!"},null,{"$f":"'Races, Positions & Points'!E57","v":18607},{"$f":"'Races, Positions & Points'!#REF!","v":{"$error":"#REF!"}},{"$error":"#REF!"},"","",{"$error":"#REF!"},"",{"$error":"#REF!"},{"$error":"#REF!"},{"$error":"#REF!"},null,{"$error":"#REF!"},"","",{"$error":"#REF!"},"",{"$error":"#REF!"},{"$error":"#REF!"},{"$error":"#REF!"},null,"",{"$error":"#REF!"},"",{"$error":"#REF!"},"",{"$error":"#REF!"},"","",{"$error":"#REF!"},"","","","","","",{"$error":"#REF!"},null,{"$error":"#REF!"},"","","",null,{"$error":"#REF!"},"","","",null,"",{"$error":"#REF!"},"","","","",{"$error":"#REF!"},"","",{"$error":"#REF!"}]
[{"$f":"'Races, Positions & Points'!A58","v":"Alasdair Thorley"},{"$f":"IF('Races, Positions & Points'!S58=\"\",\"\",'Races, Positions & Points'!S58)","v":""},{"$f":"IF('Races, Positions & Points'!V58=\"\",\"\",'Races, Positions & Points'!V58)","v":""},{"$f":"IF('Races, Positions & Points'!#REF!=\"\",\"\",'Races, Positions & Points'!#REF!)","v":{"$error":"#REF!"}},{"$f":"IF('Races, Positions & Points'!Y58=\"\",\"\",'Races, Positions & Points'!Y58)","v":""},{"$f":"IF('Races, Positions & Points'!Z58=\"\",\"\",'Races, Positions & Points'!Z58)","v":""},{"$f":"IF('Races, Positions & Points'!AC58=\"\",\"\",'Races, Positions & Points'!AC58)","v":""},{"$f":"IF('Races, Positions & Points'!AD58=\"\",\"\",'Races, Positions & Points'!AD58)","v":""},{"$f":"IF('Races, Positions & Points'!AG58=\"\",\"\",'Races, Positions & Points'!AG58)","v":""},{"$f":"IF('Races, Positions & Points'!AJ58=\"\",\"\",'Races, Positions & Points'!AJ58)","v":""},{"$f":"IF('Races, Positions & Points'!AM58=\"\",\"\",'Races, Positions & Points'!AM58)","v":""},{"$f":"IF('Races, Positions & Points'!AP58=\"\",\"\",'Races, Positions & Points'!AP58)","v":""},{"$f":"IF('Races, Positions & Points'!AS58=\"\",\"\",'Races, Positions & Points'!AS58)","v":""},{"$f":"IF('Races, Positions & Points'!AV58=\"\",\"\",'Races, Positions & Points'!AV58)","v":""},{"$f":"IF('Races, Positions & Points'!AY58=\"\",\"\",'Races, Positions & Points'!AY58)","v":""},{"$f":"IF('Races, Positions & Points'!BB58=\"\",\"\",'Races, Positions & Points'!BB58)","v":""},{"$f":"IF('Races, Positions & Points'!BE58=\"\",\"\",'Races, Positions & Points'!BE58)","v":""},{"$f":"IF('Races, Positions & Points'!BH58=\"\",\"\",'Races, Positions & Points'!BH58)","v":""},{"$f":"IF('Races, Positions & Points'!BK58=\"\",\"\",'Races, Positions & Points'!BK58)","v":""},{"$f":"IF('Races, Positions & Points'!BN58=\"\",\"\",'Races, Positions & Points'!BN58)","v":""},{"$f":"IF('Races, Positions & Points'!BQ58=\"\",\"\",'Races, Positions & Points'!BQ58)","v":""},{"$f":"IF('Races, Positions & Points'!BT58=\"\",\"\",'Races, Positions & Points'!BT58)","v":""},{"$f":"IF('Races, Positions & Points'!#REF!=\"\",\"\",'Races, Positions & Points'!#REF!)","v":{"$error":"#REF!"}},{"$f":"IF('Races, Positions & Points'!BW58=\"\",\"\",'Races, Positions & Points'!BW58)","v":""},{"$f":"IF('Races, Positions & Points'!BZ58=\"\",\"\",'Races, Positions & Points'!BZ58)","v":""},{"$f":"IF('Races, Positions & Points'!CG58=\"\",\"\",'Races, Positions & Points'!CG58)","v":""},{"$f":"IF('Races, Positions & Points'!CC58=\"\",\"\",'Races, Positions & Points'!CC58)","v":""},{"$f":"IF('Races, Positions & Points'!CJ58=\"\",\"\",'Races, Positions & Points'!CJ58)","v":""},{"$f":"IF('Races, Positions & Points'!CM58=\"\",\"\",'Races, Positions & Points'!CM58)","v":""},{"$f":"IF('Races, Positions & Points'!CW58=\"\",\"\",'Races, Positions & Points'!CW58)","v":""},{"$f":"IF('Races, Positions & Points'!CP58=\"\",\"\",'Races, Positions & Points'!CP58)","v":""},{"$f":"IF('Races, Positions & Points'!CZ58=\"\",\"\",'Races, Positions & Points'!CZ58)","v":""},{"$f":"IF('Races, Positions & Points'!#REF!=\"\",\"\",'Races, Positions & Points'!#REF!)","v":{"$error":"#REF!"}},{"$f":"IF('Races, Positions & Points'!DC58=\"\",\"\",'Races, Positions & Points'!DC58)","v":""},{"$f":"IF('Races, Positions & Points'!DF58=\"\",\"\",'Races, Positions & Points'!DF58)","v":""},{"$f":"IF('Races, Positions & Points'!DI58=\"\",\"\",'Races, Positions & Points'!DI58)","v":""},{"$f":"IF('Races, Positions & Points'!DL58=\"\",\"\",'Races, Positions & Points'!DL58)","v":""},{"$f":"IF('Races, Positions & Points'!DO58=\"\",\"\",'Races, Positions & Points'!DO58)","v":""},{"$f":"IF('Races, Positions & Points'!DR58=\"\",\"\",'Races, Positions & Points'!DR58)","v":""},{"$f":"IF('Races, Positions & Points'!DS58=\"\",\"\",'Races, Positions & Points'!DS58)","v":""},{"$f":"IF('Races, Positions & Points'!DU58=\"\",\"\",'Races, Positions & Points'!DU58)","v":""},{"$f":"IF('Races, Positions & Points'!DX58=\"\",\"\",'Races, Positions & Points'!DX58)","v":""},{"$f":"IF('Races, Positions & Points'!EA58=\"\",\"\",'Races, Positions & Points'!EA58)","v":""},{"$f":"IF('Races, Positions & Points'!ED58=\"\",\"\",'Races, Positions & Points'!ED58)","v":""},{"$f":"IF('Races, Positions & Points'!EG58=\"\",\"\",'Races, Positions & Points'!EG58)","v":""},{"$f":"IF('Races, Positions & Points'!#REF!=\"\",\"\",'Races, Positions & Points'!#REF!)","v":{"$error":"#REF!"}},{"$f":"IF('Races, Positions & Points'!#REF!=\"\",\"\",'Races, Positions & Points'!#REF!)","v":{"$error":"#REF!"}},{"$f":"IF('Races, Positions & Points'!#REF!=\"\",\"\",'Races, Positions & Points'!#REF!)","v":{"$error":"#REF!"}},{"$f":"IF('Races, Positions & Points'!#REF!=\"\",\"\",'Races, Positions & Points'!#REF!)","v":{"$error":"#REF!"}},{"$f":"IF('Races, Positions & Points'!#REF!=\"\",\"\",'Races, Positions & Points'!#REF!)","v":{"$error":"#REF!"}},{"$f":"IF('Races, Positions & Points'!#REF!=\"\",\"\",'Races, Positions & Points'!#REF!)","v":{"$error":"#REF!"}},null,{"$error":"#REF!"},{"$error":"#REF!"},{"$error":"#REF!"},{"$error":"#REF!"},{"$error":"#REF!"},{"$error":"#REF!"},null,{"$f":"'Races, Positions & Points'!E58","v":18586},{"$f":"'Races, Positions & Points'!#REF!","v":{"$error":"#REF!"}},{"$error":"#REF!"},"","",{"$error":"#REF!"},"",{"$error":"#REF!"},{"$error":"#REF!"},{"$error":"#REF!"},null,{"$error":"#REF!"},"","",{"$error":"#REF!"},"",{"$error":"#REF!"},{"$error":"#REF!"},{"$error":"#REF!"},null,"",{"$error":"#REF!"},"",{"$error":"#REF!"},"",{"$error":"#REF!"},"","",{"$error":"#REF!"},"","","","","","",{"$error":"#REF!"},null,{"$error":"#REF!"},"","","",null,{"$error":"#REF!"},"","","",null,"",{"$error":"#REF!"},"","","","",{"$error":"#REF!"},"","",{"$error":"#REF!"}]
[{"$f":"'Races, Positions & Points'!A59","v":"Edmund Walker"},{"$f":"IF('Races, Positions & Points'!S59=\"\",\"\",'Races, Positions & Points'!S59)","v":""},{"$f":"IF('Races, Positions & Points'!V59=\"\",\"\",'Races, Positions & Points'!V59)","v":""},{"$f":"IF('Races, Positions & Points'!#REF!=\"\",\"\",'Races, Positions & Points'!#REF!)","v":{"$error":"#REF!"}},{"$f":"IF('Races, Positions & Points'!Y59=\"\",\"\",'Races, Positions & Points'!Y59)","v":""},{"$f":"IF('Races, Positions & Points'!Z59=\"\",\"\",'Races, Positions & Points'!Z59)","v":""},{"$f":"IF('Races, Positions & Points'!AC59=\"\",\"\",'Races, Positions & Points'!AC59)","v":""},{"$f":"IF('Races, Positions & Points'!AD59=\"\",\"\",'Races, Positions & Points'!AD59)","v":""},{"$f":"IF('Races, Positions & Points'!AG59=\"\",\"\",'Races, Positions & Points'!AG59)","v":""},{"$f":"IF('Races, Positions & Points'!AJ59=\"\",\"\",'Races, Positions & Points'!AJ59)","v":""},{"$f":"IF('Races, Positions & Points'!AM59=\"\",\"\",'Races, Positions & Points'!AM59)","v":""},{"$f":"IF('Races, Positions & Points'!AP59=\"\",\"\",'Races, Positions & Points'!AP59)","v":""},{"$f":"IF('Races, Positions & Points'!AS59=\"\",\"\",'Races, Positions & Points'!AS59)","v":""},{"$f":"IF('Races, Positions & Points'!AV59=\"\",\"\",'Races, Positions & Points'!AV59)","v":71.59},{"$f":"IF('Races, Positions & Points'!AY59=\"\",\"\",'Races, Positions & Points'!AY59)","v":"DNF"},{"$f":"IF('Races, Positions & Points'!BB59=\"\",\"\",'Races, Positions & Points'!BB59)","v":""},{"$f":"IF('Races, Positions & Points'!BE59=\"\",\"\",'Races, Positions & Points'!BE59)","v":""},{"$f":"IF('Races, Positions & Points'!BH59=\"\",\"\",'Races, Positions & Points'!BH59)","v":""},{"$f":"IF('Races, Positions & Points'!BK59=\"\",\"\",'Races, Positions & Points'!BK59)","v":""},{"$f":"IF('Races, Positions & Points'!BN59=\"\",\"\",'Races, Positions & Points'!BN59)","v":""},{"$f":"IF('Races, Positions & Points'!BQ59=\"\",\"\",'Races, Positions & Points'!BQ59)","v":""},{"$f":"IF('Races, Positions & Points'!BT59=\"\",\"\",'Races, Positions & Points'!BT59)","v":""},{"$f":"IF('Races, Positions & Points'!#REF!=\"\",\"\",'Races, Positions & Points'!#REF!)","v":{"$error":"#REF!"}},{"$f":"IF('Races, Positions & Points'!BW59=\"\",\"\",'Races, Positions & Points'!BW59)","v":""},{"$f":"IF('Races, Positions & Points'!BZ59=\"\",\"\",'Races, Positions & Points'!BZ59)","v":""},{"$f":"IF('Races, Positions & Points'!CG59=\"\",\"\",'Races, Positions & Points'!CG59)","v":""},{"$f":"IF('Races, Positions & Points'!CC59=\"\",\"\",'Races, Positions & Points'!CC59)","v":""},{"$f":"IF('Races, Positions & Points'!CJ59=\"\",\"\",'Races, Positions & Points'!CJ59)","v":""},{"$f":"IF('Races, Positions & Points'!CM59=\"\",\"\",'Races, Positions & Points'!CM59)","v":""},{"$f":"IF('Races, Positions & Points'!CW59=\"\",\"\",'Races, Positions & Points'!CW59)","v":""},{"$f":"IF('Races, Positions & Points'!CP59=\"\",\"\",'Races, Positions & Points'!CP59)","v":""},{"$f":"IF('Races, Positions & Points'!CZ59=\"\",\"\",'Races, Positions & Points'!CZ59)","v":""},{"$f":"IF('Races, Positions & Points'!#REF!=\"\",\"\",'Races, Positions & Points'!#REF!)","v":{"$error":"#REF!"}},{"$f":"IF('Races, Positions & Points'!DC59=\"\",\"\",'Races, Positions & Points'!DC59)","v":""},{"$f":"IF('Races, Positions & Points'!DF59=\"\",\"\",'Races, Positions & Points'!DF59)","v":""},{"$f":"IF('Races, Positions & Points'!DI59=\"\",\"\",'Races, Positions & Points'!DI59)","v":""},{"$f":"IF('Races, Positions & Points'!DL59=\"\",\"\",'Races, Positions & Points'!DL59)","v":""},{"$f":"IF('Races, Positions & Points'!DO59=\"\",\"\",'Races, Positions & Points'!DO59)","v":""},{"$f":"IF('Races, Positions & Points'!DR59=\"\",\"\",'Races, Positions & Points'!DR59)","v":""},{"$f":"IF('Races, Positions & Points'!DS59=\"\",\"\",'Races, Positions & Points'!DS59)","v":""},{"$f":"IF('Races, Positions & Points'!DU59=\"\",\"\",'Races, Positions & Points'!DU59)","v":""},{"$f":"IF('Races, Positions & Points'!DX59=\"\",\"\",'Races, Positions & Points'!DX59)","v":""},{"$f":"IF('Races, Positions & Points'!EA59=\"\",\"\",'Races, Positions & Points'!EA59)","v":""},{"$f":"IF('Races, Positions & Points'!ED59=\"\",\"\",'Races, Positions & Points'!ED59)","v":""},{"$f":"IF('Races, Positions & Points'!EG59=\"\",\"\",'Races, Positions & Points'!EG59)","v":""},{"$f":"IF('Races, Positions & Points'!#REF!=\"\",\"\",'Races, Positions & Points'!#REF!)","v":{"$error":"#REF!"}},{"$f":"IF('Races, Positions & Points'!#REF!=\"\",\"\",'Races, Positions & Points'!#REF!)","v":{"$error":"#REF!"}},{"$f":"IF('Races, Positions & Points'!#REF!=\"\",\"\",'Races, Positions & Points'!#REF!)","v":{"$error":"#REF!"}},{"$f":"IF('Races, Positions & Points'!#REF!=\"\",\"\",'Races, Positions & Points'!#REF!)","v":{"$error":"#REF!"}},{"$f":"IF('Races, Positions & Points'!#REF!=\"\",\"\",'Races, Positions & Points'!#REF!)","v":{"$error":"#REF!"}},{"$f":"IF('Races, Positions & Points'!#REF!=\"\",\"\",'Races, Positions & Points'!#REF!)","v":{"$error":"#REF!"}},null,{"$error":"#REF!"},{"$error":"#REF!"},{"$error":"#REF!"},{"$error":"#REF!"},{"$error":"#REF!"},{"$error":"#REF!"},null,{"$f":"'Races, Positions & Points'!E59","v":14213},{"$f":"'Races, Positions & Points'!#REF!","v":{"$error":"#REF!"}},{"$error":"#REF!"},"","",{"$error":"#REF!"},"",{"$error":"#REF!"},{"$error":"#REF!"},{"$error":"#REF!"},null,{"$error":"#REF!"},"","",{"$error":"#REF!"},"",{"$error":"#REF!"},{"$error":"#REF!"},{"$error":"#REF!"},null,"",{"$error":"#REF!"},"",{"$error":"#REF!"},71.59,{"$error":"#REF!"},"","",{"$error":"#REF!"},"","","","","","",{"$error":"#REF!"},null,{"$error":"#REF!"},"","","",null,{"$error":"#REF!"},"","","",null,"",{"$error":"#REF!"},"",71.59,"","",{"$error":"#REF!"},"","",{"$error":"#REF!"}]
[{"$f":"'Races, Positions & Points'!A60","v":"Mark Hawkins"},{"$f":"IF('Races, Positions & Points'!S60=\"\",\"\",'Races, Positions & Points'!S60)","v":""},{"$f":"IF('Races, Positions & Points'!V60=\"\",\"\",'Races, Positions & Points'!V60)","v":""},{"$f":"IF('Races, Positions & Points'!#REF!=\"\",\"\",'Races, Positions & Points'!#REF!)","v":{"$error":"#REF!"}},{"$f":"IF('Races, Positions & Points'!Y60=\"\",\"\",'Races, Positions & Points'!Y60)","v":""},{"$f":"IF('Races, Positions & Points'!Z60=\"\",\"\",'Races, Positions & Points'!Z60)","v":""},{"$f":"IF('Races, Positions & Points'!AC60=\"\",\"\",'Races, Positions & Points'!AC60)","v":""},{"$f":"IF('Races, Positions & Points'!AD60=\"\",\"\",'Races, Positions & Points'!AD60)","v":""},{"$f":"IF('Races, Positions & Points'!AG60=\"\",\"\",'Races, Positions & Points'!AG60)","v":""},{"$f":"IF('Races, Positions & Points'!AJ60=\"\",\"\",'Races, Positions & Points'!AJ60)","v":46.63},{"$f":"IF('Races, Positions & Points'!AM60=\"\",\"\",'Races, Positions & Points'!AM60)","v":"DNF"},{"$f":"IF('Races, Positions & Points'!AP60=\"\",\"\",'Races, Positions & Points'!AP60)","v":""},{"$f":"IF('Races, Positions & Points'!AS60=\"\",\"\",'Races, Positions & Points'!AS60)","v":""},{"$f":"IF('Races, Positions & Points'!AV60=\"\",\"\",'Races, Positions & Points'!AV60)","v":""},{"$f":"IF('Races, Positions & Points'!AY60=\"\",\"\",'Races, Positions & Points'!AY60)","v":""},{"$f":"IF('Races, Positions & Points'!BB60=\"\",\"\",'Races, Positions & Points'!BB60)","v":""},{"$f":"IF('Races, Positions & Points'!BE60=\"\",\"\",'Races, Positions & Points'!BE60)","v":""},{"$f":"IF('Races, Positions & Points'!BH60=\"\",\"\",'Races, Positions & Points'!BH60)","v":""},{"$f":"IF('Races, Positions & Points'!BK60=\"\",\"\",'Races, Positions & Points'!BK60)","v":""},{"$f":"IF('Races, Positions & Points'!BN60=\"\",\"\",'Races, Positions & Points'!BN60)","v":""},{"$f":"IF('Races, Positions & Points'!BQ60=\"\",\"\",'Races, Positions & Points'!BQ60)","v":""},{"$f":"IF('Races, Positions & Points'!BT60=\"\",\"\",'Races, Positions & Points'!BT60)","v":""},{"$f":"IF('Races, Positions & Points'!#REF!=\"\",\"\",'Races, Positions & Points'!#REF!)","v":{"$error":"#REF!"}},{"$f":"IF('Races, Positions & Points'!BW60=\"\",\"\",'Races, Positions & Points'!BW60)","v":""},{"$f":"IF('Races, Positions & Points'!BZ60=\"\",\"\",'Races, Positions & Points'!BZ60)","v":""},{"$f":"IF('Races, Positions & Points'!CG60=\"\",\"\",'Races, Positions & Points'!CG60)","v":""},{"$f":"IF('Races, Positions & Points'!CC60=\"\",\"\",'Races, Positions & Points'!CC60)","v":"dnf"},{"$f":"IF('Races, Positions & Points'!CJ60=\"\",\"\",'Races, Positions & Points'!CJ60)","v":""},{"$f":"IF('Races, Positions & Points'!CM60=\"\",\"\",'Races, Positions & Points'!CM60)","v":""},{"$f":"IF('Races, Positions & Points'!CW60=\"\",\"\",'Races, Positions & Points'!CW60)","v":""},{"$f":"IF('Races, Positions & Points'!CP60=\"\",\"\",'Races, Positions & Points'!CP60)","v":"dnf"},{"$f":"IF('Races, Positions & Points'!CZ60=\"\",\"\",'Races, Positions & Points'!CZ60)","v":"dnf"},{"$f":"IF('Races, Positions & Points'!#REF!=\"\",\"\",'Races, Positions & Points'!#REF!)","v":{"$error":"#REF!"}},{"$f":"IF('Races, Positions & Points'!DC60=\"\",\"\",'Races, Positions & Points'!DC60)","v":""},{"$f":"IF('Races, Positions & Points'!DF60=\"\",\"\",'Races, Positions & Points'!DF60)","v":""},{"$f":"IF('Races, Positions & Points'!DI60=\"\",\"\",'Races, Positions & Points'!DI60)","v":""},{"$f":"IF('Races, Positions & Points'!DL60=\"\",\"\",'Races, Positions & Points'!DL60)","v":""},{"$f":"IF('Races, Positions & Points'!DO60=\"\",\"\",'Races, Positions & Points'!DO60)","v":""},{"$f":"IF('Races, Positions & Points'!DR60=\"\",\"\",'Races, Positions & Points'!DR60)","v":""},{"$f":"IF('Races, Positions & Points'!DS60=\"\",\"\",'Races, Positions & Points'!DS60)","v":""},{"$f":"IF('Races, Positions & Points'!DU60=\"\",\"\",'Races, Positions & Points'!DU60)","v":""},{"$f":"IF('Races, Positions & Points'!DX60=\"\",\"\",'Races, Positions & Points'!DX60)","v":""},{"$f":"IF('Races, Positions & Points'!EA60=\"\",\"\",'Races, Positions & Points'!EA60)","v":""},{"$f":"IF('Races, Positions & Points'!ED60=\"\",\"\",'Races, Positions & Points'!ED60)","v":""},{"$f":"IF('Races, Positions & Points'!EG60=\"\",\"\",'Races, Positions & Points'!EG60)","v":""},{"$f":"IF('Races, Positions & Points'!#REF!=\"\",\"\",'Races, Positions & Points'!#REF!)","v":{"$error":"#REF!"}},{"$f":"IF('Races, Positions & Points'!#REF!=\"\",\"\",'Races, Positions & Points'!#REF!)","v":{"$error":"#REF!"}},{"$f":"IF('Races, Positions & Points'!#REF!=\"\",\"\",'Races, Positions & Points'!#REF!)","v":{"$error":"#REF!"}},{"$f":"IF('Races, Positions & Points'!#REF!=\"\",\"\",'Races, Positions & Points'!#REF!)","v":{"$error":"#REF!"}},{"$f":"IF('Races, Positions & Points'!#REF!=\"\",\"\",'Races, Positions & Points'!#REF!)","v":{"$error":"#REF!"}},{"$f":"IF('Races, Positions & Points'!#REF!=\"\",\"\",'Races, Positions & Points'!#REF!)","v":{"$error":"#REF!"}},null,{"$error":"#REF!"},{"$error":"#REF!"},{"$error":"#REF!"},{"$error":"#REF!"},{"$error":"#REF!"},{"$error":"#REF!"},null,{"$f":"'Races, Positions & Points'!E60","v":19163},{"$f":"'Races, Positions & Points'!#REF!","v":{"$error":"#REF!"}},{"$error":"#REF!"},"","",{"$error":"#REF!"},"",{"$error":"#REF!"},{"$error":"#REF!"},{"$error":"#REF!"},null,{"$error":"#REF!"},"","",{"$error":"#REF!"},"",{"$error":"#REF!"},{"$error":"#REF!"},{"$error":"#REF!"},null,"",{"$error":"#REF!"},"",{"$error":"#REF!"},"",{"$error":"#REF!"},46.63,"",{"$error":"#REF!"},"","","","dnf","","",{"$error":"#REF!"},null,{"$error":"#REF!"},"","","",null,{"$error":"#REF!"},"","","",null,"",{"$error":"#REF!"},"","","",46.63,{"$error":"#REF!"},"","",{"$error":"#REF!"}]
[{"$f":"'Races, Positions & Points'!A61","v":"James Smith"},{"$f":"IF('Races, Positions & Points'!S61=\"\",\"\",'Races, Positions & Points'!S61)","v":""},{"$f":"IF('Races, Positions & Points'!V61=\"\",\"\",'Races, Positions & Points'!V61)","v":""},{"$f":"IF('Races, Positions & Points'!#REF!=\"\",\"\",'Races, Positions & Points'!#REF!)","v":{"$error":"#REF!"}},{"$f":"IF('Races, Positions & Points'!Y61=\"\",\"\",'Races, Positions & Points'!Y61)","v":""},{"$f":"IF('Races, Positions & Points'!Z61=\"\",\"\",'Races, Positions & Points'!Z61)","v":""},{"$f":"IF('Races, Positions & Points'!AC61=\"\",\"\",'Races, Positions & Points'!AC61)","v":""},{"$f":"IF('Races, Positions & Points'!AD61=\"\",\"\",'Races, Positions & Points'!AD61)","v":""},{"$f":"IF('Races, Positions & Points'!AG61=\"\",\"\",'Races, Positions & Points'!AG61)","v":""},{"$f":"IF('Races, Positions & Points'!AJ61=\"\",\"\",'Races, Positions & Points'!AJ61)","v":""},{"$f":"IF('Races, Positions & Points'!AM61=\"\",\"\",'Races, Positions & Points'!AM61)","v":""},{"$f":"IF('Races, Positions & Points'!AP61=\"\",\"\",'Races, Positions & Points'!AP61)","v":""},{"$f":"IF('Races, Positions & Points'!AS61=\"\",\"\",'Races, Positions & Points'!AS61)","v":""},{"$f":"IF('Races, Positions & Points'!AV61=\"\",\"\",'Races, Positions & Points'!AV61)","v":""},{"$f":"IF('Races, Positions & Points'!AY61=\"\",\"\",'Races, Positions & Points'!AY61)","v":""},{"$f":"IF('Races, Positions & Points'!BB61=\"\",\"\",'Races, Positions & Points'!BB61)","v":""},{"$f":"IF('Races, Positions & Points'!BE61=\"\",\"\",'Races, Positions & Points'!BE61)","v":""},{"$f":"IF('Races, Positions & Points'!BH61=\"\",\"\",'Races, Positions & Points'!BH61)","v":""},{"$f":"IF('Races, Positions & Points'!BK61=\"\",\"\",'Races, Positions & Points'!BK61)","v":""},{"$f":"IF('Races, Positions & Points'!BN61=\"\",\"\",'Races, Positions & Points'!BN61)","v":""},{"$f":"IF('Races, Positions & Points'!BQ61=\"\",\"\",'Races, Positions & Points'!BQ61)","v":""},{"$f":"IF('Races, Positions & Points'!BT61=\"\",\"\",'Races, Positions & Points'!BT61)","v":""},{"$f":"IF('Races, Positions & Points'!#REF!=\"\",\"\",'Races, Positions & Points'!#REF!)","v":{"$error":"#REF!"}},{"$f":"IF('Races, Positions & Points'!BW61=\"\",\"\",'Races, Positions & Points'!BW61)","v":""},{"$f":"IF('Races, Positions & Points'!BZ61=\"\",\"\",'Races, Positions & Points'!BZ61)","v":""},{"$f":"IF('Races, Positions & Points'!CG61=\"\",\"\",'Races, Positions & Points'!CG61)","v":""},{"$f":"IF('Races, Positions & Points'!CC61=\"\",\"\",'Races, Positions & Points'!CC61)","v":""},{"$f":"IF('Races, Positions & Points'!CJ61=\"\",\"\",'Races, Positions & Points'!CJ61)","v":""},{"$f":"IF('Races, Positions & Points'!CM61=\"\",\"\",'Races, Positions & Points'!CM61)","v":""},{"$f":"IF('Races, Positions & Points'!CW61=\"\",\"\",'Races, Positions & Points'!CW61)","v":""},{"$f":"IF('Races, Positions & Points'!CP61=\"\",\"\",'Races, Positions & Points'!CP61)","v":""},{"$f":"IF('Races, Positions & Points'!CZ61=\"\",\"\",'Races, Positions & Points'!CZ61)","v":""},{"$f":"IF('Races, Positions & Points'!#REF!=\"\",\"\",'Races, Positions & Points'!#REF!)","v":{"$error":"#REF!"}},{"$f":"IF('Races, Positions & Points'!DC61=\"\",\"\",'Races, Positions & Points'!DC61)","v":""},{"$f":"IF('Races, Positions & Points'!DF61=\"\",\"\",'Races, Positions & Points'!DF61)","v":""},{"$f":"IF('Races, Positions & Points'!DI61=\"\",\"\",'Races, Positions & Points'!DI61)","v":""},{"$f":"IF('Races, Positions & Points'!DL61=\"\",\"\",'Races, Positions & Points'!DL61)","v":""},{"$f":"IF('Races, Positions & Points'!DO61=\"\",\"\",'Races, Positions & Points'!DO61)","v":""},{"$f":"IF('Races, Positions & Points'!DR61=\"\",\"\",'Races, Positions & Points'!DR61)","v":""},{"$f":"IF('Races, Positions & Points'!DS61=\"\",\"\",'Races, Positions & Points'!DS61)","v":""},{"$f":"IF('Races, Positions & Points'!DU61=\"\",\"\",'Races, Positions & Points'!DU61)","v":""},{"$f":"IF('Races, Positions & Points'!DX61=\"\",\"\",'Races, Positions & Points'!DX61)","v":""},{"$f":"IF('Races, Positions & Points'!EA61=\"\",\"\",'Races, Positions & Points'!EA61)","v":""},{"$f":"IF('Races, Positions & Points'!ED61=\"\",\"\",'Races, Positions & Points'!ED61)","v":""},{"$f":"IF('Races, Positions & Points'!EG61=\"\",\"\",'Races, Positions & Points'!EG61)","v":""},{"$f":"IF('Races, Positions & Points'!#REF!=\"\",\"\",'Races, Positions & Points'!#REF!)","v":{"$error":"#REF!"}},{"$f":"IF('Races, Positions & Points'!#REF!=\"\",\"\",'Races, Positions & Points'!#REF!)","v":{"$error":"#REF!"}},{"$f":"IF('Races, Positions & Points'!#REF!=\"\",\"\",'Races, Positions & Points'!#REF!)","v":{"$error":"#REF!"}},{"$f":"IF('Races, Positions & Points'!#REF!=\"\",\"\",'Races, Positions & Points'!#REF!)","v":{"$error":"#REF!"}},{"$f":"IF('Races, Positions & Points'!#REF!=\"\",\"\",'Races, Positions & Points'!#REF!)","v":{"$error":"#REF!"}},{"$f":"IF('Races, Positions & Points'!#REF!=\"\",\"\",'Races, Positions & Points'!#REF!)","v":{"$error":"#REF!"}},null,{"$error":"#REF!"},{"$error":"#REF!"},{"$error":"#REF!"},{"$error":"#REF!"},{"$error":"#REF!"},{"$error":"#REF!"},null,{"$f":"'Races, Positions & Points'!E61","v":21595},{"$f":"'Races, Positions & Points'!#REF!","v":{"$error":"#REF!"}},{"$error":"#REF!"},"","",{"$error":"#REF!"},"",{"$error":"#REF!"},{"$error":"#REF!"},{"$error":"#REF!"},null,{"$error":"#REF!"},"","",{"$error":"#REF!"},"",{"$error":"#REF!"},{"$error":"#REF!"},{"$error":"#REF!"},null,"",{"$error":"#REF!"},"",{"$error":"#REF!"},"",{"$error":"#REF!"},"","",{"$error":"#REF!"},"","","","","","",{"$error":"#REF!"},null,{"$error":"#REF!"},"","",{"$f":"IF(ISERROR(CS54*1.2),\"\",IF(CS54<50,CS54+10,IF(CS54<999.99,CS54*1.2,\"\")))","v":""},null,{"$error":"#REF!"},"","","",null,"",{"$error":"#REF!"},"","","","",{"$error":"#REF!"},"","",{"$error":"#REF!"}]
[{"$f":"'Races, Positions & Points'!A62","v":"Gareth Miller"},{"$f":"IF('Races, Positions & Points'!S62=\"\",\"\",'Races, Positions & Points'!S62)","v":""},{"$f":"IF('Races, Positions & Points'!V62=\"\",\"\",'Races, Positions & Points'!V62)","v":""},{"$f":"IF('Races, Positions & Points'!#REF!=\"\",\"\",'Races, Positions & Points'!#REF!)","v":{"$error":"#REF!"}},{"$f":"IF('Races, Positions & Points'!Y62=\"\",\"\",'Races, Positions & Points'!Y62)","v":""},{"$f":"IF('Races, Positions & Points'!Z62=\"\",\"\",'Races, Positions & Points'!Z62)","v":""},{"$f":"IF('Races, Positions & Points'!AC62=\"\",\"\",'Races, Positions & Points'!AC62)","v":""},{"$f":"IF('Races, Positions & Points'!AD62=\"\",\"\",'Races, Positions & Points'!AD62)","v":""},{"$f":"IF('Races, Positions & Points'!AG62=\"\",\"\",'Races, Positions & Points'!AG62)","v":""},{"$f":"IF('Races, Positions & Points'!AJ62=\"\",\"\",'Races, Positions & Points'!AJ62)","v":""},{"$f":"IF('Races, Positions & Points'!AM62=\"\",\"\",'Races, Positions & Points'!AM62)","v":""},{"$f":"IF('Races, Positions & Points'!AP62=\"\",\"\",'Races, Positions & Points'!AP62)","v":""},{"$f":"IF('Races, Positions & Points'!AS62=\"\",\"\",'Races, Positions & Points'!AS62)","v":""},{"$f":"IF('Races, Positions & Points'!AV62=\"\",\"\",'Races, Positions & Points'!AV62)","v":""},{"$f":"IF('Races, Positions & Points'!AY62=\"\",\"\",'Races, Positions & Points'!AY62)","v":""},{"$f":"IF('Races, Positions & Points'!BB62=\"\",\"\",'Races, Positions & Points'!BB62)","v":""},{"$f":"IF('Races, Positions & Points'!BE62=\"\",\"\",'Races, Positions & Points'!BE62)","v":""},{"$f":"IF('Races, Positions & Points'!BH62=\"\",\"\",'Races, Positions & Points'!BH62)","v":""},{"$f":"IF('Races, Positions & Points'!BK62=\"\",\"\",'Races, Positions & Points'!BK62)","v":""},{"$f":"IF('Races, Positions & Points'!BN62=\"\",\"\",'Races, Positions & Points'!BN62)","v":""},{"$f":"IF('Races, Positions & Points'!BQ62=\"\",\"\",'Races, Positions & Points'!BQ62)","v":""},{"$f":"IF('Races, Positions & Points'!BT62=\"\",\"\",'Races, Positions & Points'!BT62)","v":""},{"$f":"IF('Races, Positions & Points'!#REF!=\"\",\"\",'Races, Positions & Points'!#REF!)","v":{"$error":"#REF!"}},{"$f":"IF('Races, Positions & Points'!BW62=\"\",\"\",'Races, Positions & Points'!BW62)","v":""},{"$f":"IF('Races, Positions & Points'!BZ62=\"\",\"\",'Races, Positions & Points'!BZ62)","v":""},{"$f":"IF('Races, Positions & Points'!CG62=\"\",\"\",'Races, Positions & Points'!CG62)","v":""},{"$f":"IF('Races, Positions & Points'!CC62=\"\",\"\",'Races, Positions & Points'!CC62)","v":""},{"$f":"IF('Races, Positions & Points'!CJ62=\"\",\"\",'Races, Positions & Points'!CJ62)","v":""},{"$f":"IF('Races, Positions & Points'!CM62=\"\",\"\",'Races, Positions & Points'!CM62)","v":""},{"$f":"IF('Races, Positions & Points'!CW62=\"\",\"\",'Races, Positions & Points'!CW62)","v":""},{"$f":"IF('Races, Positions & Points'!CP62=\"\",\"\",'Races, Positions & Points'!CP62)","v":""},{"$f":"IF('Races, Positions & Points'!CZ62=\"\",\"\",'Races, Positions & Points'!CZ62)","v":""},{"$f":"IF('Races, Positions & Points'!#REF!=\"\",\"\",'Races, Positions & Points'!#REF!)","v":{"$error":"#REF!"}},{"$f":"IF('Races, Positions & Points'!DC62=\"\",\"\",'Races, Positions & Points'!DC62)","v":""},{"$f":"IF('Races, Positions & Points'!DF62=\"\",\"\",'Races, Positions & Points'!DF62)","v":""},{"$f":"IF('Races, Positions & Points'!DI62=\"\",\"\",'Races, Positions & Points'!DI62)","v":""},{"$f":"IF('Races, Positions & Points'!DL62=\"\",\"\",'Races, Positions & Points'!DL62)","v":""},{"$f":"IF('Races, Positions & Points'!DO62=\"\",\"\",'Races, Positions & Points'!DO62)","v":""},{"$f":"IF('Races, Positions & Points'!DR62=\"\",\"\",'Races, Positions & Points'!DR62)","v":""},{"$f":"IF('Races, Positions & Points'!DS62=\"\",\"\",'Races, Positions & Points'!DS62)","v":""},{"$f":"IF('Races, Positions & Points'!DU62=\"\",\"\",'Races, Positions & Points'!DU62)","v":""},{"$f":"IF('Races, Positions & Points'!DX62=\"\",\"\",'Races, Positions & Points'!DX62)","v":""},{"$f":"IF('Races, Positions & Points'!EA62=\"\",\"\",'Races, Positions & Points'!EA62)","v":""},{"$f":"IF('Races, Positions & Points'!ED62=\"\",\"\",'Races, Positions & Points'!ED62)","v":""},{"$f":"IF('Races, Positions & Points'!EG62=\"\",\"\",'Races, Positions & Points'!EG62)","v":""},{"$f":"IF('Races, Positions & Points'!#REF!=\"\",\"\",'Races, Positions & Points'!#REF!)","v":{"$error":"#REF!"}},{"$f":"IF('Races, Positions & Points'!#REF!=\"\",\"\",'Races, Positions & Points'!#REF!)","v":{"$error":"#REF!"}},{"$f":"IF('Races, Positions & Points'!#REF!=\"\",\"\",'Races, Positions & Points'!#REF!)","v":{"$error":"#REF!"}},{"$f":"IF('Races, Positions & Points'!#REF!=\"\",\"\",'Races, Positions & Points'!#REF!)","v":{"$error":"#REF!"}},{"$f":"IF('Races, Positions & Points'!#REF!=\"\",\"\",'Races, Positions & Points'!#REF!)","v":{"$error":"#REF!"}},{"$f":"IF('Races, Positions & Points'!#REF!=\"\",\"\",'Races, Positions & Points'!#REF!)","v":{"$error":"#REF!"}},null,{"$error":"#REF!"},{"$error":"#REF!"},{"$error":"#REF!"},{"$error":"#REF!"},{"$error":"#REF!"},{"$error":"#REF!"},null,{"$f":"'Races, Positions & Points'!E62","v":18509},{"$f":"'Races, Positions & Points'!#REF!","v":{"$error":"#REF!"}},{"$error":"#REF!"},"","",{"$error":"#REF!"},"",{"$error":"#REF!"},{"$error":"#REF!"},{"$error":"#REF!"},null,{"$error":"#REF!"},"","",{"$error":"#REF!"},"",{"$error":"#REF!"},{"$error":"#REF!"},{"$error":"#REF!"},null,"",{"$error":"#REF!"},"",{"$error":"#REF!"},"",{"$error":"#REF!"},"","",{"$error":"#REF!"},"","","","","","",{"$error":"#REF!"},null,{"$error":"#REF!"},"","",{"$f":"IF(ISERROR(CS55*1.2),\"\",IF(CS55<50,CS55+10,IF(CS55<999.99,CS55*1.2,\"\")))","v":""},null,{"$error":"#REF!"},"","","",null,"",{"$error":"#REF!"},"","","","",{"$error":"#REF!"},"","",{"$error":"#REF!"}]
[{"$f":"'Races, Positions & Points'!A63","v":"Thomas Upton"},{"$f":"IF('Races, Positions & Points'!S63=\"\",\"\",'Races, Positions & Points'!S63)","v":1184.4000000000001},{"$f":"IF('Races, Positions & Points'!V63=\"\",\"\",'Races, Positions & Points'!V63)","v":""},{"$f":"IF('Races, Positions & Points'!#REF!=\"\",\"\",'Races, Positions & Points'!#REF!)","v":{"$error":"#REF!"}},{"$f":"IF('Races, Positions & Points'!Y63=\"\",\"\",'Races, Positions & Points'!Y63)","v":165.34},{"$f":"IF('Races, Positions & Points'!Z63=\"\",\"\",'Races, Positions & Points'!Z63)","v":217.7},{"$f":"IF('Races, Positions & Points'!AC63=\"\",\"\",'Races, Positions & Points'!AC63)","v":166.96},{"$f":"IF('Races, Positions & Points'!AD63=\"\",\"\",'Races, Positions & Points'!AD63)","v":182.1},{"$f":"IF('Races, Positions & Points'!AG63=\"\",\"\",'Races, Positions & Points'!AG63)","v":117.37},{"$f":"IF('Races, Positions & Points'!AJ63=\"\",\"\",'Races, Positions & Points'!AJ63)","v":96.98},{"$f":"IF('Races, Positions & Points'!AM63=\"\",\"\",'Races, Positions & Points'!AM63)","v":104.9},{"$f":"IF('Races, Positions & Points'!AP63=\"\",\"\",'Races, Positions & Points'!AP63)","v":165.01000000000002},{"$f":"IF('Races, Positions & Points'!AS63=\"\",\"\",'Races, Positions & Points'!AS63)","v":157.97},{"$f":"IF('Races, Positions & Points'!AV63=\"\",\"\",'Races, Positions & Points'!AV63)","v":128.55000000000001},{"$f":"IF('Races, Positions & Points'!AY63=\"\",\"\",'Races, Positions & Points'!AY63)","v":103.26},{"$f":"IF('Races, Positions & Points'!BB63=\"\",\"\",'Races, Positions & Points'!BB63)","v":""},{"$f":"IF('Races, Positions & Points'!BE63=\"\",\"\",'Races, Positions & Points'!BE63)","v":""},{"$f":"IF('Races, Positions & Points'!BH63=\"\",\"\",'Races, Positions & Points'!BH63)","v":""},{"$f":"IF('Races, Positions & Points'!BK63=\"\",\"\",'Races, Positions & Points'!BK63)","v":""},{"$f":"IF('Races, Positions & Points'!BN63=\"\",\"\",'Races, Positions & Points'!BN63)","v":""},{"$f":"IF('Races, Positions & Points'!BQ63=\"\",\"\",'Races, Positions & Points'!BQ63)","v":145.03},{"$f":"IF('Races, Positions & Points'!BT63=\"\",\"\",'Races, Positions & Points'!BT63)","v":119.95},{"$f":"IF('Races, Positions & Points'!#REF!=\"\",\"\",'Races, Positions & Points'!#REF!)","v":{"$error":"#REF!"}},{"$f":"IF('Races, Positions & Points'!BW63=\"\",\"\",'Races, Positions & Points'!BW63)","v":66.45},{"$f":"IF('Races, Positions & Points'!BZ63=\"\",\"\",'Races, Positions & Points'!BZ63)","v":""},{"$f":"IF('Races, Positions & Points'!CG63=\"\",\"\",'Races, Positions & Points'!CG63)","v":""},{"$f":"IF('Races, Positions & Points'!CC63=\"\",\"\",'Races, Positions & Points'!CC63)","v":86.83},{"$f":"IF('Races, Positions & Points'!CJ63=\"\",\"\",'Races, Positions & Points'!CJ63)","v":150.69999999999999},{"$f":"IF('Races, Positions & Points'!CM63=\"\",\"\",'Races, Positions & Points'!CM63)","v":64.28},{"$f":"IF('Races, Positions & Points'!CW63=\"\",\"\",'Races, Positions & Points'!CW63)","v":""},{"$f":"IF('Races, Positions & Points'!CP63=\"\",\"\",'Races, Positions & Points'!CP63)","v":77.300000000000011},{"$f":"IF('Races, Positions & Points'!CZ63=\"\",\"\",'Races, Positions & Points'!CZ63)","v":129.47},{"$f":"IF('Races, Positions & Points'!#REF!=\"\",\"\",'Races, Positions & Points'!#REF!)","v":{"$error":"#REF!"}},{"$f":"IF('Races, Positions & Points'!DC63=\"\",\"\",'Races, Positions & Points'!DC63)","v":97.41},{"$f":"IF('Races, Positions & Points'!DF63=\"\",\"\",'Races, Positions & Points'!DF63)","v":107.3},{"$f":"IF('Races, Positions & Points'!DI63=\"\",\"\",'Races, Positions & Points'!DI63)","v":110.27},{"$f":"IF('Races, Positions & Points'!DL63=\"\",\"\",'Races, Positions & Points'!DL63)","v":86.85},{"$f":"IF('Races, Positions & Points'!DO63=\"\",\"\",'Races, Positions & Points'!DO63)","v":""},{"$f":"IF('Races, Positions & Points'!DR63=\"\",\"\",'Races, Positions & Points'!DR63)","v":""},{"$f":"IF('Races, Positions & Points'!DS63=\"\",\"\",'Races, Positions & Points'!DS63)","v":""},{"$f":"IF('Races, Positions & Points'!DU63=\"\",\"\",'Races, Positions & Points'!DU63)","v":""},{"$f":"IF('Races, Positions & Points'!DX63=\"\",\"\",'Races, Positions & Points'!DX63)","v":""},{"$f":"IF('Races, Positions & Points'!EA63=\"\",\"\",'Races, Positions & Points'!EA63)","v":""},{"$f":"IF('Races, Positions & Points'!ED63=\"\",\"\",'Races, Positions & Points'!ED63)","v":""},{"$f":"IF('Races, Positions & Points'!EG63=\"\",\"\",'Races, Positions & Points'!EG63)","v":""},{"$f":"IF('Races, Positions & Points'!#REF!=\"\",\"\",'Races, Positions & Points'!#REF!)","v":{"$error":"#REF!"}},{"$f":"IF('Races, Positions & Points'!#REF!=\"\",\"\",'Races, Positions & Points'!#REF!)","v":{"$error":"#REF!"}},{"$f":"IF('Races, Positions & Points'!#REF!=\"\",\"\",'Races, Positions & Points'!#REF!)","v":{"$error":"#REF!"}},{"$f":"IF('Races, Positions & Points'!#REF!=\"\",\"\",'Races, Positions & Points'!#REF!)","v":{"$error":"#REF!"}},{"$f":"IF('Races, Positions & Points'!#REF!=\"\",\"\",'Races, Positions & Points'!#REF!)","v":{"$error":"#REF!"}},{"$f":"IF('Races, Positions & Points'!#REF!=\"\",\"\",'Races, Positions & Points'!#REF!)","v":{"$error":"#REF!"}},null,{"$error":"#REF!"},{"$error":"#REF!"},{"$error":"#REF!"},{"$error":"#REF!"},{"$error":"#REF!"},{"$error":"#REF!"},null,{"$f":"'Races, Positions & Points'!E63","v":21051},{"$f":"'Races, Positions & Points'!#REF!","v":{"$error":"#REF!"}},{"$error":"#REF!"},"","",{"$error":"#REF!"},"",{"$error":"#REF!"},{"$error":"#REF!"},{"$error":"#REF!"},null,{"$error":"#REF!"},"","",{"$error":"#REF!"},"",{"$error":"#REF!"},{"$error":"#REF!"},{"$error":"#REF!"},null,86.85,{"$error":"#REF!"},119.95,{"$error":"#REF!"},128.55000000000001,{"$error":"#REF!"},96.98,"",{"$error":"#REF!"},"",145.03,"",86.83,"",110.27,{"$error":"#REF!"},null,{"$error":"#REF!"},"","","",null,{"$error":"#REF!"},"","","",null,86.85,{"$error":"#REF!"},119.95,128.55000000000001,77.300000000000011,96.98,{"$error":"#REF!"},"","",{"$error":"#REF!"}]
[{"$f":"'Races, Positions & Points'!A64","v":"Jordan Rigby"},{"$f":"IF('Races, Positions & Points'!S64=\"\",\"\",'Races, Positions & Points'!S64)","v":""},{"$f":"IF('Races, Positions & Points'!V64=\"\",\"\",'Races, Positions & Points'!V64)","v":""},{"$f":"IF('Races, Positions & Points'!#REF!=\"\",\"\",'Races, Positions & Points'!#REF!)","v":{"$error":"#REF!"}},{"$f":"IF('Races, Positions & Points'!Y64=\"\",\"\",'Races, Positions & Points'!Y64)","v":""},{"$f":"IF('Races, Positions & Points'!Z64=\"\",\"\",'Races, Positions & Points'!Z64)","v":""},{"$f":"IF('Races, Positions & Points'!AC64=\"\",\"\",'Races, Positions & Points'!AC64)","v":""},{"$f":"IF('Races, Positions & Points'!AD64=\"\",\"\",'Races, Positions & Points'!AD64)","v":""},{"$f":"IF('Races, Positions & Points'!AG64=\"\",\"\",'Races, Positions & Points'!AG64)","v":""},{"$f":"IF('Races, Positions & Points'!AJ64=\"\",\"\",'Races, Positions & Points'!AJ64)","v":""},{"$f":"IF('Races, Positions & Points'!AM64=\"\",\"\",'Races, Positions & Points'!AM64)","v":""},{"$f":"IF('Races, Positions & Points'!AP64=\"\",\"\",'Races, Positions & Points'!AP64)","v":""},{"$f":"IF('Races, Positions & Points'!AS64=\"\",\"\",'Races, Positions & Points'!AS64)","v":""},{"$f":"IF('Races, Positions & Points'!AV64=\"\",\"\",'Races, Positions & Points'!AV64)","v":""},{"$f":"IF('Races, Positions & Points'!AY64=\"\",\"\",'Races, Positions & Points'!AY64)","v":""},{"$f":"IF('Races, Positions & Points'!BB64=\"\",\"\",'Races, Positions & Points'!BB64)","v":""},{"$f":"IF('Races, Positions & Points'!BE64=\"\",\"\",'Races, Positions & Points'!BE64)","v":""},{"$f":"IF('Races, Positions & Points'!BH64=\"\",\"\",'Races, Positions & Points'!BH64)","v":""},{"$f":"IF('Races, Positions & Points'!BK64=\"\",\"\",'Races, Positions & Points'!BK64)","v":""},{"$f":"IF('Races, Positions & Points'!BN64=\"\",\"\",'Races, Positions & Points'!BN64)","v":""},{"$f":"IF('Races, Positions & Points'!BQ64=\"\",\"\",'Races, Positions & Points'!BQ64)","v":""},{"$f":"IF('Races, Positions & Points'!BT64=\"\",\"\",'Races, Positions & Points'!BT64)","v":""},{"$f":"IF('Races, Positions & Points'!#REF!=\"\",\"\",'Races, Positions & Points'!#REF!)","v":{"$error":"#REF!"}},{"$f":"IF('Races, Positions & Points'!BW64=\"\",\"\",'Races, Positions & Points'!BW64)","v":""},{"$f":"IF('Races, Positions & Points'!BZ64=\"\",\"\",'Races, Positions & Points'!BZ64)","v":""},{"$f":"IF('Races, Positions & Points'!CG64=\"\",\"\",'Races, Positions & Points'!CG64)","v":""},{"$f":"IF('Races, Positions & Points'!CC64=\"\",\"\",'Races, Positions & Points'!CC64)","v":""},{"$f":"IF('Races, Positions & Points'!CJ64=\"\",\"\",'Races, Positions & Points'!CJ64)","v":""},{"$f":"IF('Races, Positions & Points'!CM64=\"\",\"\",'Races, Positions & Points'!CM64)","v":""},{"$f":"IF('Races, Positions & Points'!CW64=\"\",\"\",'Races, Positions & Points'!CW64)","v":""},{"$f":"IF('Races, Positions & Points'!CP64=\"\",\"\",'Races, Positions & Points'!CP64)","v":""},{"$f":"IF('Races, Positions & Points'!CZ64=\"\",\"\",'Races, Positions & Points'!CZ64)","v":""},{"$f":"IF('Races, Positions & Points'!#REF!=\"\",\"\",'Races, Positions & Points'!#REF!)","v":{"$error":"#REF!"}},{"$f":"IF('Races, Positions & Points'!DC64=\"\",\"\",'Races, Positions & Points'!DC64)","v":""},{"$f":"IF('Races, Positions & Points'!DF64=\"\",\"\",'Races, Positions & Points'!DF64)","v":""},{"$f":"IF('Races, Positions & Points'!DI64=\"\",\"\",'Races, Positions & Points'!DI64)","v":""},{"$f":"IF('Races, Positions & Points'!DL64=\"\",\"\",'Races, Positions & Points'!DL64)","v":""},{"$f":"IF('Races, Positions & Points'!DO64=\"\",\"\",'Races, Positions & Points'!DO64)","v":""},{"$f":"IF('Races, Positions & Points'!DR64=\"\",\"\",'Races, Positions & Points'!DR64)","v":""},{"$f":"IF('Races, Positions & Points'!DS64=\"\",\"\",'Races, Positions & Points'!DS64)","v":""},{"$f":"IF('Races, Positions & Points'!DU64=\"\",\"\",'Races, Positions & Points'!DU64)","v":""},{"$f":"IF('Races, Positions & Points'!DX64=\"\",\"\",'Races, Positions & Points'!DX64)","v":""},{"$f":"IF('Races, Positions & Points'!EA64=\"\",\"\",'Races, Positions & Points'!EA64)","v":""},{"$f":"IF('Races, Positions & Points'!ED64=\"\",\"\",'Races, Positions & Points'!ED64)","v":""},{"$f":"IF('Races, Positions & Points'!EG64=\"\",\"\",'Races, Positions & Points'!EG64)","v":""},{"$f":"IF('Races, Positions & Points'!#REF!=\"\",\"\",'Races, Positions & Points'!#REF!)","v":{"$error":"#REF!"}},{"$f":"IF('Races, Positions & Points'!#REF!=\"\",\"\",'Races, Positions & Points'!#REF!)","v":{"$error":"#REF!"}},{"$f":"IF('Races, Positions & Points'!#REF!=\"\",\"\",'Races, Positions & Points'!#REF!)","v":{"$error":"#REF!"}},{"$f":"IF('Races, Positions & Points'!#REF!=\"\",\"\",'Races, Positions & Points'!#REF!)","v":{"$error":"#REF!"}},{"$f":"IF('Races, Positions & Points'!#REF!=\"\",\"\",'Races, Positions & Points'!#REF!)","v":{"$error":"#REF!"}},{"$f":"IF('Races, Positions & Points'!#REF!=\"\",\"\",'Races, Positions & Points'!#REF!)","v":{"$error":"#REF!"}},null,{"$error":"#REF!"},{"$error":"#REF!"},{"$error":"#REF!"},{"$error":"#REF!"},{"$error":"#REF!"},{"$error":"#REF!"},null,{"$f":"'Races, Positions & Points'!E64","v":19910},{"$f":"'Races, Positions & Points'!#REF!","v":{"$error":"#REF!"}},{"$error":"#REF!"},"","",{"$error":"#REF!"},"",{"$error":"#REF!"},{"$error":"#REF!"},{"$error":"#REF!"},null,{"$error":"#REF!"},"","",{"$error":"#REF!"},"",{"$error":"#REF!"},{"$error":"#REF!"},{"$error":"#REF!"},null,"",{"$error":"#REF!"},"",{"$error":"#REF!"},"",{"$error":"#REF!"},"","",{"$error":"#REF!"},"","","","","","",{"$error":"#REF!"},null,{"$error":"#REF!"},"","","",null,{"$error":"#REF!"},"","","",null,"",{"$error":"#REF!"},"","","","",{"$error":"#REF!"},"","",{"$error":"#REF!"}]
[{"$f":"'Races, Positions & Points'!A65","v":"Thomas Lawrence"},{"$f":"IF('Races, Positions & Points'!S65=\"\",\"\",'Races, Positions & Points'!S65)","v":""},{"$f":"IF('Races, Positions & Points'!V65=\"\",\"\",'Races, Positions & Points'!V65)","v":""},{"$f":"IF('Races, Positions & Points'!#REF!=\"\",\"\",'Races, Positions & Points'!#REF!)","v":{"$error":"#REF!"}},{"$f":"IF('Races, Positions & Points'!Y65=\"\",\"\",'Races, Positions & Points'!Y65)","v":""},{"$f":"IF('Races, Positions & Points'!Z65=\"\",\"\",'Races, Positions & Points'!Z65)","v":""},{"$f":"IF('Races, Positions & Points'!AC65=\"\",\"\",'Races, Positions & Points'!AC65)","v":""},{"$f":"IF('Races, Positions & Points'!AD65=\"\",\"\",'Races, Positions & Points'!AD65)","v":""},{"$f":"IF('Races, Positions & Points'!AG65=\"\",\"\",'Races, Positions & Points'!AG65)","v":78.69},{"$f":"IF('Races, Positions & Points'!AJ65=\"\",\"\",'Races, Positions & Points'!AJ65)","v":""},{"$f":"IF('Races, Positions & Points'!AM65=\"\",\"\",'Races, Positions & Points'!AM65)","v":""},{"$f":"IF('Races, Positions & Points'!AP65=\"\",\"\",'Races, Positions & Points'!AP65)","v":""},{"$f":"IF('Races, Positions & Points'!AS65=\"\",\"\",'Races, Positions & Points'!AS65)","v":""},{"$f":"IF('Races, Positions & Points'!AV65=\"\",\"\",'Races, Positions & Points'!AV65)","v":116.01},{"$f":"IF('Races, Positions & Points'!AY65=\"\",\"\",'Races, Positions & Points'!AY65)","v":""},{"$f":"IF('Races, Positions & Points'!BB65=\"\",\"\",'Races, Positions & Points'!BB65)","v":""},{"$f":"IF('Races, Positions & Points'!BE65=\"\",\"\",'Races, Positions & Points'!BE65)","v":""},{"$f":"IF('Races, Positions & Points'!BH65=\"\",\"\",'Races, Positions & Points'!BH65)","v":""},{"$f":"IF('Races, Positions & Points'!BK65=\"\",\"\",'Races, Positions & Points'!BK65)","v":""},{"$f":"IF('Races, Positions & Points'!BN65=\"\",\"\",'Races, Positions & Points'!BN65)","v":""},{"$f":"IF('Races, Positions & Points'!BQ65=\"\",\"\",'Races, Positions & Points'!BQ65)","v":""},{"$f":"IF('Races, Positions & Points'!BT65=\"\",\"\",'Races, Positions & Points'!BT65)","v":""},{"$f":"IF('Races, Positions & Points'!#REF!=\"\",\"\",'Races, Positions & Points'!#REF!)","v":{"$error":"#REF!"}},{"$f":"IF('Races, Positions & Points'!BW65=\"\",\"\",'Races, Positions & Points'!BW65)","v":63.38},{"$f":"IF('Races, Positions & Points'!BZ65=\"\",\"\",'Races, Positions & Points'!BZ65)","v":""},{"$f":"IF('Races, Positions & Points'!CG65=\"\",\"\",'Races, Positions & Points'!CG65)","v":""},{"$f":"IF('Races, Positions & Points'!CC65=\"\",\"\",'Races, Positions & Points'!CC65)","v":102.5},{"$f":"IF('Races, Positions & Points'!CJ65=\"\",\"\",'Races, Positions & Points'!CJ65)","v":85.85},{"$f":"IF('Races, Positions & Points'!CM65=\"\",\"\",'Races, Positions & Points'!CM65)","v":""},{"$f":"IF('Races, Positions & Points'!CW65=\"\",\"\",'Races, Positions & Points'!CW65)","v":""},{"$f":"IF('Races, Positions & Points'!CP65=\"\",\"\",'Races, Positions & Points'!CP65)","v":""},{"$f":"IF('Races, Positions & Points'!CZ65=\"\",\"\",'Races, Positions & Points'!CZ65)","v":""},{"$f":"IF('Races, Positions & Points'!#REF!=\"\",\"\",'Races, Positions & Points'!#REF!)","v":{"$error":"#REF!"}},{"$f":"IF('Races, Positions & Points'!DC65=\"\",\"\",'Races, Positions & Points'!DC65)","v":""},{"$f":"IF('Races, Positions & Points'!DF65=\"\",\"\",'Races, Positions & Points'!DF65)","v":""},{"$f":"IF('Races, Positions & Points'!DI65=\"\",\"\",'Races, Positions & Points'!DI65)","v":""},{"$f":"IF('Races, Positions & Points'!DL65=\"\",\"\",'Races, Positions & Points'!DL65)","v":""},{"$f":"IF('Races, Positions & Points'!DO65=\"\",\"\",'Races, Positions & Points'!DO65)","v":90.8},{"$f":"IF('Races, Positions & Points'!DR65=\"\",\"\",'Races, Positions & Points'!DR65)","v":""},{"$f":"IF('Races, Positions & Points'!DS65=\"\",\"\",'Races, Positions & Points'!DS65)","v":""},{"$f":"IF('Races, Positions & Points'!DU65=\"\",\"\",'Races, Positions & Points'!DU65)","v":""},{"$f":"IF('Races, Positions & Points'!DX65=\"\",\"\",'Races, Positions & Points'!DX65)","v":""},{"$f":"IF('Races, Positions & Points'!EA65=\"\",\"\",'Races, Positions & Points'!EA65)","v":""},{"$f":"IF('Races, Positions & Points'!EG65=\"\",\"\",'Races, Positions & Points'!EG65)","v":610.20000000000005},{"$f":"IF('Races, Positions & Points'!#REF!=\"\",\"\",'Races, Positions & Points'!#REF!)","v":{"$error":"#REF!"}},{"$f":"IF('Races, Positions & Points'!#REF!=\"\",\"\",'Races, Positions & Points'!#REF!)","v":{"$error":"#REF!"}},{"$f":"IF('Races, Positions & Points'!#REF!=\"\",\"\",'Races, Positions & Points'!#REF!)","v":{"$error":"#REF!"}},{"$f":"IF('Races, Positions & Points'!#REF!=\"\",\"\",'Races, Positions & Points'!#REF!)","v":{"$error":"#REF!"}},{"$f":"IF('Races, Positions & Points'!#REF!=\"\",\"\",'Races, Positions & Points'!#REF!)","v":{"$error":"#REF!"}},{"$f":"IF('Races, Positions & Points'!#REF!=\"\",\"\",'Races, Positions & Points'!#REF!)","v":{"$error":"#REF!"}},{"$f":"IF('Races, Positions & Points'!#REF!=\"\",\"\",'Races, Positions & Points'!#REF!)","v":{"$error":"#REF!"}},null,{"$error":"#REF!"},{"$error":"#REF!"},{"$error":"#REF!"},{"$error":"#REF!"},{"$error":"#REF!"},{"$error":"#REF!"},null,{"$f":"'Races, Positions & Points'!E65","v":19941},{"$f":"'Races, Positions & Points'!#REF!","v":{"$error":"#REF!"}},{"$error":"#REF!"},"","",{"$error":"#REF!"},"",{"$error":"#REF!"},{"$error":"#REF!"},{"$error":"#REF!"},null,{"$error":"#REF!"},"","",{"$error":"#REF!"},"",{"$error":"#REF!"},{"$error":"#REF!"},{"$error":"#REF!"},null,90.8,{"$error":"#REF!"},"",{"$error":"#REF!"},{"$error":"#REF!"},{"$error":"#REF!"},78.69,"",{"$error":"#REF!"},"","","",102.5,"","",{"$error":"#REF!"},null,{"$error":"#REF!"},"","","",null,{"$error":"#REF!"},"","","",null,90.8,{"$error":"#REF!"},"",{"$error":"#REF!"},"","",{"$error":"#REF!"},"","",{"$error":"#REF!"}]
[{"$f":"'Races, Positions & Points'!A66","v":"Roger Crombleholme"},{"$f":"IF('Races, Positions & Points'!S66=\"\",\"\",'Races, Positions & Points'!S66)","v":""},{"$f":"IF('Races, Positions & Points'!V66=\"\",\"\",'Races, Positions & Points'!V66)","v":""},{"$f":"IF('Races, Positions & Points'!#REF!=\"\",\"\",'Races, Positions & Points'!#REF!)","v":{"$error":"#REF!"}},{"$f":"IF('Races, Positions & Points'!Y66=\"\",\"\",'Races, Positions & Points'!Y66)","v":""},{"$f":"IF('Races, Positions & Points'!Z66=\"\",\"\",'Races, Positions & Points'!Z66)","v":""},{"$f":"IF('Races, Positions & Points'!AC66=\"\",\"\",'Races, Positions & Points'!AC66)","v":""},{"$f":"IF('Races, Positions & Points'!AD66=\"\",\"\",'Races, Positions & Points'!AD66)","v":""},{"$f":"IF('Races, Positions & Points'!AG66=\"\",\"\",'Races, Positions & Points'!AG66)","v":""},{"$f":"IF('Races, Positions & Points'!AJ66=\"\",\"\",'Races, Positions & Points'!AJ66)","v":""},{"$f":"IF('Races, Positions & Points'!AM66=\"\",\"\",'Races, Positions & Points'!AM66)","v":""},{"$f":"IF('Races, Positions & Points'!AP66=\"\",\"\",'Races, Positions & Points'!AP66)","v":""},{"$f":"IF('Races, Positions & Points'!AS66=\"\",\"\",'Races, Positions & Points'!AS66)","v":""},{"$f":"IF('Races, Positions & Points'!AV66=\"\",\"\",'Races, Positions & Points'!AV66)","v":""},{"$f":"IF('Races, Positions & Points'!AY66=\"\",\"\",'Races, Positions & Points'!AY66)","v":""},{"$f":"IF('Races, Positions & Points'!BB66=\"\",\"\",'Races, Positions & Points'!BB66)","v":""},{"$f":"IF('Races, Positions & Points'!BE66=\"\",\"\",'Races, Positions & Points'!BE66)","v":""},{"$f":"IF('Races, Positions & Points'!BH66=\"\",\"\",'Races, Positions & Points'!BH66)","v":""},{"$f":"IF('Races, Positions & Points'!BK66=\"\",\"\",'Races, Positions & Points'!BK66)","v":""},{"$f":"IF('Races, Positions & Points'!BN66=\"\",\"\",'Races, Positions & Points'!BN66)","v":""},{"$f":"IF('Races, Positions & Points'!BQ66=\"\",\"\",'Races, Positions & Points'!BQ66)","v":""},{"$f":"IF('Races, Positions & Points'!BT66=\"\",\"\",'Races, Positions & Points'!BT66)","v":""},{"$f":"IF('Races, Positions & Points'!#REF!=\"\",\"\",'Races, Positions & Points'!#REF!)","v":{"$error":"#REF!"}},{"$f":"IF('Races, Positions & Points'!BW66=\"\",\"\",'Races, Positions & Points'!BW66)","v":""},{"$f":"IF('Races, Positions & Points'!BZ66=\"\",\"\",'Races, Positions & Points'!BZ66)","v":""},{"$f":"IF('Races, Positions & Points'!CG66=\"\",\"\",'Races, Positions & Points'!CG66)","v":""},{"$f":"IF('Races, Positions & Points'!CC66=\"\",\"\",'Races, Positions & Points'!CC66)","v":""},{"$f":"IF('Races, Positions & Points'!CJ66=\"\",\"\",'Races, Positions & Points'!CJ66)","v":""},{"$f":"IF('Races, Positions & Points'!CM66=\"\",\"\",'Races, Positions & Points'!CM66)","v":""},{"$f":"IF('Races, Positions & Points'!CW66=\"\",\"\",'Races, Positions & Points'!CW66)","v":""},{"$f":"IF('Races, Positions & Points'!CP66=\"\",\"\",'Races, Positions & Points'!CP66)","v":""},{"$f":"IF('Races, Positions & Points'!CZ66=\"\",\"\",'Races, Positions & Points'!CZ66)","v":""},{"$f":"IF('Races, Positions & Points'!#REF!=\"\",\"\",'Races, Positions & Points'!#REF!)","v":{"$error":"#REF!"}},{"$f":"IF('Races, Positions & Points'!DC66=\"\",\"\",'Races, Positions & Points'!DC66)","v":""},{"$f":"IF('Races, Positions & Points'!DF66=\"\",\"\",'Races, Positions & Points'!DF66)","v":""},{"$f":"IF('Races, Positions & Points'!DI66=\"\",\"\",'Races, Positions & Points'!DI66)","v":""},{"$f":"IF('Races, Positions & Points'!DL66=\"\",\"\",'Races, Positions & Points'!DL66)","v":""},{"$f":"IF('Races, Positions & Points'!DO66=\"\",\"\",'Races, Positions & Points'!DO66)","v":""},{"$f":"IF('Races, Positions & Points'!DR66=\"\",\"\",'Races, Positions & Points'!DR66)","v":""},{"$f":"IF('Races, Positions & Points'!DS66=\"\",\"\",'Races, Positions & Points'!DS66)","v":""},{"$f":"IF('Races, Positions & Points'!DU66=\"\",\"\",'Races, Positions & Points'!DU66)","v":""},{"$f":"IF('Races, Positions & Points'!DX66=\"\",\"\",'Races, Positions & Points'!DX66)","v":""},{"$f":"IF('Races, Positions & Points'!EA66=\"\",\"\",'Races, Positions & Points'!EA66)","v":""},{"$f":"IF('Races, Positions & Points'!ED66=\"\",\"\",'Races, Positions & Points'!ED66)","v":""},{"$f":"IF('Races, Positions & Points'!EG66=\"\",\"\",'Races, Positions & Points'!EG66)","v":""},{"$f":"IF('Races, Positions & Points'!#REF!=\"\",\"\",'Races, Positions & Points'!#REF!)","v":{"$error":"#REF!"}},{"$f":"IF('Races, Positions & Points'!#REF!=\"\",\"\",'Races, Positions & Points'!#REF!)","v":{"$error":"#REF!"}},{"$f":"IF('Races, Positions & Points'!#REF!=\"\",\"\",'Races, Positions & Points'!#REF!)","v":{"$error":"#REF!"}},{"$f":"IF('Races, Positions & Points'!#REF!=\"\",\"\",'Races, Positions & Points'!#REF!)","v":{"$error":"#REF!"}},{"$f":"IF('Races, Positions & Points'!#REF!=\"\",\"\",'Races, Positions & Points'!#REF!)","v":{"$error":"#REF!"}},{"$f":"IF('Races, Positions & Points'!#REF!=\"\",\"\",'Races, Positions & Points'!#REF!)","v":{"$error":"#REF!"}},null,{"$error":"#REF!"},{"$error":"#REF!"},{"$error":"#REF!"},{"$error":"#REF!"},{"$error":"#REF!"},{"$error":"#REF!"},null,{"$f":"'Races, Positions & Points'!E66","v":5666},{"$f":"'Races, Positions & Points'!#REF!","v":{"$error":"#REF!"}},{"$error":"#REF!"},"","",{"$error":"#REF!"},"",{"$error":"#REF!"},{"$error":"#REF!"},{"$error":"#REF!"},null,{"$error":"#REF!"},"","",{"$error":"#REF!"},"",{"$error":"#REF!"},{"$error":"#REF!"},{"$error":"#REF!"},null,"",{"$error":"#REF!"},"",{"$error":"#REF!"},"",{"$error":"#REF!"},"","",{"$error":"#REF!"},"","","","","","",{"$error":"#REF!"},null,{"$error":"#REF!"},"","","",null,{"$error":"#REF!"},"","","",null,"",{"$error":"#REF!"},"","","","",{"$error":"#REF!"},"","",{"$error":"#REF!"}]
[{"$f":"'Races, Positions & Points'!A67","v":"Joey Frost"},{"$f":"IF('Races, Positions & Points'!S67=\"\",\"\",'Races, Positions & Points'!S67)","v":""},{"$f":"IF('Races, Positions & Points'!V67=\"\",\"\",'Races, Positions & Points'!V67)","v":""},{"$f":"IF('Races, Positions & Points'!#REF!=\"\",\"\",'Races, Positions & Points'!#REF!)","v":{"$error":"#REF!"}},{"$f":"IF('Races, Positions & Points'!Y67=\"\",\"\",'Races, Positions & Points'!Y67)","v":""},{"$f":"IF('Races, Positions & Points'!Z67=\"\",\"\",'Races, Positions & Points'!Z67)","v":""},{"$f":"IF('Races, Positions & Points'!AC67=\"\",\"\",'Races, Positions & Points'!AC67)","v":""},{"$f":"IF('Races, Positions & Points'!AD67=\"\",\"\",'Races, Positions & Points'!AD67)","v":""},{"$f":"IF('Races, Positions & Points'!AG67=\"\",\"\",'Races, Positions & Points'!AG67)","v":""},{"$f":"IF('Races, Positions & Points'!AJ67=\"\",\"\",'Races, Positions & Points'!AJ67)","v":""},{"$f":"IF('Races, Positions & Points'!AM67=\"\",\"\",'Races, Positions & Points'!AM67)","v":""},{"$f":"IF('Races, Positions & Points'!AP67=\"\",\"\",'Races, Positions & Points'!AP67)","v":""},{"$f":"IF('Races, Positions & Points'!AS67=\"\",\"\",'Races, Positions & Points'!AS67)","v":""},{"$f":"IF('Races, Positions & Points'!AV67=\"\",\"\",'Races, Positions & Points'!AV67)","v":""},{"$f":"IF('Races, Positions & Points'!AY67=\"\",\"\",'Races, Positions & Points'!AY67)","v":""},{"$f":"IF('Races, Positions & Points'!BB67=\"\",\"\",'Races, Positions & Points'!BB67)","v":""},{"$f":"IF('Races, Positions & Points'!BE67=\"\",\"\",'Races, Positions & Points'!BE67)","v":""},{"$f":"IF('Races, Positions & Points'!BH67=\"\",\"\",'Races, Positions & Points'!BH67)","v":""},{"$f":"IF('Races, Positions & Points'!BK67=\"\",\"\",'Races, Positions & Points'!BK67)","v":""},{"$f":"IF('Races, Positions & Points'!BN67=\"\",\"\",'Races, Positions & Points'!BN67)","v":""},{"$f":"IF('Races, Positions & Points'!BQ67=\"\",\"\",'Races, Positions & Points'!BQ67)","v":""},{"$f":"IF('Races, Positions & Points'!BT67=\"\",\"\",'Races, Positions & Points'!BT67)","v":""},{"$f":"IF('Races, Positions & Points'!#REF!=\"\",\"\",'Races, Positions & Points'!#REF!)","v":{"$error":"#REF!"}},{"$f":"IF('Races, Positions & Points'!BW67=\"\",\"\",'Races, Positions & Points'!BW67)","v":""},{"$f":"IF('Races, Positions & Points'!BZ67=\"\",\"\",'Races, Positions & Points'!BZ67)","v":""},{"$f":"IF('Races, Positions & Points'!CG67=\"\",\"\",'Races, Positions & Points'!CG67)","v":""},{"$f":"IF('Races, Positions & Points'!CC67=\"\",\"\",'Races, Positions & Points'!CC67)","v":""},{"$f":"IF('Races, Positions & Points'!CJ67=\"\",\"\",'Races, Positions & Points'!CJ67)","v":""},{"$f":"IF('Races, Positions & Points'!CM67=\"\",\"\",'Races, Positions & Points'!CM67)","v":""},{"$f":"IF('Races, Positions & Points'!CW67=\"\",\"\",'Races, Positions & Points'!CW67)","v":""},{"$f":"IF('Races, Positions & Points'!CP67=\"\",\"\",'Races, Positions & Points'!CP67)","v":""},{"$f":"IF('Races, Positions & Points'!CZ67=\"\",\"\",'Races, Positions & Points'!CZ67)","v":""},{"$f":"IF('Races, Positions & Points'!#REF!=\"\",\"\",'Races, Positions & Points'!#REF!)","v":{"$error":"#REF!"}},{"$f":"IF('Races, Positions & Points'!DC67=\"\",\"\",'Races, Positions & Points'!DC67)","v":""},{"$f":"IF('Races, Positions & Points'!DF67=\"\",\"\",'Races, Positions & Points'!DF67)","v":""},{"$f":"IF('Races, Positions & Points'!DI67=\"\",\"\",'Races, Positions & Points'!DI67)","v":""},{"$f":"IF('Races, Positions & Points'!DL67=\"\",\"\",'Races, Positions & Points'!DL67)","v":""},{"$f":"IF('Races, Positions & Points'!DO67=\"\",\"\",'Races, Positions & Points'!DO67)","v":""},{"$f":"IF('Races, Positions & Points'!DR67=\"\",\"\",'Races, Positions & Points'!DR67)","v":""},{"$f":"IF('Races, Positions & Points'!DS67=\"\",\"\",'Races, Positions & Points'!DS67)","v":""},{"$f":"IF('Races, Positions & Points'!DU67=\"\",\"\",'Races, Positions & Points'!DU67)","v":""},{"$f":"IF('Races, Positions & Points'!DX67=\"\",\"\",'Races, Positions & Points'!DX67)","v":""},{"$f":"IF('Races, Positions & Points'!EA67=\"\",\"\",'Races, Positions & Points'!EA67)","v":""},{"$f":"IF('Races, Positions & Points'!ED67=\"\",\"\",'Races, Positions & Points'!ED67)","v":""},{"$f":"IF('Races, Positions & Points'!EG67=\"\",\"\",'Races, Positions & Points'!EG67)","v":""},{"$f":"IF('Races, Positions & Points'!#REF!=\"\",\"\",'Races, Positions & Points'!#REF!)","v":{"$error":"#REF!"}},{"$f":"IF('Races, Positions & Points'!#REF!=\"\",\"\",'Races, Positions & Points'!#REF!)","v":{"$error":"#REF!"}},{"$f":"IF('Races, Positions & Points'!#REF!=\"\",\"\",'Races, Positions & Points'!#REF!)","v":{"$error":"#REF!"}},{"$f":"IF('Races, Positions & Points'!#REF!=\"\",\"\",'Races, Positions & Points'!#REF!)","v":{"$error":"#REF!"}},{"$f":"IF('Races, Positions & Points'!#REF!=\"\",\"\",'Races, Positions & Points'!#REF!)","v":{"$error":"#REF!"}},{"$f":"IF('Races, Positions & Points'!#REF!=\"\",\"\",'Races, Positions & Points'!#REF!)","v":{"$error":"#REF!"}},null,{"$error":"#REF!"},{"$error":"#REF!"},{"$error":"#REF!"},{"$error":"#REF!"},{"$error":"#REF!"},{"$error":"#REF!"},null,{"$f":"'Races, Positions & Points'!E67","v":20677},{"$f":"'Races, Positions & Points'!#REF!","v":{"$error":"#REF!"}},{"$error":"#REF!"},"","",{"$error":"#REF!"},"",{"$error":"#REF!"},{"$error":"#REF!"},{"$error":"#REF!"},null,{"$error":"#REF!"},"","",{"$error":"#REF!"},"",{"$error":"#REF!"},{"$error":"#REF!"},{"$error":"#REF!"},null,"",{"$error":"#REF!"},"",{"$error":"#REF!"},"",{"$error":"#REF!"},"","",{"$error":"#REF!"},"","","","","","",{"$error":"#REF!"},null,{"$error":"#REF!"},"","","",null,{"$error":"#REF!"},"","","",null,"",{"$error":"#REF!"},"","","","",{"$error":"#REF!"},"","",{"$error":"#REF!"}]
[{"$f":"'Races, Positions & Points'!A68","v":"Sam Lee"},{"$f":"IF('Races, Positions & Points'!S68=\"\",\"\",'Races, Positions & Points'!S68)","v":""},{"$f":"IF('Races, Positions & Points'!V68=\"\",\"\",'Races, Positions & Points'!V68)","v":""},{"$f":"IF('Races, Positions & Points'!#REF!=\"\",\"\",'Races, Positions & Points'!#REF!)","v":{"$error":"#REF!"}},{"$f":"IF('Races, Positions & Points'!Y68=\"\",\"\",'Races, Positions & Points'!Y68)","v":""},{"$f":"IF('Races, Positions & Points'!Z68=\"\",\"\",'Races, Positions & Points'!Z68)","v":""},{"$f":"IF('Races, Positions & Points'!AC68=\"\",\"\",'Races, Positions & Points'!AC68)","v":""},{"$f":"IF('Races, Positions & Points'!AD68=\"\",\"\",'Races, Positions & Points'!AD68)","v":""},{"$f":"IF('Races, Positions & Points'!AG68=\"\",\"\",'Races, Positions & Points'!AG68)","v":""},{"$f":"IF('Races, Positions & Points'!AJ68=\"\",\"\",'Races, Positions & Points'!AJ68)","v":""},{"$f":"IF('Races, Positions & Points'!AM68=\"\",\"\",'Races, Positions & Points'!AM68)","v":""},{"$f":"IF('Races, Positions & Points'!AP68=\"\",\"\",'Races, Positions & Points'!AP68)","v":""},{"$f":"IF('Races, Positions & Points'!AS68=\"\",\"\",'Races, Positions & Points'!AS68)","v":""},{"$f":"IF('Races, Positions & Points'!AV68=\"\",\"\",'Races, Positions & Points'!AV68)","v":""},{"$f":"IF('Races, Positions & Points'!AY68=\"\",\"\",'Races, Positions & Points'!AY68)","v":""},{"$f":"IF('Races, Positions & Points'!BB68=\"\",\"\",'Races, Positions & Points'!BB68)","v":""},{"$f":"IF('Races, Positions & Points'!BE68=\"\",\"\",'Races, Positions & Points'!BE68)","v":""},{"$f":"IF('Races, Positions & Points'!BH68=\"\",\"\",'Races, Positions & Points'!BH68)","v":""},{"$f":"IF('Races, Positions & Points'!BK68=\"\",\"\",'Races, Positions & Points'!BK68)","v":""},{"$f":"IF('Races, Positions & Points'!BN68=\"\",\"\",'Races, Positions & Points'!BN68)","v":""},{"$f":"IF('Races, Positions & Points'!BQ68=\"\",\"\",'Races, Positions & Points'!BQ68)","v":""},{"$f":"IF('Races, Positions & Points'!BT68=\"\",\"\",'Races, Positions & Points'!BT68)","v":""},{"$f":"IF('Races, Positions & Points'!#REF!=\"\",\"\",'Races, Positions & Points'!#REF!)","v":{"$error":"#REF!"}},{"$f":"IF('Races, Positions & Points'!BW68=\"\",\"\",'Races, Positions & Points'!BW68)","v":""},{"$f":"IF('Races, Positions & Points'!BZ68=\"\",\"\",'Races, Positions & Points'!BZ68)","v":""},{"$f":"IF('Races, Positions & Points'!CG68=\"\",\"\",'Races, Positions & Points'!CG68)","v":""},{"$f":"IF('Races, Positions & Points'!CC68=\"\",\"\",'Races, Positions & Points'!CC68)","v":""},{"$f":"IF('Races, Positions & Points'!CJ68=\"\",\"\",'Races, Positions & Points'!CJ68)","v":""},{"$f":"IF('Races, Positions & Points'!CM68=\"\",\"\",'Races, Positions & Points'!CM68)","v":""},{"$f":"IF('Races, Positions & Points'!CW68=\"\",\"\",'Races, Positions & Points'!CW68)","v":""},{"$f":"IF('Races, Positions & Points'!CP68=\"\",\"\",'Races, Positions & Points'!CP68)","v":""},{"$f":"IF('Races, Positions & Points'!CZ68=\"\",\"\",'Races, Positions & Points'!CZ68)","v":""},{"$f":"IF('Races, Positions & Points'!#REF!=\"\",\"\",'Races, Positions & Points'!#REF!)","v":{"$error":"#REF!"}},{"$f":"IF('Races, Positions & Points'!DC68=\"\",\"\",'Races, Positions & Points'!DC68)","v":""},{"$f":"IF('Races, Positions & Points'!DF68=\"\",\"\",'Races, Positions & Points'!DF68)","v":""},{"$f":"IF('Races, Positions & Points'!DI68=\"\",\"\",'Races, Positions & Points'!DI68)","v":""},{"$f":"IF('Races, Positions & Points'!DL68=\"\",\"\",'Races, Positions & Points'!DL68)","v":""},{"$f":"IF('Races, Positions & Points'!DO68=\"\",\"\",'Races, Positions & Points'!DO68)","v":""},{"$f":"IF('Races, Positions & Points'!DR68=\"\",\"\",'Races, Positions & Points'!DR68)","v":""},{"$f":"IF('Races, Positions & Points'!DS68=\"\",\"\",'Races, Positions & Points'!DS68)","v":""},{"$f":"IF('Races, Positions & Points'!DU68=\"\",\"\",'Races, Positions & Points'!DU68)","v":""},{"$f":"IF('Races, Positions & Points'!DX68=\"\",\"\",'Races, Positions & Points'!DX68)","v":""},{"$f":"IF('Races, Positions & Points'!EA68=\"\",\"\",'Races, Positions & Points'!EA68)","v":""},{"$f":"IF('Races, Positions & Points'!ED68=\"\",\"\",'Races, Positions & Points'!ED68)","v":""},{"$f":"IF('Races, Positions & Points'!EG68=\"\",\"\",'Races, Positions & Points'!EG68)","v":""},{"$f":"IF('Races, Positions & Points'!#REF!=\"\",\"\",'Races, Positions & Points'!#REF!)","v":{"$error":"#REF!"}},{"$f":"IF('Races, Positions & Points'!#REF!=\"\",\"\",'Races, Positions & Points'!#REF!)","v":{"$error":"#REF!"}},{"$f":"IF('Races, Positions & Points'!#REF!=\"\",\"\",'Races, Positions & Points'!#REF!)","v":{"$error":"#REF!"}},{"$f":"IF('Races, Positions & Points'!#REF!=\"\",\"\",'Races, Positions & Points'!#REF!)","v":{"$error":"#REF!"}},{"$f":"IF('Races, Positions & Points'!#REF!=\"\",\"\",'Races, Positions & Points'!#REF!)","v":{"$error":"#REF!"}},{"$f":"IF('Races, Positions & Points'!#REF!=\"\",\"\",'Races, Positions & Points'!#REF!)","v":{"$error":"#REF!"}},null,{"$error":"#REF!"},{"$error":"#REF!"},{"$error":"#REF!"},{"$error":"#REF!"},{"$error":"#REF!"},{"$error":"#REF!"},null,{"$f":"'Races, Positions & Points'!E68","v":41662},{"$f":"'Races, Positions & Points'!#REF!","v":{"$error":"#REF!"}},{"$error":"#REF!"},"","",{"$error":"#REF!"},"",{"$error":"#REF!"},{"$error":"#REF!"},{"$error":"#REF!"},null,{"$error":"#REF!"},"","",{"$error":"#REF!"},"",{"$error":"#REF!"},{"$error":"#REF!"},{"$error":"#REF!"},null,"",{"$error":"#REF!"},"",{"$error":"#REF!"},"",{"$error":"#REF!"},"","",{"$error":"#REF!"},"","","","","","",{"$error":"#REF!"},null,{"$error":"#REF!"},"","","",null,{"$error":"#REF!"},"","","",null,"",{"$error":"#REF!"},"","","","",{"$error":"#REF!"},"","",{"$error":"#REF!"}]
[{"$f":"'Races, Positions & Points'!A69","v":"Duncan Thorley"},{"$f":"IF('Races, Positions & Points'!S69=\"\",\"\",'Races, Positions & Points'!S69)","v":""},{"$f":"IF('Races, Positions & Points'!V69=\"\",\"\",'Races, Positions & Points'!V69)","v":""},{"$f":"IF('Races, Positions & Points'!#REF!=\"\",\"\",'Races, Positions & Points'!#REF!)","v":{"$error":"#REF!"}},{"$f":"IF('Races, Positions & Points'!Y69=\"\",\"\",'Races, Positions & Points'!Y69)","v":""},{"$f":"IF('Races, Positions & Points'!Z69=\"\",\"\",'Races, Positions & Points'!Z69)","v":""},{"$f":"IF('Races, Positions & Points'!AC69=\"\",\"\",'Races, Positions & Points'!AC69)","v":""},{"$f":"IF('Races, Positions & Points'!AD69=\"\",\"\",'Races, Positions & Points'!AD69)","v":""},{"$f":"IF('Races, Positions & Points'!AG69=\"\",\"\",'Races, Positions & Points'!AG69)","v":""},{"$f":"IF('Races, Positions & Points'!AJ69=\"\",\"\",'Races, Positions & Points'!AJ69)","v":""},{"$f":"IF('Races, Positions & Points'!AM69=\"\",\"\",'Races, Positions & Points'!AM69)","v":""},{"$f":"IF('Races, Positions & Points'!AP69=\"\",\"\",'Races, Positions & Points'!AP69)","v":""},{"$f":"IF('Races, Positions & Points'!AS69=\"\",\"\",'Races, Positions & Points'!AS69)","v":""},{"$f":"IF('Races, Positions & Points'!AV69=\"\",\"\",'Races, Positions & Points'!AV69)","v":""},{"$f":"IF('Races, Positions & Points'!AY69=\"\",\"\",'Races, Positions & Points'!AY69)","v":""},{"$f":"IF('Races, Positions & Points'!BB69=\"\",\"\",'Races, Positions & Points'!BB69)","v":""},{"$f":"IF('Races, Positions & Points'!BE69=\"\",\"\",'Races, Positions & Points'!BE69)","v":""},{"$f":"IF('Races, Positions & Points'!BH69=\"\",\"\",'Races, Positions & Points'!BH69)","v":""},{"$f":"IF('Races, Positions & Points'!BK69=\"\",\"\",'Races, Positions & Points'!BK69)","v":""},{"$f":"IF('Races, Positions & Points'!BN69=\"\",\"\",'Races, Positions & Points'!BN69)","v":""},{"$f":"IF('Races, Positions & Points'!BQ69=\"\",\"\",'Races, Positions & Points'!BQ69)","v":""},{"$f":"IF('Races, Positions & Points'!BT69=\"\",\"\",'Races, Positions & Points'!BT69)","v":""},{"$f":"IF('Races, Positions & Points'!#REF!=\"\",\"\",'Races, Positions & Points'!#REF!)","v":{"$error":"#REF!"}},{"$f":"IF('Races, Positions & Points'!BW69=\"\",\"\",'Races, Positions & Points'!BW69)","v":""},{"$f":"IF('Races, Positions & Points'!BZ69=\"\",\"\",'Races, Positions & Points'!BZ69)","v":""},{"$f":"IF('Races, Positions & Points'!CG69=\"\",\"\",'Races, Positions & Points'!CG69)","v":""},{"$f":"IF('Races, Positions & Points'!CC69=\"\",\"\",'Races, Positions & Points'!CC69)","v":""},{"$f":"IF('Races, Positions & Points'!CJ69=\"\",\"\",'Races, Positions & Points'!CJ69)","v":""},{"$f":"IF('Races, Positions & Points'!CM69=\"\",\"\",'Races, Positions & Points'!CM69)","v":""},{"$f":"IF('Races, Positions & Points'!CW69=\"\",\"\",'Races, Positions & Points'!CW69)","v":""},{"$f":"IF('Races, Positions & Points'!CP69=\"\",\"\",'Races, Positions & Points'!CP69)","v":""},{"$f":"IF('Races, Positions & Points'!CZ69=\"\",\"\",'Races, Positions & Points'!CZ69)","v":""},{"$f":"IF('Races, Positions & Points'!#REF!=\"\",\"\",'Races, Positions & Points'!#REF!)","v":{"$error":"#REF!"}},{"$f":"IF('Races, Positions & Points'!DC69=\"\",\"\",'Races, Positions & Points'!DC69)","v":""},{"$f":"IF('Races, Positions & Points'!DF69=\"\",\"\",'Races, Positions & Points'!DF69)","v":""},{"$f":"IF('Races, Positions & Points'!DI69=\"\",\"\",'Races, Positions & Points'!DI69)","v":""},{"$f":"IF('Races, Positions & Points'!DL69=\"\",\"\",'Races, Positions & Points'!DL69)","v":""},{"$f":"IF('Races, Positions & Points'!DO69=\"\",\"\",'Races, Positions & Points'!DO69)","v":""},{"$f":"IF('Races, Positions & Points'!DR69=\"\",\"\",'Races, Positions & Points'!DR69)","v":""},{"$f":"IF('Races, Positions & Points'!DS69=\"\",\"\",'Races, Positions & Points'!DS69)","v":""},{"$f":"IF('Races, Positions & Points'!DU69=\"\",\"\",'Races, Positions & Points'!DU69)","v":""},{"$f":"IF('Races, Positions & Points'!DX69=\"\",\"\",'Races, Positions & Points'!DX69)","v":""},{"$f":"IF('Races, Positions & Points'!EA69=\"\",\"\",'Races, Positions & Points'!EA69)","v":""},{"$f":"IF('Races, Positions & Points'!ED69=\"\",\"\",'Races, Positions & Points'!ED69)","v":""},{"$f":"IF('Races, Positions & Points'!EG69=\"\",\"\",'Races, Positions & Points'!EG69)","v":""},{"$f":"IF('Races, Positions & Points'!#REF!=\"\",\"\",'Races, Positions & Points'!#REF!)","v":{"$error":"#REF!"}},{"$f":"IF('Races, Positions & Points'!#REF!=\"\",\"\",'Races, Positions & Points'!#REF!)","v":{"$error":"#REF!"}},{"$f":"IF('Races, Positions & Points'!#REF!=\"\",\"\",'Races, Positions & Points'!#REF!)","v":{"$error":"#REF!"}},{"$f":"IF('Races, Positions & Points'!#REF!=\"\",\"\",'Races, Positions & Points'!#REF!)","v":{"$error":"#REF!"}},{"$f":"IF('Races, Positions & Points'!#REF!=\"\",\"\",'Races, Positions & Points'!#REF!)","v":{"$error":"#REF!"}},{"$f":"IF('Races, Positions & Points'!#REF!=\"\",\"\",'Races, Positions & Points'!#REF!)","v":{"$error":"#REF!"}},null,{"$error":"#REF!"},{"$error":"#REF!"},{"$error":"#REF!"},{"$error":"#REF!"},{"$error":"#REF!"},{"$error":"#REF!"},null,{"$f":"'Races, Positions & Points'!E69","v":18998},{"$f":"'Races, Positions & Points'!#REF!","v":{"$error":"#REF!"}},{"$error":"#REF!"},"","",{"$error":"#REF!"},"",{"$error":"#REF!"},{"$error":"#REF!"},{"$error":"#REF!"},null,{"$error":"#REF!"},"","",{"$error":"#REF!"},"",{"$error":"#REF!"},{"$error":"#REF!"},{"$error":"#REF!"},null,"",{"$error":"#REF!"},"",{"$error":"#REF!"},"",{"$error":"#REF!"},"","",{"$error":"#REF!"},"","","","","","",{"$error":"#REF!"},null,{"$error":"#REF!"},"","","",null,{"$error":"#REF!"},"","","",null,"",{"$error":"#REF!"},"","","","",{"$error":"#REF!"},"","",{"$error":"#REF!"}]
[{"$f":"'Races, Positions & Points'!A70","v":"Nick Phelps"},{"$f":"IF('Races, Positions & Points'!S70=\"\",\"\",'Races, Positions & Points'!S70)","v":""},{"$f":"IF('Races, Positions & Points'!V70=\"\",\"\",'Races, Positions & Points'!V70)","v":""},{"$f":"IF('Races, Positions & Points'!#REF!=\"\",\"\",'Races, Positions & Points'!#REF!)","v":{"$error":"#REF!"}},{"$f":"IF('Races, Positions & Points'!Y70=\"\",\"\",'Races, Positions & Points'!Y70)","v":""},{"$f":"IF('Races, Positions & Points'!Z70=\"\",\"\",'Races, Positions & Points'!Z70)","v":""},{"$f":"IF('Races, Positions & Points'!AC70=\"\",\"\",'Races, Positions & Points'!AC70)","v":""},{"$f":"IF('Races, Positions & Points'!AD70=\"\",\"\",'Races, Positions & Points'!AD70)","v":""},{"$f":"IF('Races, Positions & Points'!AG70=\"\",\"\",'Races, Positions & Points'!AG70)","v":""},{"$f":"IF('Races, Positions & Points'!AJ70=\"\",\"\",'Races, Positions & Points'!AJ70)","v":""},{"$f":"IF('Races, Positions & Points'!AM70=\"\",\"\",'Races, Positions & Points'!AM70)","v":""},{"$f":"IF('Races, Positions & Points'!AP70=\"\",\"\",'Races, Positions & Points'!AP70)","v":""},{"$f":"IF('Races, Positions & Points'!AS70=\"\",\"\",'Races, Positions & Points'!AS70)","v":""},{"$f":"IF('Races, Positions & Points'!AV70=\"\",\"\",'Races, Positions & Points'!AV70)","v":""},{"$f":"IF('Races, Positions & Points'!AY70=\"\",\"\",'Races, Positions & Points'!AY70)","v":""},{"$f":"IF('Races, Positions & Points'!BB70=\"\",\"\",'Races, Positions & Points'!BB70)","v":""},{"$f":"IF('Races, Positions & Points'!BE70=\"\",\"\",'Races, Positions & Points'!BE70)","v":""},{"$f":"IF('Races, Positions & Points'!BH70=\"\",\"\",'Races, Positions & Points'!BH70)","v":""},{"$f":"IF('Races, Positions & Points'!BK70=\"\",\"\",'Races, Positions & Points'!BK70)","v":""},{"$f":"IF('Races, Positions & Points'!BN70=\"\",\"\",'Races, Positions & Points'!BN70)","v":""},{"$f":"IF('Races, Positions & Points'!BQ70=\"\",\"\",'Races, Positions & Points'!BQ70)","v":""},{"$f":"IF('Races, Positions & Points'!BT70=\"\",\"\",'Races, Positions & Points'!BT70)","v":""},{"$f":"IF('Races, Positions & Points'!#REF!=\"\",\"\",'Races, Positions & Points'!#REF!)","v":{"$error":"#REF!"}},{"$f":"IF('Races, Positions & Points'!BW70=\"\",\"\",'Races, Positions & Points'!BW70)","v":""},{"$f":"IF('Races, Positions & Points'!BZ70=\"\",\"\",'Races, Positions & Points'!BZ70)","v":""},{"$f":"IF('Races, Positions & Points'!CG70=\"\",\"\",'Races, Positions & Points'!CG70)","v":""},{"$f":"IF('Races, Positions & Points'!CC70=\"\",\"\",'Races, Positions & Points'!CC70)","v":81.17},{"$f":"IF('Races, Positions & Points'!CJ70=\"\",\"\",'Races, Positions & Points'!CJ70)","v":""},{"$f":"IF('Races, Positions & Points'!CM70=\"\",\"\",'Races, Positions & Points'!CM70)","v":""},{"$f":"IF('Races, Positions & Points'!CW70=\"\",\"\",'Races, Positions & Points'!CW70)","v":""},{"$f":"IF('Races, Positions & Points'!CP70=\"\",\"\",'Races, Positions & Points'!CP70)","v":""},{"$f":"IF('Races, Positions & Points'!CZ70=\"\",\"\",'Races, Positions & Points'!CZ70)","v":""},{"$f":"IF('Races, Positions & Points'!#REF!=\"\",\"\",'Races, Positions & Points'!#REF!)","v":{"$error":"#REF!"}},{"$f":"IF('Races, Positions & Points'!DC70=\"\",\"\",'Races, Positions & Points'!DC70)","v":""},{"$f":"IF('Races, Positions & Points'!DF70=\"\",\"\",'Races, Positions & Points'!DF70)","v":""},{"$f":"IF('Races, Positions & Points'!DI70=\"\",\"\",'Races, Positions & Points'!DI70)","v":""},{"$f":"IF('Races, Positions & Points'!DL70=\"\",\"\",'Races, Positions & Points'!DL70)","v":""},{"$f":"IF('Races, Positions & Points'!DO70=\"\",\"\",'Races, Positions & Points'!DO70)","v":""},{"$f":"IF('Races, Positions & Points'!DR70=\"\",\"\",'Races, Positions & Points'!DR70)","v":""},{"$f":"IF('Races, Positions & Points'!DS70=\"\",\"\",'Races, Positions & Points'!DS70)","v":""},{"$f":"IF('Races, Positions & Points'!DU70=\"\",\"\",'Races, Positions & Points'!DU70)","v":""},{"$f":"IF('Races, Positions & Points'!DX70=\"\",\"\",'Races, Positions & Points'!DX70)","v":""},{"$f":"IF('Races, Positions & Points'!EA70=\"\",\"\",'Races, Positions & Points'!EA70)","v":""},{"$f":"IF('Races, Positions & Points'!ED70=\"\",\"\",'Races, Positions & Points'!ED70)","v":""},{"$f":"IF('Races, Positions & Points'!EG70=\"\",\"\",'Races, Positions & Points'!EG70)","v":""},{"$f":"IF('Races, Positions & Points'!#REF!=\"\",\"\",'Races, Positions & Points'!#REF!)","v":{"$error":"#REF!"}},{"$f":"IF('Races, Positions & Points'!#REF!=\"\",\"\",'Races, Positions & Points'!#REF!)","v":{"$error":"#REF!"}},{"$f":"IF('Races, Positions & Points'!#REF!=\"\",\"\",'Races, Positions & Points'!#REF!)","v":{"$error":"#REF!"}},{"$f":"IF('Races, Positions & Points'!#REF!=\"\",\"\",'Races, Positions & Points'!#REF!)","v":{"$error":"#REF!"}},{"$f":"IF('Races, Positions & Points'!#REF!=\"\",\"\",'Races, Positions & Points'!#REF!)","v":{"$error":"#REF!"}},{"$f":"IF('Races, Positions & Points'!#REF!=\"\",\"\",'Races, Positions & Points'!#REF!)","v":{"$error":"#REF!"}},null,{"$error":"#REF!"},{"$error":"#REF!"},{"$error":"#REF!"},{"$error":"#REF!"},{"$error":"#REF!"},{"$error":"#REF!"},null,{"$f":"'Races, Positions & Points'!E70","v":17840},{"$f":"'Races, Positions & Points'!#REF!","v":{"$error":"#REF!"}},{"$error":"#REF!"},"","",{"$error":"#REF!"},"",{"$error":"#REF!"},{"$error":"#REF!"},{"$error":"#REF!"},null,{"$error":"#REF!"},"","",{"$error":"#REF!"},"",{"$error":"#REF!"},{"$error":"#REF!"},{"$error":"#REF!"},null,"",{"$error":"#REF!"},"",{"$error":"#REF!"},"",{"$error":"#REF!"},"","",{"$error":"#REF!"},"","","",81.17,"","",{"$error":"#REF!"},null,{"$error":"#REF!"},"","","",null,{"$error":"#REF!"},"","","",null,"",{"$error":"#REF!"},"","","","",{"$error":"#REF!"},"","",{"$error":"#REF!"}]
[{"$f":"'Races, Positions & Points'!A71","v":"Seamus O'Brien"},{"$f":"IF('Races, Positions & Points'!S71=\"\",\"\",'Races, Positions & Points'!S71)","v":""},{"$f":"IF('Races, Positions & Points'!V71=\"\",\"\",'Races, Positions & Points'!V71)","v":""},{"$f":"IF('Races, Positions & Points'!#REF!=\"\",\"\",'Races, Positions & Points'!#REF!)","v":{"$error":"#REF!"}},{"$f":"IF('Races, Positions & Points'!Y71=\"\",\"\",'Races, Positions & Points'!Y71)","v":110.04},{"$f":"IF('Races, Positions & Points'!Z71=\"\",\"\",'Races, Positions & Points'!Z71)","v":106.8},{"$f":"IF('Races, Positions & Points'!AC71=\"\",\"\",'Races, Positions & Points'!AC71)","v":103.17},{"$f":"IF('Races, Positions & Points'!AD71=\"\",\"\",'Races, Positions & Points'!AD71)","v":101.42},{"$f":"IF('Races, Positions & Points'!AG71=\"\",\"\",'Races, Positions & Points'!AG71)","v":""},{"$f":"IF('Races, Positions & Points'!AJ71=\"\",\"\",'Races, Positions & Points'!AJ71)","v":""},{"$f":"IF('Races, Positions & Points'!AM71=\"\",\"\",'Races, Positions & Points'!AM71)","v":""},{"$f":"IF('Races, Positions & Points'!AP71=\"\",\"\",'Races, Positions & Points'!AP71)","v":"DNF"},{"$f":"IF('Races, Positions & Points'!AS71=\"\",\"\",'Races, Positions & Points'!AS71)","v":114.09},{"$f":"IF('Races, Positions & Points'!AV71=\"\",\"\",'Races, Positions & Points'!AV71)","v":""},{"$f":"IF('Races, Positions & Points'!AY71=\"\",\"\",'Races, Positions & Points'!AY71)","v":""},{"$f":"IF('Races, Positions & Points'!BB71=\"\",\"\",'Races, Positions & Points'!BB71)","v":""},{"$f":"IF('Races, Positions & Points'!BE71=\"\",\"\",'Races, Positions & Points'!BE71)","v":""},{"$f":"IF('Races, Positions & Points'!BH71=\"\",\"\",'Races, Positions & Points'!BH71)","v":""},{"$f":"IF('Races, Positions & Points'!BK71=\"\",\"\",'Races, Positions & Points'!BK71)","v":""},{"$f":"IF('Races, Positions & Points'!BN71=\"\",\"\",'Races, Positions & Points'!BN71)","v":""},{"$f":"IF('Races, Positions & Points'!BQ71=\"\",\"\",'Races, Positions & Points'!BQ71)","v":117.47},{"$f":"IF('Races, Positions & Points'!BT71=\"\",\"\",'Races, Positions & Points'!BT71)","v":74.94},{"$f":"IF('Races, Positions & Points'!#REF!=\"\",\"\",'Races, Positions & Points'!#REF!)","v":{"$error":"#REF!"}},{"$f":"IF('Races, Positions & Points'!BW71=\"\",\"\",'Races, Positions & Points'!BW71)","v":""},{"$f":"IF('Races, Positions & Points'!BZ71=\"\",\"\",'Races, Positions & Points'!BZ71)","v":""},{"$f":"IF('Races, Positions & Points'!CG71=\"\",\"\",'Races, Positions & Points'!CG71)","v":""},{"$f":"IF('Races, Positions & Points'!CC71=\"\",\"\",'Races, Positions & Points'!CC71)","v":""},{"$f":"IF('Races, Positions & Points'!CJ71=\"\",\"\",'Races, Positions & Points'!CJ71)","v":""},{"$f":"IF('Races, Positions & Points'!CM71=\"\",\"\",'Races, Positions & Points'!CM71)","v":""},{"$f":"IF('Races, Positions & Points'!CW71=\"\",\"\",'Races, Positions & Points'!CW71)","v":""},{"$f":"IF('Races, Positions & Points'!CP71=\"\",\"\",'Races, Positions & Points'!CP71)","v":""},{"$f":"IF('Races, Positions & Points'!CZ71=\"\",\"\",'Races, Positions & Points'!CZ71)","v":""},{"$f":"IF('Races, Positions & Points'!#REF!=\"\",\"\",'Races, Positions & Points'!#REF!)","v":{"$error":"#REF!"}},{"$f":"IF('Races, Positions & Points'!DC71=\"\",\"\",'Races, Positions & Points'!DC71)","v":""},{"$f":"IF('Races, Positions & Points'!DF71=\"\",\"\",'Races, Positions & Points'!DF71)","v":123.51},{"$f":"IF('Races, Positions & Points'!DI71=\"\",\"\",'Races, Positions & Points'!DI71)","v":""},{"$f":"IF('Races, Positions & Points'!DL71=\"\",\"\",'Races, Positions & Points'!DL71)","v":""},{"$f":"IF('Races, Positions & Points'!DO71=\"\",\"\",'Races, Positions & Points'!DO71)","v":""},{"$f":"IF('Races, Positions & Points'!DR71=\"\",\"\",'Races, Positions & Points'!DR71)","v":""},{"$f":"IF('Races, Positions & Points'!DS71=\"\",\"\",'Races, Positions & Points'!DS71)","v":""},{"$f":"IF('Races, Positions & Points'!DU71=\"\",\"\",'Races, Positions & Points'!DU71)","v":""},{"$f":"IF('Races, Positions & Points'!DX71=\"\",\"\",'Races, Positions & Points'!DX71)","v":""},{"$f":"IF('Races, Positions & Points'!EA71=\"\",\"\",'Races, Positions & Points'!EA71)","v":""},{"$f":"IF('Races, Positions & Points'!ED71=\"\",\"\",'Races, Positions & Points'!ED71)","v":""},{"$f":"IF('Races, Positions & Points'!EG71=\"\",\"\",'Races, Positions & Points'!EG71)","v":""},{"$f":"IF('Races, Positions & Points'!#REF!=\"\",\"\",'Races, Positions & Points'!#REF!)","v":{"$error":"#REF!"}},{"$f":"IF('Races, Positions & Points'!#REF!=\"\",\"\",'Races, Positions & Points'!#REF!)","v":{"$error":"#REF!"}},{"$f":"IF('Races, Positions & Points'!#REF!=\"\",\"\",'Races, Positions & Points'!#REF!)","v":{"$error":"#REF!"}},{"$f":"IF('Races, Positions & Points'!#REF!=\"\",\"\",'Races, Positions & Points'!#REF!)","v":{"$error":"#REF!"}},{"$f":"IF('Races, Positions & Points'!#REF!=\"\",\"\",'Races, Positions & Points'!#REF!)","v":{"$error":"#REF!"}},{"$f":"IF('Races, Positions & Points'!#REF!=\"\",\"\",'Races, Positions & Points'!#REF!)","v":{"$error":"#REF!"}},null,{"$error":"#REF!"},{"$error":"#REF!"},{"$error":"#REF!"},{"$error":"#REF!"},{"$error":"#REF!"},{"$error":"#REF!"},null,{"$f":"'Races, Positions & Points'!E71","v":19737},{"$f":"'Races, Positions & Points'!#REF!","v":{"$error":"#REF!"}},{"$error":"#REF!"},"","",{"$error":"#REF!"},"",{"$error":"#REF!"},{"$error":"#REF!"},{"$error":"#REF!"},null,{"$error":"#REF!"},"","",{"$error":"#REF!"},"",{"$error":"#REF!"},{"$error":"#REF!"},{"$error":"#REF!"},null,123.51,{"$error":"#REF!"},74.94,{"$error":"#REF!"},114.09,{"$error":"#REF!"},"","",{"$error":"#REF!"},"",117.47,"","","","",{"$error":"#REF!"},null,{"$error":"#REF!"},"","","",null,{"$error":"#REF!"},"","","",null,123.51,{"$error":"#REF!"},74.94,114.09,"","",{"$error":"#REF!"},"","",{"$error":"#REF!"}]
[{"$f":"'Races, Positions & Points'!A72","v":"James Elgy"},{"$f":"IF('Races, Positions & Points'!S72=\"\",\"\",'Races, Positions & Points'!S72)","v":""},{"$f":"IF('Races, Positions & Points'!V72=\"\",\"\",'Races, Positions & Points'!V72)","v":""},{"$f":"IF('Races, Positions & Points'!#REF!=\"\",\"\",'Races, Positions & Points'!#REF!)","v":{"$error":"#REF!"}},{"$f":"IF('Races, Positions & Points'!Y72=\"\",\"\",'Races, Positions & Points'!Y72)","v":""},{"$f":"IF('Races, Positions & Points'!Z72=\"\",\"\",'Races, Positions & Points'!Z72)","v":""},{"$f":"IF('Races, Positions & Points'!AC72=\"\",\"\",'Races, Positions & Points'!AC72)","v":""},{"$f":"IF('Races, Positions & Points'!AD72=\"\",\"\",'Races, Positions & Points'!AD72)","v":""},{"$f":"IF('Races, Positions & Points'!AG72=\"\",\"\",'Races, Positions & Points'!AG72)","v":""},{"$f":"IF('Races, Positions & Points'!AJ72=\"\",\"\",'Races, Positions & Points'!AJ72)","v":""},{"$f":"IF('Races, Positions & Points'!AM72=\"\",\"\",'Races, Positions & Points'!AM72)","v":""},{"$f":"IF('Races, Positions & Points'!AP72=\"\",\"\",'Races, Positions & Points'!AP72)","v":""},{"$f":"IF('Races, Positions & Points'!AS72=\"\",\"\",'Races, Positions & Points'!AS72)","v":""},{"$f":"IF('Races, Positions & Points'!AV72=\"\",\"\",'Races, Positions & Points'!AV72)","v":""},{"$f":"IF('Races, Positions & Points'!AY72=\"\",\"\",'Races, Positions & Points'!AY72)","v":""},{"$f":"IF('Races, Positions & Points'!BB72=\"\",\"\",'Races, Positions & Points'!BB72)","v":""},{"$f":"IF('Races, Positions & Points'!BE72=\"\",\"\",'Races, Positions & Points'!BE72)","v":""},{"$f":"IF('Races, Positions & Points'!BH72=\"\",\"\",'Races, Positions & Points'!BH72)","v":""},{"$f":"IF('Races, Positions & Points'!BK72=\"\",\"\",'Races, Positions & Points'!BK72)","v":""},{"$f":"IF('Races, Positions & Points'!BN72=\"\",\"\",'Races, Positions & Points'!BN72)","v":""},{"$f":"IF('Races, Positions & Points'!BQ72=\"\",\"\",'Races, Positions & Points'!BQ72)","v":""},{"$f":"IF('Races, Positions & Points'!BT72=\"\",\"\",'Races, Positions & Points'!BT72)","v":""},{"$f":"IF('Races, Positions & Points'!#REF!=\"\",\"\",'Races, Positions & Points'!#REF!)","v":{"$error":"#REF!"}},{"$f":"IF('Races, Positions & Points'!BW72=\"\",\"\",'Races, Positions & Points'!BW72)","v":""},{"$f":"IF('Races, Positions & Points'!BZ72=\"\",\"\",'Races, Positions & Points'!BZ72)","v":""},{"$f":"IF('Races, Positions & Points'!CG72=\"\",\"\",'Races, Positions & Points'!CG72)","v":""},{"$f":"IF('Races, Positions & Points'!CC72=\"\",\"\",'Races, Positions & Points'!CC72)","v":""},{"$f":"IF('Races, Positions & Points'!CJ72=\"\",\"\",'Races, Positions & Points'!CJ72)","v":""},{"$f":"IF('Races, Positions & Points'!CM72=\"\",\"\",'Races, Positions & Points'!CM72)","v":""},{"$f":"IF('Races, Positions & Points'!CW72=\"\",\"\",'Races, Positions & Points'!CW72)","v":""},{"$f":"IF('Races, Positions & Points'!CP72=\"\",\"\",'Races, Positions & Points'!CP72)","v":""},{"$f":"IF('Races, Positions & Points'!CZ72=\"\",\"\",'Races, Positions & Points'!CZ72)","v":""},{"$f":"IF('Races, Positions & Points'!#REF!=\"\",\"\",'Races, Positions & Points'!#REF!)","v":{"$error":"#REF!"}},{"$f":"IF('Races, Positions & Points'!DC72=\"\",\"\",'Races, Positions & Points'!DC72)","v":""},{"$f":"IF('Races, Positions & Points'!DF72=\"\",\"\",'Races, Positions & Points'!DF72)","v":""},{"$f":"IF('Races, Positions & Points'!DI72=\"\",\"\",'Races, Positions & Points'!DI72)","v":""},{"$f":"IF('Races, Positions & Points'!DL72=\"\",\"\",'Races, Positions & Points'!DL72)","v":""},{"$f":"IF('Races, Positions & Points'!DO72=\"\",\"\",'Races, Positions & Points'!DO72)","v":""},{"$f":"IF('Races, Positions & Points'!DR72=\"\",\"\",'Races, Positions & Points'!DR72)","v":""},{"$f":"IF('Races, Positions & Points'!DS72=\"\",\"\",'Races, Positions & Points'!DS72)","v":""},{"$f":"IF('Races, Positions & Points'!DU72=\"\",\"\",'Races, Positions & Points'!DU72)","v":""},{"$f":"IF('Races, Positions & Points'!DX72=\"\",\"\",'Races, Positions & Points'!DX72)","v":""},{"$f":"IF('Races, Positions & Points'!EA72=\"\",\"\",'Races, Positions & Points'!EA72)","v":""},{"$f":"IF('Races, Positions & Points'!ED72=\"\",\"\",'Races, Positions & Points'!ED72)","v":""},{"$f":"IF('Races, Positions & Points'!EG72=\"\",\"\",'Races, Positions & Points'!EG72)","v":""},{"$f":"IF('Races, Positions & Points'!#REF!=\"\",\"\",'Races, Positions & Points'!#REF!)","v":{"$error":"#REF!"}},{"$f":"IF('Races, Positions & Points'!#REF!=\"\",\"\",'Races, Positions & Points'!#REF!)","v":{"$error":"#REF!"}},{"$f":"IF('Races, Positions & Points'!#REF!=\"\",\"\",'Races, Positions & Points'!#REF!)","v":{"$error":"#REF!"}},{"$f":"IF('Races, Positions & Points'!#REF!=\"\",\"\",'Races, Positions & Points'!#REF!)","v":{"$error":"#REF!"}},{"$f":"IF('Races, Positions & Points'!#REF!=\"\",\"\",'Races, Positions & Points'!#REF!)","v":{"$error":"#REF!"}},{"$f":"IF('Races, Positions & Points'!#REF!=\"\",\"\",'Races, Positions & Points'!#REF!)","v":{"$error":"#REF!"}},null,{"$error":"#REF!"},{"$error":"#REF!"},{"$error":"#REF!"},{"$error":"#REF!"},{"$error":"#REF!"},{"$error":"#REF!"},null,{"$f":"'Races, Positions & Points'!E72","v":19166},{"$f":"'Races, Positions & Points'!#REF!","v":{"$error":"#REF!"}},{"$error":"#REF!"},"","",{"$error":"#REF!"},"",{"$error":"#REF!"},{"$error":"#REF!"},{"$error":"#REF!"},null,{"$error":"#REF!"},"","",{"$error":"#REF!"},"",{"$error":"#REF!"},{"$error":"#REF!"},{"$error":"#REF!"},null,"",{"$error":"#REF!"},"",{"$error":"#REF!"},"",{"$error":"#REF!"},"","",{"$error":"#REF!"},"","","","","","",{"$error":"#REF!"},null,{"$error":"#REF!"},"","","",null,{"$error":"#REF!"},"","","",null,"",{"$error":"#REF!"},"","","","",{"$error":"#REF!"},"","",{"$error":"#REF!"}]
[{"$f":"'Races, Positions & Points'!A73","v":"Toby Tarrant"},{"$f":"IF('Races, Positions & Points'!S73=\"\",\"\",'Races, Positions & Points'!S73)","v":""},{"$f":"IF('Races, Positions & Points'!V73=\"\",\"\",'Races, Positions & Points'!V73)","v":""},{"$f":"IF('Races, Positions & Points'!#REF!=\"\",\"\",'Races, Positions & Points'!#REF!)","v":{"$error":"#REF!"}},{"$f":"IF('Races, Positions & Points'!Y73=\"\",\"\",'Races, Positions & Points'!Y73)","v":""},{"$f":"IF('Races, Positions & Points'!Z73=\"\",\"\",'Races, Positions & Points'!Z73)","v":""},{"$f":"IF('Races, Positions & Points'!AC73=\"\",\"\",'Races, Positions & Points'!AC73)","v":""},{"$f":"IF('Races, Positions & Points'!AD73=\"\",\"\",'Races, Positions & Points'!AD73)","v":""},{"$f":"IF('Races, Positions & Points'!AG73=\"\",\"\",'Races, Positions & Points'!AG73)","v":""},{"$f":"IF('Races, Positions & Points'!AJ73=\"\",\"\",'Races, Positions & Points'!AJ73)","v":""},{"$f":"IF('Races, Positions & Points'!AM73=\"\",\"\",'Races, Positions & Points'!AM73)","v":""},{"$f":"IF('Races, Positions & Points'!AP73=\"\",\"\",'Races, Positions & Points'!AP73)","v":""},{"$f":"IF('Races, Positions & Points'!AS73=\"\",\"\",'Races, Positions & Points'!AS73)","v":""},{"$f":"IF('Races, Positions & Points'!AV73=\"\",\"\",'Races, Positions & Points'!AV73)","v":""},{"$f":"IF('Races, Positions & Points'!AY73=\"\",\"\",'Races, Positions & Points'!AY73)","v":""},{"$f":"IF('Races, Positions & Points'!BB73=\"\",\"\",'Races, Positions & Points'!BB73)","v":""},{"$f":"IF('Races, Positions & Points'!BE73=\"\",\"\",'Races, Positions & Points'!BE73)","v":""},{"$f":"IF('Races, Positions & Points'!BH73=\"\",\"\",'Races, Positions & Points'!BH73)","v":""},{"$f":"IF('Races, Positions & Points'!BK73=\"\",\"\",'Races, Positions & Points'!BK73)","v":""},{"$f":"IF('Races, Positions & Points'!BN73=\"\",\"\",'Races, Positions & Points'!BN73)","v":""},{"$f":"IF('Races, Positions & Points'!BQ73=\"\",\"\",'Races, Positions & Points'!BQ73)","v":""},{"$f":"IF('Races, Positions & Points'!BT73=\"\",\"\",'Races, Positions & Points'!BT73)","v":""},{"$f":"IF('Races, Positions & Points'!#REF!=\"\",\"\",'Races, Positions & Points'!#REF!)","v":{"$error":"#REF!"}},{"$f":"IF('Races, Positions & Points'!BW73=\"\",\"\",'Races, Positions & Points'!BW73)","v":""},{"$f":"IF('Races, Positions & Points'!BZ73=\"\",\"\",'Races, Positions & Points'!BZ73)","v":""},{"$f":"IF('Races, Positions & Points'!CG73=\"\",\"\",'Races, Positions & Points'!CG73)","v":""},{"$f":"IF('Races, Positions & Points'!CC73=\"\",\"\",'Races, Positions & Points'!CC73)","v":""},{"$f":"IF('Races, Positions & Points'!CJ73=\"\",\"\",'Races, Positions & Points'!CJ73)","v":""},{"$f":"IF('Races, Positions & Points'!CM73=\"\",\"\",'Races, Positions & Points'!CM73)","v":""},{"$f":"IF('Races, Positions & Points'!CW73=\"\",\"\",'Races, Positions & Points'!CW73)","v":""},{"$f":"IF('Races, Positions & Points'!CP73=\"\",\"\",'Races, Positions & Points'!CP73)","v":""},{"$f":"IF('Races, Positions & Points'!CZ73=\"\",\"\",'Races, Positions & Points'!CZ73)","v":""},{"$f":"IF('Races, Positions & Points'!#REF!=\"\",\"\",'Races, Positions & Points'!#REF!)","v":{"$error":"#REF!"}},{"$f":"IF('Races, Positions & Points'!DC73=\"\",\"\",'Races, Positions & Points'!DC73)","v":""},{"$f":"IF('Races, Positions & Points'!DF73=\"\",\"\",'Races, Positions & Points'!DF73)","v":""},{"$f":"IF('Races, Positions & Points'!DI73=\"\",\"\",'Races, Positions & Points'!DI73)","v":""},{"$f":"IF('Races, Positions & Points'!DL73=\"\",\"\",'Races, Positions & Points'!DL73)","v":""},{"$f":"IF('Races, Positions & Points'!DO73=\"\",\"\",'Races, Positions & Points'!DO73)","v":""},{"$f":"IF('Races, Positions & Points'!DR73=\"\",\"\",'Races, Positions & Points'!DR73)","v":""},{"$f":"IF('Races, Positions & Points'!DS73=\"\",\"\",'Races, Positions & Points'!DS73)","v":""},{"$f":"IF('Races, Positions & Points'!DU73=\"\",\"\",'Races, Positions & Points'!DU73)","v":""},{"$f":"IF('Races, Positions & Points'!DX73=\"\",\"\",'Races, Positions & Points'!DX73)","v":""},{"$f":"IF('Races, Positions & Points'!EA73=\"\",\"\",'Races, Positions & Points'!EA73)","v":""},{"$f":"IF('Races, Positions & Points'!ED73=\"\",\"\",'Races, Positions & Points'!ED73)","v":""},{"$f":"IF('Races, Positions & Points'!EG73=\"\",\"\",'Races, Positions & Points'!EG73)","v":""},{"$f":"IF('Races, Positions & Points'!#REF!=\"\",\"\",'Races, Positions & Points'!#REF!)","v":{"$error":"#REF!"}},{"$f":"IF('Races, Positions & Points'!#REF!=\"\",\"\",'Races, Positions & Points'!#REF!)","v":{"$error":"#REF!"}},{"$f":"IF('Races, Positions & Points'!#REF!=\"\",\"\",'Races, Positions & Points'!#REF!)","v":{"$error":"#REF!"}},{"$f":"IF('Races, Positions & Points'!#REF!=\"\",\"\",'Races, Positions & Points'!#REF!)","v":{"$error":"#REF!"}},{"$f":"IF('Races, Positions & Points'!#REF!=\"\",\"\",'Races, Positions & Points'!#REF!)","v":{"$error":"#REF!"}},{"$f":"IF('Races, Positions & Points'!#REF!=\"\",\"\",'Races, Positions & Points'!#REF!)","v":{"$error":"#REF!"}},null,{"$error":"#REF!"},{"$error":"#REF!"},{"$error":"#REF!"},{"$error":"#REF!"},{"$error":"#REF!"},{"$error":"#REF!"},null,{"$f":"'Races, Positions & Points'!E73","v":21550},{"$f":"'Races, Positions & Points'!#REF!","v":{"$error":"#REF!"}},{"$error":"#REF!"},"","",{"$error":"#REF!"},"",{"$error":"#REF!"},{"$error":"#REF!"},{"$error":"#REF!"},null,{"$error":"#REF!"},"","",{"$error":"#REF!"},"",{"$error":"#REF!"},{"$error":"#REF!"},{"$error":"#REF!"},null,"",{"$error":"#REF!"},"",{"$error":"#REF!"},"",{"$error":"#REF!"},"","",{"$error":"#REF!"},"","","","","","",{"$error":"#REF!"},null,{"$error":"#REF!"},"","","",null,{"$error":"#REF!"},"","","",null,"",{"$error":"#REF!"},"","","","",{"$error":"#REF!"},"","",{"$error":"#REF!"}]
[{"$f":"'Races, Positions & Points'!A74","v":"Sam Dewison"},{"$f":"IF('Races, Positions & Points'!S74=\"\",\"\",'Races, Positions & Points'!S74)","v":""},{"$f":"IF('Races, Positions & Points'!V74=\"\",\"\",'Races, Positions & Points'!V74)","v":""},{"$f":"IF('Races, Positions & Points'!#REF!=\"\",\"\",'Races, Positions & Points'!#REF!)","v":{"$error":"#REF!"}},{"$f":"IF('Races, Positions & Points'!Y74=\"\",\"\",'Races, Positions & Points'!Y74)","v":""},{"$f":"IF('Races, Positions & Points'!Z74=\"\",\"\",'Races, Positions & Points'!Z74)","v":""},{"$f":"IF('Races, Positions & Points'!AC74=\"\",\"\",'Races, Positions & Points'!AC74)","v":""},{"$f":"IF('Races, Positions & Points'!AD74=\"\",\"\",'Races, Positions & Points'!AD74)","v":""},{"$f":"IF('Races, Positions & Points'!AG74=\"\",\"\",'Races, Positions & Points'!AG74)","v":""},{"$f":"IF('Races, Positions & Points'!AJ74=\"\",\"\",'Races, Positions & Points'!AJ74)","v":93.3},{"$f":"IF('Races, Positions & Points'!AM74=\"\",\"\",'Races, Positions & Points'!AM74)","v":""},{"$f":"IF('Races, Positions & Points'!AP74=\"\",\"\",'Races, Positions & Points'!AP74)","v":""},{"$f":"IF('Races, Positions & Points'!AS74=\"\",\"\",'Races, Positions & Points'!AS74)","v":""},{"$f":"IF('Races, Positions & Points'!AV74=\"\",\"\",'Races, Positions & Points'!AV74)","v":""},{"$f":"IF('Races, Positions & Points'!AY74=\"\",\"\",'Races, Positions & Points'!AY74)","v":""},{"$f":"IF('Races, Positions & Points'!BB74=\"\",\"\",'Races, Positions & Points'!BB74)","v":""},{"$f":"IF('Races, Positions & Points'!BE74=\"\",\"\",'Races, Positions & Points'!BE74)","v":""},{"$f":"IF('Races, Positions & Points'!BH74=\"\",\"\",'Races, Positions & Points'!BH74)","v":""},{"$f":"IF('Races, Positions & Points'!BK74=\"\",\"\",'Races, Positions & Points'!BK74)","v":""},{"$f":"IF('Races, Positions & Points'!BN74=\"\",\"\",'Races, Positions & Points'!BN74)","v":""},{"$f":"IF('Races, Positions & Points'!BQ74=\"\",\"\",'Races, Positions & Points'!BQ74)","v":""},{"$f":"IF('Races, Positions & Points'!BT74=\"\",\"\",'Races, Positions & Points'!BT74)","v":""},{"$f":"IF('Races, Positions & Points'!#REF!=\"\",\"\",'Races, Positions & Points'!#REF!)","v":{"$error":"#REF!"}},{"$f":"IF('Races, Positions & Points'!BW74=\"\",\"\",'Races, Positions & Points'!BW74)","v":""},{"$f":"IF('Races, Positions & Points'!BZ74=\"\",\"\",'Races, Positions & Points'!BZ74)","v":""},{"$f":"IF('Races, Positions & Points'!CG74=\"\",\"\",'Races, Positions & Points'!CG74)","v":""},{"$f":"IF('Races, Positions & Points'!CC74=\"\",\"\",'Races, Positions & Points'!CC74)","v":88.79},{"$f":"IF('Races, Positions & Points'!CJ74=\"\",\"\",'Races, Positions & Points'!CJ74)","v":""},{"$f":"IF('Races, Positions & Points'!CM74=\"\",\"\",'Races, Positions & Points'!CM74)","v":60.52},{"$f":"IF('Races, Positions & Points'!CW74=\"\",\"\",'Races, Positions & Points'!CW74)","v":""},{"$f":"IF('Races, Positions & Points'!CP74=\"\",\"\",'Races, Positions & Points'!CP74)","v":""},{"$f":"IF('Races, Positions & Points'!CZ74=\"\",\"\",'Races, Positions & Points'!CZ74)","v":""},{"$f":"IF('Races, Positions & Points'!#REF!=\"\",\"\",'Races, Positions & Points'!#REF!)","v":{"$error":"#REF!"}},{"$f":"IF('Races, Positions & Points'!DC74=\"\",\"\",'Races, Positions & Points'!DC74)","v":""},{"$f":"IF('Races, Positions & Points'!DF74=\"\",\"\",'Races, Positions & Points'!DF74)","v":""},{"$f":"IF('Races, Positions & Points'!DI74=\"\",\"\",'Races, Positions & Points'!DI74)","v":""},{"$f":"IF('Races, Positions & Points'!DL74=\"\",\"\",'Races, Positions & Points'!DL74)","v":""},{"$f":"IF('Races, Positions & Points'!DO74=\"\",\"\",'Races, Positions & Points'!DO74)","v":""},{"$f":"IF('Races, Positions & Points'!DR74=\"\",\"\",'Races, Positions & Points'!DR74)","v":""},{"$f":"IF('Races, Positions & Points'!DS74=\"\",\"\",'Races, Positions & Points'!DS74)","v":""},{"$f":"IF('Races, Positions & Points'!DU74=\"\",\"\",'Races, Positions & Points'!DU74)","v":""},{"$f":"IF('Races, Positions & Points'!DX74=\"\",\"\",'Races, Positions & Points'!DX74)","v":""},{"$f":"IF('Races, Positions & Points'!EA74=\"\",\"\",'Races, Positions & Points'!EA74)","v":""},{"$f":"IF('Races, Positions & Points'!ED74=\"\",\"\",'Races, Positions & Points'!ED74)","v":""},{"$f":"IF('Races, Positions & Points'!EG74=\"\",\"\",'Races, Positions & Points'!EG74)","v":""},{"$f":"IF('Races, Positions & Points'!#REF!=\"\",\"\",'Races, Positions & Points'!#REF!)","v":{"$error":"#REF!"}},{"$f":"IF('Races, Positions & Points'!#REF!=\"\",\"\",'Races, Positions & Points'!#REF!)","v":{"$error":"#REF!"}},{"$f":"IF('Races, Positions & Points'!#REF!=\"\",\"\",'Races, Positions & Points'!#REF!)","v":{"$error":"#REF!"}},{"$f":"IF('Races, Positions & Points'!#REF!=\"\",\"\",'Races, Positions & Points'!#REF!)","v":{"$error":"#REF!"}},{"$f":"IF('Races, Positions & Points'!#REF!=\"\",\"\",'Races, Positions & Points'!#REF!)","v":{"$error":"#REF!"}},{"$f":"IF('Races, Positions & Points'!#REF!=\"\",\"\",'Races, Positions & Points'!#REF!)","v":{"$error":"#REF!"}},null,{"$error":"#REF!"},{"$error":"#REF!"},{"$error":"#REF!"},{"$error":"#REF!"},{"$error":"#REF!"},{"$error":"#REF!"},null,{"$f":"'Races, Positions & Points'!E74","v":20846},{"$f":"'Races, Positions & Points'!#REF!","v":{"$error":"#REF!"}},{"$error":"#REF!"},"","",{"$error":"#REF!"},"",{"$error":"#REF!"},{"$error":"#REF!"},{"$error":"#REF!"},null,{"$error":"#REF!"},"","",{"$error":"#REF!"},"",{"$error":"#REF!"},{"$error":"#REF!"},{"$error":"#REF!"},null,"",{"$error":"#REF!"},"",{"$error":"#REF!"},"",{"$error":"#REF!"},93.3,"",{"$error":"#REF!"},"","","",88.79,"","",{"$error":"#REF!"},null,{"$error":"#REF!"},"","","",null,{"$error":"#REF!"},"","","",null,"",{"$error":"#REF!"},"","","",93.3,{"$error":"#REF!"},"","",{"$error":"#REF!"}]
[{"$f":"'Races, Positions & Points'!A75","v":"Ethan Hemming"},{"$f":"IF('Races, Positions & Points'!S75=\"\",\"\",'Races, Positions & Points'!S75)","v":" "},{"$f":"IF('Races, Positions & Points'!V75=\"\",\"\",'Races, Positions & Points'!V75)","v":""},{"$f":"IF('Races, Positions & Points'!#REF!=\"\",\"\",'Races, Positions & Points'!#REF!)","v":{"$error":"#REF!"}},{"$f":"IF('Races, Positions & Points'!Y75=\"\",\"\",'Races, Positions & Points'!Y75)","v":""},{"$f":"IF('Races, Positions & Points'!#REF!=\"\",\"\",'Races, Positions & Points'!#REF!)","v":{"$error":"#REF!"}},{"$f":"IF('Races, Positions & Points'!AC75=\"\",\"\",'Races, Positions & Points'!AC75)","v":""},{"$f":"IF('Races, Positions & Points'!AD75=\"\",\"\",'Races, Positions & Points'!AD75)","v":""},{"$f":"IF('Races, Positions & Points'!AG75=\"\",\"\",'Races, Positions & Points'!AG75)","v":148.72999999999999},{"$f":"IF('Races, Positions & Points'!AJ75=\"\",\"\",'Races, Positions & Points'!AJ75)","v":""},{"$f":"IF('Races, Positions & Points'!AM75=\"\",\"\",'Races, Positions & Points'!AM75)","v":""},{"$f":"IF('Races, Positions & Points'!AP75=\"\",\"\",'Races, Positions & Points'!AP75)","v":""},{"$f":"IF('Races, Positions & Points'!AS75=\"\",\"\",'Races, Positions & Points'!AS75)","v":""},{"$f":"IF('Races, Positions & Points'!AV75=\"\",\"\",'Races, Positions & Points'!AV75)","v":136.99},{"$f":"IF('Races, Positions & Points'!AY75=\"\",\"\",'Races, Positions & Points'!AY75)","v":"DNF"},{"$f":"IF('Races, Positions & Points'!BB75=\"\",\"\",'Races, Positions & Points'!BB75)","v":""},{"$f":"IF('Races, Positions & Points'!BE75=\"\",\"\",'Races, Positions & Points'!BE75)","v":""},{"$f":"IF('Races, Positions & Points'!BH75=\"\",\"\",'Races, Positions & Points'!BH75)","v":""},{"$f":"IF('Races, Positions & Points'!BK75=\"\",\"\",'Races, Positions & Points'!BK75)","v":""},{"$f":"IF('Races, Positions & Points'!BN75=\"\",\"\",'Races, Positions & Points'!BN75)","v":""},{"$f":"IF('Races, Positions & Points'!BQ77=\"\",\"\",'Races, Positions & Points'!BQ77)","v":""},{"$f":"IF('Races, Positions & Points'!BT75=\"\",\"\",'Races, Positions & Points'!BT75)","v":""},{"$f":"IF('Races, Positions & Points'!#REF!=\"\",\"\",'Races, Positions & Points'!#REF!)","v":{"$error":"#REF!"}},{"$f":"IF('Races, Positions & Points'!BW75=\"\",\"\",'Races, Positions & Points'!BW75)","v":""},{"$f":"IF('Races, Positions & Points'!BZ75=\"\",\"\",'Races, Positions & Points'!BZ75)","v":""},{"$f":"IF('Races, Positions & Points'!CG75=\"\",\"\",'Races, Positions & Points'!CG75)","v":""},{"$f":"IF('Races, Positions & Points'!CC75=\"\",\"\",'Races, Positions & Points'!CC75)","v":"dnf"},{"$f":"IF('Races, Positions & Points'!CJ75=\"\",\"\",'Races, Positions & Points'!CJ75)","v":156.47},{"$f":"IF('Races, Positions & Points'!CM75=\"\",\"\",'Races, Positions & Points'!CM75)","v":127.03},{"$f":"IF('Races, Positions & Points'!CW75=\"\",\"\",'Races, Positions & Points'!CW75)","v":""},{"$f":"IF('Races, Positions & Points'!CP75=\"\",\"\",'Races, Positions & Points'!CP75)","v":""},{"$f":"IF('Races, Positions & Points'!CZ75=\"\",\"\",'Races, Positions & Points'!CZ75)","v":""},{"$f":"IF('Races, Positions & Points'!#REF!=\"\",\"\",'Races, Positions & Points'!#REF!)","v":{"$error":"#REF!"}},{"$f":"IF('Races, Positions & Points'!DC75=\"\",\"\",'Races, Positions & Points'!DC75)","v":""},{"$f":"IF('Races, Positions & Points'!DF75=\"\",\"\",'Races, Positions & Points'!DF75)","v":""},{"$f":"IF('Races, Positions & Points'!DI75=\"\",\"\",'Races, Positions & Points'!DI75)","v":""},{"$f":"IF('Races, Positions & Points'!DL75=\"\",\"\",'Races, Positions & Points'!DL75)","v":""},{"$f":"IF('Races, Positions & Points'!DO75=\"\",\"\",'Races, Positions & Points'!DO75)","v":281.5},{"$f":"IF('Races, Positions & Points'!DR75=\"\",\"\",'Races, Positions & Points'!DR75)","v":""},{"$f":"IF('Races, Positions & Points'!DS75=\"\",\"\",'Races, Positions & Points'!DS75)","v":""},{"$f":"IF('Races, Positions & Points'!DU75=\"\",\"\",'Races, Positions & Points'!DU75)","v":""},{"$f":"IF('Races, Positions & Points'!DX75=\"\",\"\",'Races, Positions & Points'!DX75)","v":""},{"$f":"IF('Races, Positions & Points'!EA75=\"\",\"\",'Races, Positions & Points'!EA75)","v":""},{"$f":"IF('Races, Positions & Points'!ED75=\"\",\"\",'Races, Positions & Points'!ED75)","v":""},{"$f":"IF('Races, Positions & Points'!EG75=\"\",\"\",'Races, Positions & Points'!EG75)","v":""},{"$f":"IF('Races, Positions & Points'!#REF!=\"\",\"\",'Races, Positions & Points'!#REF!)","v":{"$error":"#REF!"}},{"$f":"IF('Races, Positions & Points'!#REF!=\"\",\"\",'Races, Positions & Points'!#REF!)","v":{"$error":"#REF!"}},{"$f":"IF('Races, Positions & Points'!#REF!=\"\",\"\",'Races, Positions & Points'!#REF!)","v":{"$error":"#REF!"}},{"$f":"IF('Races, Positions & Points'!#REF!=\"\",\"\",'Races, Positions & Points'!#REF!)","v":{"$error":"#REF!"}},{"$f":"IF('Races, Positions & Points'!#REF!=\"\",\"\",'Races, Positions & Points'!#REF!)","v":{"$error":"#REF!"}},{"$f":"IF('Races, Positions & Points'!#REF!=\"\",\"\",'Races, Positions & Points'!#REF!)","v":{"$error":"#REF!"}},null,{"$error":"#REF!"},{"$error":"#REF!"},{"$error":"#REF!"},{"$error":"#REF!"},{"$error":"#REF!"},{"$error":"#REF!"},null,{"$f":"'Races, Positions & Points'!E75","v":19829},{"$f":"'Races, Positions & Points'!#REF!","v":{"$error":"#REF!"}},{"$error":"#REF!"},"","",{"$error":"#REF!"},"",{"$error":"#REF!"},{"$error":"#REF!"},{"$error":"#REF!"},null,{"$error":"#REF!"},"","",{"$error":"#REF!"},"",{"$error":"#REF!"},{"$error":"#REF!"},{"$error":"#REF!"},null,281.5,{"$error":"#REF!"},"",{"$error":"#REF!"},136.99,{"$error":"#REF!"},148.72999999999999,"",{"$error":"#REF!"},"","","","dnf","","",{"$error":"#REF!"},null,{"$error":"#REF!"},"","","",null,{"$error":"#REF!"},"","","",null,281.5,{"$error":"#REF!"},"",136.99,"","",{"$error":"#REF!"},"","",{"$error":"#REF!"}]
[{"$f":"'Races, Positions & Points'!A76","v":"Samuel Doherty"},{"$f":"IF('Races, Positions & Points'!S76=\"\",\"\",'Races, Positions & Points'!S76)","v":""},{"$f":"IF('Races, Positions & Points'!V76=\"\",\"\",'Races, Positions & Points'!V76)","v":""},{"$f":"IF('Races, Positions & Points'!#REF!=\"\",\"\",'Races, Positions & Points'!#REF!)","v":{"$error":"#REF!"}},{"$f":"IF('Races, Positions & Points'!Y76=\"\",\"\",'Races, Positions & Points'!Y76)","v":""},{"$f":"IF('Races, Positions & Points'!Z76=\"\",\"\",'Races, Positions & Points'!Z76)","v":""},{"$f":"IF('Races, Positions & Points'!AC76=\"\",\"\",'Races, Positions & Points'!AC76)","v":""},{"$f":"IF('Races, Positions & Points'!AD76=\"\",\"\",'Races, Positions & Points'!AD76)","v":""},{"$f":"IF('Races, Positions & Points'!AG76=\"\",\"\",'Races, Positions & Points'!AG76)","v":""},{"$f":"IF('Races, Positions & Points'!AJ76=\"\",\"\",'Races, Positions & Points'!AJ76)","v":""},{"$f":"IF('Races, Positions & Points'!AM76=\"\",\"\",'Races, Positions & Points'!AM76)","v":""},{"$f":"IF('Races, Positions & Points'!AP76=\"\",\"\",'Races, Positions & Points'!AP76)","v":""},{"$f":"IF('Races, Positions & Points'!AS76=\"\",\"\",'Races, Positions & Points'!AS76)","v":""},{"$f":"IF('Races, Positions & Points'!AV76=\"\",\"\",'Races, Positions & Points'!AV76)","v":""},{"$f":"IF('Races, Positions & Points'!AY76=\"\",\"\",'Races, Positions & Points'!AY76)","v":""},{"$f":"IF('Races, Positions & Points'!BB76=\"\",\"\",'Races, Positions & Points'!BB76)","v":""},{"$f":"IF('Races, Positions & Points'!BE76=\"\",\"\",'Races, Positions & Points'!BE76)","v":""},{"$f":"IF('Races, Positions & Points'!BH76=\"\",\"\",'Races, Positions & Points'!BH76)","v":""},{"$f":"IF('Races, Positions & Points'!BK76=\"\",\"\",'Races, Positions & Points'!BK76)","v":""},{"$f":"IF('Races, Positions & Points'!BN76=\"\",\"\",'Races, Positions & Points'!BN76)","v":""},{"$f":"IF('Races, Positions & Points'!BQ76=\"\",\"\",'Races, Positions & Points'!BQ76)","v":""},{"$f":"IF('Races, Positions & Points'!BT76=\"\",\"\",'Races, Positions & Points'!BT76)","v":""},{"$f":"IF('Races, Positions & Points'!#REF!=\"\",\"\",'Races, Positions & Points'!#REF!)","v":{"$error":"#REF!"}},{"$f":"IF('Races, Positions & Points'!BW76=\"\",\"\",'Races, Positions & Points'!BW76)","v":""},{"$f":"IF('Races, Positions & Points'!BZ76=\"\",\"\",'Races, Positions & Points'!BZ76)","v":""},{"$f":"IF('Races, Positions & Points'!CG76=\"\",\"\",'Races, Positions & Points'!CG76)","v":""},{"$f":"IF('Races, Positions & Points'!CC76=\"\",\"\",'Races, Positions & Points'!CC76)","v":""},{"$f":"IF('Races, Positions & Points'!CJ76=\"\",\"\",'Races, Positions & Points'!CJ76)","v":""},{"$f":"IF('Races, Positions & Points'!CM76=\"\",\"\",'Races, Positions & Points'!CM76)","v":""},{"$f":"IF('Races, Positions & Points'!CW76=\"\",\"\",'Races, Positions & Points'!CW76)","v":""},{"$f":"IF('Races, Positions & Points'!CP76=\"\",\"\",'Races, Positions & Points'!CP76)","v":""},{"$f":"IF('Races, Positions & Points'!CZ76=\"\",\"\",'Races, Positions & Points'!CZ76)","v":""},{"$f":"IF('Races, Positions & Points'!#REF!=\"\",\"\",'Races, Positions & Points'!#REF!)","v":{"$error":"#REF!"}},{"$f":"IF('Races, Positions & Points'!DC76=\"\",\"\",'Races, Positions & Points'!DC76)","v":""},{"$f":"IF('Races, Positions & Points'!DF76=\"\",\"\",'Races, Positions & Points'!DF76)","v":""},{"$f":"IF('Races, Positions & Points'!DI76=\"\",\"\",'Races, Positions & Points'!DI76)","v":""},{"$f":"IF('Races, Positions & Points'!DL76=\"\",\"\",'Races, Positions & Points'!DL76)","v":""},{"$f":"IF('Races, Positions & Points'!DO76=\"\",\"\",'Races, Positions & Points'!DO76)","v":""},{"$f":"IF('Races, Positions & Points'!DR76=\"\",\"\",'Races, Positions & Points'!DR76)","v":""},{"$f":"IF('Races, Positions & Points'!DS76=\"\",\"\",'Races, Positions & Points'!DS76)","v":""},{"$f":"IF('Races, Positions & Points'!DU76=\"\",\"\",'Races, Positions & Points'!DU76)","v":""},{"$f":"IF('Races, Positions & Points'!DX76=\"\",\"\",'Races, Positions & Points'!DX76)","v":""},{"$f":"IF('Races, Positions & Points'!EA76=\"\",\"\",'Races, Positions & Points'!EA76)","v":""},{"$f":"IF('Races, Positions & Points'!ED76=\"\",\"\",'Races, Positions & Points'!ED76)","v":""},{"$f":"IF('Races, Positions & Points'!EG76=\"\",\"\",'Races, Positions & Points'!EG76)","v":""},{"$f":"IF('Races, Positions & Points'!#REF!=\"\",\"\",'Races, Positions & Points'!#REF!)","v":{"$error":"#REF!"}},{"$f":"IF('Races, Positions & Points'!#REF!=\"\",\"\",'Races, Positions & Points'!#REF!)","v":{"$error":"#REF!"}},{"$f":"IF('Races, Positions & Points'!#REF!=\"\",\"\",'Races, Positions & Points'!#REF!)","v":{"$error":"#REF!"}},{"$f":"IF('Races, Positions & Points'!#REF!=\"\",\"\",'Races, Positions & Points'!#REF!)","v":{"$error":"#REF!"}},{"$f":"IF('Races, Positions & Points'!#REF!=\"\",\"\",'Races, Positions & Points'!#REF!)","v":{"$error":"#REF!"}},{"$f":"IF('Races, Positions & Points'!#REF!=\"\",\"\",'Races, Positions & Points'!#REF!)","v":{"$error":"#REF!"}},null,{"$error":"#REF!"},{"$error":"#REF!"},{"$error":"#REF!"},{"$error":"#REF!"},{"$error":"#REF!"},{"$error":"#REF!"},null,{"$f":"'Races, Positions & Points'!E76","v":19572},{"$f":"'Races, Positions & Points'!#REF!","v":{"$error":"#REF!"}},{"$error":"#REF!"},"","",{"$error":"#REF!"},"",{"$error":"#REF!"},{"$error":"#REF!"},{"$error":"#REF!"},null,{"$error":"#REF!"},"","",{"$error":"#REF!"},"",{"$error":"#REF!"},{"$error":"#REF!"},{"$error":"#REF!"},null,"",{"$error":"#REF!"},"",{"$error":"#REF!"},"",{"$error":"#REF!"},"","",{"$error":"#REF!"},"","","","","","",{"$error":"#REF!"},null,{"$error":"#REF!"},"","","",null,{"$error":"#REF!"},"","","",null,"",{"$error":"#REF!"},"","","","",{"$error":"#REF!"},"","",{"$error":"#REF!"}]
[{"$f":"'Races, Positions & Points'!A78","v":"Karl Hancock"},{"$f":"IF('Races, Positions & Points'!S78=\"\",\"\",'Races, Positions & Points'!S78)","v":""},{"$f":"IF('Races, Positions & Points'!V78=\"\",\"\",'Races, Positions & Points'!V78)","v":""},{"$f":"IF('Races, Positions & Points'!#REF!=\"\",\"\",'Races, Positions & Points'!#REF!)","v":{"$error":"#REF!"}},{"$f":"IF('Races, Positions & Points'!Y78=\"\",\"\",'Races, Positions & Points'!Y78)","v":""},{"$f":"IF('Races, Positions & Points'!Z78=\"\",\"\",'Races, Positions & Points'!Z78)","v":""},{"$f":"IF('Races, Positions & Points'!AC78=\"\",\"\",'Races, Positions & Points'!AC78)","v":""},{"$f":"IF('Races, Positions & Points'!AD78=\"\",\"\",'Races, Positions & Points'!AD78)","v":""},{"$f":"IF('Races, Positions & Points'!AG78=\"\",\"\",'Races, Positions & Points'!AG78)","v":""},{"$f":"IF('Races, Positions & Points'!AJ78=\"\",\"\",'Races, Positions & Points'!AJ78)","v":""},{"$f":"IF('Races, Positions & Points'!AM78=\"\",\"\",'Races, Positions & Points'!AM78)","v":""},{"$f":"IF('Races, Positions & Points'!AP78=\"\",\"\",'Races, Positions & Points'!AP78)","v":""},{"$f":"IF('Races, Positions & Points'!AS78=\"\",\"\",'Races, Positions & Points'!AS78)","v":""},{"$f":"IF('Races, Positions & Points'!AV78=\"\",\"\",'Races, Positions & Points'!AV78)","v":""},{"$f":"IF('Races, Positions & Points'!AY78=\"\",\"\",'Races, Positions & Points'!AY78)","v":""},{"$f":"IF('Races, Positions & Points'!BB78=\"\",\"\",'Races, Positions & Points'!BB78)","v":""},{"$f":"IF('Races, Positions & Points'!BE78=\"\",\"\",'Races, Positions & Points'!BE78)","v":""},{"$f":"IF('Races, Positions & Points'!BH78=\"\",\"\",'Races, Positions & Points'!BH78)","v":""},{"$f":"IF('Races, Positions & Points'!BK78=\"\",\"\",'Races, Positions & Points'!BK78)","v":""},{"$f":"IF('Races, Positions & Points'!BN78=\"\",\"\",'Races, Positions & Points'!BN78)","v":""},{"$f":"IF('Races, Positions & Points'!BQ78=\"\",\"\",'Races, Positions & Points'!BQ78)","v":""},{"$f":"IF('Races, Positions & Points'!BT78=\"\",\"\",'Races, Positions & Points'!BT78)","v":""},{"$f":"IF('Races, Positions & Points'!#REF!=\"\",\"\",'Races, Positions & Points'!#REF!)","v":{"$error":"#REF!"}},{"$f":"IF('Races, Positions & Points'!BW78=\"\",\"\",'Races, Positions & Points'!BW78)","v":""},{"$f":"IF('Races, Positions & Points'!BZ78=\"\",\"\",'Races, Positions & Points'!BZ78)","v":""},{"$f":"IF('Races, Positions & Points'!CG78=\"\",\"\",'Races, Positions & Points'!CG78)","v":""},{"$f":"IF('Races, Positions & Points'!CC78=\"\",\"\",'Races, Positions & Points'!CC78)","v":""},{"$f":"IF('Races, Positions & Points'!CJ78=\"\",\"\",'Races, Positions & Points'!CJ78)","v":""},{"$f":"IF('Races, Positions & Points'!CM78=\"\",\"\",'Races, Positions & Points'!CM78)","v":""},{"$f":"IF('Races, Positions & Points'!CW78=\"\",\"\",'Races, Positions & Points'!CW78)","v":""},{"$f":"IF('Races, Positions & Points'!CP78=\"\",\"\",'Races, Positions & Points'!CP78)","v":""},{"$f":"IF('Races, Positions & Points'!CZ78=\"\",\"\",'Races, Positions & Points'!CZ78)","v":""},{"$f":"IF('Races, Positions & Points'!#REF!=\"\",\"\",'Races, Positions & Points'!#REF!)","v":{"$error":"#REF!"}},{"$f":"IF('Races, Positions & Points'!DC78=\"\",\"\",'Races, Positions & Points'!DC78)","v":""},{"$f":"IF('Races, Positions & Points'!DF78=\"\",\"\",'Races, Positions & Points'!DF78)","v":""},{"$f":"IF('Races, Positions & Points'!DI78=\"\",\"\",'Races, Positions & Points'!DI78)","v":""},{"$f":"IF('Races, Positions & Points'!DL78=\"\",\"\",'Races, Positions & Points'!DL78)","v":""},{"$f":"IF('Races, Positions & Points'!DO78=\"\",\"\",'Races, Positions & Points'!DO78)","v":""},{"$f":"IF('Races, Positions & Points'!DR78=\"\",\"\",'Races, Positions & Points'!DR78)","v":""},{"$f":"IF('Races, Positions & Points'!DS78=\"\",\"\",'Races, Positions & Points'!DS78)","v":""},{"$f":"IF('Races, Positions & Points'!DU78=\"\",\"\",'Races, Positions & Points'!DU78)","v":""},{"$f":"IF('Races, Positions & Points'!DX78=\"\",\"\",'Races, Positions & Points'!DX78)","v":""},{"$f":"IF('Races, Positions & Points'!EA78=\"\",\"\",'Races, Positions & Points'!EA78)","v":""},{"$f":"IF('Races, Positions & Points'!ED78=\"\",\"\",'Races, Positions & Points'!ED78)","v":""},{"$f":"IF('Races, Positions & Points'!EG78=\"\",\"\",'Races, Positions & Points'!EG78)","v":""},{"$f":"IF('Races, Positions & Points'!#REF!=\"\",\"\",'Races, Positions & Points'!#REF!)","v":{"$error":"#REF!"}},{"$f":"IF('Races, Positions & Points'!#REF!=\"\",\"\",'Races, Positions & Points'!#REF!)","v":{"$error":"#REF!"}},{"$f":"IF('Races, Positions & Points'!#REF!=\"\",\"\",'Races, Positions & Points'!#REF!)","v":{"$error":"#REF!"}},{"$f":"IF('Races, Positions & Points'!#REF!=\"\",\"\",'Races, Positions & Points'!#REF!)","v":{"$error":"#REF!"}},{"$f":"IF('Races, Positions & Points'!#REF!=\"\",\"\",'Races, Positions & Points'!#REF!)","v":{"$error":"#REF!"}},{"$f":"IF('Races, Positions & Points'!#REF!=\"\",\"\",'Races, Positions & Points'!#REF!)","v":{"$error":"#REF!"}},null,{"$error":"#REF!"},{"$error":"#REF!"},{"$error":"#REF!"},{"$error":"#REF!"},{"$error":"#REF!"},{"$error":"#REF!"},null,{"$f":"'Races, Positions & Points'!E78","v":18616},{"$f":"'Races, Positions & Points'!#REF!","v":{"$error":"#REF!"}},{"$error":"#REF!"},"","",{"$error":"#REF!"},"",{"$error":"#REF!"},{"$error":"#REF!"},{"$error":"#REF!"},null,{"$error":"#REF!"},"","",{"$error":"#REF!"},"",{"$error":"#REF!"},{"$error":"#REF!"},{"$error":"#REF!"},null,"",{"$error":"#REF!"},"",{"$error":"#REF!"},"",{"$error":"#REF!"},"","",{"$error":"#REF!"},"","","","","","",{"$error":"#REF!"},null,{"$error":"#REF!"},"","","",null,{"$error":"#REF!"},"","","",null,"",{"$error":"#REF!"},"","","","",{"$error":"#REF!"},"","",{"$error":"#REF!"}]
[{"$f":"'Races, Positions & Points'!A79","v":"John Elgy"},{"$f":"IF('Races, Positions & Points'!S79=\"\",\"\",'Races, Positions & Points'!S79)","v":""},{"$f":"IF('Races, Positions & Points'!V79=\"\",\"\",'Races, Positions & Points'!V79)","v":""},{"$f":"IF('Races, Positions & Points'!#REF!=\"\",\"\",'Races, Positions & Points'!#REF!)","v":{"$error":"#REF!"}},{"$f":"IF('Races, Positions & Points'!Y79=\"\",\"\",'Races, Positions & Points'!Y79)","v":""},{"$f":"IF('Races, Positions & Points'!Z79=\"\",\"\",'Races, Positions & Points'!Z79)","v":""},{"$f":"IF('Races, Positions & Points'!AC79=\"\",\"\",'Races, Positions & Points'!AC79)","v":""},{"$f":"IF('Races, Positions & Points'!AD79=\"\",\"\",'Races, Positions & Points'!AD79)","v":""},{"$f":"IF('Races, Positions & Points'!AG79=\"\",\"\",'Races, Positions & Points'!AG79)","v":""},{"$f":"IF('Races, Positions & Points'!AJ79=\"\",\"\",'Races, Positions & Points'!AJ79)","v":""},{"$f":"IF('Races, Positions & Points'!AM79=\"\",\"\",'Races, Positions & Points'!AM79)","v":""},{"$f":"IF('Races, Positions & Points'!AP79=\"\",\"\",'Races, Positions & Points'!AP79)","v":""},{"$f":"IF('Races, Positions & Points'!AS79=\"\",\"\",'Races, Positions & Points'!AS79)","v":""},{"$f":"IF('Races, Positions & Points'!AV79=\"\",\"\",'Races, Positions & Points'!AV79)","v":""},{"$f":"IF('Races, Positions & Points'!AY79=\"\",\"\",'Races, Positions & Points'!AY79)","v":""},{"$f":"IF('Races, Positions & Points'!BB79=\"\",\"\",'Races, Positions & Points'!BB79)","v":""},{"$f":"IF('Races, Positions & Points'!BE79=\"\",\"\",'Races, Positions & Points'!BE79)","v":""},{"$f":"IF('Races, Positions & Points'!BH79=\"\",\"\",'Races, Positions & Points'!BH79)","v":""},{"$f":"IF('Races, Positions & Points'!BK79=\"\",\"\",'Races, Positions & Points'!BK79)","v":""},{"$f":"IF('Races, Positions & Points'!BN79=\"\",\"\",'Races, Positions & Points'!BN79)","v":""},{"$f":"IF('Races, Positions & Points'!BQ79=\"\",\"\",'Races, Positions & Points'!BQ79)","v":""},{"$f":"IF('Races, Positions & Points'!BT79=\"\",\"\",'Races, Positions & Points'!BT79)","v":""},{"$f":"IF('Races, Positions & Points'!#REF!=\"\",\"\",'Races, Positions & Points'!#REF!)","v":{"$error":"#REF!"}},{"$f":"IF('Races, Positions & Points'!BW79=\"\",\"\",'Races, Positions & Points'!BW79)","v":""},{"$f":"IF('Races, Positions & Points'!BZ79=\"\",\"\",'Races, Positions & Points'!BZ79)","v":""},{"$f":"IF('Races, Positions & Points'!CG79=\"\",\"\",'Races, Positions & Points'!CG79)","v":""},{"$f":"IF('Races, Positions & Points'!CC79=\"\",\"\",'Races, Positions & Points'!CC79)","v":""},{"$f":"IF('Races, Positions & Points'!CJ79=\"\",\"\",'Races, Positions & Points'!CJ79)","v":""},{"$f":"IF('Races, Positions & Points'!CM79=\"\",\"\",'Races, Positions & Points'!CM79)","v":""},{"$f":"IF('Races, Positions & Points'!CW79=\"\",\"\",'Races, Positions & Points'!CW79)","v":""},{"$f":"IF('Races, Positions & Points'!CP79=\"\",\"\",'Races, Positions & Points'!CP79)","v":""},{"$f":"IF('Races, Positions & Points'!CZ79=\"\",\"\",'Races, Positions & Points'!CZ79)","v":""},{"$f":"IF('Races, Positions & Points'!#REF!=\"\",\"\",'Races, Positions & Points'!#REF!)","v":{"$error":"#REF!"}},{"$f":"IF('Races, Positions & Points'!DC79=\"\",\"\",'Races, Positions & Points'!DC79)","v":""},{"$f":"IF('Races, Positions & Points'!DF79=\"\",\"\",'Races, Positions & Points'!DF79)","v":""},{"$f":"IF('Races, Positions & Points'!DI79=\"\",\"\",'Races, Positions & Points'!DI79)","v":""},{"$f":"IF('Races, Positions & Points'!DL79=\"\",\"\",'Races, Positions & Points'!DL79)","v":""},{"$f":"IF('Races, Positions & Points'!DO79=\"\",\"\",'Races, Positions & Points'!DO79)","v":""},{"$f":"IF('Races, Positions & Points'!DR79=\"\",\"\",'Races, Positions & Points'!DR79)","v":""},{"$f":"IF('Races, Positions & Points'!DS79=\"\",\"\",'Races, Positions & Points'!DS79)","v":""},{"$f":"IF('Races, Positions & Points'!DU79=\"\",\"\",'Races, Positions & Points'!DU79)","v":""},{"$f":"IF('Races, Positions & Points'!DX79=\"\",\"\",'Races, Positions & Points'!DX79)","v":""},{"$f":"IF('Races, Positions & Points'!EA79=\"\",\"\",'Races, Positions & Points'!EA79)","v":""},{"$f":"IF('Races, Positions & Points'!ED79=\"\",\"\",'Races, Positions & Points'!ED79)","v":""},{"$f":"IF('Races, Positions & Points'!EG79=\"\",\"\",'Races, Positions & Points'!EG79)","v":""},{"$f":"IF('Races, Positions & Points'!#REF!=\"\",\"\",'Races, Positions & Points'!#REF!)","v":{"$error":"#REF!"}},{"$f":"IF('Races, Positions & Points'!#REF!=\"\",\"\",'Races, Positions & Points'!#REF!)","v":{"$error":"#REF!"}},{"$f":"IF('Races, Positions & Points'!#REF!=\"\",\"\",'Races, Positions & Points'!#REF!)","v":{"$error":"#REF!"}},{"$f":"IF('Races, Positions & Points'!#REF!=\"\",\"\",'Races, Positions & Points'!#REF!)","v":{"$error":"#REF!"}},{"$f":"IF('Races, Positions & Points'!#REF!=\"\",\"\",'Races, Positions & Points'!#REF!)","v":{"$error":"#REF!"}},{"$f":"IF('Races, Positions & Points'!#REF!=\"\",\"\",'Races, Positions & Points'!#REF!)","v":{"$error":"#REF!"}},null,{"$error":"#REF!"},{"$error":"#REF!"},{"$error":"#REF!"},{"$error":"#REF!"},{"$error":"#REF!"},{"$error":"#REF!"},null,{"$f":"'Races, Positions & Points'!E79","v":19164},{"$f":"'Races, Positions & Points'!#REF!","v":{"$error":"#REF!"}},{"$error":"#REF!"},"","",{"$error":"#REF!"},"",{"$error":"#REF!"},{"$error":"#REF!"},{"$error":"#REF!"},null,{"$error":"#REF!"},"","",{"$error":"#REF!"},"",{"$error":"#REF!"},{"$error":"#REF!"},{"$error":"#REF!"},null,"",{"$error":"#REF!"},"",{"$error":"#REF!"},"",{"$error":"#REF!"},"","",{"$error":"#REF!"},"","","","","","",{"$error":"#REF!"},null,{"$error":"#REF!"},"","","",null,{"$error":"#REF!"},"","","",null,"",{"$error":"#REF!"},"","","","",{"$error":"#REF!"},"","",{"$error":"#REF!"}]
[{"$f":"'Races, Positions & Points'!A80","v":"Matthew Kirkland"},{"$f":"IF('Races, Positions & Points'!S80=\"\",\"\",'Races, Positions & Points'!S80)","v":""},{"$f":"IF('Races, Positions & Points'!V80=\"\",\"\",'Races, Positions & Points'!V80)","v":""},{"$f":"IF('Races, Positions & Points'!#REF!=\"\",\"\",'Races, Positions & Points'!#REF!)","v":{"$error":"#REF!"}},{"$f":"IF('Races, Positions & Points'!Y80=\"\",\"\",'Races, Positions & Points'!Y80)","v":""},{"$f":"IF('Races, Positions & Points'!Z80=\"\",\"\",'Races, Positions & Points'!Z80)","v":""},{"$f":"IF('Races, Positions & Points'!AC80=\"\",\"\",'Races, Positions & Points'!AC80)","v":""},{"$f":"IF('Races, Positions & Points'!AD80=\"\",\"\",'Races, Positions & Points'!AD80)","v":""},{"$f":"IF('Races, Positions & Points'!AG80=\"\",\"\",'Races, Positions & Points'!AG80)","v":""},{"$f":"IF('Races, Positions & Points'!AJ80=\"\",\"\",'Races, Positions & Points'!AJ80)","v":""},{"$f":"IF('Races, Positions & Points'!AM80=\"\",\"\",'Races, Positions & Points'!AM80)","v":""},{"$f":"IF('Races, Positions & Points'!AP80=\"\",\"\",'Races, Positions & Points'!AP80)","v":""},{"$f":"IF('Races, Positions & Points'!AS80=\"\",\"\",'Races, Positions & Points'!AS80)","v":""},{"$f":"IF('Races, Positions & Points'!AV80=\"\",\"\",'Races, Positions & Points'!AV80)","v":""},{"$f":"IF('Races, Positions & Points'!AY80=\"\",\"\",'Races, Positions & Points'!AY80)","v":""},{"$f":"IF('Races, Positions & Points'!BB80=\"\",\"\",'Races, Positions & Points'!BB80)","v":""},{"$f":"IF('Races, Positions & Points'!BE80=\"\",\"\",'Races, Positions & Points'!BE80)","v":""},{"$f":"IF('Races, Positions & Points'!BH80=\"\",\"\",'Races, Positions & Points'!BH80)","v":""},{"$f":"IF('Races, Positions & Points'!BK80=\"\",\"\",'Races, Positions & Points'!BK80)","v":""},{"$f":"IF('Races, Positions & Points'!BN80=\"\",\"\",'Races, Positions & Points'!BN80)","v":""},{"$f":"IF('Races, Positions & Points'!BQ80=\"\",\"\",'Races, Positions & Points'!BQ80)","v":""},{"$f":"IF('Races, Positions & Points'!BT80=\"\",\"\",'Races, Positions & Points'!BT80)","v":""},{"$f":"IF('Races, Positions & Points'!#REF!=\"\",\"\",'Races, Positions & Points'!#REF!)","v":{"$error":"#REF!"}},{"$f":"IF('Races, Positions & Points'!BW80=\"\",\"\",'Races, Positions & Points'!BW80)","v":""},{"$f":"IF('Races, Positions & Points'!BZ80=\"\",\"\",'Races, Positions & Points'!BZ80)","v":""},{"$f":"IF('Races, Positions & Points'!CG80=\"\",\"\",'Races, Positions & Points'!CG80)","v":""},{"$f":"IF('Races, Positions & Points'!CC80=\"\",\"\",'Races, Positions & Points'!CC80)","v":""},{"$f":"IF('Races, Positions & Points'!CJ80=\"\",\"\",'Races, Positions & Points'!CJ80)","v":""},{"$f":"IF('Races, Positions & Points'!CM80=\"\",\"\",'Races, Positions & Points'!CM80)","v":""},{"$f":"IF('Races, Positions & Points'!CW80=\"\",\"\",'Races, Positions & Points'!CW80)","v":""},{"$f":"IF('Races, Positions & Points'!CP80=\"\",\"\",'Races, Positions & Points'!CP80)","v":""},{"$f":"IF('Races, Positions & Points'!CZ80=\"\",\"\",'Races, Positions & Points'!CZ80)","v":""},{"$f":"IF('Races, Positions & Points'!#REF!=\"\",\"\",'Races, Positions & Points'!#REF!)","v":{"$error":"#REF!"}},{"$f":"IF('Races, Positions & Points'!DC80=\"\",\"\",'Races, Positions & Points'!DC80)","v":""},{"$f":"IF('Races, Positions & Points'!DF80=\"\",\"\",'Races, Positions & Points'!DF80)","v":""},{"$f":"IF('Races, Positions & Points'!DI80=\"\",\"\",'Races, Positions & Points'!DI80)","v":""},{"$f":"IF('Races, Positions & Points'!DL80=\"\",\"\",'Races, Positions & Points'!DL80)","v":""},{"$f":"IF('Races, Positions & Points'!DO80=\"\",\"\",'Races, Positions & Points'!DO80)","v":""},{"$f":"IF('Races, Positions & Points'!DR80=\"\",\"\",'Races, Positions & Points'!DR80)","v":""},{"$f":"IF('Races, Positions & Points'!DS80=\"\",\"\",'Races, Positions & Points'!DS80)","v":""},{"$f":"IF('Races, Positions & Points'!DU80=\"\",\"\",'Races, Positions & Points'!DU80)","v":""},{"$f":"IF('Races, Positions & Points'!DX80=\"\",\"\",'Races, Positions & Points'!DX80)","v":""},{"$f":"IF('Races, Positions & Points'!EA80=\"\",\"\",'Races, Positions & Points'!EA80)","v":""},{"$f":"IF('Races, Positions & Points'!ED80=\"\",\"\",'Races, Positions & Points'!ED80)","v":""},{"$f":"IF('Races, Positions & Points'!EG80=\"\",\"\",'Races, Positions & Points'!EG80)","v":""},{"$f":"IF('Races, Positions & Points'!#REF!=\"\",\"\",'Races, Positions & Points'!#REF!)","v":{"$error":"#REF!"}},{"$f":"IF('Races, Positions & Points'!#REF!=\"\",\"\",'Races, Positions & Points'!#REF!)","v":{"$error":"#REF!"}},{"$f":"IF('Races, Positions & Points'!#REF!=\"\",\"\",'Races, Positions & Points'!#REF!)","v":{"$error":"#REF!"}},{"$f":"IF('Races, Positions & Points'!#REF!=\"\",\"\",'Races, Positions & Points'!#REF!)","v":{"$error":"#REF!"}},{"$f":"IF('Races, Positions & Points'!#REF!=\"\",\"\",'Races, Positions & Points'!#REF!)","v":{"$error":"#REF!"}},{"$f":"IF('Races, Positions & Points'!#REF!=\"\",\"\",'Races, Positions & Points'!#REF!)","v":{"$error":"#REF!"}},null,{"$error":"#REF!"},{"$error":"#REF!"},{"$error":"#REF!"},{"$error":"#REF!"},{"$error":"#REF!"},{"$error":"#REF!"},null,{"$f":"'Races, Positions & Points'!E80","v":21633},{"$f":"'Races, Positions & Points'!#REF!","v":{"$error":"#REF!"}},{"$error":"#REF!"},"","",{"$error":"#REF!"},"",{"$error":"#REF!"},{"$error":"#REF!"},{"$error":"#REF!"},null,{"$error":"#REF!"},"","",{"$error":"#REF!"},"",{"$error":"#REF!"},{"$error":"#REF!"},{"$error":"#REF!"},null,"",{"$error":"#REF!"},"",{"$error":"#REF!"},"",{"$error":"#REF!"},"","",{"$error":"#REF!"},"","","","","","",{"$error":"#REF!"},null,{"$error":"#REF!"},"","","",null,{"$error":"#REF!"},"","","",null,"",{"$error":"#REF!"},"","","","",{"$error":"#REF!"},"","",{"$error":"#REF!"}]
[{"$f":"'Races, Positions & Points'!A81","v":"Phil Deller"},{"$f":"IF('Races, Positions & Points'!S81=\"\",\"\",'Races, Positions & Points'!S81)","v":""},{"$f":"IF('Races, Positions & Points'!V81=\"\",\"\",'Races, Positions & Points'!V81)","v":""},{"$f":"IF('Races, Positions & Points'!#REF!=\"\",\"\",'Races, Positions & Points'!#REF!)","v":{"$error":"#REF!"}},{"$f":"IF('Races, Positions & Points'!Y81=\"\",\"\",'Races, Positions & Points'!Y81)","v":""},{"$f":"IF('Races, Positions & Points'!Z81=\"\",\"\",'Races, Positions & Points'!Z81)","v":""},{"$f":"IF('Races, Positions & Points'!AC81=\"\",\"\",'Races, Positions & Points'!AC81)","v":""},{"$f":"IF('Races, Positions & Points'!AD81=\"\",\"\",'Races, Positions & Points'!AD81)","v":""},{"$f":"IF('Races, Positions & Points'!AG81=\"\",\"\",'Races, Positions & Points'!AG81)","v":""},{"$f":"IF('Races, Positions & Points'!AJ81=\"\",\"\",'Races, Positions & Points'!AJ81)","v":""},{"$f":"IF('Races, Positions & Points'!AM81=\"\",\"\",'Races, Positions & Points'!AM81)","v":""},{"$f":"IF('Races, Positions & Points'!AP81=\"\",\"\",'Races, Positions & Points'!AP81)","v":""},{"$f":"IF('Races, Positions & Points'!AS81=\"\",\"\",'Races, Positions & Points'!AS81)","v":""},{"$f":"IF('Races, Positions & Points'!AV81=\"\",\"\",'Races, Positions & Points'!AV81)","v":""},{"$f":"IF('Races, Positions & Points'!AY81=\"\",\"\",'Races, Positions & Points'!AY81)","v":""},{"$f":"IF('Races, Positions & Points'!BB81=\"\",\"\",'Races, Positions & Points'!BB81)","v":""},{"$f":"IF('Races, Positions & Points'!BE81=\"\",\"\",'Races, Positions & Points'!BE81)","v":""},{"$f":"IF('Races, Positions & Points'!BH81=\"\",\"\",'Races, Positions & Points'!BH81)","v":""},{"$f":"IF('Races, Positions & Points'!BK81=\"\",\"\",'Races, Positions & Points'!BK81)","v":""},{"$f":"IF('Races, Positions & Points'!BN81=\"\",\"\",'Races, Positions & Points'!BN81)","v":""},{"$f":"IF('Races, Positions & Points'!BQ81=\"\",\"\",'Races, Positions & Points'!BQ81)","v":""},{"$f":"IF('Races, Positions & Points'!BT81=\"\",\"\",'Races, Positions & Points'!BT81)","v":""},{"$f":"IF('Races, Positions & Points'!#REF!=\"\",\"\",'Races, Positions & Points'!#REF!)","v":{"$error":"#REF!"}},{"$f":"IF('Races, Positions & Points'!BW81=\"\",\"\",'Races, Positions & Points'!BW81)","v":""},{"$f":"IF('Races, Positions & Points'!BZ81=\"\",\"\",'Races, Positions & Points'!BZ81)","v":""},{"$f":"IF('Races, Positions & Points'!CG81=\"\",\"\",'Races, Positions & Points'!CG81)","v":""},{"$f":"IF('Races, Positions & Points'!CC81=\"\",\"\",'Races, Positions & Points'!CC81)","v":""},{"$f":"IF('Races, Positions & Points'!CJ81=\"\",\"\",'Races, Positions & Points'!CJ81)","v":""},{"$f":"IF('Races, Positions & Points'!CM81=\"\",\"\",'Races, Positions & Points'!CM81)","v":""},{"$f":"IF('Races, Positions & Points'!CW81=\"\",\"\",'Races, Positions & Points'!CW81)","v":""},{"$f":"IF('Races, Positions & Points'!CP81=\"\",\"\",'Races, Positions & Points'!CP81)","v":""},{"$f":"IF('Races, Positions & Points'!CZ81=\"\",\"\",'Races, Positions & Points'!CZ81)","v":""},{"$f":"IF('Races, Positions & Points'!#REF!=\"\",\"\",'Races, Positions & Points'!#REF!)","v":{"$error":"#REF!"}},{"$f":"IF('Races, Positions & Points'!DC81=\"\",\"\",'Races, Positions & Points'!DC81)","v":""},{"$f":"IF('Races, Positions & Points'!DF81=\"\",\"\",'Races, Positions & Points'!DF81)","v":""},{"$f":"IF('Races, Positions & Points'!DI81=\"\",\"\",'Races, Positions & Points'!DI81)","v":""},{"$f":"IF('Races, Positions & Points'!DL81=\"\",\"\",'Races, Positions & Points'!DL81)","v":""},{"$f":"IF('Races, Positions & Points'!DO81=\"\",\"\",'Races, Positions & Points'!DO81)","v":""},{"$f":"IF('Races, Positions & Points'!DR81=\"\",\"\",'Races, Positions & Points'!DR81)","v":""},{"$f":"IF('Races, Positions & Points'!DS81=\"\",\"\",'Races, Positions & Points'!DS81)","v":""},{"$f":"IF('Races, Positions & Points'!DU81=\"\",\"\",'Races, Positions & Points'!DU81)","v":""},{"$f":"IF('Races, Positions & Points'!DX81=\"\",\"\",'Races, Positions & Points'!DX81)","v":""},{"$f":"IF('Races, Positions & Points'!EA81=\"\",\"\",'Races, Positions & Points'!EA81)","v":""},{"$f":"IF('Races, Positions & Points'!ED81=\"\",\"\",'Races, Positions & Points'!ED81)","v":""},{"$f":"IF('Races, Positions & Points'!EG81=\"\",\"\",'Races, Positions & Points'!EG81)","v":""},{"$f":"IF('Races, Positions & Points'!#REF!=\"\",\"\",'Races, Positions & Points'!#REF!)","v":{"$error":"#REF!"}},{"$f":"IF('Races, Positions & Points'!#REF!=\"\",\"\",'Races, Positions & Points'!#REF!)","v":{"$error":"#REF!"}},{"$f":"IF('Races, Positions & Points'!#REF!=\"\",\"\",'Races, Positions & Points'!#REF!)","v":{"$error":"#REF!"}},{"$f":"IF('Races, Positions & Points'!#REF!=\"\",\"\",'Races, Positions & Points'!#REF!)","v":{"$error":"#REF!"}},{"$f":"IF('Races, Positions & Points'!#REF!=\"\",\"\",'Races, Positions & Points'!#REF!)","v":{"$error":"#REF!"}},{"$f":"IF('Races, Positions & Points'!#REF!=\"\",\"\",'Races, Positions & Points'!#REF!)","v":{"$error":"#REF!"}},null,{"$error":"#REF!"},{"$error":"#REF!"},{"$error":"#REF!"},{"$error":"#REF!"},{"$error":"#REF!"},{"$error":"#REF!"},null,{"$f":"'Races, Positions & Points'!E81","v":17039},{"$f":"'Races, Positions & Points'!#REF!","v":{"$error":"#REF!"}},{"$error":"#REF!"},"","",{"$error":"#REF!"},"",{"$error":"#REF!"},{"$error":"#REF!"},{"$error":"#REF!"},null,{"$error":"#REF!"},"","",{"$error":"#REF!"},"",{"$error":"#REF!"},{"$error":"#REF!"},{"$error":"#REF!"},null,"",{"$error":"#REF!"},"",{"$error":"#REF!"},"",{"$error":"#REF!"},"","",{"$error":"#REF!"},"","","","","","",{"$error":"#REF!"},null,{"$error":"#REF!"},"","","",null,{"$error":"#REF!"},"","","",null,"",{"$error":"#REF!"},"","","","",{"$error":"#REF!"},"","",{"$error":"#REF!"}]
[{"$f":"'Races, Positions & Points'!A82","v":"David Hancock"},{"$f":"IF('Races, Positions & Points'!S82=\"\",\"\",'Races, Positions & Points'!S82)","v":""},{"$f":"IF('Races, Positions & Points'!V82=\"\",\"\",'Races, Positions & Points'!V82)","v":""},{"$f":"IF('Races, Positions & Points'!#REF!=\"\",\"\",'Races, Positions & Points'!#REF!)","v":{"$error":"#REF!"}},{"$f":"IF('Races, Positions & Points'!Y82=\"\",\"\",'Races, Positions & Points'!Y82)","v":""},{"$f":"IF('Races, Positions & Points'!Z82=\"\",\"\",'Races, Positions & Points'!Z82)","v":""},{"$f":"IF('Races, Positions & Points'!AC82=\"\",\"\",'Races, Positions & Points'!AC82)","v":""},{"$f":"IF('Races, Positions & Points'!AD82=\"\",\"\",'Races, Positions & Points'!AD82)","v":""},{"$f":"IF('Races, Positions & Points'!AG82=\"\",\"\",'Races, Positions & Points'!AG82)","v":""},{"$f":"IF('Races, Positions & Points'!AJ82=\"\",\"\",'Races, Positions & Points'!AJ82)","v":""},{"$f":"IF('Races, Positions & Points'!AM82=\"\",\"\",'Races, Positions & Points'!AM82)","v":""},{"$f":"IF('Races, Positions & Points'!AP82=\"\",\"\",'Races, Positions & Points'!AP82)","v":""},{"$f":"IF('Races, Positions & Points'!AS82=\"\",\"\",'Races, Positions & Points'!AS82)","v":""},{"$f":"IF('Races, Positions & Points'!AV82=\"\",\"\",'Races, Positions & Points'!AV82)","v":""},{"$f":"IF('Races, Positions & Points'!AY82=\"\",\"\",'Races, Positions & Points'!AY82)","v":""},{"$f":"IF('Races, Positions & Points'!BB82=\"\",\"\",'Races, Positions & Points'!BB82)","v":""},{"$f":"IF('Races, Positions & Points'!BE82=\"\",\"\",'Races, Positions & Points'!BE82)","v":""},{"$f":"IF('Races, Positions & Points'!BH82=\"\",\"\",'Races, Positions & Points'!BH82)","v":""},{"$f":"IF('Races, Positions & Points'!BK82=\"\",\"\",'Races, Positions & Points'!BK82)","v":""},{"$f":"IF('Races, Positions & Points'!BN82=\"\",\"\",'Races, Positions & Points'!BN82)","v":""},{"$f":"IF('Races, Positions & Points'!BQ82=\"\",\"\",'Races, Positions & Points'!BQ82)","v":""},{"$f":"IF('Races, Positions & Points'!BT82=\"\",\"\",'Races, Positions & Points'!BT82)","v":""},{"$f":"IF('Races, Positions & Points'!#REF!=\"\",\"\",'Races, Positions & Points'!#REF!)","v":{"$error":"#REF!"}},{"$f":"IF('Races, Positions & Points'!BW82=\"\",\"\",'Races, Positions & Points'!BW82)","v":""},{"$f":"IF('Races, Positions & Points'!BZ82=\"\",\"\",'Races, Positions & Points'!BZ82)","v":""},{"$f":"IF('Races, Positions & Points'!CG82=\"\",\"\",'Races, Positions & Points'!CG82)","v":""},{"$f":"IF('Races, Positions & Points'!CC82=\"\",\"\",'Races, Positions & Points'!CC82)","v":""},{"$f":"IF('Races, Positions & Points'!CJ82=\"\",\"\",'Races, Positions & Points'!CJ82)","v":""},{"$f":"IF('Races, Positions & Points'!CM82=\"\",\"\",'Races, Positions & Points'!CM82)","v":""},{"$f":"IF('Races, Positions & Points'!CW82=\"\",\"\",'Races, Positions & Points'!CW82)","v":""},{"$f":"IF('Races, Positions & Points'!CP82=\"\",\"\",'Races, Positions & Points'!CP82)","v":""},{"$f":"IF('Races, Positions & Points'!CZ82=\"\",\"\",'Races, Positions & Points'!CZ82)","v":""},{"$f":"IF('Races, Positions & Points'!#REF!=\"\",\"\",'Races, Positions & Points'!#REF!)","v":{"$error":"#REF!"}},{"$f":"IF('Races, Positions & Points'!DC82=\"\",\"\",'Races, Positions & Points'!DC82)","v":""},{"$f":"IF('Races, Positions & Points'!DF82=\"\",\"\",'Races, Positions & Points'!DF82)","v":""},{"$f":"IF('Races, Positions & Points'!DI82=\"\",\"\",'Races, Positions & Points'!DI82)","v":""},{"$f":"IF('Races, Positions & Points'!DL82=\"\",\"\",'Races, Positions & Points'!DL82)","v":""},{"$f":"IF('Races, Positions & Points'!DO82=\"\",\"\",'Races, Positions & Points'!DO82)","v":""},{"$f":"IF('Races, Positions & Points'!DR82=\"\",\"\",'Races, Positions & Points'!DR82)","v":""},{"$f":"IF('Races, Positions & Points'!DS82=\"\",\"\",'Races, Positions & Points'!DS82)","v":""},{"$f":"IF('Races, Positions & Points'!DU82=\"\",\"\",'Races, Positions & Points'!DU82)","v":""},{"$f":"IF('Races, Positions & Points'!DX82=\"\",\"\",'Races, Positions & Points'!DX82)","v":""},{"$f":"IF('Races, Positions & Points'!EA82=\"\",\"\",'Races, Positions & Points'!EA82)","v":""},{"$f":"IF('Races, Positions & Points'!ED82=\"\",\"\",'Races, Positions & Points'!ED82)","v":""},{"$f":"IF('Races, Positions & Points'!EG82=\"\",\"\",'Races, Positions & Points'!EG82)","v":""},{"$f":"IF('Races, Positions & Points'!#REF!=\"\",\"\",'Races, Positions & Points'!#REF!)","v":{"$error":"#REF!"}},{"$f":"IF('Races, Positions & Points'!#REF!=\"\",\"\",'Races, Positions & Points'!#REF!)","v":{"$error":"#REF!"}},{"$f":"IF('Races, Positions & Points'!#REF!=\"\",\"\",'Races, Positions & Points'!#REF!)","v":{"$error":"#REF!"}},{"$f":"IF('Races, Positions & Points'!#REF!=\"\",\"\",'Races, Positions & Points'!#REF!)","v":{"$error":"#REF!"}},{"$f":"IF('Races, Positions & Points'!#REF!=\"\",\"\",'Races, Positions & Points'!#REF!)","v":{"$error":"#REF!"}},{"$f":"IF('Races, Positions & Points'!#REF!=\"\",\"\",'Races, Positions & Points'!#REF!)","v":{"$error":"#REF!"}},null,{"$error":"#REF!"},{"$error":"#REF!"},{"$error":"#REF!"},{"$error":"#REF!"},{"$error":"#REF!"},{"$error":"#REF!"},null,{"$f":"'Races, Positions & Points'!E82","v":17037},{"$f":"'Races, Positions & Points'!#REF!","v":{"$error":"#REF!"}},{"$error":"#REF!"},"","",{"$error":"#REF!"},"",{"$error":"#REF!"},{"$error":"#REF!"},{"$error":"#REF!"},null,{"$error":"#REF!"},"","",{"$error":"#REF!"},"",{"$error":"#REF!"},{"$error":"#REF!"},{"$error":"#REF!"},null,"",{"$error":"#REF!"},"",{"$error":"#REF!"},"",{"$error":"#REF!"},"","",{"$error":"#REF!"},"","","","","","",{"$error":"#REF!"},null,{"$error":"#REF!"},"","","",null,{"$error":"#REF!"},"","","",null,"",{"$error":"#REF!"},"","","","",{"$error":"#REF!"},"","",{"$error":"#REF!"}]
[{"$f":"'Races, Positions & Points'!A83","v":"Joe Bird"},{"$f":"IF('Races, Positions & Points'!S83=\"\",\"\",'Races, Positions & Points'!S83)","v":""},{"$f":"IF('Races, Positions & Points'!V83=\"\",\"\",'Races, Positions & Points'!V83)","v":""},{"$f":"IF('Races, Positions & Points'!#REF!=\"\",\"\",'Races, Positions & Points'!#REF!)","v":{"$error":"#REF!"}},{"$f":"IF('Races, Positions & Points'!Y83=\"\",\"\",'Races, Positions & Points'!Y83)","v":""},{"$f":"IF('Races, Positions & Points'!Z83=\"\",\"\",'Races, Positions & Points'!Z83)","v":""},{"$f":"IF('Races, Positions & Points'!AC83=\"\",\"\",'Races, Positions & Points'!AC83)","v":""},{"$f":"IF('Races, Positions & Points'!AD83=\"\",\"\",'Races, Positions & Points'!AD83)","v":""},{"$f":"IF('Races, Positions & Points'!AG83=\"\",\"\",'Races, Positions & Points'!AG83)","v":""},{"$f":"IF('Races, Positions & Points'!AJ83=\"\",\"\",'Races, Positions & Points'!AJ83)","v":""},{"$f":"IF('Races, Positions & Points'!AM83=\"\",\"\",'Races, Positions & Points'!AM83)","v":""},{"$f":"IF('Races, Positions & Points'!AP83=\"\",\"\",'Races, Positions & Points'!AP83)","v":""},{"$f":"IF('Races, Positions & Points'!AS83=\"\",\"\",'Races, Positions & Points'!AS83)","v":""},{"$f":"IF('Races, Positions & Points'!AV83=\"\",\"\",'Races, Positions & Points'!AV83)","v":""},{"$f":"IF('Races, Positions & Points'!AY83=\"\",\"\",'Races, Positions & Points'!AY83)","v":""},{"$f":"IF('Races, Positions & Points'!BB83=\"\",\"\",'Races, Positions & Points'!BB83)","v":""},{"$f":"IF('Races, Positions & Points'!BE83=\"\",\"\",'Races, Positions & Points'!BE83)","v":""},{"$f":"IF('Races, Positions & Points'!BH83=\"\",\"\",'Races, Positions & Points'!BH83)","v":""},{"$f":"IF('Races, Positions & Points'!BK83=\"\",\"\",'Races, Positions & Points'!BK83)","v":""},{"$f":"IF('Races, Positions & Points'!BN83=\"\",\"\",'Races, Positions & Points'!BN83)","v":""},{"$f":"IF('Races, Positions & Points'!BQ83=\"\",\"\",'Races, Positions & Points'!BQ83)","v":""},{"$f":"IF('Races, Positions & Points'!BT83=\"\",\"\",'Races, Positions & Points'!BT83)","v":""},{"$f":"IF('Races, Positions & Points'!#REF!=\"\",\"\",'Races, Positions & Points'!#REF!)","v":{"$error":"#REF!"}},{"$f":"IF('Races, Positions & Points'!BW83=\"\",\"\",'Races, Positions & Points'!BW83)","v":""},{"$f":"IF('Races, Positions & Points'!BZ83=\"\",\"\",'Races, Positions & Points'!BZ83)","v":""},{"$f":"IF('Races, Positions & Points'!CG83=\"\",\"\",'Races, Positions & Points'!CG83)","v":""},{"$f":"IF('Races, Positions & Points'!CC83=\"\",\"\",'Races, Positions & Points'!CC83)","v":""},{"$f":"IF('Races, Positions & Points'!CJ83=\"\",\"\",'Races, Positions & Points'!CJ83)","v":""},{"$f":"IF('Races, Positions & Points'!CM83=\"\",\"\",'Races, Positions & Points'!CM83)","v":""},{"$f":"IF('Races, Positions & Points'!CW83=\"\",\"\",'Races, Positions & Points'!CW83)","v":""},{"$f":"IF('Races, Positions & Points'!CP83=\"\",\"\",'Races, Positions & Points'!CP83)","v":""},{"$f":"IF('Races, Positions & Points'!CZ83=\"\",\"\",'Races, Positions & Points'!CZ83)","v":""},{"$f":"IF('Races, Positions & Points'!#REF!=\"\",\"\",'Races, Positions & Points'!#REF!)","v":{"$error":"#REF!"}},{"$f":"IF('Races, Positions & Points'!DC83=\"\",\"\",'Races, Positions & Points'!DC83)","v":""},{"$f":"IF('Races, Positions & Points'!DF83=\"\",\"\",'Races, Positions & Points'!DF83)","v":""},{"$f":"IF('Races, Positions & Points'!DI83=\"\",\"\",'Races, Positions & Points'!DI83)","v":""},{"$f":"IF('Races, Positions & Points'!DL83=\"\",\"\",'Races, Positions & Points'!DL83)","v":""},{"$f":"IF('Races, Positions & Points'!DO83=\"\",\"\",'Races, Positions & Points'!DO83)","v":""},{"$f":"IF('Races, Positions & Points'!DR83=\"\",\"\",'Races, Positions & Points'!DR83)","v":""},{"$f":"IF('Races, Positions & Points'!DS83=\"\",\"\",'Races, Positions & Points'!DS83)","v":""},{"$f":"IF('Races, Positions & Points'!DU83=\"\",\"\",'Races, Positions & Points'!DU83)","v":""},{"$f":"IF('Races, Positions & Points'!DX83=\"\",\"\",'Races, Positions & Points'!DX83)","v":""},{"$f":"IF('Races, Positions & Points'!EA83=\"\",\"\",'Races, Positions & Points'!EA83)","v":""},{"$f":"IF('Races, Positions & Points'!ED83=\"\",\"\",'Races, Positions & Points'!ED83)","v":""},{"$f":"IF('Races, Positions & Points'!EG83=\"\",\"\",'Races, Positions & Points'!EG83)","v":""},{"$f":"IF('Races, Positions & Points'!#REF!=\"\",\"\",'Races, Positions & Points'!#REF!)","v":{"$error":"#REF!"}},{"$f":"IF('Races, Positions & Points'!#REF!=\"\",\"\",'Races, Positions & Points'!#REF!)","v":{"$error":"#REF!"}},{"$f":"IF('Races, Positions & Points'!#REF!=\"\",\"\",'Races, Positions & Points'!#REF!)","v":{"$error":"#REF!"}},{"$f":"IF('Races, Positions & Points'!#REF!=\"\",\"\",'Races, Positions & Points'!#REF!)","v":{"$error":"#REF!"}},{"$f":"IF('Races, Positions & Points'!#REF!=\"\",\"\",'Races, Positions & Points'!#REF!)","v":{"$error":"#REF!"}},{"$f":"IF('Races, Positions & Points'!#REF!=\"\",\"\",'Races, Positions & Points'!#REF!)","v":{"$error":"#REF!"}},null,{"$error":"#REF!"},{"$error":"#REF!"},{"$error":"#REF!"},{"$error":"#REF!"},{"$error":"#REF!"},{"$error":"#REF!"},null,{"$f":"'Races, Positions & Points'!E83","v":21714},{"$f":"'Races, Positions & Points'!#REF!","v":{"$error":"#REF!"}},{"$error":"#REF!"},"","",{"$error":"#REF!"},"",{"$error":"#REF!"},{"$error":"#REF!"},{"$error":"#REF!"},null,{"$error":"#REF!"},"","",{"$error":"#REF!"},"",{"$error":"#REF!"},{"$error":"#REF!"},{"$error":"#REF!"},null,"",{"$error":"#REF!"},"",{"$error":"#REF!"},"",{"$error":"#REF!"},"","",{"$error":"#REF!"},"","","","","","",{"$error":"#REF!"},null,{"$error":"#REF!"},"","","",null,{"$error":"#REF!"},"","","",null,"",{"$error":"#REF!"},"","","","",{"$error":"#REF!"},"","",{"$error":"#REF!"}]
[{"$f":"'Races, Positions & Points'!A84","v":"Jake Heard"},{"$f":"IF('Races, Positions & Points'!S84=\"\",\"\",'Races, Positions & Points'!S84)","v":""},{"$f":"IF('Races, Positions & Points'!V84=\"\",\"\",'Races, Positions & Points'!V84)","v":""},{"$f":"IF('Races, Positions & Points'!#REF!=\"\",\"\",'Races, Positions & Points'!#REF!)","v":{"$error":"#REF!"}},{"$f":"IF('Races, Positions & Points'!Y84=\"\",\"\",'Races, Positions & Points'!Y84)","v":""},{"$f":"IF('Races, Positions & Points'!Z84=\"\",\"\",'Races, Positions & Points'!Z84)","v":""},{"$f":"IF('Races, Positions & Points'!AC84=\"\",\"\",'Races, Positions & Points'!AC84)","v":""},{"$f":"IF('Races, Positions & Points'!AD84=\"\",\"\",'Races, Positions & Points'!AD84)","v":""},{"$f":"IF('Races, Positions & Points'!AG84=\"\",\"\",'Races, Positions & Points'!AG84)","v":""},{"$f":"IF('Races, Positions & Points'!AJ84=\"\",\"\",'Races, Positions & Points'!AJ84)","v":""},{"$f":"IF('Races, Positions & Points'!AM84=\"\",\"\",'Races, Positions & Points'!AM84)","v":""},{"$f":"IF('Races, Positions & Points'!AP84=\"\",\"\",'Races, Positions & Points'!AP84)","v":""},{"$f":"IF('Races, Positions & Points'!AS84=\"\",\"\",'Races, Positions & Points'!AS84)","v":""},{"$f":"IF('Races, Positions & Points'!AV84=\"\",\"\",'Races, Positions & Points'!AV84)","v":""},{"$f":"IF('Races, Positions & Points'!AY84=\"\",\"\",'Races, Positions & Points'!AY84)","v":""},{"$f":"IF('Races, Positions & Points'!BB84=\"\",\"\",'Races, Positions & Points'!BB84)","v":""},{"$f":"IF('Races, Positions & Points'!BE84=\"\",\"\",'Races, Positions & Points'!BE84)","v":""},{"$f":"IF('Races, Positions & Points'!BH84=\"\",\"\",'Races, Positions & Points'!BH84)","v":""},{"$f":"IF('Races, Positions & Points'!BK84=\"\",\"\",'Races, Positions & Points'!BK84)","v":""},{"$f":"IF('Races, Positions & Points'!BN84=\"\",\"\",'Races, Positions & Points'!BN84)","v":""},{"$f":"IF('Races, Positions & Points'!BQ84=\"\",\"\",'Races, Positions & Points'!BQ84)","v":""},{"$f":"IF('Races, Positions & Points'!BT84=\"\",\"\",'Races, Positions & Points'!BT84)","v":""},{"$f":"IF('Races, Positions & Points'!#REF!=\"\",\"\",'Races, Positions & Points'!#REF!)","v":{"$error":"#REF!"}},{"$f":"IF('Races, Positions & Points'!BW84=\"\",\"\",'Races, Positions & Points'!BW84)","v":""},{"$f":"IF('Races, Positions & Points'!BZ84=\"\",\"\",'Races, Positions & Points'!BZ84)","v":""},{"$f":"IF('Races, Positions & Points'!CG84=\"\",\"\",'Races, Positions & Points'!CG84)","v":""},{"$f":"IF('Races, Positions & Points'!CC84=\"\",\"\",'Races, Positions & Points'!CC84)","v":""},{"$f":"IF('Races, Positions & Points'!CJ84=\"\",\"\",'Races, Positions & Points'!CJ84)","v":""},{"$f":"IF('Races, Positions & Points'!CM84=\"\",\"\",'Races, Positions & Points'!CM84)","v":""},{"$f":"IF('Races, Positions & Points'!CW84=\"\",\"\",'Races, Positions & Points'!CW84)","v":""},{"$f":"IF('Races, Positions & Points'!CP84=\"\",\"\",'Races, Positions & Points'!CP84)","v":""},{"$f":"IF('Races, Positions & Points'!CZ84=\"\",\"\",'Races, Positions & Points'!CZ84)","v":""},{"$f":"IF('Races, Positions & Points'!#REF!=\"\",\"\",'Races, Positions & Points'!#REF!)","v":{"$error":"#REF!"}},{"$f":"IF('Races, Positions & Points'!DC84=\"\",\"\",'Races, Positions & Points'!DC84)","v":""},{"$f":"IF('Races, Positions & Points'!DF84=\"\",\"\",'Races, Positions & Points'!DF84)","v":""},{"$f":"IF('Races, Positions & Points'!DI84=\"\",\"\",'Races, Positions & Points'!DI84)","v":""},{"$f":"IF('Races, Positions & Points'!DL84=\"\",\"\",'Races, Positions & Points'!DL84)","v":""},{"$f":"IF('Races, Positions & Points'!DO84=\"\",\"\",'Races, Positions & Points'!DO84)","v":""},{"$f":"IF('Races, Positions & Points'!DR84=\"\",\"\",'Races, Positions & Points'!DR84)","v":""},{"$f":"IF('Races, Positions & Points'!DS84=\"\",\"\",'Races, Positions & Points'!DS84)","v":""},{"$f":"IF('Races, Positions & Points'!DU84=\"\",\"\",'Races, Positions & Points'!DU84)","v":""},{"$f":"IF('Races, Positions & Points'!DX84=\"\",\"\",'Races, Positions & Points'!DX84)","v":""},{"$f":"IF('Races, Positions & Points'!EA84=\"\",\"\",'Races, Positions & Points'!EA84)","v":""},{"$f":"IF('Races, Positions & Points'!ED84=\"\",\"\",'Races, Positions & Points'!ED84)","v":""},{"$f":"IF('Races, Positions & Points'!EG84=\"\",\"\",'Races, Positions & Points'!EG84)","v":""},{"$f":"IF('Races, Positions & Points'!#REF!=\"\",\"\",'Races, Positions & Points'!#REF!)","v":{"$error":"#REF!"}},{"$f":"IF('Races, Positions & Points'!#REF!=\"\",\"\",'Races, Positions & Points'!#REF!)","v":{"$error":"#REF!"}},{"$f":"IF('Races, Positions & Points'!#REF!=\"\",\"\",'Races, Positions & Points'!#REF!)","v":{"$error":"#REF!"}},{"$f":"IF('Races, Positions & Points'!#REF!=\"\",\"\",'Races, Positions & Points'!#REF!)","v":{"$error":"#REF!"}},{"$f":"IF('Races, Positions & Points'!#REF!=\"\",\"\",'Races, Positions & Points'!#REF!)","v":{"$error":"#REF!"}},{"$f":"IF('Races, Positions & Points'!#REF!=\"\",\"\",'Races, Positions & Points'!#REF!)","v":{"$error":"#REF!"}},null,{"$error":"#REF!"},{"$error":"#REF!"},{"$error":"#REF!"},{"$error":"#REF!"},{"$error":"#REF!"},{"$error":"#REF!"},null,{"$f":"'Races, Positions & Points'!E84","v":21075},{"$f":"'Races, Positions & Points'!#REF!","v":{"$error":"#REF!"}},{"$error":"#REF!"},"","",{"$error":"#REF!"},"",{"$error":"#REF!"},{"$error":"#REF!"},{"$error":"#REF!"},null,{"$error":"#REF!"},"","",{"$error":"#REF!"},"",{"$error":"#REF!"},{"$error":"#REF!"},{"$error":"#REF!"},null,"",{"$f":"IF(MIN(E76,F76,G76,H76,Z76,AF76,AG76,AP76,AQ76,AU76)>0,MIN(E76,F76,G76,H76,Z76,AF76,AG76,AP76,AQ76,AU76),\"\")","v":{"$error":"#REF!"}},{"$f":"IF(MIN(T76,V76)>0,MIN(T76,V76),\"\")","v":""},{"$f":"IF(MIN(W76,X76)>0,MIN(W76,X76),\"\")","v":{"$error":"#REF!"}},{"$f":"IF(MIN(B76,M76,N76,AR76,AS76)>0,MIN(B76,M76,N76,AR76,AS76),\"\")","v":""},{"$f":"IF(MIN(D76,O76,AB76,AC76,AE76)>0,MIN(D76,O76,AB76,AC76,AE76),\"\")","v":{"$error":"#REF!"}},{"$f":"IF(MIN(I76,J76)>0,MIN(I76,J76),\"\")","v":""},"",{"$f":"IF(MIN(S76,AM76,AT76,AY76)>0,MIN(S76,AM76,AT76,AY76),\"\")","v":{"$error":"#REF!"}},{"$f":"IF(MIN(P76,R76)>0,MIN(P76,R76),\"\")","v":""},"","","","","",{"$f":"IF(MIN(AV76,AW76)>0,MIN(AV76,AW76),\"\")","v":{"$error":"#REF!"}},null,{"$error":"#REF!"},"","","",null,{"$error":"#REF!"},"","","",null,"",{"$f":"IF(MIN(Z76,AF76,AG76,AP76,AQ76,AU76)>0,MIN(Z76,AF76,AG76,AP76,AQ76,AU76),\"\")","v":{"$error":"#REF!"}},{"$f":"IF(MIN(T76,V76)>0,MIN(T76,V76),\"\")","v":""},{"$f":"IF(MIN(M76,N76,AR76,AS76)>0,MIN(M76,N76,AR76,AS76),\"\")","v":""},{"$f":"IF(MIN(O76,AE76),MIN(O76,AE76),\"\")","v":""},"",{"$error":"#REF!"},"","",{"$f":"IF(MIN(AV76,AW76),MIN(AV76,AW76),\"\")","v":{"$error":"#REF!"}}]
[{"$f":"'Races, Positions & Points'!A85","v":"James Care"},{"$f":"IF('Races, Positions & Points'!S85=\"\",\"\",'Races, Positions & Points'!S85)","v":""},{"$f":"IF('Races, Positions & Points'!V85=\"\",\"\",'Races, Positions & Points'!V85)","v":""},{"$f":"IF('Races, Positions & Points'!#REF!=\"\",\"\",'Races, Positions & Points'!#REF!)","v":{"$error":"#REF!"}},{"$f":"IF('Races, Positions & Points'!Y85=\"\",\"\",'Races, Positions & Points'!Y85)","v":""},{"$f":"IF('Races, Positions & Points'!Z85=\"\",\"\",'Races, Positions & Points'!Z85)","v":""},{"$f":"IF('Races, Positions & Points'!AC85=\"\",\"\",'Races, Positions & Points'!AC85)","v":""},{"$f":"IF('Races, Positions & Points'!AD85=\"\",\"\",'Races, Positions & Points'!AD85)","v":""},{"$f":"IF('Races, Positions & Points'!AG85=\"\",\"\",'Races, Positions & Points'!AG85)","v":""},{"$f":"IF('Races, Positions & Points'!AJ85=\"\",\"\",'Races, Positions & Points'!AJ85)","v":""},{"$f":"IF('Races, Positions & Points'!AM85=\"\",\"\",'Races, Positions & Points'!AM85)","v":""},{"$f":"IF('Races, Positions & Points'!AP85=\"\",\"\",'Races, Positions & Points'!AP85)","v":""},{"$f":"IF('Races, Positions & Points'!AS85=\"\",\"\",'Races, Positions & Points'!AS85)","v":""},{"$f":"IF('Races, Positions & Points'!AV85=\"\",\"\",'Races, Positions & Points'!AV85)","v":""},{"$f":"IF('Races, Positions & Points'!AY85=\"\",\"\",'Races, Positions & Points'!AY85)","v":""},{"$f":"IF('Races, Positions & Points'!BB85=\"\",\"\",'Races, Positions & Points'!BB85)","v":""},{"$f":"IF('Races, Positions & Points'!BE85=\"\",\"\",'Races, Positions & Points'!BE85)","v":""},{"$f":"IF('Races, Positions & Points'!BH85=\"\",\"\",'Races, Positions & Points'!BH85)","v":""},{"$f":"IF('Races, Positions & Points'!BK85=\"\",\"\",'Races, Positions & Points'!BK85)","v":""},{"$f":"IF('Races, Positions & Points'!BN85=\"\",\"\",'Races, Positions & Points'!BN85)","v":""},{"$f":"IF('Races, Positions & Points'!BQ85=\"\",\"\",'Races, Positions & Points'!BQ85)","v":""},{"$f":"IF('Races, Positions & Points'!BT85=\"\",\"\",'Races, Positions & Points'!BT85)","v":""},{"$f":"IF('Races, Positions & Points'!#REF!=\"\",\"\",'Races, Positions & Points'!#REF!)","v":{"$error":"#REF!"}},{"$f":"IF('Races, Positions & Points'!BW85=\"\",\"\",'Races, Positions & Points'!BW85)","v":""},{"$f":"IF('Races, Positions & Points'!BZ85=\"\",\"\",'Races, Positions & Points'!BZ85)","v":""},{"$f":"IF('Races, Positions & Points'!CG85=\"\",\"\",'Races, Positions & Points'!CG85)","v":""},{"$f":"IF('Races, Positions & Points'!CC85=\"\",\"\",'Races, Positions & Points'!CC85)","v":""},{"$f":"IF('Races, Positions & Points'!CJ85=\"\",\"\",'Races, Positions & Points'!CJ85)","v":""},{"$f":"IF('Races, Positions & Points'!CM85=\"\",\"\",'Races, Positions & Points'!CM85)","v":""},{"$f":"IF('Races, Positions & Points'!CW85=\"\",\"\",'Races, Positions & Points'!CW85)","v":""},{"$f":"IF('Races, Positions & Points'!CP85=\"\",\"\",'Races, Positions & Points'!CP85)","v":""},{"$f":"IF('Races, Positions & Points'!CZ85=\"\",\"\",'Races, Positions & Points'!CZ85)","v":""},{"$f":"IF('Races, Positions & Points'!#REF!=\"\",\"\",'Races, Positions & Points'!#REF!)","v":{"$error":"#REF!"}},{"$f":"IF('Races, Positions & Points'!DC85=\"\",\"\",'Races, Positions & Points'!DC85)","v":""},{"$f":"IF('Races, Positions & Points'!DF85=\"\",\"\",'Races, Positions & Points'!DF85)","v":""},{"$f":"IF('Races, Positions & Points'!DI85=\"\",\"\",'Races, Positions & Points'!DI85)","v":""},{"$f":"IF('Races, Positions & Points'!DL85=\"\",\"\",'Races, Positions & Points'!DL85)","v":""},{"$f":"IF('Races, Positions & Points'!DO85=\"\",\"\",'Races, Positions & Points'!DO85)","v":""},{"$f":"IF('Races, Positions & Points'!DR85=\"\",\"\",'Races, Positions & Points'!DR85)","v":""},{"$f":"IF('Races, Positions & Points'!DS85=\"\",\"\",'Races, Positions & Points'!DS85)","v":""},{"$f":"IF('Races, Positions & Points'!DU85=\"\",\"\",'Races, Positions & Points'!DU85)","v":""},{"$f":"IF('Races, Positions & Points'!DX85=\"\",\"\",'Races, Positions & Points'!DX85)","v":""},{"$f":"IF('Races, Positions & Points'!EA85=\"\",\"\",'Races, Positions & Points'!EA85)","v":""},{"$f":"IF('Races, Positions & Points'!ED85=\"\",\"\",'Races, Positions & Points'!ED85)","v":""},{"$f":"IF('Races, Positions & Points'!EG85=\"\",\"\",'Races, Positions & Points'!EG85)","v":""},{"$f":"IF('Races, Positions & Points'!#REF!=\"\",\"\",'Races, Positions & Points'!#REF!)","v":{"$error":"#REF!"}},{"$f":"IF('Races, Positions & Points'!#REF!=\"\",\"\",'Races, Positions & Points'!#REF!)","v":{"$error":"#REF!"}},{"$f":"IF('Races, Positions & Points'!#REF!=\"\",\"\",'Races, Positions & Points'!#REF!)","v":{"$error":"#REF!"}},{"$f":"IF('Races, Positions & Points'!#REF!=\"\",\"\",'Races, Positions & Points'!#REF!)","v":{"$error":"#REF!"}},{"$f":"IF('Races, Positions & Points'!#REF!=\"\",\"\",'Races, Positions & Points'!#REF!)","v":{"$error":"#REF!"}},{"$f":"IF('Races, Positions & Points'!#REF!=\"\",\"\",'Races, Positions & Points'!#REF!)","v":{"$error":"#REF!"}},null,{"$error":"#REF!"},{"$error":"#REF!"},{"$error":"#REF!"},{"$error":"#REF!"},{"$error":"#REF!"},{"$error":"#REF!"},null,{"$f":"'Races, Positions & Points'!E85","v":20590},{"$f":"'Races, Positions & Points'!#REF!","v":{"$error":"#REF!"}},{"$error":"#REF!"},"","",{"$error":"#REF!"},"",{"$error":"#REF!"},{"$error":"#REF!"},{"$error":"#REF!"},null,{"$error":"#REF!"},"","",{"$error":"#REF!"},"",{"$error":"#REF!"},{"$error":"#REF!"},{"$error":"#REF!"},null,"",{"$error":"#REF!"},"",{"$error":"#REF!"},"",{"$error":"#REF!"},"",{"$f":"IF(Q77>0,Q77,\"\")","v":""},{"$error":"#REF!"},"","","","","","",{"$error":"#REF!"},null,{"$error":"#REF!"},"","","",null,{"$error":"#REF!"},"","","",null,"",{"$error":"#REF!"},"","","","",{"$error":"#REF!"},"","",{"$error":"#REF!"}]
[{"$f":"'Races, Positions & Points'!A87","v":"Thomas Jinks"},{"$f":"IF('Races, Positions & Points'!S87=\"\",\"\",'Races, Positions & Points'!S87)","v":""},{"$f":"IF('Races, Positions & Points'!V87=\"\",\"\",'Races, Positions & Points'!V87)","v":""},{"$f":"IF('Races, Positions & Points'!#REF!=\"\",\"\",'Races, Positions & Points'!#REF!)","v":{"$error":"#REF!"}},{"$f":"IF('Races, Positions & Points'!Y87=\"\",\"\",'Races, Positions & Points'!Y87)","v":278.73},{"$f":"IF('Races, Positions & Points'!Z87=\"\",\"\",'Races, Positions & Points'!Z87)","v":346.21},{"$f":"IF('Races, Positions & Points'!AC87=\"\",\"\",'Races, Positions & Points'!AC87)","v":235.19},{"$f":"IF('Races, Positions & Points'!AD87=\"\",\"\",'Races, Positions & Points'!AD87)","v":327.78},{"$f":"IF('Races, Positions & Points'!AG87=\"\",\"\",'Races, Positions & Points'!AG87)","v":""},{"$f":"IF('Races, Positions & Points'!AJ87=\"\",\"\",'Races, Positions & Points'!AJ87)","v":""},{"$f":"IF('Races, Positions & Points'!AM87=\"\",\"\",'Races, Positions & Points'!AM87)","v":""},{"$f":"IF('Races, Positions & Points'!AP87=\"\",\"\",'Races, Positions & Points'!AP87)","v":""},{"$f":"IF('Races, Positions & Points'!AS87=\"\",\"\",'Races, Positions & Points'!AS87)","v":""},{"$f":"IF('Races, Positions & Points'!AV87=\"\",\"\",'Races, Positions & Points'!AV87)","v":""},{"$f":"IF('Races, Positions & Points'!AY87=\"\",\"\",'Races, Positions & Points'!AY87)","v":""},{"$f":"IF('Races, Positions & Points'!BB87=\"\",\"\",'Races, Positions & Points'!BB87)","v":""},{"$f":"IF('Races, Positions & Points'!BE87=\"\",\"\",'Races, Positions & Points'!BE87)","v":""},{"$f":"IF('Races, Positions & Points'!BH87=\"\",\"\",'Races, Positions & Points'!BH87)","v":""},{"$f":"IF('Races, Positions & Points'!BK87=\"\",\"\",'Races, Positions & Points'!BK87)","v":""},{"$f":"IF('Races, Positions & Points'!BN87=\"\",\"\",'Races, Positions & Points'!BN87)","v":""},{"$f":"IF('Races, Positions & Points'!BQ87=\"\",\"\",'Races, Positions & Points'!BQ87)","v":178.44},{"$f":"IF('Races, Positions & Points'!BT87=\"\",\"\",'Races, Positions & Points'!BT87)","v":178.75},{"$f":"IF('Races, Positions & Points'!#REF!=\"\",\"\",'Races, Positions & Points'!#REF!)","v":{"$error":"#REF!"}},{"$f":"IF('Races, Positions & Points'!BW87=\"\",\"\",'Races, Positions & Points'!BW87)","v":""},{"$f":"IF('Races, Positions & Points'!BZ87=\"\",\"\",'Races, Positions & Points'!BZ87)","v":""},{"$f":"IF('Races, Positions & Points'!CG87=\"\",\"\",'Races, Positions & Points'!CG87)","v":180.10999999999999},{"$f":"IF('Races, Positions & Points'!CC87=\"\",\"\",'Races, Positions & Points'!CC87)","v":""},{"$f":"IF('Races, Positions & Points'!CJ87=\"\",\"\",'Races, Positions & Points'!CJ87)","v":""},{"$f":"IF('Races, Positions & Points'!CM87=\"\",\"\",'Races, Positions & Points'!CM87)","v":""},{"$f":"IF('Races, Positions & Points'!CW87=\"\",\"\",'Races, Positions & Points'!CW87)","v":""},{"$f":"IF('Races, Positions & Points'!CP87=\"\",\"\",'Races, Positions & Points'!CP87)","v":""},{"$f":"IF('Races, Positions & Points'!CZ87=\"\",\"\",'Races, Positions & Points'!CZ87)","v":""},{"$f":"IF('Races, Positions & Points'!#REF!=\"\",\"\",'Races, Positions & Points'!#REF!)","v":{"$error":"#REF!"}},{"$f":"IF('Races, Positions & Points'!DC87=\"\",\"\",'Races, Positions & Points'!DC87)","v":""},{"$f":"IF('Races, Positions & Points'!DF87=\"\",\"\",'Races, Positions & Points'!DF87)","v":185.64},{"$f":"IF('Races, Positions & Points'!DI87=\"\",\"\",'Races, Positions & Points'!DI87)","v":198.36},{"$f":"IF('Races, Positions & Points'!#REF!=\"\",\"\",'Races, Positions & Points'!#REF!)","v":{"$error":"#REF!"}},{"$f":"IF('Races, Positions & Points'!DO87=\"\",\"\",'Races, Positions & Points'!DO87)","v":""},{"$f":"IF('Races, Positions & Points'!DR87=\"\",\"\",'Races, Positions & Points'!DR87)","v":""},{"$f":"IF('Races, Positions & Points'!DS87=\"\",\"\",'Races, Positions & Points'!DS87)","v":""},{"$f":"IF('Races, Positions & Points'!DU87=\"\",\"\",'Races, Positions & Points'!DU87)","v":""},{"$f":"IF('Races, Positions & Points'!DX87=\"\",\"\",'Races, Positions & Points'!DX87)","v":""},{"$f":"IF('Races, Positions & Points'!EA87=\"\",\"\",'Races, Positions & Points'!EA87)","v":""},{"$f":"IF('Races, Positions & Points'!ED87=\"\",\"\",'Races, Positions & Points'!ED87)","v":""},{"$f":"IF('Races, Positions & Points'!EG87=\"\",\"\",'Races, Positions & Points'!EG87)","v":""},{"$f":"IF('Races, Positions & Points'!#REF!=\"\",\"\",'Races, Positions & Points'!#REF!)","v":{"$error":"#REF!"}},{"$f":"IF('Races, Positions & Points'!#REF!=\"\",\"\",'Races, Positions & Points'!#REF!)","v":{"$error":"#REF!"}},{"$f":"IF('Races, Positions & Points'!#REF!=\"\",\"\",'Races, Positions & Points'!#REF!)","v":{"$error":"#REF!"}},{"$f":"IF('Races, Positions & Points'!#REF!=\"\",\"\",'Races, Positions & Points'!#REF!)","v":{"$error":"#REF!"}},{"$f":"IF('Races, Positions & Points'!#REF!=\"\",\"\",'Races, Positions & Points'!#REF!)","v":{"$error":"#REF!"}},{"$f":"IF('Races, Positions & Points'!#REF!=\"\",\"\",'Races, Positions & Points'!#REF!)","v":{"$error":"#REF!"}},null,{"$error":"#REF!"},{"$error":"#REF!"},{"$error":"#REF!"},{"$error":"#REF!"},{"$error":"#REF!"},{"$error":"#REF!"},null,{"$f":"'Races, Positions & Points'!E87","v":22484},{"$f":"'Races, Positions & Points'!#REF!","v":{"$error":"#REF!"}},{"$error":"#REF!"},"","",{"$error":"#REF!"},"",{"$error":"#REF!"},{"$error":"#REF!"},{"$error":"#REF!"},null,{"$error":"#REF!"},"","",{"$error":"#REF!"},"",{"$error":"#REF!"},{"$error":"#REF!"},{"$error":"#REF!"},null,{"$error":"#REF!"},{"$error":"#REF!"},178.75,{"$error":"#REF!"},"",{"$error":"#REF!"},"","",{"$error":"#REF!"},"",178.44,"","","",198.36,{"$error":"#REF!"},null,{"$error":"#REF!"},"","","",null,{"$error":"#REF!"},"","","",null,{"$error":"#REF!"},{"$error":"#REF!"},178.75,"","","",{"$error":"#REF!"},"","",{"$error":"#REF!"}]
[{"$f":"'Races, Positions & Points'!A90","v":"Matthew Treuge"},{"$f":"IF('Races, Positions & Points'!S90=\"\",\"\",'Races, Positions & Points'!S90)","v":""},{"$f":"IF('Races, Positions & Points'!V90=\"\",\"\",'Races, Positions & Points'!V90)","v":""},{"$f":"IF('Races, Positions & Points'!#REF!=\"\",\"\",'Races, Positions & Points'!#REF!)","v":{"$error":"#REF!"}},{"$f":"IF('Races, Positions & Points'!Y90=\"\",\"\",'Races, Positions & Points'!Y90)","v":""},{"$f":"IF('Races, Positions & Points'!Z90=\"\",\"\",'Races, Positions & Points'!Z90)","v":""},{"$f":"IF('Races, Positions & Points'!AC90=\"\",\"\",'Races, Positions & Points'!AC90)","v":""},{"$f":"IF('Races, Positions & Points'!AD90=\"\",\"\",'Races, Positions & Points'!AD90)","v":""},{"$f":"IF('Races, Positions & Points'!AG90=\"\",\"\",'Races, Positions & Points'!AG90)","v":""},{"$f":"IF('Races, Positions & Points'!AJ90=\"\",\"\",'Races, Positions & Points'!AJ90)","v":""},{"$f":"IF('Races, Positions & Points'!AM90=\"\",\"\",'Races, Positions & Points'!AM90)","v":""},{"$f":"IF('Races, Positions & Points'!AP90=\"\",\"\",'Races, Positions & Points'!AP90)","v":""},{"$f":"IF('Races, Positions & Points'!AS90=\"\",\"\",'Races, Positions & Points'!AS90)","v":""},{"$f":"IF('Races, Positions & Points'!AV90=\"\",\"\",'Races, Positions & Points'!AV90)","v":""},{"$f":"IF('Races, Positions & Points'!AY90=\"\",\"\",'Races, Positions & Points'!AY90)","v":""},{"$f":"IF('Races, Positions & Points'!BB90=\"\",\"\",'Races, Positions & Points'!BB90)","v":""},{"$f":"IF('Races, Positions & Points'!BE90=\"\",\"\",'Races, Positions & Points'!BE90)","v":""},{"$f":"IF('Races, Positions & Points'!BH90=\"\",\"\",'Races, Positions & Points'!BH90)","v":""},{"$f":"IF('Races, Positions & Points'!BK90=\"\",\"\",'Races, Positions & Points'!BK90)","v":""},{"$f":"IF('Races, Positions & Points'!BN90=\"\",\"\",'Races, Positions & Points'!BN90)","v":""},{"$f":"IF('Races, Positions & Points'!BQ90=\"\",\"\",'Races, Positions & Points'!BQ90)","v":""},{"$f":"IF('Races, Positions & Points'!BT90=\"\",\"\",'Races, Positions & Points'!BT90)","v":""},{"$f":"IF('Races, Positions & Points'!#REF!=\"\",\"\",'Races, Positions & Points'!#REF!)","v":{"$error":"#REF!"}},{"$f":"IF('Races, Positions & Points'!BW90=\"\",\"\",'Races, Positions & Points'!BW90)","v":""},{"$f":"IF('Races, Positions & Points'!BZ90=\"\",\"\",'Races, Positions & Points'!BZ90)","v":""},{"$f":"IF('Races, Positions & Points'!CG90=\"\",\"\",'Races, Positions & Points'!CG90)","v":""},{"$f":"IF('Races, Positions & Points'!CC90=\"\",\"\",'Races, Positions & Points'!CC90)","v":""},{"$f":"IF('Races, Positions & Points'!CJ90=\"\",\"\",'Races, Positions & Points'!CJ90)","v":""},{"$f":"IF('Races, Positions & Points'!CM90=\"\",\"\",'Races, Positions & Points'!CM90)","v":""},{"$f":"IF('Races, Positions & Points'!CW90=\"\",\"\",'Races, Positions & Points'!CW90)","v":""},{"$f":"IF('Races, Positions & Points'!CP90=\"\",\"\",'Races, Positions & Points'!CP90)","v":""},{"$f":"IF('Races, Positions & Points'!CZ90=\"\",\"\",'Races, Positions & Points'!CZ90)","v":""},{"$f":"IF('Races, Positions & Points'!#REF!=\"\",\"\",'Races, Positions & Points'!#REF!)","v":{"$error":"#REF!"}},{"$f":"IF('Races, Positions & Points'!DC90=\"\",\"\",'Races, Positions & Points'!DC90)","v":""},{"$f":"IF('Races, Positions & Points'!DF90=\"\",\"\",'Races, Positions & Points'!DF90)","v":""},{"$f":"IF('Races, Positions & Points'!DI90=\"\",\"\",'Races, Positions & Points'!DI90)","v":""},{"$f":"IF('Races, Positions & Points'!DL90=\"\",\"\",'Races, Positions & Points'!DL90)","v":""},{"$f":"IF('Races, Positions & Points'!DO90=\"\",\"\",'Races, Positions & Points'!DO90)","v":""},{"$f":"IF('Races, Positions & Points'!DR90=\"\",\"\",'Races, Positions & Points'!DR90)","v":""},{"$f":"IF('Races, Positions & Points'!DS90=\"\",\"\",'Races, Positions & Points'!DS90)","v":""},{"$f":"IF('Races, Positions & Points'!DU90=\"\",\"\",'Races, Positions & Points'!DU90)","v":""},{"$f":"IF('Races, Positions & Points'!DX90=\"\",\"\",'Races, Positions & Points'!DX90)","v":""},{"$f":"IF('Races, Positions & Points'!EA90=\"\",\"\",'Races, Positions & Points'!EA90)","v":""},{"$f":"IF('Races, Positions & Points'!ED90=\"\",\"\",'Races, Positions & Points'!ED90)","v":""},{"$f":"IF('Races, Positions & Points'!EG90=\"\",\"\",'Races, Positions & Points'!EG90)","v":""},{"$f":"IF('Races, Positions & Points'!#REF!=\"\",\"\",'Races, Positions & Points'!#REF!)","v":{"$error":"#REF!"}},{"$f":"IF('Races, Positions & Points'!#REF!=\"\",\"\",'Races, Positions & Points'!#REF!)","v":{"$error":"#REF!"}},{"$f":"IF('Races, Positions & Points'!#REF!=\"\",\"\",'Races, Positions & Points'!#REF!)","v":{"$error":"#REF!"}},{"$f":"IF('Races, Positions & Points'!#REF!=\"\",\"\",'Races, Positions & Points'!#REF!)","v":{"$error":"#REF!"}},{"$f":"IF('Races, Positions & Points'!#REF!=\"\",\"\",'Races, Positions & Points'!#REF!)","v":{"$error":"#REF!"}},{"$f":"IF('Races, Positions & Points'!#REF!=\"\",\"\",'Races, Positions & Points'!#REF!)","v":{"$error":"#REF!"}},null,{"$error":"#REF!"},{"$error":"#REF!"},{"$error":"#REF!"},{"$error":"#REF!"},{"$error":"#REF!"},{"$error":"#REF!"},null,{"$f":"'Races, Positions & Points'!E90","v":20670},{"$f":"'Races, Positions & Points'!#REF!","v":{"$error":"#REF!"}},{"$error":"#REF!"},"","",{"$error":"#REF!"},"",{"$error":"#REF!"},{"$error":"#REF!"},{"$error":"#REF!"},null,{"$error":"#REF!"},"","",{"$error":"#REF!"},"",{"$error":"#REF!"},{"$error":"#REF!"},{"$error":"#REF!"},null,"",{"$error":"#REF!"},"",{"$error":"#REF!"},"",{"$error":"#REF!"},"","",{"$error":"#REF!"},"","","","","","",{"$error":"#REF!"},null,{"$error":"#REF!"},"","","",null,{"$error":"#REF!"},"","","",null,"",{"$error":"#REF!"},"","","","",{"$error":"#REF!"},"","",{"$error":"#REF!"}]
[{"$f":"'Races, Positions & Points'!A91","v":"JJ Frost"},{"$f":"IF('Races, Positions & Points'!S91=\"\",\"\",'Races, Positions & Points'!S91)","v":""},{"$f":"IF('Races, Positions & Points'!V91=\"\",\"\",'Races, Positions & Points'!V91)","v":""},{"$f":"IF('Races, Positions & Points'!#REF!=\"\",\"\",'Races, Positions & Points'!#REF!)","v":{"$error":"#REF!"}},{"$f":"IF('Races, Positions & Points'!Y91=\"\",\"\",'Races, Positions & Points'!Y91)","v":""},{"$f":"IF('Races, Positions & Points'!Z91=\"\",\"\",'Races, Positions & Points'!Z91)","v":""},{"$f":"IF('Races, Positions & Points'!AC91=\"\",\"\",'Races, Positions & Points'!AC91)","v":""},{"$f":"IF('Races, Positions & Points'!AD91=\"\",\"\",'Races, Positions & Points'!AD91)","v":""},{"$f":"IF('Races, Positions & Points'!AG91=\"\",\"\",'Races, Positions & Points'!AG91)","v":""},{"$f":"IF('Races, Positions & Points'!AJ91=\"\",\"\",'Races, Positions & Points'!AJ91)","v":""},{"$f":"IF('Races, Positions & Points'!AM91=\"\",\"\",'Races, Positions & Points'!AM91)","v":""},{"$f":"IF('Races, Positions & Points'!AP91=\"\",\"\",'Races, Positions & Points'!AP91)","v":""},{"$f":"IF('Races, Positions & Points'!AS91=\"\",\"\",'Races, Positions & Points'!AS91)","v":""},{"$f":"IF('Races, Positions & Points'!AV91=\"\",\"\",'Races, Positions & Points'!AV91)","v":""},{"$f":"IF('Races, Positions & Points'!AY91=\"\",\"\",'Races, Positions & Points'!AY91)","v":""},{"$f":"IF('Races, Positions & Points'!BB91=\"\",\"\",'Races, Positions & Points'!BB91)","v":""},{"$f":"IF('Races, Positions & Points'!BE91=\"\",\"\",'Races, Positions & Points'!BE91)","v":""},{"$f":"IF('Races, Positions & Points'!BH91=\"\",\"\",'Races, Positions & Points'!BH91)","v":""},{"$f":"IF('Races, Positions & Points'!BK91=\"\",\"\",'Races, Positions & Points'!BK91)","v":""},{"$f":"IF('Races, Positions & Points'!BN91=\"\",\"\",'Races, Positions & Points'!BN91)","v":""},{"$f":"IF('Races, Positions & Points'!BQ91=\"\",\"\",'Races, Positions & Points'!BQ91)","v":""},{"$f":"IF('Races, Positions & Points'!BT91=\"\",\"\",'Races, Positions & Points'!BT91)","v":""},{"$f":"IF('Races, Positions & Points'!#REF!=\"\",\"\",'Races, Positions & Points'!#REF!)","v":{"$error":"#REF!"}},{"$f":"IF('Races, Positions & Points'!BW91=\"\",\"\",'Races, Positions & Points'!BW91)","v":""},{"$f":"IF('Races, Positions & Points'!BZ91=\"\",\"\",'Races, Positions & Points'!BZ91)","v":""},{"$f":"IF('Races, Positions & Points'!CG91=\"\",\"\",'Races, Positions & Points'!CG91)","v":""},{"$f":"IF('Races, Positions & Points'!CC91=\"\",\"\",'Races, Positions & Points'!CC91)","v":""},{"$f":"IF('Races, Positions & Points'!CJ91=\"\",\"\",'Races, Positions & Points'!CJ91)","v":""},{"$f":"IF('Races, Positions & Points'!CM91=\"\",\"\",'Races, Positions & Points'!CM91)","v":""},{"$f":"IF('Races, Positions & Points'!CW91=\"\",\"\",'Races, Positions & Points'!CW91)","v":""},{"$f":"IF('Races, Positions & Points'!CP91=\"\",\"\",'Races, Positions & Points'!CP91)","v":""},{"$f":"IF('Races, Positions & Points'!CZ91=\"\",\"\",'Races, Positions & Points'!CZ91)","v":""},{"$f":"IF('Races, Positions & Points'!#REF!=\"\",\"\",'Races, Positions & Points'!#REF!)","v":{"$error":"#REF!"}},{"$f":"IF('Races, Positions & Points'!DC91=\"\",\"\",'Races, Positions & Points'!DC91)","v":""},{"$f":"IF('Races, Positions & Points'!DF91=\"\",\"\",'Races, Positions & Points'!DF91)","v":""},{"$f":"IF('Races, Positions & Points'!DI91=\"\",\"\",'Races, Positions & Points'!DI91)","v":""},{"$f":"IF('Races, Positions & Points'!DL91=\"\",\"\",'Races, Positions & Points'!DL91)","v":""},{"$f":"IF('Races, Positions & Points'!DO91=\"\",\"\",'Races, Positions & Points'!DO91)","v":""},{"$f":"IF('Races, Positions & Points'!DR91=\"\",\"\",'Races, Positions & Points'!DR91)","v":""},{"$f":"IF('Races, Positions & Points'!DS91=\"\",\"\",'Races, Positions & Points'!DS91)","v":""},{"$f":"IF('Races, Positions & Points'!DU91=\"\",\"\",'Races, Positions & Points'!DU91)","v":""},{"$f":"IF('Races, Positions & Points'!DX91=\"\",\"\",'Races, Positions & Points'!DX91)","v":""},{"$f":"IF('Races, Positions & Points'!EA91=\"\",\"\",'Races, Positions & Points'!EA91)","v":""},{"$f":"IF('Races, Positions & Points'!ED91=\"\",\"\",'Races, Positions & Points'!ED91)","v":""},{"$f":"IF('Races, Positions & Points'!EG91=\"\",\"\",'Races, Positions & Points'!EG91)","v":""},{"$f":"IF('Races, Positions & Points'!#REF!=\"\",\"\",'Races, Positions & Points'!#REF!)","v":{"$error":"#REF!"}},{"$f":"IF('Races, Positions & Points'!#REF!=\"\",\"\",'Races, Positions & Points'!#REF!)","v":{"$error":"#REF!"}},{"$f":"IF('Races, Positions & Points'!#REF!=\"\",\"\",'Races, Positions & Points'!#REF!)","v":{"$error":"#REF!"}},{"$f":"IF('Races, Positions & Points'!#REF!=\"\",\"\",'Races, Positions & Points'!#REF!)","v":{"$error":"#REF!"}},{"$f":"IF('Races, Positions & Points'!#REF!=\"\",\"\",'Races, Positions & Points'!#REF!)","v":{"$error":"#REF!"}},{"$f":"IF('Races, Positions & Points'!#REF!=\"\",\"\",'Races, Positions & Points'!#REF!)","v":{"$error":"#REF!"}},null,{"$error":"#REF!"},{"$error":"#REF!"},{"$error":"#REF!"},{"$error":"#REF!"},{"$error":"#REF!"},{"$error":"#REF!"},null,{"$f":"'Races, Positions & Points'!E91","v":20676},{"$f":"'Races, Positions & Points'!#REF!","v":{"$error":"#REF!"}},{"$error":"#REF!"},"","",{"$error":"#REF!"},"",{"$error":"#REF!"},{"$error":"#REF!"},{"$error":"#REF!"},null,{"$error":"#REF!"},"","",{"$error":"#REF!"},"",{"$error":"#REF!"},{"$error":"#REF!"},{"$error":"#REF!"},null,"",{"$error":"#REF!"},"",{"$error":"#REF!"},"",{"$error":"#REF!"},"","",{"$error":"#REF!"},"",{"$f":"IF(U80>0,U80,\"\")","v":""},{"$f":"IF(MIN(Y80,AO80)>0,MIN(Y80,AO80),\"\")","v":""},{"$f":"IF(AA80>0,AA80,\"\")","v":""},{"$f":"IF(AD80>0,AD80,\"\")","v":""},{"$f":"IF(AJ80>0,AJ80,\"\")","v":""},{"$error":"#REF!"},null,{"$error":"#REF!"},"","","",null,{"$error":"#REF!"},"","","",null,"",{"$error":"#REF!"},"","","",{"$f":"IF(J80>0,J80,\"\")","v":""},{"$f":"IF(MIN(AM80,AY80)>0,MIN(AM80,AY80),\"\")","v":{"$error":"#REF!"}},{"$f":"IF(R80>0,R80,\"\")","v":""},"",{"$error":"#REF!"}]
[{"$f":"'Races, Positions & Points'!A92","v":"Ben Hall"},{"$f":"IF('Races, Positions & Points'!S92=\"\",\"\",'Races, Positions & Points'!S92)","v":""},{"$f":"IF('Races, Positions & Points'!V92=\"\",\"\",'Races, Positions & Points'!V92)","v":""},{"$f":"IF('Races, Positions & Points'!#REF!=\"\",\"\",'Races, Positions & Points'!#REF!)","v":{"$error":"#REF!"}},{"$f":"IF('Races, Positions & Points'!Y92=\"\",\"\",'Races, Positions & Points'!Y92)","v":""},{"$f":"IF('Races, Positions & Points'!Z92=\"\",\"\",'Races, Positions & Points'!Z92)","v":""},{"$f":"IF('Races, Positions & Points'!AC92=\"\",\"\",'Races, Positions & Points'!AC92)","v":""},{"$f":"IF('Races, Positions & Points'!AD92=\"\",\"\",'Races, Positions & Points'!AD92)","v":""},{"$f":"IF('Races, Positions & Points'!AG92=\"\",\"\",'Races, Positions & Points'!AG92)","v":""},{"$f":"IF('Races, Positions & Points'!AJ92=\"\",\"\",'Races, Positions & Points'!AJ92)","v":""},{"$f":"IF('Races, Positions & Points'!AM92=\"\",\"\",'Races, Positions & Points'!AM92)","v":""},{"$f":"IF('Races, Positions & Points'!AP92=\"\",\"\",'Races, Positions & Points'!AP92)","v":""},{"$f":"IF('Races, Positions & Points'!AS92=\"\",\"\",'Races, Positions & Points'!AS92)","v":""},{"$f":"IF('Races, Positions & Points'!AV92=\"\",\"\",'Races, Positions & Points'!AV92)","v":""},{"$f":"IF('Races, Positions & Points'!AY92=\"\",\"\",'Races, Positions & Points'!AY92)","v":""},{"$f":"IF('Races, Positions & Points'!BB92=\"\",\"\",'Races, Positions & Points'!BB92)","v":""},{"$f":"IF('Races, Positions & Points'!BE92=\"\",\"\",'Races, Positions & Points'!BE92)","v":""},{"$f":"IF('Races, Positions & Points'!BH92=\"\",\"\",'Races, Positions & Points'!BH92)","v":""},{"$f":"IF('Races, Positions & Points'!BK92=\"\",\"\",'Races, Positions & Points'!BK92)","v":""},{"$f":"IF('Races, Positions & Points'!BN92=\"\",\"\",'Races, Positions & Points'!BN92)","v":""},{"$f":"IF('Races, Positions & Points'!BQ92=\"\",\"\",'Races, Positions & Points'!BQ92)","v":""},{"$f":"IF('Races, Positions & Points'!BT92=\"\",\"\",'Races, Positions & Points'!BT92)","v":""},{"$f":"IF('Races, Positions & Points'!#REF!=\"\",\"\",'Races, Positions & Points'!#REF!)","v":{"$error":"#REF!"}},{"$f":"IF('Races, Positions & Points'!BW92=\"\",\"\",'Races, Positions & Points'!BW92)","v":""},{"$f":"IF('Races, Positions & Points'!BZ92=\"\",\"\",'Races, Positions & Points'!BZ92)","v":""},{"$f":"IF('Races, Positions & Points'!CG92=\"\",\"\",'Races, Positions & Points'!CG92)","v":""},{"$f":"IF('Races, Positions & Points'!CC92=\"\",\"\",'Races, Positions & Points'!CC92)","v":""},{"$f":"IF('Races, Positions & Points'!CJ92=\"\",\"\",'Races, Positions & Points'!CJ92)","v":""},{"$f":"IF('Races, Positions & Points'!CM92=\"\",\"\",'Races, Positions & Points'!CM92)","v":""},{"$f":"IF('Races, Positions & Points'!CW92=\"\",\"\",'Races, Positions & Points'!CW92)","v":""},{"$f":"IF('Races, Positions & Points'!CP92=\"\",\"\",'Races, Positions & Points'!CP92)","v":""},{"$f":"IF('Races, Positions & Points'!CZ92=\"\",\"\",'Races, Positions & Points'!CZ92)","v":""},{"$f":"IF('Races, Positions & Points'!#REF!=\"\",\"\",'Races, Positions & Points'!#REF!)","v":{"$error":"#REF!"}},{"$f":"IF('Races, Positions & Points'!DC92=\"\",\"\",'Races, Positions & Points'!DC92)","v":""},{"$f":"IF('Races, Positions & Points'!DF92=\"\",\"\",'Races, Positions & Points'!DF92)","v":""},{"$f":"IF('Races, Positions & Points'!DI92=\"\",\"\",'Races, Positions & Points'!DI92)","v":""},{"$f":"IF('Races, Positions & Points'!DL92=\"\",\"\",'Races, Positions & Points'!DL92)","v":""},{"$f":"IF('Races, Positions & Points'!DO92=\"\",\"\",'Races, Positions & Points'!DO92)","v":""},{"$f":"IF('Races, Positions & Points'!DR92=\"\",\"\",'Races, Positions & Points'!DR92)","v":""},{"$f":"IF('Races, Positions & Points'!DS92=\"\",\"\",'Races, Positions & Points'!DS92)","v":""},{"$f":"IF('Races, Positions & Points'!DU92=\"\",\"\",'Races, Positions & Points'!DU92)","v":""},{"$f":"IF('Races, Positions & Points'!DX92=\"\",\"\",'Races, Positions & Points'!DX92)","v":""},{"$f":"IF('Races, Positions & Points'!EA92=\"\",\"\",'Races, Positions & Points'!EA92)","v":""},{"$f":"IF('Races, Positions & Points'!ED92=\"\",\"\",'Races, Positions & Points'!ED92)","v":""},{"$f":"IF('Races, Positions & Points'!EG92=\"\",\"\",'Races, Positions & Points'!EG92)","v":""},{"$f":"IF('Races, Positions & Points'!#REF!=\"\",\"\",'Races, Positions & Points'!#REF!)","v":{"$error":"#REF!"}},{"$f":"IF('Races, Positions & Points'!#REF!=\"\",\"\",'Races, Positions & Points'!#REF!)","v":{"$error":"#REF!"}},{"$f":"IF('Races, Positions & Points'!#REF!=\"\",\"\",'Races, Positions & Points'!#REF!)","v":{"$error":"#REF!"}},{"$f":"IF('Races, Positions & Points'!#REF!=\"\",\"\",'Races, Positions & Points'!#REF!)","v":{"$error":"#REF!"}},{"$f":"IF('Races, Positions & Points'!#REF!=\"\",\"\",'Races, Positions & Points'!#REF!)","v":{"$error":"#REF!"}},{"$f":"IF('Races, Positions & Points'!#REF!=\"\",\"\",'Races, Positions & Points'!#REF!)","v":{"$error":"#REF!"}},null,{"$error":"#REF!"},{"$error":"#REF!"},{"$error":"#REF!"},{"$error":"#REF!"},{"$error":"#REF!"},{"$error":"#REF!"},null,{"$f":"'Races, Positions & Points'!E92","v":21130},{"$f":"'Races, Positions & Points'!#REF!","v":{"$error":"#REF!"}},{"$error":"#REF!"},"","",{"$error":"#REF!"},"",{"$error":"#REF!"},{"$error":"#REF!"},{"$error":"#REF!"},null,{"$error":"#REF!"},"","",{"$error":"#REF!"},"",{"$error":"#REF!"},{"$error":"#REF!"},{"$error":"#REF!"},null,"",{"$error":"#REF!"},"",{"$error":"#REF!"},"",{"$error":"#REF!"},"","",{"$error":"#REF!"},"",{"$f":"IF(U81>0,U81,\"\")","v":""},{"$f":"IF(MIN(Y81,AO81)>0,MIN(Y81,AO81),\"\")","v":""},{"$f":"IF(AA81>0,AA81,\"\")","v":""},{"$f":"IF(AD81>0,AD81,\"\")","v":""},{"$f":"IF(AJ81>0,AJ81,\"\")","v":""},{"$error":"#REF!"},null,{"$error":"#REF!"},"","","",null,{"$error":"#REF!"},"","","",null,"",{"$error":"#REF!"},"","","",{"$f":"IF(J81>0,J81,\"\")","v":""},{"$f":"IF(MIN(AM81,AY81)>0,MIN(AM81,AY81),\"\")","v":{"$error":"#REF!"}},{"$f":"IF(R81>0,R81,\"\")","v":""},"",{"$error":"#REF!"}]
[{"$f":"'Races, Positions & Points'!A93","v":"Matthew Waller"},{"$f":"IF('Races, Positions & Points'!S93=\"\",\"\",'Races, Positions & Points'!S93)","v":""},{"$f":"IF('Races, Positions & Points'!V93=\"\",\"\",'Races, Positions & Points'!V93)","v":""},{"$f":"IF('Races, Positions & Points'!#REF!=\"\",\"\",'Races, Positions & Points'!#REF!)","v":{"$error":"#REF!"}},{"$f":"IF('Races, Positions & Points'!Y93=\"\",\"\",'Races, Positions & Points'!Y93)","v":""},{"$f":"IF('Races, Positions & Points'!Z93=\"\",\"\",'Races, Positions & Points'!Z93)","v":""},{"$f":"IF('Races, Positions & Points'!AC93=\"\",\"\",'Races, Positions & Points'!AC93)","v":""},{"$f":"IF('Races, Positions & Points'!AD93=\"\",\"\",'Races, Positions & Points'!AD93)","v":""},{"$f":"IF('Races, Positions & Points'!AG93=\"\",\"\",'Races, Positions & Points'!AG93)","v":""},{"$f":"IF('Races, Positions & Points'!AJ93=\"\",\"\",'Races, Positions & Points'!AJ93)","v":""},{"$f":"IF('Races, Positions & Points'!AM93=\"\",\"\",'Races, Positions & Points'!AM93)","v":""},{"$f":"IF('Races, Positions & Points'!AP93=\"\",\"\",'Races, Positions & Points'!AP93)","v":""},{"$f":"IF('Races, Positions & Points'!AS93=\"\",\"\",'Races, Positions & Points'!AS93)","v":""},{"$f":"IF('Races, Positions & Points'!AV93=\"\",\"\",'Races, Positions & Points'!AV93)","v":""},{"$f":"IF('Races, Positions & Points'!AY93=\"\",\"\",'Races, Positions & Points'!AY93)","v":""},{"$f":"IF('Races, Positions & Points'!BB93=\"\",\"\",'Races, Positions & Points'!BB93)","v":""},{"$f":"IF('Races, Positions & Points'!BE93=\"\",\"\",'Races, Positions & Points'!BE93)","v":""},{"$f":"IF('Races, Positions & Points'!BH93=\"\",\"\",'Races, Positions & Points'!BH93)","v":""},{"$f":"IF('Races, Positions & Points'!BK93=\"\",\"\",'Races, Positions & Points'!BK93)","v":""},{"$f":"IF('Races, Positions & Points'!BN93=\"\",\"\",'Races, Positions & Points'!BN93)","v":""},{"$f":"IF('Races, Positions & Points'!BQ93=\"\",\"\",'Races, Positions & Points'!BQ93)","v":""},{"$f":"IF('Races, Positions & Points'!BT93=\"\",\"\",'Races, Positions & Points'!BT93)","v":""},{"$f":"IF('Races, Positions & Points'!#REF!=\"\",\"\",'Races, Positions & Points'!#REF!)","v":{"$error":"#REF!"}},{"$f":"IF('Races, Positions & Points'!BW93=\"\",\"\",'Races, Positions & Points'!BW93)","v":""},{"$f":"IF('Races, Positions & Points'!BZ93=\"\",\"\",'Races, Positions & Points'!BZ93)","v":""},{"$f":"IF('Races, Positions & Points'!CG93=\"\",\"\",'Races, Positions & Points'!CG93)","v":""},{"$f":"IF('Races, Positions & Points'!CC93=\"\",\"\",'Races, Positions & Points'!CC93)","v":""},{"$f":"IF('Races, Positions & Points'!CJ93=\"\",\"\",'Races, Positions & Points'!CJ93)","v":""},{"$f":"IF('Races, Positions & Points'!CM93=\"\",\"\",'Races, Positions & Points'!CM93)","v":""},{"$f":"IF('Races, Positions & Points'!CW93=\"\",\"\",'Races, Positions & Points'!CW93)","v":""},{"$f":"IF('Races, Positions & Points'!CP93=\"\",\"\",'Races, Positions & Points'!CP93)","v":""},{"$f":"IF('Races, Positions & Points'!CZ93=\"\",\"\",'Races, Positions & Points'!CZ93)","v":""},{"$f":"IF('Races, Positions & Points'!#REF!=\"\",\"\",'Races, Positions & Points'!#REF!)","v":{"$error":"#REF!"}},{"$f":"IF('Races, Positions & Points'!DC93=\"\",\"\",'Races, Positions & Points'!DC93)","v":""},{"$f":"IF('Races, Positions & Points'!DF93=\"\",\"\",'Races, Positions & Points'!DF93)","v":""},{"$f":"IF('Races, Positions & Points'!DI93=\"\",\"\",'Races, Positions & Points'!DI93)","v":""},{"$f":"IF('Races, Positions & Points'!DL93=\"\",\"\",'Races, Positions & Points'!DL93)","v":""},{"$f":"IF('Races, Positions & Points'!DO93=\"\",\"\",'Races, Positions & Points'!DO93)","v":""},{"$f":"IF('Races, Positions & Points'!DR93=\"\",\"\",'Races, Positions & Points'!DR93)","v":""},{"$f":"IF('Races, Positions & Points'!DS93=\"\",\"\",'Races, Positions & Points'!DS93)","v":""},{"$f":"IF('Races, Positions & Points'!DU93=\"\",\"\",'Races, Positions & Points'!DU93)","v":""},{"$f":"IF('Races, Positions & Points'!DX93=\"\",\"\",'Races, Positions & Points'!DX93)","v":""},{"$f":"IF('Races, Positions & Points'!EA93=\"\",\"\",'Races, Positions & Points'!EA93)","v":""},{"$f":"IF('Races, Positions & Points'!ED93=\"\",\"\",'Races, Positions & Points'!ED93)","v":""},{"$f":"IF('Races, Positions & Points'!EG93=\"\",\"\",'Races, Positions & Points'!EG93)","v":""},{"$f":"IF('Races, Positions & Points'!#REF!=\"\",\"\",'Races, Positions & Points'!#REF!)","v":{"$error":"#REF!"}},{"$f":"IF('Races, Positions & Points'!#REF!=\"\",\"\",'Races, Positions & Points'!#REF!)","v":{"$error":"#REF!"}},{"$f":"IF('Races, Positions & Points'!#REF!=\"\",\"\",'Races, Positions & Points'!#REF!)","v":{"$error":"#REF!"}},{"$f":"IF('Races, Positions & Points'!#REF!=\"\",\"\",'Races, Positions & Points'!#REF!)","v":{"$error":"#REF!"}},{"$f":"IF('Races, Positions & Points'!#REF!=\"\",\"\",'Races, Positions & Points'!#REF!)","v":{"$error":"#REF!"}},{"$f":"IF('Races, Positions & Points'!#REF!=\"\",\"\",'Races, Positions & Points'!#REF!)","v":{"$error":"#REF!"}},null,{"$error":"#REF!"},{"$error":"#REF!"},{"$error":"#REF!"},{"$error":"#REF!"},{"$error":"#REF!"},{"$error":"#REF!"},null,{"$f":"'Races, Positions & Points'!E93","v":17958},{"$f":"'Races, Positions & Points'!#REF!","v":{"$error":"#REF!"}},{"$error":"#REF!"},"","",{"$error":"#REF!"},"",{"$error":"#REF!"},{"$error":"#REF!"},{"$error":"#REF!"},null,{"$error":"#REF!"},"","",{"$error":"#REF!"},"",{"$error":"#REF!"},{"$error":"#REF!"},{"$error":"#REF!"},null,"",{"$error":"#REF!"},"",{"$error":"#REF!"},"",{"$error":"#REF!"},"","",{"$error":"#REF!"},"",{"$f":"IF(U82>0,U82,\"\")","v":""},{"$f":"IF(MIN(Y82,AO82)>0,MIN(Y82,AO82),\"\")","v":""},{"$f":"IF(AA82>0,AA82,\"\")","v":""},{"$f":"IF(AD82>0,AD82,\"\")","v":""},{"$f":"IF(AJ82>0,AJ82,\"\")","v":""},{"$error":"#REF!"},null,{"$error":"#REF!"},"","","",null,{"$error":"#REF!"},"","","",null,"",{"$error":"#REF!"},"","","",{"$f":"IF(J82>0,J82,\"\")","v":""},{"$f":"IF(MIN(AM82,AY82)>0,MIN(AM82,AY82),\"\")","v":{"$error":"#REF!"}},{"$f":"IF(R82>0,R82,\"\")","v":""},"",{"$error":"#REF!"}]
[{"$f":"'Races, Positions & Points'!A95","v":"Macaulay Clover"},{"$f":"IF('Races, Positions & Points'!S95=\"\",\"\",'Races, Positions & Points'!S95)","v":""},{"$f":"IF('Races, Positions & Points'!V95=\"\",\"\",'Races, Positions & Points'!V95)","v":""},{"$f":"IF('Races, Positions & Points'!#REF!=\"\",\"\",'Races, Positions & Points'!#REF!)","v":{"$error":"#REF!"}},{"$f":"IF('Races, Positions & Points'!Y95=\"\",\"\",'Races, Positions & Points'!Y95)","v":""},{"$f":"IF('Races, Positions & Points'!Z95=\"\",\"\",'Races, Positions & Points'!Z95)","v":""},{"$f":"IF('Races, Positions & Points'!AC95=\"\",\"\",'Races, Positions & Points'!AC95)","v":""},{"$f":"IF('Races, Positions & Points'!AD95=\"\",\"\",'Races, Positions & Points'!AD95)","v":""},{"$f":"IF('Races, Positions & Points'!AG95=\"\",\"\",'Races, Positions & Points'!AG95)","v":""},{"$f":"IF('Races, Positions & Points'!AJ95=\"\",\"\",'Races, Positions & Points'!AJ95)","v":""},{"$f":"IF('Races, Positions & Points'!AM95=\"\",\"\",'Races, Positions & Points'!AM95)","v":""},{"$f":"IF('Races, Positions & Points'!AP95=\"\",\"\",'Races, Positions & Points'!AP95)","v":""},{"$f":"IF('Races, Positions & Points'!AS95=\"\",\"\",'Races, Positions & Points'!AS95)","v":""},{"$f":"IF('Races, Positions & Points'!AV95=\"\",\"\",'Races, Positions & Points'!AV95)","v":""},{"$f":"IF('Races, Positions & Points'!AY95=\"\",\"\",'Races, Positions & Points'!AY95)","v":""},{"$f":"IF('Races, Positions & Points'!BB95=\"\",\"\",'Races, Positions & Points'!BB95)","v":""},{"$f":"IF('Races, Positions & Points'!BE95=\"\",\"\",'Races, Positions & Points'!BE95)","v":""},{"$f":"IF('Races, Positions & Points'!BH95=\"\",\"\",'Races, Positions & Points'!BH95)","v":""},{"$f":"IF('Races, Positions & Points'!BK95=\"\",\"\",'Races, Positions & Points'!BK95)","v":""},{"$f":"IF('Races, Positions & Points'!BN95=\"\",\"\",'Races, Positions & Points'!BN95)","v":""},{"$f":"IF('Races, Positions & Points'!BQ95=\"\",\"\",'Races, Positions & Points'!BQ95)","v":""},{"$f":"IF('Races, Positions & Points'!BT95=\"\",\"\",'Races, Positions & Points'!BT95)","v":""},{"$f":"IF('Races, Positions & Points'!#REF!=\"\",\"\",'Races, Positions & Points'!#REF!)","v":{"$error":"#REF!"}},{"$f":"IF('Races, Positions & Points'!BW95=\"\",\"\",'Races, Positions & Points'!BW95)","v":""},{"$f":"IF('Races, Positions & Points'!BZ95=\"\",\"\",'Races, Positions & Points'!BZ95)","v":""},{"$f":"IF('Races, Positions & Points'!CG95=\"\",\"\",'Races, Positions & Points'!CG95)","v":""},{"$f":"IF('Races, Positions & Points'!CC95=\"\",\"\",'Races, Positions & Points'!CC95)","v":""},{"$f":"IF('Races, Positions & Points'!CJ95=\"\",\"\",'Races, Positions & Points'!CJ95)","v":""},{"$f":"IF('Races, Positions & Points'!CM95=\"\",\"\",'Races, Positions & Points'!CM95)","v":""},{"$f":"IF('Races, Positions & Points'!CW95=\"\",\"\",'Races, Positions & Points'!CW95)","v":""},{"$f":"IF('Races, Positions & Points'!CP95=\"\",\"\",'Races, Positions & Points'!CP95)","v":""},{"$f":"IF('Races, Positions & Points'!CZ95=\"\",\"\",'Races, Positions & Points'!CZ95)","v":""},{"$f":"IF('Races, Positions & Points'!#REF!=\"\",\"\",'Races, Positions & Points'!#REF!)","v":{"$error":"#REF!"}},{"$f":"IF('Races, Positions & Points'!DC95=\"\",\"\",'Races, Positions & Points'!DC95)","v":""},{"$f":"IF('Races, Positions & Points'!DF95=\"\",\"\",'Races, Positions & Points'!DF95)","v":""},{"$f":"IF('Races, Positions & Points'!DI95=\"\",\"\",'Races, Positions & Points'!DI95)","v":""},{"$f":"IF('Races, Positions & Points'!DL95=\"\",\"\",'Races, Positions & Points'!DL95)","v":""},{"$f":"IF('Races, Positions & Points'!DO95=\"\",\"\",'Races, Positions & Points'!DO95)","v":""},{"$f":"IF('Races, Positions & Points'!DR95=\"\",\"\",'Races, Positions & Points'!DR95)","v":""},{"$f":"IF('Races, Positions & Points'!DS95=\"\",\"\",'Races, Positions & Points'!DS95)","v":""},{"$f":"IF('Races, Positions & Points'!DU95=\"\",\"\",'Races, Positions & Points'!DU95)","v":""},{"$f":"IF('Races, Positions & Points'!DX95=\"\",\"\",'Races, Positions & Points'!DX95)","v":""},{"$f":"IF('Races, Positions & Points'!EA95=\"\",\"\",'Races, Positions & Points'!EA95)","v":""},{"$f":"IF('Races, Positions & Points'!ED95=\"\",\"\",'Races, Positions & Points'!ED95)","v":""},{"$f":"IF('Races, Positions & Points'!EG95=\"\",\"\",'Races, Positions & Points'!EG95)","v":""},{"$f":"IF('Races, Positions & Points'!#REF!=\"\",\"\",'Races, Positions & Points'!#REF!)","v":{"$error":"#REF!"}},{"$f":"IF('Races, Positions & Points'!#REF!=\"\",\"\",'Races, Positions & Points'!#REF!)","v":{"$error":"#REF!"}},{"$f":"IF('Races, Positions & Points'!#REF!=\"\",\"\",'Races, Positions & Points'!#REF!)","v":{"$error":"#REF!"}},{"$f":"IF('Races, Positions & Points'!#REF!=\"\",\"\",'Races, Positions & Points'!#REF!)","v":{"$error":"#REF!"}},{"$f":"IF('Races, Positions & Points'!#REF!=\"\",\"\",'Races, Positions & Points'!#REF!)","v":{"$error":"#REF!"}},{"$f":"IF('Races, Positions & Points'!#REF!=\"\",\"\",'Races, Positions & Points'!#REF!)","v":{"$error":"#REF!"}},null,{"$error":"#REF!"},{"$error":"#REF!"},{"$error":"#REF!"},{"$error":"#REF!"},{"$error":"#REF!"},{"$error":"#REF!"},null,{"$f":"'Races, Positions & Points'!E95","v":"Day"},{"$f":"'Races, Positions & Points'!#REF!","v":{"$error":"#REF!"}},{"$error":"#REF!"},"","",{"$error":"#REF!"},"",{"$error":"#REF!"},{"$error":"#REF!"},{"$error":"#REF!"},null,{"$error":"#REF!"},"","",{"$error":"#REF!"},"",{"$error":"#REF!"},{"$error":"#REF!"},{"$error":"#REF!"},null,"",{"$error":"#REF!"},"",{"$error":"#REF!"},"",{"$error":"#REF!"},"","",{"$error":"#REF!"},"",{"$f":"IF(U83>0,U83,\"\")","v":""},{"$f":"IF(MIN(Y83,AO83)>0,MIN(Y83,AO83),\"\")","v":""},{"$f":"IF(AA83>0,AA83,\"\")","v":""},{"$f":"IF(AD83>0,AD83,\"\")","v":""},{"$f":"IF(AJ83>0,AJ83,\"\")","v":""},{"$error":"#REF!"},null,{"$error":"#REF!"},"","","",null,{"$error":"#REF!"},"","","",null,"",{"$error":"#REF!"},"","","",{"$f":"IF(J83>0,J83,\"\")","v":""},{"$f":"IF(MIN(AM83,AY83)>0,MIN(AM83,AY83),\"\")","v":{"$error":"#REF!"}},{"$f":"IF(R83>0,R83,\"\")","v":""},"",{"$error":"#REF!"}]

{"sheet":"Age Calculation","index":2,"n_rows":108,"n_cols":17,"rows_kept":108,"cut":false,"hidden":true,"merged":[]}
[null,"Competition Year",2011,2012,2013,2014,2015,2016,2017,2018,2019,2020,2021,2022,2023,2024,2025]
["Year of Birth"]
[1920,null,{"$f":"IF(C$1-$A3<11,\"Mini\",IF(C$1-$A3<13,\"CH1\",IF(C$1-$A3<15,\"CH2\",IF(C$1-$A3<17,\"JN1\",IF(C$1-$A3<20,\"JN2\",IF(C$1-$A3<30,\"SEN\",\"MAS\"))))))","v":"MAS"},{"$f":"IF(D$1-$A3<11,\"Mini\",IF(D$1-$A3<13,\"CH1\",IF(D$1-$A3<15,\"CH2\",IF(D$1-$A3<17,\"JN1\",IF(D$1-$A3<20,\"JN2\",IF(D$1-$A3<30,\"SEN\",\"MAS\"))))))","v":"MAS"},"MAS","MAS","MAS","MAS","MAS","MAS","MAS","MAS","MAS","MAS","MAS","MAS","MAS"]
[1921,null,{"$f":"IF(C$1-$A4<11,\"Mini\",IF(C$1-$A4<13,\"CH1\",IF(C$1-$A4<15,\"CH2\",IF(C$1-$A4<17,\"JN1\",IF(C$1-$A4<20,\"JN2\",IF(C$1-$A4<30,\"SEN\",\"MAS\"))))))","v":"MAS"},"MAS","MAS","MAS","MAS","MAS","MAS","MAS","MAS","MAS","MAS","MAS","MAS","MAS","MAS"]
[1922,null,"MAS","MAS","MAS","MAS","MAS","MAS","MAS","MAS","MAS","MAS","MAS","MAS","MAS","MAS","MAS"]
[1923,null,"MAS","MAS","MAS","MAS","MAS","MAS","MAS","MAS","MAS","MAS","MAS","MAS","MAS","MAS","MAS"]
[1924,null,"MAS","MAS","MAS","MAS","MAS","MAS","MAS","MAS","MAS","MAS","MAS","MAS","MAS","MAS","MAS"]
[1925,null,"MAS","MAS","MAS","MAS","MAS","MAS","MAS","MAS","MAS","MAS","MAS","MAS","MAS","MAS","MAS"]
[1926,null,"MAS","MAS","MAS","MAS","MAS","MAS","MAS","MAS","MAS","MAS","MAS","MAS","MAS","MAS","MAS"]
[1927,null,"MAS","MAS","MAS","MAS","MAS","MAS","MAS","MAS","MAS","MAS","MAS","MAS","MAS","MAS","MAS"]
[1928,null,"MAS","MAS","MAS","MAS","MAS","MAS","MAS","MAS","MAS","MAS","MAS","MAS","MAS","MAS","MAS"]
[1929,null,"MAS","MAS","MAS","MAS","MAS","MAS","MAS","MAS","MAS","MAS","MAS","MAS","MAS","MAS","MAS"]
[1930,null,"MAS","MAS","MAS","MAS","MAS","MAS","MAS","MAS","MAS","MAS","MAS","MAS","MAS","MAS","MAS"]
[1931,null,"MAS","MAS","MAS","MAS","MAS","MAS","MAS","MAS","MAS","MAS","MAS","MAS","MAS","MAS","MAS"]
[1932,null,"MAS","MAS","MAS","MAS","MAS","MAS","MAS","MAS","MAS","MAS","MAS","MAS","MAS","MAS","MAS"]
[1933,null,"MAS","MAS","MAS","MAS","MAS","MAS","MAS","MAS","MAS","MAS","MAS","MAS","MAS","MAS","MAS"]
[1934,null,"MAS","MAS","MAS","MAS","MAS","MAS","MAS","MAS","MAS","MAS","MAS","MAS","MAS","MAS","MAS"]
[1935,null,"MAS","MAS","MAS","MAS","MAS","MAS","MAS","MAS","MAS","MAS","MAS","MAS","MAS","MAS","MAS"]
[1936,null,"MAS","MAS","MAS","MAS","MAS","MAS","MAS","MAS","MAS","MAS","MAS","MAS","MAS","MAS","MAS"]
[1937,null,"MAS","MAS","MAS","MAS","MAS","MAS","MAS","MAS","MAS","MAS","MAS","MAS","MAS","MAS","MAS"]
[1938,null,"MAS","MAS","MAS","MAS","MAS","MAS","MAS","MAS","MAS","MAS","MAS","MAS","MAS","MAS","MAS"]
[1939,null,"MAS","MAS","MAS","MAS","MAS","MAS","MAS","MAS","MAS","MAS","MAS","MAS","MAS","MAS","MAS"]
[1940,null,"MAS","MAS","MAS","MAS","MAS","MAS","MAS","MAS","MAS","MAS","MAS","MAS","MAS","MAS","MAS"]
[1941,null,"MAS","MAS","MAS","MAS","MAS","MAS","MAS","MAS","MAS","MAS","MAS","MAS","MAS","MAS","MAS"]
[1942,null,"MAS","MAS","MAS","MAS","MAS","MAS","MAS","MAS","MAS","MAS","MAS","MAS","MAS","MAS","MAS"]
[1943,null,"MAS","MAS","MAS","MAS","MAS","MAS","MAS","MAS","MAS","MAS","MAS","MAS","MAS","MAS","MAS"]
[1944,null,"MAS","MAS","MAS","MAS","MAS","MAS","MAS","MAS","MAS","MAS","MAS","MAS","MAS","MAS","MAS"]
[1945,null,"MAS","MAS","MAS","MAS","MAS","MAS","MAS","MAS","MAS","MAS","MAS","MAS","MAS","MAS","MAS"]
[1946,null,"MAS","MAS","MAS","MAS","MAS","MAS","MAS","MAS","MAS","MAS","MAS","MAS","MAS","MAS","MAS"]
[1947,null,"MAS","MAS","MAS","MAS","MAS","MAS","MAS","MAS","MAS","MAS","MAS","MAS","MAS","MAS","MAS"]
[1948,null,"MAS","MAS","MAS","MAS","MAS","MAS","MAS","MAS","MAS","MAS","MAS","MAS","MAS","MAS","MAS"]
[1949,null,"MAS","MAS","MAS","MAS","MAS","MAS","MAS","MAS","MAS","MAS","MAS","MAS","MAS","MAS","MAS"]
[1950,null,"MAS","MAS","MAS","MAS","MAS","MAS","MAS","MAS","MAS","MAS","MAS","MAS","MAS","MAS","MAS"]
[1951,null,"MAS","MAS","MAS","MAS","MAS","MAS","MAS","MAS","MAS","MAS","MAS","MAS","MAS","MAS","MAS"]
[1952,null,{"$f":"IF(C$1-$A35<11,\"Mini\",IF(C$1-$A35<13,\"CH1\",IF(C$1-$A35<15,\"CH2\",IF(C$1-$A35<17,\"JN1\",IF(C$1-$A35<20,\"JN2\",IF(C$1-$A35<30,\"SEN\",\"MAS\"))))))","v":"MAS"},"MAS","MAS","MAS","MAS","MAS","MAS","MAS","MAS","MAS","MAS","MAS","MAS","MAS","MAS"]
[1953,null,"MAS","MAS","MAS","MAS","MAS","MAS","MAS","MAS","MAS","MAS","MAS","MAS","MAS","MAS","MAS"]
[1954,null,"MAS","MAS","MAS","MAS","MAS","MAS","MAS","MAS","MAS","MAS","MAS","MAS","MAS","MAS","MAS"]
[1955,null,"MAS","MAS","MAS","MAS","MAS","MAS","MAS","MAS","MAS","MAS","MAS","MAS","MAS","MAS","MAS"]
[1956,null,"MAS","MAS","MAS","MAS","MAS","MAS","MAS","MAS","MAS","MAS","MAS","MAS","MAS","MAS","MAS"]
[1957,null,"MAS","MAS","MAS","MAS","MAS","MAS","MAS","MAS","MAS","MAS","MAS","MAS","MAS","MAS","MAS"]
[1958,null,"MAS","MAS","MAS","MAS","MAS","MAS","MAS","MAS","MAS","MAS","MAS","MAS","MAS","MAS","MAS"]
[1959,null,"MAS","MAS","MAS","MAS","MAS","MAS","MAS","MAS","MAS","MAS","MAS","MAS","MAS","MAS","MAS"]
[1960,null,"MAS","MAS","MAS","MAS","MAS","MAS","MAS","MAS","MAS","MAS","MAS","MAS","MAS","MAS","MAS"]
[1961,null,"MAS","MAS","MAS","MAS","MAS","MAS","MAS","MAS","MAS","MAS","MAS","MAS","MAS","MAS","MAS"]
[1962,null,"MAS","MAS","MAS","MAS","MAS","MAS","MAS","MAS","MAS","MAS","MAS","MAS","MAS","MAS","MAS"]
[1963,null,"MAS","MAS","MAS","MAS","MAS","MAS","MAS","MAS","MAS","MAS","MAS","MAS","MAS","MAS","MAS"]
[1964,null,"MAS","MAS","MAS","MAS","MAS","MAS","MAS","MAS","MAS","MAS","MAS","MAS","MAS","MAS","MAS"]
[1965,null,"MAS","MAS","MAS","MAS","MAS","MAS","MAS","MAS","MAS","MAS","MAS","MAS","MAS","MAS","MAS"]
[1966,null,"MAS","MAS","MAS","MAS","MAS","MAS","MAS","MAS","MAS","MAS","MAS","MAS","MAS","MAS","MAS"]
[1967,null,"MAS","MAS","MAS","MAS","MAS","MAS","MAS","MAS","MAS","MAS","MAS","MAS","MAS","MAS","MAS"]
[1968,null,"MAS","MAS","MAS","MAS","MAS","MAS","MAS","MAS","MAS","MAS","MAS","MAS","MAS","MAS","MAS"]
[1969,null,{"$f":"IF(C$1-$A52<11,\"Mini\",IF(C$1-$A52<13,\"CH1\",IF(C$1-$A52<15,\"CH2\",IF(C$1-$A52<17,\"JN1\",IF(C$1-$A52<20,\"JN2\",IF(C$1-$A52<30,\"SEN\",\"MAS\"))))))","v":"MAS"},"MAS","MAS","MAS","MAS","MAS","MAS","MAS","MAS","MAS","MAS","MAS","MAS","MAS","MAS"]
[1970,null,"MAS","MAS","MAS","MAS","MAS","MAS","MAS","MAS","MAS","MAS","MAS","MAS","MAS","MAS","MAS"]
[1971,null,"MAS","MAS","MAS","MAS","MAS","MAS","MAS","MAS","MAS","MAS","MAS","MAS","MAS","MAS","MAS"]
[1972,null,{"$f":"IF(C$1-$A55<11,\"Mini\",IF(C$1-$A55<13,\"CH1\",IF(C$1-$A55<15,\"CH2\",IF(C$1-$A55<17,\"JN1\",IF(C$1-$A55<20,\"JN2\",IF(C$1-$A55<30,\"SEN\",\"MAS\"))))))","v":"MAS"},"MAS","MAS","MAS","MAS","MAS","MAS","MAS","MAS","MAS","MAS","MAS","MAS","MAS","MAS"]
[1973,null,"MAS","MAS","MAS","MAS","MAS","MAS","MAS","MAS","MAS","MAS","MAS","MAS","MAS","MAS","MAS"]
[1974,null,"MAS","MAS","MAS","MAS","MAS","MAS","MAS","MAS","MAS","MAS","MAS","MAS","MAS","MAS","MAS"]
[1975,null,"MAS","MAS","MAS","MAS","MAS","MAS","MAS","MAS","MAS","MAS","MAS","MAS","MAS","MAS","MAS"]
[1976,null,"MAS","MAS","MAS","MAS","MAS","MAS","MAS","MAS","MAS","MAS","MAS","MAS","MAS","MAS","MAS"]
[1977,null,"MAS","MAS","MAS","MAS","MAS","MAS","MAS","MAS","MAS","MAS","MAS","MAS","MAS","MAS","MAS"]
[1978,null,"MAS","MAS","MAS","MAS","MAS","MAS","MAS","MAS","MAS","MAS","MAS","MAS","MAS","MAS","MAS"]
[1979,null,"MAS","MAS","MAS","MAS","MAS","MAS","MAS","MAS","MAS","MAS","MAS","MAS","MAS","MAS","MAS"]
[1980,null,"MAS","MAS","MAS","MAS","MAS","MAS","MAS","MAS","MAS","MAS","MAS","MAS","MAS","MAS","MAS"]
[1981,null,"MAS","MAS","MAS","MAS","MAS","MAS","MAS","MAS","MAS","MAS","MAS","MAS","MAS","MAS","MAS"]
[1982,null,"SEN","MAS","MAS","MAS","MAS","MAS","MAS","MAS","MAS","MAS","MAS","MAS","MAS","MAS","MAS"]
[1983,null,"SEN","SEN","MAS","MAS","MAS","MAS","MAS","MAS","MAS","MAS","MAS","MAS","MAS","MAS","MAS"]
[1984,null,"SEN","SEN","SEN","MAS","MAS","MAS","MAS","MAS","MAS","MAS","MAS","MAS","MAS","MAS","MAS"]
[1985,null,"SEN",{"$f":"IF(D$1-$A68<11,\"Mini\",IF(D$1-$A68<13,\"CH1\",IF(D$1-$A68<15,\"CH2\",IF(D$1-$A68<17,\"JN1\",IF(D$1-$A68<20,\"JN2\",IF(D$1-$A68<30,\"SEN\",\"MAS\"))))))","v":"SEN"},"SEN","SEN","MAS","MAS","MAS","MAS","MAS","MAS","MAS","MAS","MAS","MAS","MAS"]
[1986,null,"SEN","SEN","SEN","SEN","SEN","MAS","MAS","MAS","MAS","MAS","MAS","MAS","MAS","MAS","MAS"]
[1987,null,"SEN","SEN","SEN","SEN","SEN","SEN","MAS","MAS","MAS","MAS","MAS","MAS","MAS","MAS","MAS"]
[1988,null,"SEN","SEN","SEN","SEN","SEN","SEN","SEN","MAS","MAS","MAS","MAS","MAS","MAS","MAS","MAS"]
[1989,null,"SEN","SEN","SEN","SEN","SEN","SEN","SEN","SEN","MAS","MAS","MAS","MAS","MAS","MAS","MAS"]
[1990,null,"SEN","SEN","SEN","SEN","SEN","SEN","SEN","SEN","SEN","MAS","MAS","MAS","MAS","MAS","MAS"]
[1991,null,"SEN","SEN","SEN","SEN","SEN","SEN","SEN","SEN","SEN","SEN","MAS","MAS","MAS","MAS","MAS"]
[1992,null,"JN2","U21",{"$f":"IF(E$1-$A75<11,\"Mini\",IF(E$1-$A75<13,\"CH1\",IF(E$1-$A75<15,\"CH2\",IF(E$1-$A75<17,\"JN1\",IF(E$1-$A75<20,\"JN2\",IF(E$1-$A75<30,\"SEN\",\"MAS\"))))))","v":"SEN"},"SEN","SEN","SEN","SEN","SEN","SEN","SEN","SEN","MAS","MAS","MAS","MAS"]
[1993,null,"JN2","U21","U21",{"$f":"IF(F$1-$A76<11,\"Mini\",IF(F$1-$A76<13,\"CH1\",IF(F$1-$A76<15,\"CH2\",IF(F$1-$A76<17,\"JN1\",IF(F$1-$A76<20,\"JN2\",IF(F$1-$A76<30,\"SEN\",\"MAS\"))))))","v":"SEN"},"SEN","SEN","SEN","SEN","SEN","SEN","SEN","SEN","MAS","MAS","MAS"]
[1994,null,"JN2","U21","U21","U21",{"$f":"IF(G$1-$A77<11,\"Mini\",IF(G$1-$A77<13,\"CH1\",IF(G$1-$A77<15,\"CH2\",IF(G$1-$A77<17,\"JN1\",IF(G$1-$A77<20,\"JN2\",IF(G$1-$A77<30,\"SEN\",\"MAS\"))))))","v":"SEN"},"SEN","SEN","SEN","SEN","SEN","SEN","SEN","SEN","MAS","MAS"]
[1995,null,"JN1","U18","U21","U21","U21",{"$f":"IF(H$1-$A78<11,\"Mini\",IF(H$1-$A78<13,\"CH1\",IF(H$1-$A78<15,\"CH2\",IF(H$1-$A78<17,\"JN1\",IF(H$1-$A78<20,\"JN2\",IF(H$1-$A78<30,\"SEN\",\"MAS\"))))))","v":"SEN"},"SEN","SEN","SEN","SEN","SEN","SEN","SEN","SEN","MAS"]
[1996,null,"JN1","U18","U18","U21","U21","U21",{"$f":"IF(I$1-$A79<11,\"Mini\",IF(I$1-$A79<13,\"CH1\",IF(I$1-$A79<15,\"CH2\",IF(I$1-$A79<17,\"JN1\",IF(I$1-$A79<20,\"JN2\",IF(I$1-$A79<30,\"SEN\",\"MAS\"))))))","v":"SEN"},"SEN","SEN","SEN","SEN","SEN","SEN","SEN","SEN"]
[1997,null,"CH2","U16","U18","U18","U21","U21","U21",{"$f":"IF(J$1-$A80<11,\"Mini\",IF(J$1-$A80<13,\"CH1\",IF(J$1-$A80<15,\"CH2\",IF(J$1-$A80<17,\"JN1\",IF(J$1-$A80<20,\"JN2\",IF(J$1-$A80<30,\"SEN\",\"MAS\"))))))","v":"SEN"},"SEN","SEN","SEN","SEN","SEN","SEN","SEN"]
[1998,null,"CH2","U16","U16","U18","U18","U21","U21","U21","SEN","SEN","SEN","SEN","SEN","SEN","SEN"]
[1999,null,"CH1","U14","U16","U16","U18","U18","U21","U21","U21","SEN","SEN","SEN","SEN","SEN","SEN"]
[2000,null,"CH1","U14","U14","U16","U16","U18","U18","U21","U21","U21","SEN","SEN","SEN","SEN","SEN"]
[2001,null,"Mini","U12","U14","U14","U16","U16","U18","U18","U21","U21","U21","SEN","SEN","SEN","SEN"]
[2002,null,"Mini","U12","U12","U14","U14","U16","U16","U18","U18","U21","U21","U21","SEN","SEN","SEN"]
[2003,null,"Mini","U10","U12","U12","U14","U14","U16","U16","U18","U18","U21","U21","U21","SEN","SEN"]
[2004,null,"Mini","U10","U10","U12","U12","U14","U14","U16","U16","U18","U18","U21","U21","U21","SEN"]
[2005,null,null,null,"U10","U10","U12","U12","U14","U14","U16","U16","U18","U18","U21","U21","U21"]
[2006,null,null,null,null,"U10","U10","U12","U12","U14","U14","U16","U16","U18","U18","U21","U21"]
[2007,null,null,null,null,null,"U10","U10","U12","U12","U14","U14","U16","U16","U18","U18","U21"]
[2008,null,null,null,null,null,null,"U10","U10","U12","U12","U14","U14","U16","U16","U18","U18"]
[2009,null,null,null,null,null,null,null,"U10","U10","U12","U12","U14","U14","U16","U16","U18"]
[2010,null,null,null,null,null,null,null,null,"U10","U10","U12","U12","U14","U14","U16","U16"]
[2011,null,null,null,null,null,null,null,null,null,"U10","U10","U12","U12","U14","U14","U16"]
[2012,null,null,null,null,null,null,null,null,null,null,"U10","U10","U12","U12","U14","U14"]
[2013,null,null,null,null,null,null,null,null,null,null,null,"U10","U10","U12","U12","U14"]
[2014,null,null,null,null,null,null,null,null,null,null,null,null,"U10","U10","U12","U12"]
[2015,null,null,null,null,null,null,null,null,null,null,null,null,null,"U10","U10","U12"]
[2016,null,null,null,null,null,null,null,null,null,null,null,null,null,null,"U10","U10"]
[2017,null,null,null,null,null,null,null,null,null,null,null,null,null,null,null,"U10"]
[2018]
[2019]
[2020]
[2021]
[2022]
[2023]
[2024]
[2025]

{"sheet":"Start of Year Points","index":3,"n_rows":71,"n_cols":193,"rows_kept":71,"cut":false,"hidden":true,"merged":[]}
["REGNO","SURNAME","FORENAME","SEX","YOB","CAT","CLUB1","CLUB2","oBARTS 14.0 PTS",null,"iBARTS 14.1 PTS","oBARTS 14.1 PTS",null,"iBARTS 14.2 PTS","oBARTS 14.2 PTS",null,"iBARTS 14.3 PTS","oBARTS 14.3 PTS",null,"iBARTS 14.4 PTS","oBARTS 14.4 PTS",null,"iBARTS 14.5 PTS","oBARTS 14.5 PTS",null,"iBARTS 14.6 PTS","oBARTS 14.6 PTS"]
[20168,"BILL","Rachel","F",1990,"SEN","MID","MID",23.81,null,23.81,23.81,null,23.81,23.81,null,null,null,null,null,null,null,null,null,null,null,null,{"$f":"VLOOKUP(A2,'Races, Positions & Points'!E$8:F$95,2,FALSE)","v":0}]
[17888,"DELLER","Lucy","F",1996,"U21","MID","DRA",25.68,null,25.68,25.68,null,25.68,25.68,null,null,null,null,null,null,null,null,null,null,null,null,{"$f":"VLOOKUP(A3,'Races, Positions & Points'!E$8:F$95,2,FALSE)","v":0}]
[20696,"NEWBOULT","Helena","F",1998,"U18","MID","MID",27.39,null,27.39,27.39,null,27.39,27.39,null,null,null,null,null,null,null,null,null,null,null,null,{"$f":"VLOOKUP(A4,'Races, Positions & Points'!E$8:F$95,2,FALSE)","v":0}]
[13381,"VERNON","Rowan","F",1988,"SEN","MID","MID",32.840000000000003,null,32.840000000000003,32.840000000000003,null,32.840000000000003,32.840000000000003,null,null,null,null,null,null,null,null,null,null,null,null,{"$f":"VLOOKUP(A5,'Races, Positions & Points'!E$8:F$95,2,FALSE)","v":0}]
[20307,"MIDDLETON","Amy","F",1995,"U21","MID",null,51.15,null,51.15,51.15,null,51.15,51.15,null,null,null,null,null,null,null,null,null,null,null,null,{"$f":"VLOOKUP(A6,'Races, Positions & Points'!E$8:F$95,2,FALSE)","v":0}]
[18033,"THOMAS","Elisabeth","F",1996,"U21","MID","DRA",72.7,null,72.7,72.7,null,72.7,72.7,null,null,null,null,null,null,null,null,null,null,null,null,{"$f":"VLOOKUP(A7,'Races, Positions & Points'!E$8:F$95,2,FALSE)","v":0}]
[18617,"HANCOCK","Maxine","F",1997,"U18","MID","SMK",74.28,null,74.28,74.28,null,74.28,74.28,null,null,null,null,null,null,null,null,null,null,null,null,{"$f":"VLOOKUP(A8,'Races, Positions & Points'!E$8:F$95,2,FALSE)","v":0}]
[21014,"MAYHEW","Jessica","F",2000,"U16","MID","MID",84.18,null,84.18,53.98,null,84.18,48.06,null,null,null,null,null,null,null,null,null,null,null,null,{"$f":"VLOOKUP(A9,'Races, Positions & Points'!E$8:F$95,2,FALSE)","v":0}]
[19833,"SHAKESHAFT","Hannah","F",1996,"U21","MID","SMK",140.29,null,140.29,140.29,null,140.29,140.29,null,null,null,null,null,null,null,null,null,null,null,null,{"$f":"VLOOKUP(A10,'Races, Positions & Points'!E$8:F$95,2,FALSE)","v":0}]
[19983,"CARE","Chloe","F",1998,"U18","MID",null,203.01,null,203.01,203.01,null,203.01,203.01,null,null,null,null,null,null,null,null,null,null,null,null,{"$f":"VLOOKUP(A11,'Races, Positions & Points'!E$8:F$95,2,FALSE)","v":0}]
[19165,"ELGY","Geraldine","F",1954,"MAS","MID",null,330.25,null,330.25,330.25,null,330.25,330.25,null,null,null,null,null,null,null,null,null,null,null,null,{"$f":"VLOOKUP(A12,'Races, Positions & Points'!E$8:F$95,2,FALSE)","v":0}]
[20781,"NEWBOULT","Laura","F",1995,"U21","MID",null,428.94,null,428.94,428.94,null,428.94,428.94,null,null,null,null,null,null,null,null,null,null,null,null,{"$f":"VLOOKUP(A13,'Races, Positions & Points'!E$8:F$95,2,FALSE)","v":0}]
[19573,"DOHERTY","Robyn","F",1996,"U21","MID",null,636.34,null,636.34,636.34,null,636.34,636.34,null,null,null,null,null,null,null,null,null,null,null,null,{"$f":"VLOOKUP(A14,'Races, Positions & Points'!E$8:F$95,2,FALSE)","v":0}]
[41577,"LEE","Jane","F",1954,"MAS","MID",null,640.45000000000005,null,640.45000000000005,640.45000000000005,null,640.45000000000005,640.45000000000005,null,null,null,null,null,null,null,null,null,null,null,null,{"$f":"VLOOKUP(A15,'Races, Positions & Points'!E$8:F$95,2,FALSE)","v":0}]
[20669,"TREUGE","Lauren","F",2003,"U12","MID",null,999.99,null,999.99,999.99,null,999.99,999.99,null,null,null,null,null,null,null,null,null,null,null,null,{"$f":"VLOOKUP(A16,'Races, Positions & Points'!E$8:F$95,2,FALSE)","v":0}]
[20809,"O'BRIEN","Matilda","F",2004,"U12","MID",null,999.99,null,999.99,999.99,null,999.99,999.99,null,null,null,null,null,null,null,null,null,null,null,null,{"$f":"VLOOKUP(A17,'Races, Positions & Points'!E$8:F$95,2,FALSE)","v":0}]
[21569,"HEMMING","Anya","F",2005,"U10","MID",null,999.99,null,999.99,999.99,null,999.99,999.99,null,null,null,null,null,null,null,null,null,null,null,null,{"$f":"VLOOKUP(A18,'Races, Positions & Points'!E$8:F$95,2,FALSE)","v":0}]
[22015,"LLEWELLYN","Aaliyah","F",2006,"U10","WM","MID",999.99,null,999.99,999.99,null,999.99,999.99,null,null,null,null,null,null,null,null,null,null,null,null,{"$f":"VLOOKUP(A19,'Races, Positions & Points'!E$8:F$95,2,FALSE)","v":0}]
[17356,"HORNSBY","Harry","M",1991,"SEN","MID","MID",5.41,null,5.41,5.28,null,5.41,5.28,null,null,null,null,null,null,null,null,null,null,null,null,{"$f":"VLOOKUP(A20,'Races, Positions & Points'!E$8:F$95,2,FALSE)","v":0}]
[17479,"POWELL","Jonathan","M",1986,"SEN","RAV","MID",18.72,null,18.72,18.72,null,18.72,18.72,null,null,null,null,null,null,null,null,null,null,null,null,{"$f":"VLOOKUP(A21,'Races, Positions & Points'!E$8:F$95,2,FALSE)","v":0}]
[12318,"DU PLESSIS","Andrew","M",1985,"SEN","MID","DHO",23.04,null,23.04,23.04,null,23.04,23.04,null,null,null,null,null,null,null,null,null,null,null,null,{"$f":"VLOOKUP(A22,'Races, Positions & Points'!E$8:F$95,2,FALSE)","v":0}]
[19704,"BEARDMORE","Adam","M",1986,"SEN","MID",null,35.26,null,35.26,35.26,null,35.26,35.26,null,null,null,null,null,null,null,null,null,null,null,null,{"$f":"VLOOKUP(A23,'Races, Positions & Points'!E$8:F$95,2,FALSE)","v":0}]
[41578,"LEE","Adam","M",1994,"U21","PND","MID",38.93,null,38.93,38.93,null,38.93,36.39,null,null,null,null,null,null,null,null,null,null,null,null,{"$f":"VLOOKUP(A24,'Races, Positions & Points'!E$8:F$95,2,FALSE)","v":0}]
[41722,"RIGBY","Jack","M",1995,"U21","MID","IMP",50.4,null,42.49,50.4,null,42.49,50.4,null,null,null,null,null,null,null,null,null,null,null,null,{"$f":"VLOOKUP(A25,'Races, Positions & Points'!E$8:F$95,2,FALSE)","v":0}]
[21084,"EMMERSON","Philip","M",1990,"SEN","MID",null,57.73,null,57.73,57.73,null,57.73,57.73,null,null,null,null,null,null,null,null,null,null,null,null,{"$f":"VLOOKUP(A26,'Races, Positions & Points'!E$8:F$95,2,FALSE)","v":0}]
[19163,"HAWKINS","Mark","M",1979,"MAS","MID",null,61.45,null,61.45,58.84,null,61.45,57.1,null,null,null,null,null,null,null,null,null,null,null,null,{"$f":"VLOOKUP(A27,'Races, Positions & Points'!E$8:F$95,2,FALSE)","v":0}]
[18607,"MILLER","Nicholas","M",1993,"SEN","MID",null,63.19,null,63.19,63.19,null,63.19,63.19,null,null,null,null,null,null,null,null,null,null,null,null,{"$f":"VLOOKUP(A28,'Races, Positions & Points'!E$8:F$95,2,FALSE)","v":0}]
[18586,"THORLEY","Alasdair","M",1994,"U21","MID","OXU",69.650000000000006,null,69.650000000000006,69.650000000000006,null,69.650000000000006,69.650000000000006,null,null,null,null,null,null,null,null,null,null,null,null,{"$f":"VLOOKUP(A29,'Races, Positions & Points'!E$8:F$95,2,FALSE)","v":0}]
[17840,"PHELPS","Nicholas","M",1997,"U18","MID","MID",70.34,null,70.34,70.34,null,70.34,70.34,null,null,null,null,null,null,null,null,null,null,null,null,{"$f":"VLOOKUP(A30,'Races, Positions & Points'!E$8:F$95,2,FALSE)","v":0}]
[19051,"WEEKS","Oliver","M",2001,"U14","MID","DRA",70.989999999999995,null,70.989999999999995,70.989999999999995,null,70.989999999999995,70.989999999999995,null,null,null,null,null,null,null,null,null,null,null,null,{"$f":"VLOOKUP(A31,'Races, Positions & Points'!E$8:F$95,2,FALSE)","v":0}]
[21595,"SMITH","James","M",1992,"SEN","MID",null,72.23,null,72.23,72.23,null,72.23,72.23,null,null,null,null,null,null,null,null,null,null,null,null,{"$f":"VLOOKUP(A32,'Races, Positions & Points'!E$8:F$95,2,FALSE)","v":0}]
[18509,"MILLER","Gareth","M",1994,"U21","MID","SAS",73.98,null,71.069999999999993,73.98,null,71.069999999999993,73.98,null,null,null,null,null,null,null,null,null,null,null,null,{"$f":"VLOOKUP(A33,'Races, Positions & Points'!E$8:F$95,2,FALSE)","v":0}]
[14213,"WALKER","Edmund","M",1992,"SEN","MID","MID",77.16,null,77.16,77.16,null,77.16,77.16,null,null,null,null,null,null,null,null,null,null,null,null,{"$f":"VLOOKUP(A34,'Races, Positions & Points'!E$8:F$95,2,FALSE)","v":0}]
[19910,"RIGBY","Jordan","M",2000,"U16","MID","IMP",111.82,null,111.82,111.82,null,111.82,111.82,null,null,null,null,null,null,null,null,null,null,null,null,{"$f":"VLOOKUP(A35,'Races, Positions & Points'!E$8:F$95,2,FALSE)","v":0}]
[20846,"DEWISON","Samuel","M",1998,"U18","MID","MID",119.86,null,119.86,119.86,null,119.86,119.86,null,null,null,null,null,null,null,null,null,null,null,null,{"$f":"VLOOKUP(A36,'Races, Positions & Points'!E$8:F$95,2,FALSE)","v":0}]
[5666,"CROMBLEHOLME","Roger","M",1957,"MAS","MID","TEL",120.35,null,120.35,120.35,null,120.35,120.35,null,null,null,null,null,null,null,null,null,null,null,null,{"$f":"VLOOKUP(A37,'Races, Positions & Points'!E$8:F$95,2,FALSE)","v":0}]
[20677,"FROST","Joey","M",1995,"U21","MID",null,127.79,null,127.79,127.79,null,127.79,127.79,null,null,null,null,null,null,null,null,null,null,null,null,{"$f":"VLOOKUP(A38,'Races, Positions & Points'!E$8:F$95,2,FALSE)","v":0}]
[41662,"LEE","Sam","M",1996,"U21","MID",null,128.82,null,128.82,128.82,null,128.82,128.82,null,null,null,null,null,null,null,null,null,null,null,null,{"$f":"VLOOKUP(A39,'Races, Positions & Points'!E$8:F$95,2,FALSE)","v":0}]
[18998,"THORLEY","Duncan","M",1997,"U18","MID",null,133.94999999999999,null,133.94999999999999,133.94999999999999,null,133.94999999999999,133.94999999999999,null,null,null,null,null,null,null,null,null,null,null,null,{"$f":"VLOOKUP(A40,'Races, Positions & Points'!E$8:F$95,2,FALSE)","v":0}]
[19941,"LAWRENCE","Thomas","M",1999,"U16","MID","DRA",144.61000000000001,null,144.61000000000001,144.61000000000001,null,144.61000000000001,144.61000000000001,null,null,null,null,null,null,null,null,null,null,null,null,{"$f":"VLOOKUP(A41,'Races, Positions & Points'!E$8:F$95,2,FALSE)","v":0}]
[19829,"HEMMING","Ethan","M",2001,"U14","MID","MID",150.21,null,150.21,150.21,null,150.21,138.09,null,null,null,null,null,null,null,null,null,null,null,null,{"$f":"VLOOKUP(A42,'Races, Positions & Points'!E$8:F$95,2,FALSE)","v":0}]
[19166,"ELGY","James","M",1993,"SEN","MID",null,166.36,null,166.36,166.36,null,166.36,166.36,null,null,null,null,null,null,null,null,null,null,null,null,{"$f":"VLOOKUP(A43,'Races, Positions & Points'!E$8:F$95,2,FALSE)","v":0}]
[21550,"TARRANT","Toby","M",1997,"U18","MID",null,186.2,null,186.2,186.2,null,186.2,186.2,null,null,null,null,null,null,null,null,null,null,null,null,{"$f":"VLOOKUP(A44,'Races, Positions & Points'!E$8:F$95,2,FALSE)","v":0}]
[21051,"UPTON","Thomas","M",2001,"U14","MID",null,189.87,null,189.87,182.89,null,179.58,126.27,null,null,null,null,null,null,null,null,null,null,null,null,{"$f":"VLOOKUP(A45,'Races, Positions & Points'!E$8:F$95,2,FALSE)","v":0}]
[19379,"GUY","Edward","M",2001,"U14","TEL","MID",238.89,null,238.89,238.89,null,238.89,138.32,null,null,null,null,null,null,null,null,null,null,null,null,{"$f":"VLOOKUP(A46,'Races, Positions & Points'!E$8:F$95,2,FALSE)","v":0}]
[19572,"DOHERTY","Samuel","M",1999,"U16","MID",null,257.08999999999997,null,257.08999999999997,257.08999999999997,null,257.08999999999997,257.08999999999997,null,null,null,null,null,null,null,null,null,null,null,null,{"$f":"VLOOKUP(A47,'Races, Positions & Points'!E$8:F$95,2,FALSE)","v":0}]
[18616,"HANCOCK","Karl","M",1995,"U21","MID",null,259.37,null,259.37,259.37,null,259.37,259.37,null,null,null,null,null,null,null,null,null,null,null,null,{"$f":"VLOOKUP(A48,'Races, Positions & Points'!E$8:F$95,2,FALSE)","v":0}]
[19164,"ELGY","John","M",1951,"MAS","MID",null,332.56,null,332.56,332.56,null,332.56,332.56,null,null,null,null,null,null,null,null,null,null,null,null,{"$f":"VLOOKUP(A49,'Races, Positions & Points'!E$8:F$95,2,FALSE)","v":0}]
[21633,"KIRKLAND","Matthew","M",1992,"SEN","MID","MID",345.98,null,345.98,345.98,null,345.98,345.98,null,null,null,null,null,null,null,null,null,null,null,null,{"$f":"VLOOKUP(A50,'Races, Positions & Points'!E$8:F$95,2,FALSE)","v":0}]
[17039,"DELLER","Philip","M",1959,"MAS","MID",null,780.34,null,780.34,780.34,null,780.34,780.34,null,null,null,null,null,null,null,null,null,null,null,null,{"$f":"VLOOKUP(A51,'Races, Positions & Points'!E$8:F$95,2,FALSE)","v":0}]
[17037,"HANCOCK","David","M",1964,"MAS","MID","SMK",999.99,null,999.99,999.99,null,999.99,999.99,null,null,null,null,null,null,null,null,null,null,null,null,{"$f":"VLOOKUP(A52,'Races, Positions & Points'!E$8:F$95,2,FALSE)","v":0}]
[21714,"BIRD","Joseph","M",1994,"U21","MID","MID",999.99,null,999.99,999.99,null,999.99,999.99,null,null,null,null,null,null,null,null,null,null,null,null,{"$f":"VLOOKUP(A53,'Races, Positions & Points'!E$8:F$95,2,FALSE)","v":0}]
[21075,"HEARD","Jake","M",1998,"U18","MID",null,999.99,null,999.99,999.99,null,999.99,999.99,null,null,null,null,null,null,null,null,null,null,null,null,{"$f":"VLOOKUP(A54,'Races, Positions & Points'!E$8:F$95,2,FALSE)","v":0}]
[19737,"O'BRIEN","Seamus","M",2002,"U14","MID","EVO",999.99,null,185.65,999.99,null,142.41,999.99,null,null,null,null,null,null,null,null,null,null,null,null,{"$f":"VLOOKUP(A55,'Races, Positions & Points'!E$8:F$95,2,FALSE)","v":0}]
[20590,"CARE","James","M",2002,"U14","MID",null,999.99,null,999.99,398.04,null,999.99,398.04,null,null,null,null,null,null,null,null,null,null,null,null,{"$f":"VLOOKUP(A56,'Races, Positions & Points'!E$8:F$95,2,FALSE)","v":0}]
[20670,"TREUGE","Matthew","M",2002,"U14","MID","MID",999.99,null,999.99,999.99,null,999.99,999.99,null,null,null,null,null,null,null,null,null,null,null,null,{"$f":"VLOOKUP(A57,'Races, Positions & Points'!E$8:F$95,2,FALSE)","v":0}]
[20340,"SHAKESHAFT","James","M",2003,"U12","MID",null,999.99,null,999.99,999.99,null,999.99,999.99,null,null,null,null,null,null,null,null,null,null,null,null,{"$f":"VLOOKUP(A58,'Races, Positions & Points'!E$8:F$95,2,FALSE)","v":0}]
[20719,"HADLEY","Daniel","M",2004,"U12","MID","SMK",999.99,null,999.99,999.99,null,999.99,999.99,null,null,null,null,null,null,null,null,null,null,null,null,{"$f":"VLOOKUP(A59,'Races, Positions & Points'!E$8:F$95,2,FALSE)","v":0}]
[21052,"UPTON","Jack","M",2004,"U12","MID",null,999.99,null,999.99,999.99,null,999.99,999.99,null,null,null,null,null,null,null,null,null,null,null,null,{"$f":"VLOOKUP(A60,'Races, Positions & Points'!E$8:F$95,2,FALSE)","v":0}]
[20630,"TEAGUE","Jack","M",2004,"U12","MID",null,999.99,null,999.99,999.99,null,999.99,999.99,null,null,null,null,null,null,null,null,null,null,null,null,{"$f":"VLOOKUP(A61,'Races, Positions & Points'!E$8:F$95,2,FALSE)","v":0}]
[21837,"WOOLLEY","Kieran","M",2005,"U10","MID","WM",999.99,null,999.99,999.99,null,999.99,999.99,null,null,null,null,null,null,null,null,null,null,null,null,{"$f":"VLOOKUP(A62,'Races, Positions & Points'!E$8:F$95,2,FALSE)","v":0}]
[21606,"VALLAT","Agathe","F",1999,"U16","ALU","WBN",{"$f":"MIN(J63,L63,AA63,AC63,AD63)","v":465.82},null,465.82,465.82,null,465.82,465.82,null,null,null,null,null,null,null,null,null,null,null,null,{"$f":"VLOOKUP(A63,'Races, Positions & Points'!E$8:F$95,2,FALSE)","v":0}]
[14263,"DAWES","Emily","F",1991,"SEN",null,null,"NR",null,"NR","NR",null,"NR","NR",null,null,null,null,null,null,null,null,null,null,null,null,"NR"]
[17839,"PHELPS","Sophia","F",1994,"U21",null,null,"NR",null,"NR","NR",null,"NR","NR",null,null,null,null,null,null,null,null,null,null,null,null,"NR"]
[17516,"WALLER","Olivia","F",1994,"U21",null,null,"NR",null,"NR","NR",null,"NR","NR",null,null,null,null,null,null,null,null,null,null,null,null,"NR"]
[20676,"FROST","JJ","M",1993,"SEN",null,null,"NR",null,"NR","NR",null,"NR","NR",null,null,null,null,null,null,null,null,null,null,null,null,"NR",null,null,null,null,null,null,"","",null,null,null,null,null,null,null,null,null,null,null,null,null,null,null,null,null,null,null,null,null,null,null,null,null,null,null,null,null,null,null,null,null,null,null,null,null,null,null,null,null,null,null,null,null,null,null,null,null,null,null,null,null,null,null,null,null,null,null,null,null,null,null,null,null,null,null,null,null,null,null,null,null,null,null,null,null,null,null,null,null,null,null,null,null,null,null,null,null,null,null,null,null,null,null,null,null,null,null,null,null,null,null,null,null,null,null,null,null,null,null,null,null,null,null,null,null,null,null,null,null,null,null,null,null,null,null,null,null,null,null,null,null,null,null,null,null,null,null,null,null,null,null,0,0,null,"","","","",null,null,null,"","","",999.99]
[21130,"HALL","Ben","M",1994,"U21",null,null,"NR",null,"NR","NR",null,"NR","NR",null,null,null,null,null,null,null,null,null,null,null,null,"NR",null,null,null,null,null,null,"","",null,null,null,null,null,null,null,null,null,null,null,null,null,null,null,null,null,null,null,null,null,null,null,null,null,null,null,null,null,null,null,null,null,null,null,null,null,null,null,null,null,null,null,null,null,null,null,null,null,null,null,null,null,null,null,null,null,null,null,null,null,null,null,null,null,null,null,null,null,null,null,null,null,null,null,null,null,null,null,null,null,null,null,null,null,null,null,null,null,null,null,null,null,null,null,null,null,null,null,null,null,null,null,null,null,null,null,null,null,null,null,null,null,null,null,null,null,null,null,null,null,null,null,null,null,null,null,null,null,null,null,null,null,null,null,null,null,null,null,null,null,null,null,0,0,null,"","","","",null,null,null,"","","",999.99]
[17958,"WALLER","Matthew","M",1999,"U16",null,null,"NR",null,"NR","NR",null,"NR","NR",null,null,null,null,null,null,null,null,null,null,null,null,"NR",null,null,null,null,null,null,"","",null,null,null,null,null,null,null,null,null,null,null,null,null,null,null,null,null,null,null,null,null,null,null,null,null,null,null,null,null,null,null,null,null,null,null,null,null,null,null,null,null,null,null,null,null,null,null,null,null,null,null,null,null,null,null,null,null,null,null,null,null,null,null,null,null,null,null,null,null,null,null,null,null,null,null,null,null,null,null,null,null,null,null,null,null,null,null,null,null,null,null,null,null,null,null,null,null,null,null,null,null,null,null,null,null,null,null,null,null,null,null,null,null,null,null,null,null,null,null,null,null,null,null,null,null,null,null,null,null,null,null,null,null,null,null,null,null,null,null,null,null,null,null,0,0,null,"",398.04,"","",null,null,null,331.70000000000005,"","",398.04]
["Day",null,null,null,null,null,null,null,"NR",null,"NR","NR",null,"NR","NR",null,null,null,null,null,null,null,null,null,null,null,null,"NR",null,null,null,null,null,null,"","",null,null,null,null,null,null,null,null,null,null,null,null,null,null,null,null,null,null,null,null,null,null,null,null,null,null,null,null,null,null,null,null,null,null,null,null,null,null,null,null,null,null,null,null,null,null,null,null,null,null,null,null,null,null,null,null,null,null,null,null,null,null,null,null,null,null,null,null,null,null,null,null,null,null,null,null,null,null,null,null,null,null,null,null,null,null,null,null,null,null,null,null,null,null,null,null,null,null,null,null,null,null,null,null,null,null,null,null,null,null,null,null,null,null,null,null,null,null,null,null,null,null,null,null,null,null,null,null,null,null,null,null,null,null,null,null,null,null,null,null,null,null,null,0,0]
[22176,"GILES","Ella","F",2003,"U12","MID",null,999.99,null,999.99,999.99,null,999.99,999.99,null,null,null,null,null,null,null,null,null,null,null,null,999.99]

{"sheet":"2014.1","index":4,"n_rows":62,"n_cols":10,"rows_kept":62,"cut":false,"hidden":true,"merged":[]}
["REGNO","SURNAME","FORENAME","SEX","YOB","CAT","CLUB1","CLUB2","iBARTS 14.1 PTS","oBARTS 14.1 PTS"]
[20168,"BILL","Rachel","F",1990,"SEN","MID","MID",23.81,23.81]
[17888,"DELLER","Lucy","F",1996,"U21","MID","DRA",25.68,25.68]
[20696,"NEWBOULT","Helena","F",1998,"U18","MID","MID",27.39,27.39]
[13381,"VERNON","Rowan","F",1988,"SEN","MID","MID",32.840000000000003,32.840000000000003]
[20307,"MIDDLETON","Amy","F",1995,"U21","MID",null,51.15,51.15]
[18033,"THOMAS","Elisabeth","F",1996,"U21","MID","DRA",72.7,72.7]
[18617,"HANCOCK","Maxine","F",1997,"U18","MID","SMK",74.28,74.28]
[21014,"MAYHEW","Jessica","F",2000,"U16","MID","MID",84.18,53.98]
[19833,"SHAKESHAFT","Hannah","F",1996,"U21","MID","SMK",140.29,140.29]
[19983,"CARE","Chloe","F",1998,"U18","MID",null,203.01,203.01]
[19165,"ELGY","Geraldine","F",1954,"MAS","MID",null,330.25,330.25]
[20781,"NEWBOULT","Laura","F",1995,"U21","MID",null,428.94,428.94]
[19573,"DOHERTY","Robyn","F",1996,"U21","MID",null,636.34,636.34]
[41577,"LEE","Jane","F",1954,"MAS","MID",null,640.45000000000005,640.45000000000005]
[20669,"TREUGE","Lauren","F",2003,"U12","MID",null,999.99,999.99]
[20809,"O'BRIEN","Matilda","F",2004,"U12","MID",null,999.99,999.99]
[21569,"HEMMING","Anya","F",2005,"U10","MID",null,999.99,999.99]
[22015,"LLEWELLYN","Aaliyah","F",2006,"U10","WM","MID",999.99,999.99]
[17356,"HORNSBY","Harry","M",1991,"SEN","MID","MID",5.41,5.28]
[17479,"POWELL","Jonathan","M",1986,"SEN","RAV","MID",18.72,18.72]
[12318,"DU PLESSIS","Andrew","M",1985,"SEN","MID","DHO",23.04,23.04]
[19704,"BEARDMORE","Adam","M",1986,"SEN","MID",null,35.26,35.26]
[41578,"LEE","Adam","M",1994,"U21","PND","MID",38.93,38.93]
[41722,"RIGBY","Jack","M",1995,"U21","MID","IMP",42.49,50.4]
[21084,"EMMERSON","Philip","M",1990,"SEN","MID",null,57.73,57.73]
[19163,"HAWKINS","Mark","M",1979,"MAS","MID",null,61.45,58.84]
[18607,"MILLER","Nicholas","M",1993,"SEN","MID",null,63.19,63.19]
[18586,"THORLEY","Alasdair","M",1994,"U21","MID","OXU",69.650000000000006,69.650000000000006]
[17840,"PHELPS","Nicholas","M",1997,"U18","MID","MID",70.34,70.34]
[19051,"WEEKS","Oliver","M",2001,"U14","MID","DRA",70.989999999999995,70.989999999999995]
[18509,"MILLER","Gareth","M",1994,"U21","MID","SAS",71.069999999999993,73.98]
[21595,"SMITH","James","M",1992,"SEN","MID",null,72.23,72.23]
[14213,"WALKER","Edmund","M",1992,"SEN","MID","MID",77.16,77.16]
[19910,"RIGBY","Jordan","M",2000,"U16","MID","IMP",111.82,111.82]
[20846,"DEWISON","Samuel","M",1998,"U18","MID","MID",119.86,119.86]
[5666,"CROMBLEHOLME","Roger","M",1957,"MAS","MID","TEL",120.35,120.35]
[20677,"FROST","Joey","M",1995,"U21","MID",null,127.79,127.79]
[41662,"LEE","Sam","M",1996,"U21","MID",null,128.82,128.82]
[18998,"THORLEY","Duncan","M",1997,"U18","MID",null,133.94999999999999,133.94999999999999]
[19941,"LAWRENCE","Thomas","M",1999,"U16","MID","DRA",144.61000000000001,144.61000000000001]
[19829,"HEMMING","Ethan","M",2001,"U14","MID","MID",150.21,150.21]
[19166,"ELGY","James","M",1993,"SEN","MID",null,166.36,166.36]
[19737,"O'BRIEN","Seamus","M",2002,"U14","MID","EVO",185.65,999.99]
[21550,"TARRANT","Toby","M",1997,"U18","MID",null,186.2,186.2]
[21051,"UPTON","Thomas","M",2001,"U14","MID",null,189.87,182.89]
[19379,"GUY","Edward","M",2001,"U14","TEL","MID",238.89,238.89]
[19572,"DOHERTY","Samuel","M",1999,"U16","MID",null,257.08999999999997,257.08999999999997]
[18616,"HANCOCK","Karl","M",1995,"U21","MID",null,259.37,259.37]
[19164,"ELGY","John","M",1951,"MAS","MID",null,332.56,332.56]
[21633,"KIRKLAND","Matthew","M",1992,"SEN","MID","MID",345.98,345.98]
[17039,"DELLER","Philip","M",1959,"MAS","MID",null,780.34,780.34]
[20590,"CARE","James","M",2002,"U14","MID",null,999.99,398.04]
[17037,"HANCOCK","David","M",1964,"MAS","MID","SMK",999.99,999.99]
[21075,"HEARD","Jake","M",1998,"U18","MID",null,999.99,999.99]
[20670,"TREUGE","Matthew","M",2002,"U14","MID","MID",999.99,999.99]
[20719,"HADLEY","Daniel","M",2004,"U12","MID","SMK",999.99,999.99]
[21052,"UPTON","Jack","M",2004,"U12","MID",null,999.99,999.99]
[21837,"WOOLLEY","Kieran","M",2005,"U10","MID","WM",999.99,999.99]
[21714,"BIRD","Joseph","M",1994,"U21","MID","MID",999.99,999.99]
[20340,"SHAKESHAFT","James","M",2003,"U12","MID",null,999.99,999.99]
[20630,"TEAGUE","Jack","M",2004,"U12","MID",null,999.99,999.99]

{"sheet":"2014.2","index":5,"n_rows":1707,"n_cols":10,"rows_kept":1707,"cut":false,"hidden":true,"merged":[]}
["REGNO","SURNAME","FORENAME","SEX","YOB","CAT","CLUB1","CLUB2","iBARTS 14.2 PTS","oBARTS 14.2 PTS"]
[21762,"PORTER","Tom","M",1997,"U18","2KP","2KP",999.99,999.99]
[18659,"NAYLER","Graham","M",1959,"MAS","ASR","ALD",128.41999999999999,128.41999999999999]
[14261,"CALVERT","John","M",1949,"MAS","ASR","ALD",344.67,344.67]
[14814,"STEVENS","Anthony","M",1962,"MAS",null,"ALU",999.99,999.99]
[18234,"WHITE","Thomas","M",1992,"SEN","AMB","AMB",28.18,40.520000000000003]
[14994,"MACAULAY","Alice","F",1995,"U21","AMB","AMB",2.5,2.5]
[18454,"WIDDUP","Bethany","F",1995,"U21","AMB","AMB",15.87,15.87]
[17702,"TAYLOR","Imogen","F",1994,"U21","AMB","AMB",67.87,152.99]
[20142,"EATON","Oliver","M",1996,"U21","AMB","AMB",115.42,115.42]
[20141,"EATON","Freya","F",1998,"U18","AMB","AMB",134.16,134.16]
[18475,"ASQUITH","Max","M",1996,"U21","AMB","AMB",200.32,200.32]
[17930,"WILLIS","Robert","M",1996,"U21","AMB","AMB",497.44,497.44]
[17488,"KAHVE","Lucy","F",1998,"U18","AMB","AMB",999.99,999.99]
[20799,"POLLITT","Oliver","M",2003,"U12","AMB","AMB",999.99,999.99]
[17284,"SIEBER","James","M",1996,"U21","ASR","AMB",2.91,2.91]
[41693,"WARD","Ella","F",1999,"U16","CAR","AMB",64.91,64.91]
[41692,"WARD","Olivia","F",2000,"U16","CAR","AMB",65.78,72.61]
[41831,"DAVIES","Alex","M",2002,"U14","CAR","AMB",255.2,999.99]
[13766,"EVANS","Emily","F",1994,"U21","CHT","AMB",10,10]
[17560,"ANDERSON","Jessica","F",1998,"U18","GRV","AMB",83.53,83.53]
[20535,"PINI","Maximilian","M",2002,"U14","GRV","AMB",999.99,999.99]
[19159,"HENDERSON","Anna","F",1998,"U18","HEM","AMB",8.5500000000000007,17.5]
[19005,"NORRIS","Kieran","M",1995,"U21","HEM","AMB",16.3,16.3]
[11915,"TELLING","Marc","M",1984,"MAS","HEM","AMB",16.91,16.91]
[20639,"WOODWARD","Sarah","F",2001,"U14","HEM","AMB",93.86,93.86]
[19735,"LONG","Phoebe","F",1998,"U18","HEM","AMB",166.55,166.55]
[20543,"LODER","Edward","M",1999,"U16","HEM","AMB",194.65,194.65]
[20601,"BURNS","Madeleine","F",2001,"U14","HEM","AMB",198.9,198.9]
[21077,"LEACH","Charlie","M",2001,"U14","HEM","AMB",216.88,216.88]
[18010,"RIDDELL","Luke","M",1996,"U21","HEM","AMB",163.16,163.16]
[11619,"MESUT","Justin","M",1985,"SEN","NOR","AMB",65.62,65.62]
[20748,"DADE","Tommy","M",2003,"U12","NOR","AMB",999.99,999.99]
[19869,"LEWIS","Barney","M",1995,"U21","SMK","AMB",22.57,22.57]
[20163,"WAGHORNE","Robert","M",1997,"U18","SMK","AMB",76.41,76.41]
[18649,"RILEY","Megan","F",2000,"U16","SMK","AMB",86.47,90.08]
[19001,"GLASGOW","Sarah","F",2001,"U14","SMK","AMB",98.08,147.02000000000001]
[18912,"SMITH","Benjamin","M",1997,"U18","SPR","AMB",66.650000000000006,66.650000000000006]
[19295,"ELLISS","Jack","M",1997,"U18","SPR","AMB",999.99,999.99]
[20181,"HENDERSON","Lucas","M",2003,"U12","SRR","AMB",999.99,999.99]
[19498,"LILLYWHITE","Alexandra","F",1999,"U16","VIK","AMB",49.28,49.28]
[20687,"TROUNG","Aaron","M",2001,"U14","VIK","AMB",112.35,112.35]
[17177,"STEUDLE","Roy","M",1993,"SEN",null,"AMB",142.51,999.99]
[17686,"BUCHANAN","Alexandra","F",1994,"U21",null,"AMB",173.01,999.99]
[14103,"MILLER","Violet","F",1995,"U21",null,"AMB",999.99,999.99]
[18504,"RAPOSO","Charlie","M",1996,"U21",null,"AMB",999.99,999.99]
[21050,"HUISMAN MURO","Kaylan","M",2003,"U12",null,"AMB",999.99,999.99]
[31191,"BROWN","Rachel","F",2000,"U16","GDN","ASC",121.52,121.52]
[30830,"BROWN","Jamie","M",1996,"U21","GDN","ASC",271.08999999999997,271.08999999999997]
[31257,"LIVERSIDGE","Lauren","F",2000,"U16","GDN","ASC",999.99,999.99]
[36610,"MORRISON","Hannah","F",1999,"U16","GDN","ASC",999.99,999.99]
[31358,"PYE","Ryan","M",2004,"U12","GDN","ASC",999.99,999.99]
[31100,"LAWRIE","Alannah","F",1999,"U16","SSC","ASC",68.540000000000006,68.540000000000006]
[18618,"BOZIER","Hannah","F",1996,"U21","ASR","ASR",8.9,6.95]
[18674,"CHAPMAN","Euan","M",1997,"U18","ASR","ASR",57.61,57.61]
[22111,"HODGSON","Ellen","F",2001,"U14","ASR","ASR",999.99,285.38]
[22079,"MAYHEAD","Eve","F",2000,"U16","ASR","ASR",999.99,464.18]
[21102,"SMITH","Oscar","M",2002,"U14","ASR","ASR",999.99,192.41]
[21602,"MILNER","Archie","M",2000,"U16","ASR","ASR",188.14,188.14]
[22159,"SMITH","Ben","M",2001,"U14","ASR","ASR",999.99,999.99]
[20262,"CASE","Toby","M",2002,"U14","HEM","ASR",117.78,105.98]
[17970,"HATHWAY","Ellen","F",1994,"U21","LSU","ASR",11.59,11.59]
[21627,"TURNER","Oliver","M",2000,"U16",null,"ASR",322.12,322.12]
[21140,"BLACK","Lauren","F",2001,"U14","AVO","AVO",332.06,295.44]
[21563,"WILLIAMS","Lewis","M",1999,"U16","AVO","AVO",414.39,359.89]
[21921,"HARVEY","Michael","M",2002,"U14","AVO","AVO",999.99,253.7]
[22019,"FORD","John","M",1987,"SEN","AVO","AVO",999.99,999.99]
[22080,"SOMMERFIELD","George","M",1997,"U18","AVO","AVO",999.99,999.99]
[21555,"BLACK","Callum","M",2004,"U12","AVO","AVO",999.99,999.99]
[20649,"SCHUBERT","Maximilian","M",2003,"U12","AVO","AVO",999.99,999.99]
[21650,"GOTTS","Joey","M",1987,"SEN","BRO","BRO",153.33000000000001,153.33000000000001]
[21897,"MARTIN","Lily","F",2002,"U14","BRO","BRO",999.99,999.99]
[22151,"NABAR","Paul","M",1964,"MAS",null,"BRO",999.99,999.99]
[20930,"ABRISHAMI","Diaco","M",2002,"U14","BRO","BRS",999.99,999.99]
[21713,"BEGLIN","Thomas","M",2004,"U12","HEM","BRS",999.99,999.99]
[21595,"SMITH","James","M",1992,"SEN","MID","BRU",72.23,72.23]
[19196,"CASE","George","M",2001,"U14","AVO","BSA",999.99,188.5]
[21848,"THOMAS","Owen","M",2001,"U14","BFC","BSA",999.99,999.99]
[21063,"BULLIVANT","Peter","M",2000,"U16","BOW","BSA",999.99,999.99]
[20988,"ROBERTSON","Ewan","M",2001,"U14","BRO","BSA",145.76,145.76]
[19413,"MCCLOUD","Milo","M",1997,"U18","BSA","BSA",226.82,226.82]
[20332,"IGLINA","Sofia","F",1997,"U18","BSA","BSA",999.99,999.99]
[21528,"PANTELI","Charlotte","F",1999,"U16","BSA","BSA",999.99,999.99]
[21394,"ROGERS","Anna","F",2001,"U14","BSA","BSA",999.99,999.99]
[19421,"CHAJECKI","Sebastian","M",1997,"U18","BSA","BSA",999.99,999.99]
[19524,"DOYLE","Jake","M",2001,"U14","BSA","BSA",999.99,999.99]
[21907,"HOGAN","John","M",2000,"U16","BSA","BSA",999.99,999.99]
[20460,"PATRICK","Oliver","M",1997,"U18","BSA","BSA",999.99,999.99]
[21609,"REBERT","Ethan","M",1998,"U18","BSA","BSA",999.99,999.99]
[21395,"ROGERS","Marcus","M",1999,"U16","BSA","BSA",999.99,999.99]
[41445,"SPILL","George","M",1993,"SEN","CAR","BSA",231.48,999.99]
[31489,"PROVAN","Max","M",2001,"U14","CSC","BSA",999.99,999.99]
[21571,"LAUGHLAND","Maximilian","M",2004,"U12","FLK","BSA",999.99,999.99]
[30624,"TILLEY","Alexandra","F",1993,"SEN","GDN","BSA",43.05,46.21]
[30869,"TROUP","Kieran","M",2000,"U16","GDN","BSA",999.99,999.99]
[18740,"MARTIN-HARRINGTON","Beatrice","F",1997,"U18","GLO","BSA",60.29,60.29]
[19260,"MITCHELL","Olivia","F",2001,"U14","GLO","BSA",85.9,85.9]
[20208,"HOSKINS","Isabella","F",1999,"U16","GLO","BSA",332,332]
[31139,"MCNICOL","Archie","M",1999,"U16","GSC","BSA",999.99,999.99]
[30898,"KICK","Euan","M",1997,"U18","GSR","BSA",0.41,0.41]
[19773,"CURTIS","Marie","F",1997,"U18","HEM","BSA",49.86,49.86]
[21355,"TAPSELL","Charlotte","F",2001,"U14","HEM","BSA",136.03,144.21]
[19137,"COOPER","Yasmin","F",1998,"U18","HEM","BSA",29.99,29.99]
[19169,"MANSON","Cameron","F",1998,"U18","HEM","BSA",37.049999999999997,999.99]
[19363,"DEIGHTON","Harry","M",2000,"U16","HEM","BSA",98.2,98.2]
[19362,"DEIGHTON","Toby","M",1999,"U16","HEM","BSA",104.13,104.13]
[20360,"BUCKLAND","Amber","F",1997,"U18","HEM","BSA",204.07,204.07]
[19153,"GIBBINS","Joseph","M",1998,"U18","HEM","BSA",208.1,208.1]
[21521,"CHMIELOWSKA","Julia","F",1996,"U21","HEM","BSA",999.99,999.99]
[21924,"LOVE","Charlie","M",2001,"U14","HEM","BSA",999.99,999.99]
[20364,"TATTERSALL","James","M",1997,"U18","MSR","BSA",210.68,210.68]
[41622,"JENKINS","Nia","F",1995,"U21","NOR","BSA",8.85,10.86]
[20481,"HUDSON","Thomas","M",2001,"U14","NOR","BSA",92.4,92.4]
[12989,"RICHES","Stuart","M",1989,"SEN","NOR","BSA",7.57,7.57]
[12618,"BALDWIN","Thomas","M",1990,"SEN","NOR","BSA",17.3,17.3]
[41623,"JENKINS","Megan","F",1998,"U18","NOR","BSA",20,20]
[19564,"WAYLING","Lloyd","M",1995,"U21","NOR","BSA",32.97,32.97]
[14962,"SHAILES","Polly","F",1996,"U21","NOR","BSA",34.409999999999997,34.409999999999997]
[18810,"FENELEY","Luke","M",1997,"U18","NOR","BSA",69.23,69.23]
[19586,"BUTCHER","Jazmine","F",1997,"U18","NOR","BSA",100.59,100.59]
[18809,"FENELEY","William","M",1999,"U16","NOR","BSA",148.16,148.16]
[14899,"MERCER","Patrick","M",1995,"U21","NOR","BSA",999.99,999.99]
[19770,"COOPER","Izabelle","F",2001,"U14","SAS","BSA",999.99,999.99]
[21199,"HORTON","Siena","F",2002,"U14","SMK","BSA",132.88999999999999,999.99]
[19187,"HAY","Cameron","M",1999,"U16","SMK","BSA",261.19,999.99]
[19834,"HAY","Louis","M",2002,"U14","SMK","BSA",999.99,999.99]
[30919,"BUCHAN","Scott","M",1999,"U16","SSC","BSA",129.37,136.61000000000001]
[30633,"GUEST","Charlotte","F",1993,"SEN","SSC","BSA",129.78,129.78]
[31025,"CROCKART","Tom","M",2000,"U16","SSC","BSA",176.66,176.66]
[31034,"JOHNSTON","Hamish","M",1997,"U18","SSC","BSA",214.82,214.82]
[31068,"CROSS","Jack","M",1998,"U18","SSC","BSA",339.12,339.12]
[30779,"GUEST","Katharine","F",1995,"U21","SSC","BSA",355.6,355.6]
[30920,"GUEST","Kirsty","F",1997,"U18","SSC","BSA",659.75,659.75]
[30921,"GUEST","Christopher","M",1997,"U18","SSC","BSA",989,989]
[30883,"HUNTINGTON","Calum","M",1995,"U21","SSC","BSA",989,989]
[31249,"BARKER","Duncan","M",2003,"U12","SSC","BSA",999.99,999.99]
[17513,"FELLOWS","Jordan","M",1997,"U18","TEL","BSA",11.46,12.91]
[20216,"CAWTHORNE","Louis","M",2000,"U16","TOQ","BSA",133.80000000000001,132.69]
[20215,"CAWTHORNE","Harry","M",1999,"U16","TOQ","BSA",138.72,129.34]
[18072,"THOMAS","Cameron","M",1997,"U18","TOQ","BSA",45.79,45.79]
[20633,"CUNNINGHAM","Jake","M",2002,"U14","TOQ","BSA",999.99,999.99]
[21378,"STOCKER","Natasha","F",2001,"U14","TSN","BSA",242.44,242.44]
[21382,"STOCKER","Anastacia","F",2003,"U12","TSN","BSA",999.99,999.99]
[21397,"STOCKER","Sophie","F",2005,"U10","TSN","BSA",999.99,999.99]
[19680,"BAXTER","Phillipa","F",1998,"U18","VIK","BSA",150.13,150.13]
[21868,"GRAINGER","Christopher","M",1999,"U16","VIK","BSA",999.99,999.99]
[20366,"CHASTNEY","Rebecca","F",2002,"U14","WM","BSA",999.99,999.99]
[21331,"DILWORTH","Lucinda","F",1998,"U18",null,"BSA",104.75,104.75]
[19126,"HEGINBOTHAM","Erika","F",1998,"U18",null,"BSA",161.76,161.76]
[19125,"HEGINBOTHAM","Matthew","M",2000,"U16",null,"BSA",258.27,258.27]
[20455,"MCCALL","Oscar","M",2000,"U16",null,"BSA",375.15,375.15]
[18164,"TAYLOR","Laurie","M",1996,"U21",null,"BSA",421.44,421.44]
[21338,"BELL","Reece","F",2001,"U14",null,"BSA",999.99,999.99]
[22071,"DRUMMOND","Davina","F",2001,"U14",null,"BSA",999.99,999.99]
[22086,"DRUMMOND","Miranda","F",2002,"U14",null,"BSA",999.99,999.99]
[20620,"LEGEAIS","Marion","F",1998,"U18",null,"BSA",999.99,999.99]
[19831,"LISMORE","Sophie","F",1999,"U16",null,"BSA",999.99,999.99]
[19453,"LOEFFEN-GALLAGHER","Hannah","F",2000,"U16",null,"BSA",999.99,999.99]
[21392,"RAMPTON","Clementine","F",2001,"U14",null,"BSA",999.99,999.99]
[17803,"RICHARDS","Camille","F",1998,"U18",null,"BSA",999.99,999.99]
[21403,"SLADE","Hattie","F",1998,"U18",null,"BSA",999.99,999.99]
[21404,"SLADE","Isobel","F",1999,"U16",null,"BSA",999.99,999.99]
[20974,"BEAVIS","Riley","M",2002,"U14",null,"BSA",999.99,999.99]
[21886,"HILLMAN","Ben","M",2002,"U14",null,"BSA",999.99,999.99]
[21882,"HILLMAN","Luke","M",2001,"U14",null,"BSA",999.99,999.99]
[21562,"KEYS","Alexander","M",1998,"U18",null,"BSA",999.99,999.99]
[19830,"LISMORE","Jake","M",1997,"U18",null,"BSA",999.99,999.99]
[21401,"MATHER","Fred","M",2001,"U14",null,"BSA",999.99,999.99]
[21479,"MORGAN","Jonathan","M",1999,"U16",null,"BSA",999.99,999.99]
[20377,"O'NEILL","Jack","M",1999,"U16",null,"BSA",999.99,999.99]
[19796,"RICHARDS","Alexandre","M",2002,"U14",null,"BSA",999.99,999.99]
[21895,"RILEY","Joshua","M",1999,"U16",null,"BSA",999.99,999.99]
[21896,"RILEY","Thomas","M",2001,"U14",null,"BSA",999.99,999.99]
[20398,"TARANTELLI","Leone","M",1999,"U16",null,"BSA",999.99,999.99]
[20399,"TARANTELLI","Uberto","M",2000,"U16",null,"BSA",999.99,999.99]
[20290,"WILLS","Angus","M",1999,"U16",null,"BSA",999.99,999.99]
[22031,"GRANT","Amelia","F",2003,"U12",null,"BSA",999.99,999.99]
[21053,"GRANT","Isabelle","F",2003,"U12",null,"BSA",999.99,999.99]
[21966,"O'NEILL","Kita","F",2005,"U10",null,"BSA",999.99,999.99]
[20945,"O'NEILL","Maeve","F",2003,"U12",null,"BSA",999.99,999.99]
[22053,"JENNISON","Alexandre","M",2003,"U12",null,"BSA",999.99,999.99]
[21801,"KANE","Heathcliffe","M",2003,"U12",null,"BSA",999.99,999.99]
[21393,"RAMPTON","Thomas","M",2003,"U12",null,"BSA",999.99,999.99]
[21405,"SLADE","Ted","M",2003,"U12",null,"BSA",999.99,999.99]
[31452,"HAYWARD","Euan","M",1999,"U16","BSA","BSC",999.99,999.99]
[21536,"PARKER","Julia","F",1963,"MAS","VIK","CAD",999.99,999.99]
[41952,"RONAN","Eleanor","F",2000,"U16","SCI","CHL",370.93,370.93]
[19624,"SYMONS","Daniel","M",1995,"U21","CHT","CHT",81.8,81.8]
[10596,"BUNTON","Paul","M",1963,"MAS","CHT","CHT",122.87,122.87]
[20167,"COMELIO","Sebastian","M",2002,"U14","AVO","DHO",999.99,999.99]
[21710,"YUNG","HauTak","M",2002,"U14","BRS","DHO",999.99,999.99]
[21709,"YUNG","Adrian","M",2004,"U12","BRS","DHO",999.99,999.99]
[21150,"KARAVASILI","Zoe","F",1997,"U18","DHO","DHO",73.14,87.85]
[17950,"TODD-SAUNDERS","Samuel","M",1996,"U21","DHO","DHO",100.61,100.61]
[21149,"KARAVASILI","Leo","M",1999,"U16","DHO","DHO",158.79,158.79]
[17385,"STAMMERS","Benjamin","M",1995,"U21","DHO","DHO",445.21,445.21]
[19440,"ADAMS","Sarah","F",1997,"U18","DHO","DHO",999.99,999.99]
[20800,"DALE","Safia","F",2000,"U16","DHO","DHO",999.99,999.99]
[21785,"LEWITT","Isabelle","F",2001,"U14","DHO","DHO",999.99,999.99]
[21518,"MOONEY","Philippa","F",1999,"U16","DHO","DHO",999.99,999.99]
[17717,"STAMMERS","Sophie","F",1998,"U18","DHO","DHO",999.99,999.99]
[21889,"STOWELL","Susanna","F",2001,"U14","DHO","DHO",999.99,999.99]
[17951,"TODD-SAUNDERS","Helen","F",1999,"U16","DHO","DHO",999.99,999.99]
[20815,"DOYLE","Harrison","M",2000,"U16","DHO","DHO",999.99,999.99]
[20887,"LEAVITT","Samuel","M",1998,"U18","DHO","DHO",999.99,999.99]
[20922,"LEAVITT","William","M",1998,"U18","DHO","DHO",999.99,999.99]
[19791,"LOGUT","George-Louis","M",1996,"U21","DHO","DHO",999.99,999.99]
[20782,"MOONEY","Hugo","M",1997,"U18","DHO","DHO",999.99,999.99]
[20102,"PERETZ","Adi","M",1998,"U18","DHO","DHO",999.99,999.99]
[21922,"CHOHAN","Zacariya","M",2005,"U10","DHO","DHO",999.99,999.99]
[18807,"MROZ","Dominik","M",1993,"SEN","ESX","DHO",317.45,999.99]
[21103,"WILLIAMS-GRAVENER","David","M",2001,"U14","FLK","DHO",230.29,261.81]
[14344,"PORTER","Tobias","M",1993,"SEN","FLK","DHO",140.94,140.94]
[20122,"RABEY","Judson","M",2000,"U16","HEM","DHO",221.08,221.08]
[21923,"CHERRY","Tom","M",1996,"U21","HEM","DHO",999.99,999.99]
[12318,"DU PLESSIS","Andrew","M",1985,"SEN","MID","DHO",23.04,23.04]
[17893,"SEELEY","Grace","F",1995,"U21","RAV","DHO",466.63,466.63]
[17892,"SEELEY","Julia","F",1993,"SEN","RAV","DHO",481.91,481.91]
[8242,"ALCOTT","Chimene","F",1982,"MAS","SPR","DHO",177.16,177.16]
[18481,"ROTH","Phoebe","F",1994,"U21",null,"DHO",113.82,999.99]
[19990,"ASHMAN","Alexander","M",2000,"U16",null,"DHO",233.18,233.18]
[18990,"DONNELLON","Amy","F",1994,"U21",null,"DHO",999.99,999.99]
[21771,"FAIRHEAD","Iona","F",2000,"U16",null,"DHO",999.99,999.99]
[21940,"GALBRAITH","Clare","F",1963,"MAS",null,"DHO",999.99,999.99]
[21949,"GALBRAITH","Helena","F",2000,"U16",null,"DHO",999.99,999.99]
[21277,"MILLARD","Paige","F",2002,"U14",null,"DHO",999.99,999.99]
[21578,"YUNG","Catherine","F",1998,"U18",null,"DHO",999.99,999.99]
[21891,"BRANDT","Orlando","M",2001,"U14",null,"DHO",999.99,999.99]
[20315,"DERU","Joshua","M",1996,"U21",null,"DHO",999.99,999.99]
[21533,"DINGLE","Dominic","M",1996,"U21",null,"DHO",999.99,999.99]
[21532,"DINGLE","Timothy","M",1998,"U18",null,"DHO",999.99,999.99]
[12317,"DU PLESSIS","Stephen","M",1987,"SEN",null,"DHO",999.99,999.99]
[18246,"DUNHILL","Harry","M",1992,"SEN",null,"DHO",999.99,999.99]
[21529,"GILKINSON","Jake","M",1995,"U21",null,"DHO",999.99,999.99]
[21546,"LUKE","Charlie","M",2000,"U16",null,"DHO",999.99,999.99]
[21276,"MILLARD","Oliver","M",2000,"U16",null,"DHO",999.99,999.99]
[20125,"MYRSEP-FRANCE","Nicholas","M",1998,"U18",null,"DHO",999.99,999.99]
[14252,"NISBET","Angus","M",1993,"SEN",null,"DHO",999.99,999.99]
[20975,"OHARA","Mizuki","M",1998,"U18",null,"DHO",999.99,999.99]
[21415,"RASHCHUPKIN","Maxim","M",2002,"U14",null,"DHO",999.99,999.99]
[17818,"SHERRAS","Andrew","M",1995,"U21",null,"DHO",999.99,999.99]
[17819,"SHERRAS","Richard","M",1997,"U18",null,"DHO",999.99,999.99]
[20477,"STORER","James","M",1998,"U18",null,"DHO",999.99,999.99]
[21892,"BRANDT","Honor","F",2005,"U10",null,"DHO",999.99,999.99]
[20479,"STORER","Toby","M",2003,"U12",null,"DHO",999.99,999.99]
[19986,"USHER","Annie","F",1997,"U18","ASR","DRA",31.63,24.62]
[41480,"HOPKINS","Emily","F",1994,"U21","CAR","DRA",3.42,3.42]
[41274,"HALES","Alice","F",1992,"SEN","CAR","DRA",3.75,3.75]
[41182,"HALES","Thomas","M",1990,"SEN","CAR","DRA",5.63,5.32]
[41273,"HALES","Robert","M",1960,"MAS","CAR","DRA",61.58,55.31]
[41650,"SELLWOOD","Thomas","M",1996,"U21","CAR","DRA",98.98,67.12]
[41710,"CONSTANTINE","Joseph","M",2000,"U16","CAR","DRA",122.82,123.51]
[41816,"HYETT","Georgia","F",2000,"U16","CAR","DRA",150.21,127.45]
[41042,"WATSON","Andrew","M",1991,"SEN","CAR","DRA",0.41,0.41]
[41880,"HOPKINS","Harry","M",1999,"U16","CAR","DRA",155.06,155.06]
[41735,"CONSTANTINE","Benjamin","M",2003,"U12","CAR","DRA",999.99,999.99]
[41661,"THOMAS","Cyffin","M",2000,"U16","DRA","DRA",203.46,266.12]
[13838,"FRASER HAFTER","Fergus","M",1992,"SEN","DRA","DRA",448.5,448.5]
[41990,"CASHMORE","Edward","M",2001,"U14","EXD","DRA",225.45,217.58]
[41991,"CASHMORE","William","M",1998,"U18","EXD","DRA",243.43,205.03]
[41007,"GODDARD","Emily","F",1987,"SEN","GLO","DRA",24.64,24.64]
[41705,"HALLETT","Georgia","F",1996,"U21","GLO","DRA",24.96,23.97]
[19414,"DANNATT","Gemma","F",1996,"U21","GLO","DRA",76.08,76.08]
[19197,"PENHALE","Emma","F",2000,"U16","GLO","DRA",140.75,101.53]
[41837,"PRICE","Rhys","M",2001,"U14","GLO","DRA",201.19,180.93]
[17351,"DANNATT","Tim","M",1994,"U21","GLO","DRA",65,65]
[18676,"COOPER","Georgina","F",1996,"U21","GLO","DRA",71.180000000000007,71.180000000000007]
[41124,"JEAL","Alex","M",1990,"SEN","GLO","DRA",15.06,15.06]
[19051,"WEEKS","Oliver","M",2001,"U14","MID","DRA",70.989999999999995,70.989999999999995]
[18033,"THOMAS","Elisabeth","F",1996,"U21","MID","DRA",72.7,72.7]
[17888,"DELLER","Lucy","F",1996,"U21","MID","DRA",25.68,25.68]
[19941,"LAWRENCE","Thomas","M",1999,"U16","MID","DRA",144.61000000000001,144.61000000000001]
[14746,"LAMBDEN","Sarah","F",1995,"U21","MSR","DRA",2.5,2.5]
[14747,"OGDEN","Sophie","F",1996,"U21","MSR","DRA",4.4800000000000004,4.4800000000000004]
[17919,"RICHARDSON","Charles","M",1992,"SEN","MSR","DRA",14.73,14.73]
[13792,"KNOWLES","Michael","M",1995,"U21","MSR","DRA",32.97,32.97]
[19574,"MARTIN","Matthew","M",1995,"U21","MSR","DRA",39.96,42.98]
[18088,"RICHARDSON","George","M",1997,"U18","MSR","DRA",47.37,61.03]
[19781,"POTTER","Shannon","F",2001,"U14","MSR","DRA",62.21,78.58]
[41877,"GALE","Rhodri","M",1999,"U16","MSR","DRA",76.41,81.77]
[19019,"MCGREGOR-OGDEN","Cameron","M",2000,"U16","MSR","DRA",81.48,83.83]
[19569,"RASCAGNERES","Thomas","M",2000,"U16","MSR","DRA",79.34,87.89]
[13773,"TEE","David","M",1990,"SEN","MSR","DRA",42.98,42.98]
[19338,"MORTON","Sofia","F",1996,"U21","MSR","DRA",65.349999999999994,65.349999999999994]
[20173,"MCGREGOR-OGDEN","Holly","F",2003,"U12","MSR","DRA",999.99,999.99]
[41495,"PIERCE","Zac","M",1997,"U18","PND","DRA",255.62,255.62]
[18916,"FARR","Oliver","M",1995,"U21","PPS","DRA",29.16,34.03]
[20193,"BROWN","Cameron","M",1998,"U18","PPS","DRA",51.07,51.07]
[21107,"CARSON","Sam","M",1999,"U16","PPS","DRA",58.07,78.459999999999994]
[20717,"HALLETT","Jacob","M",1999,"U16","PPS","DRA",84.87,97.97]
[19585,"BLACK","Oliver","M",2001,"U14","PPS","DRA",151.69999999999999,153.69999999999999]
[21156,"COATES","Joseph","M",2000,"U16","PPS","DRA",181.71,181.71]
[20132,"BLACK","Grace","F",2003,"U12","PPS","DRA",999.99,999.99]
[18863,"HENERY","Deborah","F",1997,"U18","SHK","DRA",21.74,21.74]
[12972,"HEAVERSEDGE","Antony","M",1987,"SEN","SHK","DRA",48.53,999.99]
[42020,"HODDER","Lowri","F",1999,"U16","TOR","DRA",305.8,274.81]
[41719,"BUTTERWORTH","Thomas","M",2002,"U14","WWS","DRA",261.33999999999997,156.33000000000001]
[41721,"BUTTERWORTH","Daniel","M",1996,"U21","WWS","DRA",66.430000000000007,66.430000000000007]
[41966,"HODSON","Steffan","M",2005,"U10","WWS","DRA",999.99,999.99]
[41826,"BONNINGTON","Keira","F",2002,"U14",null,"DRA",999.99,999.99]
[19503,"LAWSON-TILLEY","Sarah","F",1994,"U21",null,"DRA",999.99,999.99]
[21272,"TILLEY","Katherine","F",2001,"U14",null,"DRA",999.99,999.99]
[41410,"PRITCHARD","Ray","M",1965,"MAS",null,"DRA",999.99,999.99]
[41967,"BONNINGTON","Chay","M",2005,"U10",null,"DRA",999.99,999.99]
[31424,"MUIR","Jimmy","M",2002,"U14","ASC","DSC",999.99,999.99]
[31426,"MUIR","Fiona","F",2006,"U10","ASC","DSC",999.99,999.99]
[31425,"MUIR","Kirsty","F",2004,"U12","ASC","DSC",999.99,999.99]
[20484,"BAILES","Max","M",1999,"U16","ESX","ELI",199.06,199.06]
[20805,"BAILES","Lucy","F",2001,"U14","ESX","ELI",295.49,295.49]
[21875,"HADDEN","Alexander","M",2001,"U14","ESX","ELI",999.99,999.99]
[19712,"BOTY","Carys","F",1999,"U16","HEM","ELI",130.43,130.43]
[21334,"BOTY","Nia","F",2003,"U12","HEM","ELI",999.99,999.99]
[21604,"OGDEN","Alexander","M",2005,"U10","NOR","ELI",999.99,999.99]
[20884,"THOMPSON","Joseph","M",2003,"U12","NOR","ELI",999.99,999.99]
[19504,"BROOKER","Lolli","F",2001,"U14","VIK","ELI",94.92,94.92]
[9379,"PROUDLOVE","Andrew","M",1958,"MAS","BRO","EVO",187.93,187.93]
[12458,"TELLING","Paul","M",1982,"MAS","EVO","EVO",34.03,34.03]
[13784,"BAGGIO","Max","M",1995,"U21","EVO","EVO",45.49,45.49]
[18382,"MEAD","Darcie","F",1996,"U21","EVO","EVO",47.69,47.69]
[20367,"BRUCE","Abigail","F",2000,"U16","EVO","EVO",102.67,102.67]
[20368,"BRUCE","Sasha","F",1999,"U16","EVO","EVO",129.72,129.72]
[21495,"WASHER","Piers","M",1998,"U18","EVO","EVO",138.97,138.97]
[18235,"TAYLOR","Isadora","F",1997,"U18","EVO","EVO",234.75,234.75]
[20603,"DIXON","Rory","M",1999,"U16","EVO","EVO",322.79000000000002,322.79000000000002]
[12428,"BAGGIO","Jayme","F",1991,"SEN","EVO","EVO",999.99,999.99]
[11941,"FAIRWEATHER","Sega","F",1990,"SEN","EVO","EVO",999.99,999.99]
[10812,"HUNT","Georgie","M",1984,"MAS","HEM","EVO",6.14,7.27]
[20972,"HUGEC","Nicole","F",2000,"U16","HEM","EVO",92.3,97.27]
[20832,"CALDWELL","Patrick","M",2000,"U16","HEM","EVO",116.47,132.02000000000001]
[20833,"CALDWELL","Anna","F",2002,"U14","HEM","EVO",157.79,999.99]
[20971,"HUGEC","Nadine","F",2002,"U14","HEM","EVO",154.54,999.99]
[20256,"DANENBERGSONS","Shana","F",2000,"U16","HEM","EVO",69.16,69.16]
[20761,"LEE","Dexter","M",2000,"U16","HEM","EVO",93.06,93.06]
[19510,"LOWE","Jordan","M",1998,"U18","HEM","EVO",213.67,213.67]
[21795,"MAGENES","Caterina","F",2000,"U16","HEM","EVO",999.99,999.99]
[19737,"O'BRIEN","Seamus","M",2002,"U14","MID","EVO",142.41,999.99]
[19531,"DANIELS","Daisi","F",2002,"U14","MSR","EVO",95.78,999.99]
[19275,"GREAVES","Rebecca","F",1999,"U16","MSR","EVO",144.13999999999999,144.13999999999999]
[18316,"CLISSOLD","Honor","F",1997,"U18","RAV","EVO",191.53,191.53]
[20253,"MATHEW","Oliver","M",2002,"U14","AVO","EXD",999.99,872.1]
[20146,"TAYLOR-TIPTON","Curtis","M",1996,"U21","FF","FF",233.12,233.12]
[20147,"TAYLOR-TIPTON","Justin","M",2000,"U16","FF","FF",239.23,239.23]
[21261,"TAYLOR-TIPTON","Ella","F",2004,"U12","FF","FF",999.99,999.99]
[21373,"FRY","Bradley","M",2005,"U10","FF","FF",999.99,999.99]
[19084,"BROWN","Thomas","M",1998,"U18","CHT","FLK",212.61,212.61]
[21204,"MIDSON","Poppy","F",2001,"U14","FLK","FLK",162.81,162.81]
[21205,"MIDSON","Molly","F",2003,"U12","FLK","FLK",999.99,999.99]
[19083,"BROWN","Jack","M",1995,"U21","GLO","FLK",53.19,53.19]
[30664,"ANGUS","Kate","F",1994,"U21","SSC","GDN",307.83,307.83]
[36608,"DUNCAN","Ruaraidh","M",2001,"U14","SSC","GDN",999.99,999.99]
[21811,"WELLS","Oliver","M",1994,"U21","HEM","GLO",999.99,68.53]
[20851,"BLOOM","Adam","M",1973,"MAS","WCS","GLO",100.85,100.85]
[20852,"BLOOM","Ryan","M",2001,"U14","WCS","GLO",136.66,132.22999999999999]
[36616,"CURRIE","Findlay","M",2001,"U14","BSC","GSC",999.99,999.99]
[36615,"CURRIE","Fergus","M",2005,"U10","BSC","GSC",999.99,999.99]
[31004,"MACWILLIAM","David","M",1996,"U21","BSC","GSR",72.290000000000006,72.290000000000006]
[31065,"SANDIESON","Cal","M",1998,"U18","BSC","GSR",999.99,999.99]
[30872,"JACKSON","Laura","F",1997,"U18","SSC","GSR",61.84,66.08]
[30711,"PRICE","Graeme","M",1995,"U21","SSC","GSR",63.81,63.85]
[30959,"ROFE","Thomas","M",1998,"U18","SSC","GSR",124.91,124.91]
[30927,"PRICE","Rhona","F",1999,"U16","SSC","GSR",138.06,138.06]
[30925,"STURROCK","Fraser","M",1997,"U18","SSC","GSR",140.85,140.85]
[30909,"BINGHAM","Sion","M",1997,"U18","SSC","GSR",158.87,201.69]
[21712,"CHAPLIN","Brendon","M",1996,"U21","BRS","HEM",297.33,297.33]
[21879,"LEES","James","M",2001,"U14","BSA","HEM",999.99,999.99]
[21878,"LEES","Nadia","F",2003,"U12","BSA","HEM",999.99,999.99]
[17467,"TREBILCOCK","Robert","M",1993,"SEN","HEM","HEM",13.23,13.58]
[14856,"GRANT","Thomas","M",1996,"U21","HEM","HEM",33.01,33.729999999999997]
[14809,"GREENFIELD","Max","M",1994,"U21","HEM","HEM",49.53,59.8]
[20376,"GOSS","Alfie","M",1999,"U16","HEM","HEM",150.57,572.45000000000005]
[22082,"HAWKINS","Zara","F",2001,"U14","HEM","HEM",999.99,190.45]
[19639,"BARTON","Daniel","M",1998,"U18","HEM","HEM",49.25,49.25]
[18661,"WARMINGTON","Richard","M",1997,"U18","HEM","HEM",73.569999999999993,73.569999999999993]
[20655,"SHOOTER","Hope","F",1993,"SEN","HEM","HEM",119.52,119.52]
[9129,"URQUHART","John","M",1968,"MAS","HEM","HEM",138.44999999999999,138.44999999999999]
[21219,"DEAN","Emily","F",1999,"U16","HEM","HEM",138.97,138.97]
[21188,"PARKES","Michael","M",1989,"SEN","HEM","HEM",143.43,143.43]
[20439,"STEVENS","Annecy","F",2000,"U16","HEM","HEM",193.12,193.12]
[21145,"WATERSTON","Laughlan","M",1971,"MAS","HEM","HEM",255.98,255.98]
[20890,"DAVIES","Megan","F",2001,"U14","HEM","HEM",262.36,262.36]
[21660,"NEUMANN","Sophie","F",1998,"U18","HEM","HEM",282.95,282.95]
[21196,"URQUHART","Colm","M",2001,"U14","HEM","HEM",416.92,416.92]
[22075,"CLARKE","Roisin","F",2002,"U14","HEM","HEM",999.99,999.99]
[22083,"HAWKINS","Danielle","F",2001,"U14","HEM","HEM",999.99,999.99]
[22084,"HAWKINS","Lily","F",2001,"U14","HEM","HEM",999.99,999.99]
[22049,"PETERSON","Amy","F",1999,"U16","HEM","HEM",999.99,999.99]
[21950,"STEVENS","Holly","F",1968,"MAS","HEM","HEM",999.99,999.99]
[20813,"TOH","Isabel","F",2000,"U16","HEM","HEM",999.99,999.99]
[21809,"TUTT","Anna","F",1974,"MAS","HEM","HEM",999.99,999.99]
[20725,"WARMINGTON","Harriet","F",2002,"U14","HEM","HEM",999.99,999.99]
[22091,"WOLOSZCZUK","Lucy","F",2001,"U14","HEM","HEM",999.99,999.99]
[21808,"ARLOTT","Martin","M",1971,"MAS","HEM","HEM",999.99,999.99]
[22025,"EDWARDES","Henry","M",1993,"SEN","HEM","HEM",999.99,999.99]
[22056,"SCHLOTE","Harry","M",2000,"U16","HEM","HEM",999.99,999.99]
[19077,"THURSFIELD","Emrys","M",1999,"U16","HEM","HEM",999.99,999.99]
[20811,"TOH","Alexander","M",2000,"U16","HEM","HEM",999.99,999.99]
[20812,"TOH","James","M",2000,"U16","HEM","HEM",999.99,999.99]
[22183,"PHIPPEN","Chris","M",1973,"MAS","HEM","HEM",999.99,999.99]
[20441,"STEVENS","Lilyella","F",2002,"U14","HEM","HEM",999.99,379.9]
[22110,"FAIRFULL","Madeleine","F",2006,"U10","HEM","HEM",999.99,999.99]
[21925,"MCLEISH","Emily","F",2003,"U12","HEM","HEM",999.99,999.99]
[20440,"STEVENS","Cordelia","F",2005,"U10","HEM","HEM",999.99,999.99]
[21719,"THOMAS","Sophie","F",2003,"U12","HEM","HEM",999.99,999.99]
[22076,"CLARKE","Alec","M",2004,"U12","HEM","HEM",999.99,999.99]
[22077,"CLARKE","Conall","M",2006,"U10","HEM","HEM",999.99,999.99]
[22088,"FAIRFULL","Max","M",2003,"U12","HEM","HEM",999.99,999.99]
[22026,"LOUTH","Oscar","M",2005,"U10","HEM","HEM",999.99,999.99]
[21707,"TAMANA","Hari","M",2003,"U12","HEM","HEM",999.99,999.99]
[21197,"URQUHART","Aidan","M",2004,"U12","HEM","HEM",999.99,999.99]
[14855,"GRANT","James","M",1994,"U21","LSU","HEM",24.53,24.53]
[22120,"BUTLER","Molly","F",2006,"U10","SAS","HEM",999.99,999.99]
[22060,"HUTCHINGS","Daniel","M",2005,"U10","SAS","HEM",999.99,999.99]
[20345,"GARMENT","Harriett","F",2000,"U16","WGC","HEM",465.82,465.82]
[21366,"LYONS","Alan","M",1965,"MAS",null,"HEM",221.64,221.64]
[21700,"MAGENES","Matilde","F",2002,"U14",null,"HEM",999.99,999.99]
[21411,"BUTLER","Simon","M",1962,"MAS",null,"HEM",999.99,999.99]
[21641,"WARNER","Hugo","M",2002,"U14",null,"HEM",999.99,999.99]
[22061,"MCGONIGAL","Cordelia","F",2003,"U12",null,"HEM",999.99,999.99]
[21708,"JAYARAJ","Jacob","M",2003,"U12",null,"HEM",999.99,999.99]
[20995,"SANDLER","Jameson","M",2003,"U12",null,"HEM",999.99,999.99]
[22186,"BENNETT","Harry","M",2004,"U12",null,"HEM",999.99,999.99]
[10660,"WALSH","Carrie","F",1963,"MAS","ALD","IMP",178.34,178.34]
[21167,"BANNISTER","Callum","M",1998,"U18","AVO","IMP",155.68,155.68]
[18996,"WHITTALL","Joseph","M",1995,"U21","BRS","IMP",158.19,158.19]
[41565,"EVANS","Emile","M",1996,"U21","CAR","IMP",31.94,31.94]
[19419,"WRIGHT","Alexander","M",1994,"U21","GLO","IMP",108.59,108.59]
[21349,"WANG","Alison","F",1980,"MAS","HEM","IMP",189.05,189.05]
[21545,"WANG","Matt","M",1983,"MAS","HEM","IMP",210.53,219.51]
[19361,"DEIGHTON","Oliver","M",1997,"U18","HEM","IMP",79.209999999999994,79.209999999999994]
[13289,"FLAHIVE","Niall","M",1993,"SEN","HEM","IMP",86.99,86.99]
[2743,"BROWN","Phil","M",1966,"MAS","HEM","IMP",216.42,216.42]
[20554,"DAVIES","Morgan","M",1999,"U16","HEM","IMP",223.81,223.81]
[20178,"DEIGHTON","Avelline","F",1967,"MAS","HEM","IMP",236.41,236.41]
[21657,"REES","Edward","M",1961,"MAS","IMP","IMP",297.82,297.82]
[21664,"MCCORMICK","John","M",1975,"MAS","IMP","IMP",326.95999999999998,326.95999999999998]
[21654,"IMAMZADE","Murat","M",1982,"MAS","IMP","IMP",999.99,999.99]
[41481,"FLAHIVE","Gerard","M",1992,"SEN","LSU","IMP",7.13,7.13]
[41722,"RIGBY","Jack","M",1995,"U21","MID","IMP",42.49,50.4]
[19910,"RIGBY","Jordan","M",2000,"U16","MID","IMP",111.82,111.82]
[18022,"WILLIAMS","Sam","M",1997,"U18","SAS","IMP",85.77,151.54]
[41908,"HANNA","Jordan","M",1998,"U18","SCI","IMP",130.9,130.9]
[19443,"SEAMAN","Michael","M",1986,"SEN","SZR","IMP",98.19,103.91]
[17126,"FITZPATRICK","Alexander","M",1994,"U21",null,"IMP",77.7,863.19]
[20302,"BASTOW","Milo","M",1997,"U18",null,"IMP",999.99,999.99]
[21860,"DRUMMOND","Thomas","M",1998,"U18",null,"IMP",999.99,999.99]
[17320,"RICCERI","Oliver","M",1995,"U21",null,"IMP",999.99,999.99]
[19638,"GASKIN","Sam","M",2000,"U16","BRO","K",306.05,306.05]
[21056,"SULEYMAN","Ata","M",2002,"U14","BRO","K",999.99,999.99]
[9694,"CLARK","Benjamin","M",1985,"SEN","BRO","K",27.87,27.87]
[14949,"MORGAN","Brad","M",1991,"SEN","BSA","K",20.41,20.41]
[4944,"HATCHER","Kirsty","F",1991,"SEN","CAR","K",42.03,42.03]
[13765,"EVANS","Charlotte","F",1991,"SEN","CHT","K",45.6,45.6]
[21485,"RHODES","Austin","M",1998,"U18","CHT","K",999.99,999.99]
[21484,"RHODES","Morgan","M",1998,"U18","CHT","K",999.99,999.99]
[12797,"CURTIS","Daniel","M",1991,"SEN","ESX","K",33.56,33.56]
[14575,"POTH","Robert","M",1997,"U18","HEM","K",0,13.07]
[13647,"THOMPSON","Matthew","M",1993,"SEN","HEM","K",3.71,3.71]
[19711,"PENNING-LAMBERT","Joshua","M",1998,"U18","HEM","K",53.89,53.89]
[19160,"HENDERSON","Tom","M",1996,"U21","HEM","K",101.43,104.33]
[20643,"TREW","Eleanor","F",1999,"U16","HEM","K",119.52,119.52]
[20644,"TREW","Isobel","F",1999,"U16","HEM","K",125.09,125.09]
[20645,"TREW","Richard","M",2000,"U16","HEM","K",140.69,140.69]
[19710,"PENNING- LAMBERT","Matthew","M",1996,"U21","HEM","K",146.51,146.51]
[20184,"NEWTON","William","M",2000,"U16","HEM","K",216.45,216.45]
[21059,"CHMIELOWSKA","Claudia","F",1998,"U18","HEM","K",999.99,999.99]
[21129,"LODER","Angus","M",2002,"U14","HEM","K",999.99,999.99]
[21194,"NEWTON","Charlie","M",2003,"U12","HEM","K",999.99,999.99]
[21501,"LEACH","Freddie","M",2002,"U14","HEM","K",999.99,999.99]
[14276,"JESSE","Zak","M",1994,"U21","IMP","K",352.01,521.29]
[20568,"COLEMAN","Arthur","M",1999,"U16","K","K",999.99,999.99]
[20816,"GROGAN","Max","M",2001,"U14","K","K",999.99,999.99]
[19857,"HETHERINGTON","George","M",1999,"U16","K","K",999.99,999.99]
[19856,"HETHERINGTON","Thomas","M",1995,"U21","K","K",999.99,999.99]
[21483,"MANET","Conrad","M",1998,"U18","K","K",999.99,999.99]
[19801,"SHAW","James","M",1998,"U18","K","K",999.99,999.99]
[19612,"WHITLEY","James","M",1997,"U18","K","K",999.99,999.99]
[18813,"WILLIAMS","Marcus","M",1996,"U21","NOR","K",999.99,999.99]
[10659,"RYDING","David","M",1986,"SEN","PND","K",46.6,46.6]
[41940,"MCCORMACK","Matthew","M",1998,"U18","SCI","K",114.11,136.88999999999999]
[13403,"TUCKER","Colin","M",1946,"MAS","SLP","K",989,989]
[14159,"ANDERSON","Beverley","F",1970,"MAS","VIK","K",67.87,67.87]
[10372,"ANDERSON","Christopher","M",1959,"MAS","VIK","K",163.66999999999999,163.66999999999999]
[14251,"NISBET","Kit","M",1990,"SEN",null,"K",166.85,999.99]
[12357,"SIMONDS","Franki","F",1990,"SEN",null,"K",19.7,19.7]
[10641,"DRAKE","Edward","M",1986,"SEN",null,"K",116.77,116.77]
[18918,"BINGLE-WILLIAMS","Katya","F",1999,"U16",null,"K",999.99,999.99]
[18919,"BINGLE-WILLIAMS","Lucy","F",2000,"U16",null,"K",999.99,999.99]
[20096,"BINGLE-WILLIAMS","Natasha","F",2002,"U14",null,"K",999.99,999.99]
[19535,"GORDON","Maya","F",1995,"U21",null,"K",999.99,999.99]
[18472,"STEVENSON","Elizabeth","F",1990,"SEN",null,"K",999.99,999.99]
[20308,"AGNEW","George","M",1999,"U16",null,"K",999.99,999.99]
[18917,"BINGLE-WILLIAMS","Christian","M",1998,"U18",null,"K",999.99,999.99]
[14871,"BULLEN","Robert","M",1989,"SEN",null,"K",999.99,999.99]
[17336,"FRENCH","James","M",1992,"SEN",null,"K",999.99,999.99]
[21517,"LUNN","Jake","M",2001,"U14",null,"K",999.99,999.99]
[17831,"MOYNIHAN","Nicholas","M",1994,"U21",null,"K",999.99,999.99]
[20379,"RAY","Matthew","M",1999,"U16",null,"K",999.99,999.99]
[20879,"ROBERTS","Henry","M",1999,"U16",null,"K",999.99,999.99]
[18513,"SAUNDERS","Gregory","M",1995,"U21",null,"K",999.99,999.99]
[18471,"STEVENSON","James","M",1994,"U21",null,"K",999.99,999.99]
[14808,"STRONG","Louis","M",1996,"U21",null,"K",999.99,999.99]
[14807,"STRONG","Oliver","M",1994,"U21",null,"K",999.99,999.99]
[22017,"HETHERINGTON","Max","M",2004,"U12",null,"K",999.99,999.99]
[20311,"DAVIS","Ethan","M",2001,"U14","KF","KF",999.99,999.99]
[9107,"LONSDALE","Emma","F",1984,"MAS","KND","KND",999.99,999.99]
[20314,"PETERS","Jack","M",1993,"SEN","HEM","LIO",258.74,999.99]
[17078,"HELLIWELL","Steven","M",1994,"U21","LIO","LIO",29.37,89.54]
[14382,"PARKER","Olivia","F",1993,"SEN","LIO","LIO",29.05,60.59]
[11570,"FREEMAN","Edward","M",1989,"SEN","LIO","LIO",39.700000000000003,153.91]
[20317,"WALTON","Kirsten","F",2000,"U16","LIO","LIO",54.53,88.21]
[5370,"HJORT","Andrew","M",1965,"MAS","LIO","LIO",67.64,73.290000000000006]
[20144,"BRIDGE","Oliver","M",1999,"U16","LIO","LIO",62.35,69.22]
[20143,"BRIDGE","Dominic","M",2001,"U14","LIO","LIO",94.2,97.67]
[21300,"CURRAN","John","M",1966,"MAS","LIO","LIO",231.62,999.99]
[21369,"SURMAN","Jake","M",1974,"MAS","LIO","LIO",234.05,283.97000000000003]
[21152,"DAVEY","Nathan","M",2001,"U14","LIO","LIO",223.77,257.19]
[21163,"HENDLEY","Sian","F",2000,"U16","LIO","LIO",323.5,375.25]
[20860,"BURTON","Maisie","F",2002,"U14","LIO","LIO",108.04,999.99]
[22127,"PULLAN","Aimee","F",2000,"U16","LIO","LIO",410.27,999.99]
[21968,"SULLIVAN","Ella","F",2002,"U14","LIO","LIO",378.62,999.99]
[18505,"PEXTON","Georgia","F",2000,"U16","LIO","LIO",96.16,132.28]
[10654,"BECK","Hannah","F",1987,"SEN","LIO","LIO",112.91,224.32]
[10612,"BECK","Catherine","F",1960,"MAS","LIO","LIO",138.94,271.10000000000002]
[20936,"HALL","Maria","F",1995,"U21","LIO","LIO",170.03,999.99]
[8747,"SWINDELLS","Robert","M",1965,"MAS","LIO","LIO",189.33,252.86]
[20901,"BOYCOTT","Nina","F",2000,"U16","LIO","LIO",251.24,999.99]
[20994,"SMITH","Simon","M",1974,"MAS","LIO","LIO",362.65,999.99]
[19070,"BENNETT","Russell","M",1973,"MAS","LIO","LIO",999.99,999.99]
[20700,"BENNETT","Grace","F",2005,"U10","LIO","LIO",999.99,999.99]
[20741,"WALTON","Mya","F",2004,"U12","LIO","LIO",999.99,999.99]
[19683,"BENNETT","Elliott","M",2003,"U12","LIO","LIO",999.99,999.99]
[22125,"BROWN","Joseph","M",2004,"U12","LIO","LIO",999.99,999.99]
[21666,"ELLIS","Lucas","M",2004,"U12","LIO","LIO",999.99,999.99]
[22123,"SUNDIN","Jacob","M",2006,"U10","LIO","LIO",999.99,999.99]
[19985,"THORNTON","Adam","M",2003,"U12","LIO","LIO",999.99,999.99]
[19002,"PETERS","Emma","F",1997,"U18","MSR","LIO",12.7,43.74]
[20544,"HINCHLIFFE","Jack","M",1997,"U18","PPS","LIO",99.25,99.25]
[18013,"WILCOCKSON","Melanie","F",1991,"SEN","PPS","LIO",77.150000000000006,83.01]
[17043,"TOMLINSON","Josef","M",1994,"U21","PPS","LIO",96.18,96.18]
[18745,"WEBSDALE","Cara","F",1997,"U18","RAV","LIO",158.58000000000001,999.99]
[18862,"HENERY","Sam","M",1995,"U21","SHK","LIO",128.13999999999999,156.77000000000001]
[18638,"BISHOP","Angus","M",1995,"U21","SHK","LIO",195.79,195.79]
[18729,"HENERY","David","M",1963,"MAS","SHK","LIO",386.87,386.87]
[18652,"THORNTON","Luke","M",1998,"U18",null,"LIO",110.26,132.19]
[19678,"MURRAY","Alastair","M",1996,"U21",null,"LIO",89.19,999.99]
[19679,"MURRAY","Louisa","F",1994,"U21",null,"LIO",160.84,999.99]
[21800,"RAMSDEN","Grace","F",1998,"U18",null,"LIO",999.99,999.99]
[19162,"WILLOUGHBY","Jo","F",1975,"MAS",null,"LIO",999.99,999.99]
[21509,"JEFFERSON","Jemima","F",2004,"U12",null,"LIO",999.99,999.99]
[21510,"JEFFERSON","Maisie","F",2003,"U12",null,"LIO",999.99,999.99]
[21969,"SURMAN","Evelyn","F",2003,"U12",null,"LIO",999.99,999.99]
[21970,"SURMAN","Martha","F",2005,"U10",null,"LIO",999.99,999.99]
[20976,"HARRISON","Samuel","M",2003,"U12",null,"LIO",999.99,999.99]
[13376,"SCILIMATI","Tania","F",1986,"SEN",null,"LSC",999.99,999.99]
[31512,"WOOD","Edmund","M",1999,"U16","DHO","LSR",999.99,999.99]
[31324,"GIBSON","Cameron","M",2001,"U14","GSR","LSR",217.48,217.48]
[31243,"GREENSHIELDS","Duncan","M",2002,"U14","SSC","LSR",999.99,999.99]
[30515,"GUNN","Cameron","M",1992,"SEN","SSC","LSR",55.96,55.96]
[30841,"MCBAIN","Sandy","M",1993,"SEN","SSC","LSR",83.66,83.66]
[30636,"BARKER","Katy","F",1996,"U21","SSC","LSR",104.08,104.08]
[31154,"CARRUTHERS","Harry","M",1999,"U16","SSC","LSR",127.07,127.07]
[31155,"CARRUTHERS","Philipa","F",1997,"U18","SSC","LSR",130.9,130.9]
[30936,"MACPHERSON","Stuart","M",1998,"U18","SSC","LSR",132.36000000000001,132.36000000000001]
[31102,"GREENSHIELDS","Andrew","M",1999,"U16","SSC","LSR",133.76,133.76]
[31125,"WAITT","Stuart","M",1999,"U16","SSC","LSR",183.37,183.37]
[31107,"LIVINGSTONE","Lewis","M",1999,"U16","SSC","LSR",215.71,215.71]
[31200,"MACPHERSON","Claire","F",2000,"U16","SSC","LSR",241.92,241.92]
[31394,"LAMOND","Emma","F",2002,"U14","SSC","LSR",999.99,999.99]
[18878,"SLATER","Ella","F",1991,"SEN","LSU","LSU",51.1,53.8]
[12858,"TUCKER","William","M",1991,"SEN","LSU","LSU",58.62,99.74]
[18757,"LUCIE-SMITH","Ross","M",1993,"SEN","LSU","LSU",63.53,115.43]
[21659,"BOJARSKA","Aleksandra","F",1961,"MAS","MAN","MAN",198.32,198.32]
[17356,"HORNSBY","Harry","M",1991,"SEN","MID","MID",5.41,5.28]
[14213,"WALKER","Edmund","M",1992,"SEN","MID","MID",77.16,77.16]
[21014,"MAYHEW","Jessica","F",2000,"U16","MID","MID",84.18,48.06]
[19829,"HEMMING","Ethan","M",2001,"U14","MID","MID",150.21,138.09]
[20168,"BILL","Rachel","F",1990,"SEN","MID","MID",23.81,23.81]
[20696,"NEWBOULT","Helena","F",1998,"U18","MID","MID",27.39,27.39]
[13381,"VERNON","Rowan","F",1988,"SEN","MID","MID",32.840000000000003,32.840000000000003]
[17840,"PHELPS","Nicholas","M",1997,"U18","MID","MID",70.34,70.34]
[20846,"DEWISON","Samuel","M",1998,"U18","MID","MID",119.86,119.86]
[21633,"KIRKLAND","Matthew","M",1992,"SEN","MID","MID",345.98,345.98]
[20670,"TREUGE","Matthew","M",2002,"U14","MID","MID",999.99,999.99]
[41578,"LEE","Adam","M",1994,"U21","PND","MID",38.93,36.39]
[17479,"POWELL","Jonathan","M",1986,"SEN","RAV","MID",18.72,18.72]
[19379,"GUY","Edward","M",2001,"U14","TEL","MID",238.89,138.32]
[18327,"CAVANAGH","Matthew","M",1996,"U21","DHO","MSR",136.97,136.97]
[21012,"EDWARDS","Issy","F",2001,"U14","DRA","MSR",234.22,234.22]
[19673,"MOLLIEX","Alex","M",1973,"MAS","MSR","MSR",66.2,73.209999999999994]
[19208,"BERGLINDARSON","Kristofer","M",2000,"U16","MSR","MSR",65.53,104.71]
[21139,"BURKINSHAW","Rowena","F",1979,"MAS","MSR","MSR",111.3,125.82]
[21772,"WHIPP","Edward","M",2001,"U14","MSR","MSR",200.68,259.43]
[21628,"BEGG","Alistair","M",2001,"U14","MSR","MSR",279.41000000000003,340.49]
[21642,"DOCKRY","Ben","M",2002,"U14","MSR","MSR",425.5,497.65]
[22113,"LAW","Theodore","M",1999,"U16","MSR","MSR",214.03,999.99]
[21336,"QUIGLEY","John","M",1972,"MAS","MSR","MSR",187.78,999.99]
[8067,"MCGREGOR-OGDEN","Carl","M",1961,"MAS","MSR","MSR",120.26,120.26]
[21958,"BACKHOUSE","Michael","M",1994,"U21","MSR","MSR",999.99,999.99]
[22055,"BALDWIN","Caitlin","F",2006,"U10","MSR","MSR",999.99,999.99]
[21643,"DOCKRY","Daniel","M",2006,"U10","MSR","MSR",999.99,999.99]
[21698,"STOCKS","Elliot","M",2005,"U10","MSR","MSR",999.99,999.99]
[21794,"WAGSTAFF","Lydia","F",1998,"U18","SHK","MSR",277.16000000000003,373.73]
[21007,"GLASSBROOK","Amy","F",2002,"U14",null,"MSR",277.68,319.56]
[22040,"FISHER","William","M",2000,"U16",null,"MSR",276.22000000000003,999.99]
[21815,"MUSTON","Charles","M",2002,"U14",null,"MSR",222.22,999.99]
[21753,"ATHERTON","Lucas","M",2001,"U14",null,"MSR",999.99,999.99]
[22051,"BACKHOUSE","Nicholas","M",1998,"U18",null,"MSR",999.99,999.99]
[22062,"HOWARTH","Catrin","F",2005,"U10",null,"MSR",999.99,999.99]
[21644,"HUMPHREYS","George","M",2005,"U10",null,"MSR",999.99,999.99]
[21786,"WILLIAMS","Jack","M",2005,"U10",null,"MSR",999.99,999.99]
[31097,"CHRISTEY","David","M",1999,"U16","BSA","MUC",224.95,224.95]
[31098,"CHRISTEY","Joe","M",2002,"U14","BSA","MUC",999.99,999.99]
[36633,"RONALD","James","M",1998,"U18","GSC","MUC",999.99,999.99]
[36632,"RONALD","Ross","M",2002,"U14","GSC","MUC",999.99,999.99]
[31087,"ROSS","Lyle","M",1999,"U16","SSC","MUC",88.48,88.48]
[30904,"TODD","Alison","F",1997,"U18","SSC","MUC",101.11,101.11]
[31071,"HULBERT","Jemma","F",1996,"U21","SSC","MUC",208.34,208.34]
[31070,"HULBERT","Lucy","F",1998,"U18","SSC","MUC",294.95,294.95]
[31431,"DILLON","Millie","F",2004,"U12","SSC","MUC",999.99,999.99]
[31438,"ROSS","Iona","F",2003,"U12","SSC","MUC",999.99,999.99]
[14168,"WHEATMAN","Max","M",1993,"SEN","NOR","NOR",55.27,55.27]
[20337,"SKIPPER","Megan","F",2001,"U14","NOR","NOR",106.62,106.62]
[20742,"SAMPSON","Melissa","F",1971,"MAS","NOR","NOR",137.72999999999999,137.72999999999999]
[21691,"LANE","Joshua","M",1999,"U16","NOR","NOR",145.6,145.6]
[20767,"WEBSTER","Atlanta","F",2000,"U16","NOR","NOR",185.74,185.74]
[20679,"SCOTT","Max","M",1997,"U18","NOR","NOR",189.57,189.57]
[14169,"WHEATMAN","Claire","F",1991,"SEN","NOR","NOR",296.81,296.81]
[22138,"BELLAMY","Edward","M",1987,"SEN","NOR","NOR",999.99,999.99]
[22059,"DADE","Jake","M",2006,"U10","NOR","NOR",999.99,999.99]
[19016,"SKIPPER","Sophie","F",1995,"U21","NOR","NOR",30.78,30.78]
[21568,"SPEARPOINT WALSH","Emily","F",1996,"U21","OVL","OVL",196.72,196.72]
[20779,"GOULD","David","M",1963,"MAS","OVL","OVL",999.99,999.99]
[21756,"TAFFS","Zara","F",2002,"U14","PLY","PLY",999.99,479.39]
[21198,"PITCHER","James","M",1984,"MAS","PLY","PLY",999.99,999.99]
[21448,"WALBRIDGE","James","M",1992,"SEN","PLY","PLY",288.41000000000003,288.41000000000003]
[18512,"WITTS","Kaigan","M",1994,"U21","PND","PND",52.64,52.64]
[21301,"HARRISON","Louise","F",1994,"U21","PND","PND",69.42,61.21]
[19645,"WISEMAN","Kelly","F",1993,"SEN","PND","PND",75.98,75.98]
[22012,"GATTY","Victoria","F",1999,"U16","PND","PND",188.51,101.9]
[21359,"GLOVER","Wiliam","M",1998,"U18","PND","PND",184.03,184.03]
[22132,"AUSTIN","William","M",2000,"U16","PND","PND",999.99,999.99]
[22020,"FERGUSON","Catrin","F",2006,"U10","PND","PND",999.99,999.99]
[21991,"GATTY","Persephone","F",2004,"U12","PND","PND",999.99,999.99]
[22033,"HESELTON","Rebecca","F",2003,"U12","PND","PND",999.99,999.99]
[22089,"LLOYD","Tomas","M",2003,"U12","PND","PND",999.99,999.99]
[14237,"HANDFORD-STYRING","Hannah","F",1996,"U21","PPS","PPS",742.08,999.99]
[17701,"GASH","Morgan","M",1999,"U16","SAS","PSC",114.43,131.57]
[19147,"O'MARA","Adam","M",1995,"U21","RAV","RAV",46.25,40.5]
[19676,"JACKSON","Millie","F",1999,"U16","RAV","RAV",52.11,46.16]
[19633,"FARREN","Claude","M",1971,"MAS","RAV","RAV",59.4,59.4]
[19677,"JACKSON","Lois","F",2001,"U14","RAV","RAV",88.46,83.57]
[19089,"FARREN","Rory","M",1998,"U18","RAV","RAV",36.24,36.24]
[19675,"JACKSON","Ian","M",1964,"MAS","RAV","RAV",67.989999999999995,67.989999999999995]
[21561,"HARROGATE-BRAMLEY","Cheryl","F",1962,"MAS","RAV","RAV",547.63,547.63]
[22124,"SCOTT","Benjamin","M",2003,"U12","RAV","RAV",999.99,999.99]
[19821,"BROWN","Alysha","F",2002,"U14","S2R","S2R",999.99,999.99]
[20299,"BROWN","Charlotte","F",2003,"U12","S2R","S2R",999.99,999.99]
[20694,"CATLIN","Glesni","F",2003,"U12","SMK","S2R",999.99,999.99]
[22010,"EDWARDS","Oliver","M",2005,"U10",null,"S2R",999.99,999.99]
[22032,"LONG","Timothy","M",2005,"U10",null,"S2R",999.99,999.99]
[19094,"WHITTALL","Martha","F",1997,"U18","ASR","SAS",243.55,243.55]
[18560,"JAMES","Sophie","F",1995,"U21","BRS","SAS",129.26,129.26]
[20159,"WHITTALL","Trevor","M",1958,"MAS","BRS","SAS",686.13,686.13]
[21019,"KILGOUR","Rory","M",1980,"MAS","BRS","SAS",999.99,999.99]
[19854,"BINGHAM","Jonathan","M",1999,"U16","ESX","SAS",89.66,88.17]
[19855,"BINGHAM","Nicholas","M",2002,"U14","ESX","SAS",214.16,153.08000000000001]
[19135,"NORRIS","John","M",1961,"MAS","HEM","SAS",100.98,100.98]
[19459,"REID","Judy","F",1960,"MAS","HEM","SAS",107.25,126.66]
[21658,"COLE","Hannah","F",1998,"U18","HEM","SAS",184.6,999.99]
[8713,"CLARKE","Christopher","M",1959,"MAS","HEM","SAS",340.2,358.49]
[19684,"DANNS","Jack","M",1992,"SEN","LSU","SAS",88.66,69.78]
[18509,"MILLER","Gareth","M",1994,"U21","MID","SAS",71.069999999999993,73.98]
[17002,"GREENFIELD","Hobie","M",1995,"U21","SAS","SAS",65.59,88.16]
[12522,"GASH","Richard","M",1991,"SEN","SAS","SAS",73.239999999999995,73.239999999999995]
[19628,"COOPER","Lauren","F",1999,"U16","SAS","SAS",141.43,141.43]
[19629,"COOPER","Jordan","M",1999,"U16","SAS","SAS",177.78,177.78]
[19074,"AMOS","John","M",1959,"MAS","SAS","SAS",244.28,263.81]
[19671,"GASH","Peter","M",1956,"MAS","SAS","SAS",270.86,419.66]
[18049,"GREENFIELD","Nigel","M",1962,"MAS","SAS","SAS",274.58999999999997,363.71]
[20493,"SMITH","Oliver","M",1995,"U21","SAS","SAS",999.99,999.99]
[21881,"STAYMAN","Jessica","F",2001,"U14","SOU","SAS",361.72,999.99]
[18778,"MORRISON","Michael","M",1957,"MAS","SOU","SAS",263.87,263.87]
[21880,"STAYMAN","Harry","M",2004,"U12","SOU","SAS",999.99,999.99]
[19031,"ARTHUR","April","F",2001,"U14","TSN","SAS",461.89,461.89]
[20839,"ROSS","Callum","M",2003,"U12","TSN","SAS",999.99,999.99]
[17332,"BROOKES","Philip","M",1993,"SEN",null,"SAS",225.18,225.18]
[20572,"DUNNE","Mikey","M",2002,"U14","SRR","SCM",194.78,999.99]
[31517,"SHARP","Calum","M",1997,"U18","AYR","SFR",154.43,154.43]
[31226,"FOWLER","Isla","F",2000,"U16","GSC","SFR",247.46,247.46]
[21143,"SLATER","James","M",1998,"U18","SHK","SHK",328.66,343.21]
[21826,"MARSH","Amy","F",2002,"U14","SHK","SHK",328.39,999.99]
[21825,"MARSH","Ella","F",2000,"U16","SHK","SHK",378.14,999.99]
[22114,"KNIGHTS-COOPER","Ellis","M",1996,"U21","SHK","SHK",362.39,999.99]
[22142,"ERRINGTON","Farne","M",1997,"U18","SHK","SHK",381.19,999.99]
[21171,"SLATER","Grace","F",2001,"U14","SHK","SHK",431.14,431.14]
[20904,"MARSH","Loretta","F",1975,"MAS","SHK","SHK",999.99,999.99]
[21603,"WILKINSON","Millie","F",2001,"U14","SHK","SHK",999.99,999.99]
[19394,"BLACK","Philip","M",1969,"MAS","SHK","SHK",999.99,999.99]
[20550,"OLIVER","Mark","M",1962,"MAS","BOW","SMK",163.57,163.57]
[17431,"LLEWELLYN","Joanna","F",1991,"SEN","BRO","SMK",249.31,249.31]
[20720,"RILEY","Ilana","F",2004,"U12","GRV","SMK",999.99,999.99]
[21159,"KEANE","Josh","M",1995,"U21","HEM","SMK",67.19,67.19]
[18256,"DAVIES","Finlay","M",1999,"U16","HEM","SMK",59.63,89.68]
[21074,"LEONARD","Heather","F",1973,"MAS","HEM","SMK",186.96,186.96]
[21260,"CLARKE","Edward","M",2000,"U16","HEM","SMK",201.1,201.1]
[19774,"BARTON","Dominic","M",2002,"U14","HEM","SMK",999.99,999.99]
[18617,"HANCOCK","Maxine","F",1997,"U18","MID","SMK",74.28,74.28]
[17037,"HANCOCK","David","M",1964,"MAS","MID","SMK",999.99,999.99]
[20719,"HADLEY","Daniel","M",2004,"U12","MID","SMK",999.99,999.99]
[18816,"GOLDSWORTHY","Richard","M",1995,"U21","SMK","SMK",56.27,56.27]
[21652,"ROBERTSHAW","Gavin","M",1975,"MAS","SMK","SMK",182.02,182.02]
[21206,"SMITH","Samuel","M",1997,"U18","SMK","SMK",199.95,199.95]
[20613,"WILLIS","James","M",2001,"U14","SMK","SMK",210.65,210.65]
[21695,"CROCKER","Alicia","F",1997,"U18","SMK","SMK",211.75,211.75]
[21356,"NEASHAM","Laurie","F",2000,"U16","SMK","SMK",295.16000000000003,295.16000000000003]
[20149,"BAILY","Luke","M",2002,"U14","SMK","SMK",999.99,999.99]
[21653,"SKEPPSTAM","Rasmus","M",2004,"U12","SMK","SMK",999.99,999.99]
[19702,"WEBB","Jamie","M",1998,"U18",null,"SMK",190.99,190.99]
[21226,"DRAKE","Joshua","M",2002,"U14",null,"SMK",999.99,999.99]
[21161,"ALBONE","Catherine","F",2003,"U12",null,"SMK",999.99,999.99]
[21213,"METHERINGHAM","Zachary","M",2004,"U12",null,"SMK",999.99,999.99]
[22119,"BELTON","Scarlett","F",2002,"U14","HEM","SOU",351.1,999.99]
[20595,"HAMMOND","Max","M",1994,"U21","SOU","SOU",132.9,132.9]
[20328,"HUTTNER","Maximilian","M",1997,"U18","BRS","SPR",999.99,999.99]
[20789,"HINTON","Georgina","F",2001,"U14","HEM","SPR",404.54,404.54]
[21284,"HINTON","Tilly","F",2004,"U12","HEM","SPR",999.99,999.99]
[13335,"ABSALOM","Daniel","M",1992,"SEN","LSU","SPR",47.15,47.15]
[12570,"ALLDRIDGE","Amanda","F",1991,"SEN","SMK","SPR",6.07,7.14]
[12571,"ALLDRIDGE","James","M",1988,"SEN","SMK","SPR",50.41,50.41]
[20187,"SMITH","James","M",1999,"U16","SMK","SPR",353.39,353.39]
[13814,"GREENHALGH","Eloise","F",1993,"SEN","SPR","SPR",14.33,14.33]
[19733,"DAVEY","Joseph","M",2000,"U16","SPR","SPR",118.11,118.11]
[17532,"GOWER","Jack","M",1994,"U21","SPR","SPR",120.26,999.99]
[18328,"KOCK","Evangeline","F",1994,"U21","SPR","SPR",134.01,178.01]
[20856,"FOSTER","Olivia","F",2001,"U14","SPR","SPR",154.80000000000001,154.80000000000001]
[41993,"FLUCK","Adam","M",2001,"U14","SPR","SPR",256.11,256.11]
[19273,"DENDLE","George","M",2000,"U16","SPR","SPR",292.47000000000003,292.47000000000003]
[17533,"GOWER","Rory","M",1996,"U21","SPR","SPR",322.62,999.99]
[14989,"JENSEN","Christian","M",1995,"U21","SPR","SPR",361.18,361.18]
[21283,"PATTON","Edward","M",2001,"U14","SPR","SPR",372.34,372.34]
[12359,"WHELAN","Peter","M",1989,"SEN","SPR","SPR",502.72,502.72]
[19987,"PITKETHLY","Calum","M",1999,"U16","SPR","SPR",559.46,999.99]
[21341,"CHRISTOPHER","Rebecca","F",1998,"U18","SPR","SPR",999.99,999.99]
[20352,"COLLEY","Isabella","F",1999,"U16","SPR","SPR",999.99,999.99]
[20842,"CORRIGAN","Caroline","F",2002,"U14","SPR","SPR",999.99,999.99]
[41992,"FLUCK","Catrin","F",1998,"U18","SPR","SPR",999.99,999.99]
[21919,"FROST","Eleanor","F",2002,"U14","SPR","SPR",999.99,999.99]
[21956,"HOUGHTON","Philippa","F",1999,"U16","SPR","SPR",999.99,999.99]
[21530,"HUFF","Sarah","F",1999,"U16","SPR","SPR",999.99,999.99]
[19069,"MAIKLEM","Jessica","F",1996,"U21","SPR","SPR",999.99,999.99]
[20635,"MAIKLEM","Melissa","F",1999,"U16","SPR","SPR",999.99,999.99]
[21235,"OUGRIN","Anastasia","F",2002,"U14","SPR","SPR",999.99,999.99]
[21519,"THOMPSON","Tilly","F",1999,"U16","SPR","SPR",999.99,999.99]
[21096,"VERNON","Rebecca","F",2002,"U14","SPR","SPR",999.99,999.99]
[21368,"VESELY","Cordelia","F",1999,"U16","SPR","SPR",999.99,999.99]
[21376,"VESELY","Miranda","F",2002,"U14","SPR","SPR",999.99,999.99]
[20849,"VICKERS","Katie","F",2001,"U14","SPR","SPR",999.99,999.99]
[21101,"WEEKS","Georgia","F",2001,"U14","SPR","SPR",999.99,999.99]
[21817,"ALDRIDGE-BATE","William","M",2002,"U14","SPR","SPR",999.99,999.99]
[21480,"CHRISTOV","Jonathan","M",2001,"U14","SPR","SPR",999.99,999.99]
[20353,"COLLEY","James","M",2001,"U14","SPR","SPR",999.99,999.99]
[20841,"CORRIGAN","Paul","M",2001,"U14","SPR","SPR",999.99,999.99]
[21743,"DE BOER","Nicholas","M",2000,"U16","SPR","SPR",999.99,999.99]
[19756,"ELLISS","Harry","M",2000,"U16","SPR","SPR",999.99,999.99]
[20913,"EPERON","Harrison","M",2002,"U14","SPR","SPR",999.99,999.99]
[21904,"FROST","Joshua","M",1998,"U18","SPR","SPR",999.99,999.99]
[20615,"FRYERS","Toby","M",2002,"U14","SPR","SPR",999.99,999.99]
[20880,"GILLETT","James","M",2002,"U14","SPR","SPR",999.99,999.99]
[21464,"HINTON","Marcus","M",2001,"U14","SPR","SPR",999.99,999.99]
[20309,"LEWIS","Samuel","M",1998,"U18","SPR","SPR",999.99,999.99]
[21278,"MIGUDA","Henry","M",2001,"U14","SPR","SPR",999.99,999.99]
[20871,"MORRIS","Ruaidhri","M",2001,"U14","SPR","SPR",999.99,999.99]
[20847,"SHIELLS","Bryan","M",1998,"U18","SPR","SPR",999.99,999.99]
[20692,"SHIELLS","Rory","M",1995,"U21","SPR","SPR",999.99,999.99]
[20336,"SIMPSON","Jack","M",1999,"U16","SPR","SPR",999.99,999.99]
[21527,"TATTERS","Ben","M",2001,"U14","SPR","SPR",999.99,999.99]
[21874,"TREVOR","Joseph","M",2001,"U14","SPR","SPR",999.99,999.99]
[21105,"TREVOR","Samuel","M",1999,"U16","SPR","SPR",999.99,999.99]
[20848,"VICKERS","Charlie","M",1999,"U16","SPR","SPR",999.99,999.99]
[20710,"WILMOT","Jack","M",2000,"U16","SPR","SPR",999.99,999.99]
[20855,"FOSTER","Sophie","F",2003,"U12","SPR","SPR",999.99,999.99]
[21876,"MARTIN","Allegra","F",2004,"U12","SPR","SPR",999.99,999.99]
[21377,"VESELY","Ophelia","F",2004,"U12","SPR","SPR",999.99,999.99]
[21400,"WEEKS","Ella","F",2004,"U12","SPR","SPR",999.99,999.99]
[22004,"BAKER","Giles","M",2003,"U12","SPR","SPR",999.99,999.99]
[20927,"CRUTCHFIELD","Eliot","M",2003,"U12","SPR","SPR",999.99,999.99]
[21275,"HART","Benjamin","M",2003,"U12","SPR","SPR",999.99,999.99]
[21854,"HINTON","Sam","M",2004,"U12","SPR","SPR",999.99,999.99]
[21780,"KADRNKA","Markus","M",2004,"U12","SPR","SPR",999.99,999.99]
[21810,"LEE","Rory","M",2003,"U12","SPR","SPR",999.99,999.99]
[21524,"TATTERS","Joshua","M",2003,"U12","SPR","SPR",999.99,999.99]
[21535,"HYDE","Gussie","F",2000,"U16","SUR","SPR",999.99,999.99]
[21363,"PATTON","Harriet","F",1999,"U16",null,"SPR",228.88,228.88]
[20878,"ATTARD","Oliver","M",1999,"U16",null,"SPR",999.99,999.99]
[22161,"MEYLER","Anna","F",1999,"U16",null,"SPR",999.99,999.99]
[21779,"ZIELEZNIK","Ben","M",2005,"U10",null,"SPR",999.99,999.99]
[21093,"ZIELEZNIK","Oskar","M",2004,"U12",null,"SPR",999.99,999.99]
[21522,"BOSWELL","Olivia","F",1999,"U16","SRR","SRR",189.87,189.87]
[21797,"SIM","Danyelle","F",1999,"U16","SRR","SRR",261.12,999.99]
[21798,"SIM","Lauren","F",2001,"U14","SRR","SRR",410.9,999.99]
[21796,"HOLT","Marisa","F",2001,"U14","SRR","SRR",999.99,999.99]
[22081,"HART","Michael","M",1997,"U18","SRR","SRR",999.99,999.99]
[30906,"BUCHAN","Fraser","M",1997,"U18","BSA","SSC",72.14,72.14]
[30952,"RANKIN","Charles","M",2001,"U14","BSA","SSC",162.91999999999999,162.91999999999999]
[31138,"RANKIN","Shona","F",2003,"U12","BSA","SSC",999.99,999.99]
[30852,"BANKS BROWN","Yandra","F",1996,"U21","CSC","SSC",999.99,999.99]
[36563,"LAPSLIE","Henry","M",2000,"U16","ELI","SSC",999.99,999.99]
[30832,"DICKSON","Graham","M",1996,"U21","GSR","SSC",31.18,36.01]
[30998,"WILLIAMS","Scott","M",1999,"U16","GSR","SSC",125.11,125.11]
[31128,"WILLIAMS","Conway","M",1965,"MAS","GSR","SSC",142.16,142.16]
[31007,"TAYLOR","Kate","F",1997,"U18","GSR","SSC",16.190000000000001,16.190000000000001]
[31036,"TAYLOR","Ross","M",1995,"U21","GSR","SSC",28.81,28.81]
[30964,"FERRIER","Rachael","F",1996,"U21","GSR","SSC",29.68,33.01]
[30988,"ANDERSON","Keri","F",1996,"U21","GSR","SSC",34.35,50.76]
[30555,"MCWHIRTER","Scott","M",1992,"SEN","GSR","SSC",36.270000000000003,39.74]
[30999,"WILLIAMS","Emma","F",1999,"U16","GSR","SSC",95.5,95.5]
[30965,"FERRIER","Kieran","M",1997,"U18","GSR","SSC",102.05,102.05]
[31335,"CLARKE","Jemma","F",2001,"U14","LSR","SSC",136.05000000000001,136.05000000000001]
[31348,"DALZIEL","William","M",2001,"U14","LSR","SSC",176.35,176.35]
[31336,"BARTHRAM","Alice","F",2001,"U14","LSR","SSC",226.09,226.09]
[31096,"REDPATH","Sandy","M",1996,"U21","LSR","SSC",154.51,154.51]
[31202,"MCROBB","Cameron","M",2000,"U16","LSR","SSC",166.39,166.39]
[31028,"MCBAIN","Corrie","M",1999,"U16","LSR","SSC",217.13,217.13]
[31353,"SKINNER","Eilidh","F",2001,"U14","LSR","SSC",364.38,364.38]
[31024,"JENNINGS","Euan","M",1997,"U18","LSR","SSC",586.27,586.27]
[31023,"JENNINGS","Sandy","M",1995,"U21","LSR","SSC",999.99,999.99]
[18913,"LEE","Francesca","F",1998,"U18","MSR","SSC",4.76,4.76]
[30850,"GLOISTEIN","Helen","F",1996,"U21","MUC","SSC",164.77,164.77]
[31379,"ALDRIDGE","Charlie","M",2001,"U14","MUC","SSC",288.52,288.52]
[31449,"ALDRIDGE","Iona","F",2003,"U12","MUC","SSC",999.99,999.99]
[36622,"MCKENDRICK","Lyle","F",2004,"U12","MUC","SSC",999.99,999.99]
[31553,"KELLY","Archie","M",2004,"U12","MUC","SSC",999.99,999.99]
[36621,"MACKECHNIE","Archie","M",2003,"U12","MUC","SSC",999.99,999.99]
[31236,"SMITH","Roli","M",2004,"U12","MUC","SSC",999.99,999.99]
[30388,"HENDERSON","Paul","M",1995,"U21",null,"SSC",16.88,19.54]
[31117,"GLASGOW","Peter","M",1994,"U21",null,"SSC",48.1,48.1]
[31003,"ANDREWS","Keir","M",1998,"U18",null,"SSC",93.74,93.74]
[30759,"DAULBY","Hannah","F",1995,"U21",null,"SSC",119.48,119.48]
[31105,"GALLOWAY","Duncan","M",1996,"U21",null,"SSC",124.18,124.18]
[30908,"ANDREWS","Greg","M",1997,"U18",null,"SSC",142.41999999999999,142.41999999999999]
[31135,"SANDFORD","Eliza","F",1996,"U21",null,"SSC",194.77,194.77]
[31221,"SMITH","Peter","M",2000,"U16",null,"SSC",284.42,284.42]
[31127,"SKINNER","Caroline","F",1998,"U18",null,"SSC",334.4,334.4]
[31422,"HAMLETT-HALL","Samuel","M",1998,"U18",null,"SSC",338.15,338.15]
[31322,"REED","Lewis","M",2001,"U14",null,"SSC",358.04,358.04]
[31323,"REED","Jemima","F",2003,"U12",null,"SSC",999.99,999.99]
[41999,"STADEN","Samuel","M",2001,"U14","SSP","SSP",999.99,999.99]
[21430,"TAYLOR SELT","Molly","F",1996,"U21","VIK","SUF",999.99,999.99]
[20602,"SMIDT-WALLIS","Brielle","F",2000,"U16","ASR","SUR",120.52,120.52]
[10199,"WILKEY","Sarah","F",1981,"MAS","SPR","SUR",999.99,999.99]
[18056,"YOUNG","Ella","F",1997,"U18","SUR","SUR",160,160]
[21884,"HUGHES","Rachel","F",1997,"U18","SUR","SUR",999.99,999.99]
[20651,"COLLIER","Harry","M",2002,"U14","MSR","SZR",205.48,999.99]
[20641,"HENERY","Robbie","M",1998,"U18","SHK","SZR",156.13,156.13]
[19993,"CHAPMAN","Lloyd","M",1999,"U16","SZR","SZR",73.16,83.91]
[20684,"GENTHER","Joshua","M",1998,"U18","SZR","SZR",108.93,115.55]
[22065,"DAY","Richard","M",1977,"MAS","SZR","SZR",255.03,999.99]
[19587,"BENNETT","Lucy","F",1999,"U16","SZR","SZR",112.44,112.44]
[19276,"EMERY","Jacob","M",2001,"U14","SZR","SZR",195.55,195.55]
[20277,"DUNION","Jamie","M",1999,"U16","SZR","SZR",262.45999999999998,262.45999999999998]
[20836,"FISHER","Edward","M",1999,"U16","SZR","SZR",999.99,999.99]
[21853,"KOTWICA","Dawid","M",1999,"U16","SZR","SZR",999.99,999.99]
[22002,"RYLAND","Peter","M",2001,"U14","SZR","SZR",999.99,999.99]
[20165,"COSHAM","Harry","M",2003,"U12","SZR","SZR",999.99,999.99]
[20837,"FISHER","George","M",2003,"U12","SZR","SZR",999.99,999.99]
[21967,"RYLAND","Callum","M",2003,"U12","SZR","SZR",999.99,999.99]
[21577,"CAREY","Joshua","M",2000,"U16",null,"SZR",999.99,999.99]
[21576,"CAREY","Matthew","M",1998,"U18",null,"SZR",999.99,999.99]
[20599,"SHERING","Nicole","F",2000,"U16","HEM","TEL",59.26,59.26]
[20840,"SNOW","Elise","F",1999,"U16","HEM","TEL",67.52,67.52]
[20766,"HUMPHREYS","Charles","M",2001,"U14","HEM","TEL",241.45,263.51]
[18318,"KRAHELSKI","Alicja","F",2000,"U16","HEM","TEL",33.22,33.22]
[19209,"WHEELER","William","M",1997,"U18","HEM","TEL",56.86,56.86]
[5666,"CROMBLEHOLME","Roger","M",1957,"MAS","MID","TEL",120.35,120.35]
[18704,"BEGG","Callum","M",1997,"U18","MSR","TEL",54.33,54.33]
[14661,"BULLOCK","Alexandra","F",1995,"U21","TEL","TEL",18.25,18.25]
[18571,"CONDE","Jamie","M",1992,"SEN","TEL","TEL",69.709999999999994,69.709999999999994]
[19832,"WILLIAMS","Grace","F",2000,"U16","TEL","TEL",81.400000000000006,81.400000000000006]
[19797,"STEVENSON","Christian","M",1998,"U18","TEL","TEL",144.85,93.97]
[21094,"DRUMMOND","Isabel","F",2001,"U14","TEL","TEL",272.29000000000002,324.52]
[17747,"GOULD","Charlotte","F",1992,"SEN","TEL","TEL",10.87,10.87]
[17515,"GIRLING","Kirran","M",1997,"U18","TEL","TEL",33.979999999999997,33.979999999999997]
[17787,"SHRIMPTON","Charlotte","F",1994,"U21","TEL","TEL",47,47]
[17972,"GOULD","Georgina","F",1994,"U21","TEL","TEL",51,51]
[20313,"WESTERN","Aaron","M",1998,"U18","TEL","TEL",999.99,999.99]
[21124,"DRUMMOND","Elinor","F",2003,"U12","TEL","TEL",999.99,999.99]
[20701,"FELLOWS","Charley","F",2003,"U12","TEL","TEL",999.99,999.99]
[21827,"DEEM","Charles","M",2005,"U10","TEL","TEL",999.99,999.99]
[20369,"LAW","Joshua","M",2003,"U12","TEL","TEL",999.99,999.99]
[22050,"WEBB","Andrew","M",2004,"U12","TEL","TEL",999.99,999.99]
[22073,"KING","Adam","M",1998,"U18","TKP","TKP",999.99,999.99]
[21259,"MIRACCO","Carlito","M",1999,"U16","HEM","TOQ",162.11000000000001,162.11000000000001]
[21755,"PASCOE","Eva","F",2002,"U14","PLY","TOQ",999.99,107.54]
[12123,"GEYER","Jai","M",1990,"SEN","TOQ","TOQ",25.77,42.13]
[19457,"SIMMONS","Nigel","M",1962,"MAS","TOQ","TOQ",382.33,382.33]
[21737,"MCCOLL","Ruari","M",2002,"U14","TOQ","TOQ",999.99,999.99]
[21759,"BOSWOOD-CLARK","Eve","F",2003,"U12","TOQ","TOQ",999.99,999.99]
[21736,"MCCOLL","Isla","F",2004,"U12","TOQ","TOQ",999.99,999.99]
[21556,"HUNT","Hannah","F",1997,"U18","TSD","TSD",198.29,146]
[21270,"CHAPMAN","Chloe","F",2003,"U12","TSD","TSD",999.99,999.99]
[21269,"CHAPMAN","David","M",1976,"MAS","TSD","TSD",999.99,999.99]
[21727,"STOKOE","Amy","F",2005,"U10","TSD","TSD",999.99,999.99]
[19644,"PRETTY","Antonia","F",1996,"U21","TSN","TSN",50.24,50.24]
[21718,"ROSS","David","M",1970,"MAS","TSN","TSN",195.27,195.27]
[21456,"VINCENT","Ben","M",2003,"U12","TSN","TSN",999.99,999.99]
[21901,"MANNBY","Siobhan","F",2000,"U16","VIK","VIK",999.99,999.99]
[12254,"CHAPMAN","Iain","M",1982,"MAS","VIK","VIK",999.99,999.99]
[21832,"LOCKWOOD","Marcus","M",1997,"U18","VIK","VIK",999.99,999.99]
[12334,"ROBERTSON","Stuart","M",1950,"MAS","WCS","WCS",261.93,261.93]
[20496,"SCRANAGE-HARRISON","Eleanor","F",2002,"U14","HEM","WGC",999.99,999.99]
[18931,"MILES","Joanna","F",1993,"SEN","WGC","WGC",82.33,82.33]
[19013,"HANLON","George","M",1999,"U16","FPS","WM",143,140.1]
[22015,"LLEWELLYN","Aaliyah","F",2006,"U10","MID","WM",999.99,999.99]
[21837,"WOOLLEY","Kieran","M",2005,"U10","MID","WM",999.99,999.99]
[20331,"LUCAS","Oliver","M",2002,"U14","WM","WM",999.99,999.99]
[21254,"WATSON","Josie","F",2004,"U12","WM","WM",999.99,999.99]
[19632,"GREENWAY","Daniel","M",1998,"U18",null,"WM",132.62,164.21]
[19631,"GREENWAY","Thomas","M",2001,"U14",null,"WM",137.99,188.11]
[21902,"HADLEY","Thomas","M",2000,"U16",null,"WM",999.99,999.99]
[19095,"JOHNS","Owen","M",2001,"U14",null,"WM",999.99,999.99]
[21233,"SIMPSON","Cameron","M",2002,"U14",null,"WM",999.99,999.99]
[20355,"JOHNS","Scott","M",2003,"U12",null,"WM",999.99,999.99]
[22136,"ORZEL","Emilia","F",2006,"U10",null,"WM",999.99,999.99]
[22155,"BALCHIN","Lewis","M",2000,"U16","2KP",null,999.99,999.99]
[21601,"SMITH","Anthony","M",1969,"MAS","ALD",null,228.31,228.31]
[21542,"FAWKE","Tim","M",1976,"MAS","ALD",null,999.99,999.99]
[30995,"BEATTIE","Natalie","F",1994,"U21","ARB",null,999.99,999.99]
[31488,"SHEPHERD","Calum","M",2000,"U16","ASC",null,999.99,999.99]
[31294,"RENNIE","Graham","M",1975,"MAS","ASC",null,242.18,298.95999999999998]
[31384,"GEEKIE","Alexander","M",2001,"U14","ASC",null,293.01,293.01]
[31234,"HALL","Adam","M",2000,"U16","ASC",null,297.10000000000002,297.10000000000002]
[36639,"DAVIES","Christina","F",1993,"SEN","ASC",null,999.99,999.99]
[31364,"CAMERON","Rory","M",2002,"U14","ASC",null,999.99,999.99]
[31547,"HALL","Mark","M",1964,"MAS","ASC",null,999.99,999.99]
[31567,"JACK","Fraser","M",2001,"U14","ASC",null,999.99,999.99]
[31558,"MENZIES","Fraser","M",1997,"U18","ASC",null,999.99,999.99]
[36568,"WATSON","Ralph","M",1962,"MAS","ASC",null,999.99,999.99]
[31548,"HALL","Alistair","M",2003,"U12","ASC",null,426.58,426.58]
[36592,"GIBB","Alana","F",2006,"U10","ASC",null,999.99,999.99]
[36588,"KING","Layla","F",2006,"U10","ASC",null,999.99,999.99]
[36637,"RITCHIE","Claudia","F",2007,"U8","ASC",null,999.99,999.99]
[36638,"RITCHIE","Gabriella","F",2008,"U8","ASC",null,999.99,999.99]
[36590,"BREMNER","Keilan","M",2003,"U12","ASC",null,999.99,999.99]
[36591,"GIBB","Arran","M",2003,"U12","ASC",null,999.99,999.99]
[36587,"KING","Logan","M",2003,"U12","ASC",null,999.99,999.99]
[31569,"SMITH","Cameron","M",2003,"U12","ASC",null,999.99,999.99]
[17936,"DAVIES","Jenny","F",1996,"U21","ASR",null,20.09,16.84]
[19086,"READER","Christopher","M",1996,"U21","ASR",null,30.44,30.44]
[18660,"HATHWAY","Isabella","F",1997,"U18","ASR",null,49.71,12.74]
[19686,"BRADFORD-SMITH","Jack","M",1996,"U21","ASR",null,69.319999999999993,69.319999999999993]
[20683,"SPEED","Craig","M",1999,"U16","ASR",null,95.84,85.53]
[20673,"BANNISTER","Adam","M",1999,"U16","ASR",null,118.03,99.96]
[21632,"SHEMMANS","Jake","M",2001,"U14","ASR",null,133.47,127.28]
[21594,"WORTT","Aaron","M",1999,"U16","ASR",null,159.6,137.63999999999999]
[21600,"SMITH","Euan","M",2000,"U16","ASR",null,199.42,199.42]
[21303,"BANNISTER","Lucy","F",2002,"U14","ASR",null,999.99,228.88]
[22072,"CHARLTON","Harvey","M",1998,"U18","ASR",null,999.99,110.83]
[21605,"SMITH","Nathan","M",2002,"U14","ASR",null,999.99,171.36]
[12802,"CALVERT","Peter","M",1988,"SEN","ASR",null,41.11,41.11]
[19085,"READER","William","M",1994,"U21","ASR",null,43.02,43.02]
[2657,"BANNISTER","Simon","M",1966,"MAS","ASR",null,75.36,75.36]
[14927,"DAVIES","Peter","M",1993,"SEN","ASR",null,90.28,90.28]
[17983,"WELLER","Mark","M",1992,"SEN","ASR",null,93.23,93.23]
[21004,"GIBBS","James","M",1998,"U18","ASR",null,179.46,179.46]
[19685,"BRADFORD-SMITH","George","M",1994,"U21","ASR",null,223.89,223.89]
[21612,"GIBBS","Jack","M",2001,"U14","ASR",null,269.41000000000003,269.41000000000003]
[21623,"FITZSIMMONS","Tobias","M",1999,"U16","ASR",null,691.71,691.71]
[21608,"HAIRE","Bradley","M",1998,"U18","ASR",null,999.99,999.99]
[21914,"COTTLE-BAILEY","Poppy","F",2003,"U12","ASR",null,999.99,999.99]
[21091,"LUTTERLOCH","Edward","M",2003,"U12","ASR",null,999.99,999.99]
[21645,"MELLON-HENDRY","Freddie","M",2004,"U12","ASR",null,999.99,999.99]
[22163,"COOPER-WALKER","Josef","M",2000,"U16","AVO",null,999.99,999.99]
[22167,"PRINCE","Derek","M",1964,"MAS","AVO",null,999.99,999.99]
[21387,"HUDDLESTON","David","M",1996,"U21","BAS",null,999.99,999.99]
[31008,"POGSON","Liam","M",1998,"U18","BLG",null,280.11,280.11]
[6383,"EVERITT","Simon","M",1964,"MAS","BOW",null,348.93,348.93]
[30864,"RATTRAY","Aleysha","F",1996,"U21","BRM",null,174.29,174.29]
[31303,"PETERS","Ella","F",1994,"U21","BRM",null,999.99,999.99]
[31133,"FARQUHARSON","Hamish","M",1999,"U16","BRM",null,999.99,999.99]
[31073,"PETERS","Lachlan","M",1997,"U18","BRM",null,999.99,999.99]
[19152,"LEWINGTON","Caitlin","F",1999,"U16","BRO",null,76.89,76.89]
[20584,"MCDONALD-PROCTOR","Richard","M",1998,"U18","BRO",null,99.26,99.86]
[21626,"ATKINSON","Andrew","M",1967,"MAS","BRO",null,323.20999999999998,323.20999999999998]
[20583,"MCDONALD-PROCTOR","William","M",2002,"U14","BRO",null,354.9,999.99]
[18558,"WILLOWS","Laurence","M",1996,"U21","BRO",null,38.72,38.72]
[14942,"FREEZE","Danielle","F",1990,"SEN","BRO",null,62.02,62.02]
[21357,"MOORE","Danica","F",2000,"U16","BRO",null,165.28,165.28]
[21076,"GEORGEL","Robert","M",1996,"U21","BRO",null,323.31,323.31]
[22070,"TURNER","Morgan","F",1999,"U16","BRO",null,999.99,999.99]
[21210,"WILLOWS","April","F",2002,"U14","BRO",null,999.99,999.99]
[22152,"NABAR","Antony","M",2006,"U10","BRO",null,999.99,999.99]
[21726,"HOLT","Samuel","M",1995,"U21","BRS",null,303.75,203.88]
[31469,"DAVIS","Meghan","F",2000,"U16","BSA",null,157.01,157.01]
[31173,"SCOTT","Lucy","F",1999,"U16","BSC",null,85.69,85.69]
[31134,"TURNER","Jennifer","F",2001,"U14","BSC",null,154.93,154.93]
[31519,"KEANEY","Seamus","M",2001,"U14","BSC",null,179.25,179.25]
[31326,"MURPHY","Rhys","M",1999,"U16","BSC",null,142.25,200.79]
[31540,"MCINTYRE","Scott","M",2002,"U14","BSC",null,306.83,999.99]
[31491,"MCNEILL","David","M",2000,"U16","BSC",null,999.99,999.99]
[31371,"SCOTT","Ruaraidh","M",2002,"U14","BSC",null,999.99,999.99]
[30833,"ALLAN","Katie","F",1996,"U21","BSC",null,66.62,66.62]
[31006,"ROSS","Harry","M",1998,"U18","BSC",null,108.44,108.44]
[31137,"COHN","Antony","M",1998,"U18","BSC",null,145.79,145.79]
[31204,"WATSON","Jack","M",1999,"U16","BSC",null,220.3,220.3]
[31432,"HERBERT","Calum","M",2001,"U14","BSC",null,251.3,251.3]
[31106,"CUNNINGHAM","Kyle","M",1996,"U21","BSC",null,287.86,287.86]
[30100,"CRAWFORD","Douglas","M",1987,"SEN","BSC",null,929.76,929.76]
[31493,"BRUCE","Emma","F",2000,"U16","BSC",null,999.99,999.99]
[31497,"CHAPMAN","Vaila","F",1997,"U18","BSC",null,999.99,999.99]
[31346,"MACKENZIE","Eve","F",2000,"U16","BSC",null,999.99,999.99]
[31245,"PETRIE","Aoife","F",2002,"U14","BSC",null,999.99,999.99]
[31244,"PETRIE","Isla","F",2000,"U16","BSC",null,999.99,999.99]
[30768,"VINCENTI","Anna","F",1995,"U21","BSC",null,999.99,999.99]
[31215,"ADLINGTON","Ben","M",1999,"U16","BSC",null,999.99,999.99]
[31041,"BOOTH","Harris","M",1997,"U18","BSC",null,999.99,999.99]
[31051,"BOW","Brandon","M",2001,"U14","BSC",null,999.99,999.99]
[31325,"CORRY","Matt","M",1997,"U18","BSC",null,999.99,999.99]
[36626,"DISCOMBE","Lewis","M",2002,"U14","BSC",null,999.99,999.99]
[31458,"DOHERTY","Lewis","M",1997,"U18","BSC",null,999.99,999.99]
[31570,"MACMILLAN","Fraser","M",2002,"U14","BSC",null,999.99,999.99]
[31273,"MCCORMICK","Chris","M",1998,"U18","BSC",null,999.99,999.99]
[31043,"MCGRATH","Sam","M",1997,"U18","BSC",null,999.99,999.99]
[31121,"MCKILLOP","Murray","M",1998,"U18","BSC",null,999.99,999.99]
[31403,"MCLAREN","Ronan","M",2001,"U14","BSC",null,999.99,999.99]
[36634,"SIMMERS","Robbie","M",2000,"U16","BSC",null,999.99,999.99]
[31541,"MCINTYRE","Ross","M",2004,"U12","BSC",null,999.99,999.99]
[36560,"MCKAIN","Ross","M",2003,"U12","BSC",null,999.99,999.99]
[36630,"MUNRO","Gregor","M",2004,"U12","BSC",null,999.99,999.99]
[31444,"PEEK","Harrison","M",2003,"U12","BSC",null,999.99,999.99]
[41938,"CRIDDLE","Isaac","M",2000,"U16","CAR",null,214.53,188.28]
[41987,"JONES","Iwan","M",1999,"U16","CAR",null,284.72000000000003,170.7]
[41656,"WATTS","Llewellyn","M",2001,"U14","CAR",null,291.31,222.06]
[41968,"FURLONG","Georgia","F",2000,"U16","CAR",null,229.25,184.8]
[41953,"MCNICOLL","Isla","F",1981,"MAS","CAR",null,999.99,162.26]
[42031,"JONES","Gethin","M",2001,"U14","CAR",null,999.99,201.65]
[41919,"TOUCHE","Alexandre","M",1997,"U18","CAR",null,77.94,77.94]
[42040,"HARRISON","Ursula","F",2000,"U16","CAR",null,999.99,999.99]
[42033,"COMPTON","Joseph","M",2005,"U10","CAR",null,999.99,999.99]
[41988,"CRIDDLE","Ollie","M",2004,"U12","CAR",null,999.99,999.99]
[41928,"JAMES","Lilli","F",2003,"U12","CAR",null,999.99,999.99]
[18933,"VALE","Lauren","F",2001,"U14","CHT",null,79.94,79.94]
[19623,"SYMONS","Rachel","F",1993,"SEN","CHT",null,40.1,40.1]
[18934,"VALE","Nikkie","F",1994,"U21","CHT",null,77.87,77.87]
[20239,"CHAMPION","Ben","M",1993,"SEN","CHT",null,110.46,110.46]
[21734,"ATKINSON","Molly","F",2001,"U14","CHT",null,999.99,999.99]
[21836,"WHITMARSH-ALI","Megan","F",2000,"U16","CHT",null,999.99,999.99]
[21857,"WHEELER","Ryan","M",1999,"U16","CHT",null,999.99,999.99]
[21649,"BUNTON","Ryan","M",2005,"U10","CHT",null,999.99,999.99]
[22177,"COOK","Joshua","M",2005,"U10","CHT",null,999.99,999.99]
[31433,"CRANE","Joanna","F",2001,"U14","CSC",null,999.99,999.99]
[31466,"DICKSON","Sophie","F",1999,"U16","CSC",null,999.99,999.99]
[31246,"HEWISON","Megan","F",2001,"U14","CSC",null,999.99,999.99]
[31478,"LATTO","Rosamund","F",1999,"U16","CSC",null,999.99,999.99]
[31468,"NEGRI","Daniella","F",2000,"U16","CSC",null,999.99,999.99]
[36565,"PIERCEY","Rachel","F",2001,"U14","CSC",null,999.99,999.99]
[36601,"REID","Sinead","F",2001,"U14","CSC",null,999.99,999.99]
[36609,"VAUGHAN","Molly","F",2001,"U14","CSC",null,999.99,999.99]
[31228,"ADAMSON","Alexander","M",1996,"U21","CSC",null,999.99,999.99]
[31477,"ADAMSON","Tristram","M",1997,"U18","CSC",null,999.99,999.99]
[31467,"DICKSON","Jamie","M",2001,"U14","CSC",null,999.99,999.99]
[31289,"DONALD","Daniel","M",1999,"U16","CSC",null,999.99,999.99]
[31470,"DUNCAN","Rory","M",1999,"U16","CSC",null,999.99,999.99]
[36612,"HORNSBY","Duncan","M",2000,"U16","CSC",null,999.99,999.99]
[31286,"KERR","George","M",2000,"U16","CSC",null,999.99,999.99]
[31285,"KERR","Henry","M",2000,"U16","CSC",null,999.99,999.99]
[36596,"LYNCH","Calum","M",2000,"U16","CSC",null,999.99,999.99]
[31435,"MCFADDEN","Cameron","M",2000,"U16","CSC",null,999.99,999.99]
[31446,"MCFADDEN","Iain","M",2002,"U14","CSC",null,999.99,999.99]
[31083,"MCFADDEN","Neil","M",1998,"U18","CSC",null,999.99,999.99]
[30978,"MCWILLIAM","Lewis","M",1997,"U18","CSC",null,999.99,999.99]
[31288,"PIERCEY","James","M",1997,"U18","CSC",null,999.99,999.99]
[31175,"ROBERTSON","John","M",1997,"U18","CSC",null,999.99,999.99]
[31187,"SMITH","Jack","M",1998,"U18","CSC",null,999.99,999.99]
[31305,"TATE","Thomas","M",1997,"U18","CSC",null,999.99,999.99]
[31078,"VAUGHAN","Seoras","M",1998,"U18","CSC",null,999.99,999.99]
[36606,"NEGRI","Belana","F",2003,"U12","CSC",null,999.99,999.99]
[36593,"ROBSON","Solmisty","F",2003,"U12","CSC",null,999.99,999.99]
[36584,"TATE","Emily","F",2003,"U12","CSC",null,999.99,999.99]
[36583,"TATE","Georgia","F",2004,"U12","CSC",null,999.99,999.99]
[31247,"HEWISON","Henry","M",2004,"U12","CSC",null,999.99,999.99]
[36624,"MARSHALL","Max","M",2006,"U10","CSC",null,999.99,999.99]
[36623,"MARSHALL","Zac","M",2004,"U12","CSC",null,999.99,999.99]
[36566,"PIERCEY","Michael","M",2004,"U12","CSC",null,999.99,999.99]
[22116,"ELPHICK","Alex","F",1999,"U16","ESX",null,999.99,999.99]
[638,"CAXTON","Martin","M",1955,"MAS","ESX",null,999.99,999.99]
[19128,"WILLIAMS","Beth","F",1995,"U21","FLK",null,65.22,65.22]
[17932,"SOUTHALL","Frazer","M",1997,"U18","FLK",null,69.069999999999993,69.069999999999993]
[19130,"WILLIAMS","Jamie","M",1992,"SEN","FLK",null,69.849999999999994,70.19]
[18378,"SOUTHALL","Merrick","M",2000,"U16","FLK",null,138.74,138.74]
[21169,"FOWLES","James","M",1999,"U16","FLK",null,167.1,179.94]
[21408,"MILLER-HASTINGS","Frankie","M",2000,"U16","FLK",null,175.42,197.23]
[21168,"FOWLES","Luke","M",2002,"U14","FLK",null,339.79,999.99]
[18610,"DEAKIN","William","M",1991,"SEN","FLK",null,28.84,28.84]
[21189,"BIGGS","Saul","M",1998,"U18","FLK",null,94.62,94.62]
[22162,"WESTON","Ryan","M",2000,"U16","FLK",null,999.99,999.99]
[21147,"TANDY","Joshua","M",2004,"U12","FLK",null,999.99,999.99]
[22078,"THORNTON","Eleanor","F",2000,"U16","FPS",null,999.99,189.79]
[21975,"HOCKING","Alexander","M",1999,"U16","FPS",null,999.99,257.93]
[21996,"IANNARILLI","Lia","F",2003,"U12","FPS",null,999.99,999.99]
[22058,"SMITH","Emily","F",2004,"U12","FPS",null,999.99,999.99]
[31093,"WHATFORD","Beth","F",2001,"U14","GDN",null,123.54,123.54]
[31201,"SIMPSON","Andrew","M",2000,"U16","GDN",null,178.16,178.16]
[36614,"GREEN","Eleanor","F",2001,"U14","GDN",null,999.99,999.99]
[31076,"STILL","Ella","F",1997,"U18","GDN",null,142.44999999999999,145.30000000000001]
[31208,"ALLAN","Tabitha","F",2000,"U16","GDN",null,187.21,187.21]
[30738,"PAXTON","Paul","M",1998,"U18","GDN",null,187.29,187.82]
[31209,"PRESSLIE","Jessica","F",2000,"U16","GDN",null,202.84,202.84]
[30669,"MACFIE","Euan","M",1994,"U21","GDN",null,229.93,229.93]
[31340,"ALLAN","Amelia","F",2001,"U14","GDN",null,252.74,252.74]
[30793,"CAMPBELL","Andrew","M",1995,"U21","GDN",null,271.7,271.7]
[30866,"GARVIE","Amber","F",1998,"U18","GDN",null,283.27,283.27]
[31088,"STILL","Ruby","F",1999,"U16","GDN",null,284.98,284.98]
[31206,"RASMUSEN","Erik","M",1998,"U18","GDN",null,288.04000000000002,288.04000000000002]
[31178,"ALEXANDER","Hamish","M",1999,"U16","GDN",null,301.31,301.31]
[31140,"RAY","Kathleen","F",1999,"U16","GDN",null,305.22000000000003,305.22000000000003]
[30912,"CAMPBELL","Iain","M",1997,"U18","GDN",null,334.53,334.53]
[31357,"CALDER","Emma","F",2002,"U14","GDN",null,999.99,999.99]
[31565,"DOUGLAS","Morven","F",2001,"U14","GDN",null,999.99,999.99]
[31153,"MORRISON","Rachael","F",1999,"U16","GDN",null,999.99,999.99]
[31207,"RASMUSEN","Victoria","F",2000,"U16","GDN",null,999.99,999.99]
[31504,"STEPHEN","Sadie","F",2000,"U16","GDN",null,999.99,999.99]
[36585,"STEPHEN","Wendy","F",2002,"U14","GDN",null,999.99,999.99]
[31290,"BROWN","Rory","M",1997,"U18","GDN",null,999.99,999.99]
[31230,"CAMPBELL","Graeme","M",2000,"U16","GDN",null,999.99,999.99]
[30854,"GARVIE","Scott","M",1996,"U21","GDN",null,999.99,999.99]
[36607,"MORRISON","Jack","M",2001,"U14","GDN",null,999.99,999.99]
[31255,"WILOWSKI","Kazimierz","M",2000,"U16","GDN",null,999.99,999.99]
[31436,"ALLAN","Phoebe","F",2004,"U12","GDN",null,999.99,999.99]
[31482,"BROWN","Anna","F",2006,"U10","GDN",null,999.99,999.99]
[31440,"PFLEGER","Isabella","F",2006,"U10","GDN",null,999.99,999.99]
[31447,"PRESSLIE","Sophie","F",2003,"U12","GDN",null,999.99,999.99]
[31481,"BROWN","Cameron","M",2003,"U12","GDN",null,999.99,999.99]
[31439,"PFLEGER","Harry","M",2005,"U10","GDN",null,999.99,999.99]
[36586,"STEPHEN","Gordie","M",2005,"U10","GDN",null,999.99,999.99]
[31434,"WHATFORD","Ben","M",2005,"U10","GDN",null,999.99,999.99]
[21358,"COOK","Ellie","F",1998,"U18","GLO",null,160.04,157.44]
[21255,"COOK","James","M",2002,"U14","GLO",null,999.99,269.08999999999997]
[18257,"MOZOL","James","M",1993,"SEN","GLO",null,37.020000000000003,37.020000000000003]
[20790,"SANDEMAN","Jonathan","M",1998,"U18","GLO",null,90.22,90.22]
[21224,"BENNION","James","M",1997,"U18","GLO",null,306.93,306.93]
[22182,"HILLS","Charlotte","F",1998,"U18","GLO",null,999.99,999.99]
[21580,"HOFFMAN-LITTLE","Jolie","F",2005,"U10","GLO",null,999.99,999.99]
[21258,"COOK","Alastair","M",2003,"U12","GLO",null,999.99,999.99]
[21630,"EDWARDS","Rachel","F",1963,"MAS","GRV",null,999.99,999.99]
[36602,"MACLACHLAN","Fergus","M",2002,"U14","GSC",null,999.99,999.99]
[36613,"PEDEN","Jamie","M",1998,"U18","GSC",null,999.99,999.99]
[30923,"VINTER","Owen","M",2001,"U14","GSR",null,89.77,89.77]
[31275,"MCKINLAY","Victoria","F",2000,"U16","GSR",null,107.97,107.97]
[31176,"WYLIE","Scott","M",2001,"U14","GSR",null,121.96,127.89]
[31182,"DICKSON","Bailey","M",2000,"U16","GSR",null,118.55,132.28]
[31314,"MCLEW","Christopher","M",2001,"U14","GSR",null,140.04,142.44]
[31278,"FITZPATRICK","Jimmy","M",2000,"U16","GSR",null,151.97,151.97]
[31282,"NESBITT","Kieran","M",2000,"U16","GSR",null,199.05,209.1]
[31283,"NESBITT","Ross","M",2002,"U14","GSR",null,249.1,999.99]
[31195,"WARD","Thomas","M",2002,"U14","GSR",null,220.04,999.99]
[30767,"RITCHIE","Nicole","F",1995,"U21","GSR",null,0,0]
[30831,"VINTER","Zak","M",1998,"U18","GSR",null,6.93,6.93]
[30614,"RYAN","Euan","M",1993,"SEN","GSR",null,24.17,24.17]
[30233,"MACBAIN","Scott","M",1987,"SEN","GSR",null,26.5,73.23]
[31169,"MCHUGH","Liam","M",1997,"U18","GSR",null,34.64,34.64]
[30867,"RYAN","Eilidh","F",2000,"U16","GSR",null,43.11,43.11]
[31203,"CARSON","Clare","F",1994,"U21","GSR",null,53.28,105.58]
[30931,"MIDDLETON","Fraser","M",1998,"U18","GSR",null,92.62,92.62]
[30974,"SANDLAND","Alasdair","M",2000,"U16","GSR",null,118.53,118.53]
[31130,"SANDLAND","Louise","F",2001,"U14","GSR",null,210.72,210.72]
[31161,"CAMPBELL","Erin","F",1999,"U16","GSR",null,257.23,257.23]
[31525,"WALLACE","Olivia","F",1999,"U16","GSR",null,375.43,375.43]
[31537,"PATHI","Rowan","M",1999,"U16","GSR",null,380.12,380.12]
[31552,"RATTRAY","Andrew","M",2000,"U16","GSR",null,441.81,441.81]
[31531,"BRAWLEY","Patrick","M",2000,"U16","GSR",null,447.37,447.37]
[31484,"BURKE","Olivia","F",2002,"U14","GSR",null,999.99,999.99]
[36635,"CLARK","Megan","F",1998,"U18","GSR",null,999.99,999.99]
[36604,"FITZPATRICK","Joy","F",1997,"U18","GSR",null,999.99,999.99]
[31146,"MURPHY","Louise","F",1997,"U18","GSR",null,999.99,999.99]
[31252,"OSBORNE","Jennifer","F",1991,"SEN","GSR",null,999.99,999.99]
[36562,"SZAFRANEK","Chloe","F",1992,"SEN","GSR",null,999.99,999.99]
[31524,"WALLACE","Sophia","F",2002,"U14","GSR",null,999.99,999.99]
[36618,"GRANT","Caolan","M",2002,"U14","GSR",null,999.99,999.99]
[36619,"GRANT","Taryn","M",2002,"U14","GSR",null,999.99,999.99]
[31486,"HODGSON","Ben","M",2001,"U14","GSR",null,999.99,999.99]
[36636,"JAMIESON","Fraser","M",2002,"U14","GSR",null,999.99,999.99]
[31457,"MILLER","Craig","M",2002,"U14","GSR",null,999.99,999.99]
[31450,"MILLER","Scott","M",1998,"U18","GSR",null,999.99,999.99]
[31151,"PATHI","Brogan","M",1998,"U18","GSR",null,999.99,999.99]
[31562,"TAYLOR","Calum","M",2002,"U14","GSR",null,999.99,999.99]
[30785,"WILD","Brett","M",1992,"SEN","GSR",null,999.99,999.99]
[31455,"YORK","Scott","M",2002,"U14","GSR",null,999.99,999.99]
[31532,"BRAWLEY","Ella","F",2004,"U12","GSR",null,999.99,999.99]
[31454,"FITZPATRICK","Molly","F",2003,"U12","GSR",null,999.99,999.99]
[31500,"WARD","Erin","F",2005,"U10","GSR",null,999.99,999.99]
[31464,"WARD","Isla","F",2004,"U12","GSR",null,999.99,999.99]
[31260,"WYLIE","Fiona","F",2003,"U12","GSR",null,999.99,999.99]
[31479,"BURKE","Luke","M",2004,"U12","GSR",null,999.99,999.99]
[36603,"CAMPBELL","Oliver","M",2003,"U12","GSR",null,999.99,999.99]
[31437,"MCLEW","Euan","M",2003,"U12","GSR",null,999.99,999.99]
[31129,"SANDLAND","Jamie","M",2003,"U12","GSR",null,999.99,999.99]
[31474,"SIMMONDS","Thomas","M",2003,"U12","GSR",null,999.99,999.99]
[31563,"TAYLOR","Finlay","M",2004,"U12","GSR",null,999.99,999.99]
[31523,"WYLIE","Gordon","M",2005,"U10","GSR",null,999.99,999.99]
[14350,"POTH","Daniel","M",1996,"U21","HEM",null,14.16,21.81]
[13952,"ROGERS","Rachelle","F",1995,"U21","HEM",null,11.2,999.99]
[18793,"O'NEILL","Ella","F",1997,"U18","HEM",null,27.27,30.36]
[18317,"KRAHELSKI","Oliver","M",1996,"U21","HEM",null,28.21,28.21]
[5480,"TURNOCK","Kerry","F",1972,"MAS","HEM",null,61.15,61.15]
[18467,"WHITE","Alex","M",1997,"U18","HEM",null,78.930000000000007,78.930000000000007]
[17439,"GREASBY","Alexandra","F",1994,"U21","HEM",null,111.86,111.86]
[13217,"SHARP","Anthony","M",1968,"MAS","HEM",null,140.66,140.66]
[20727,"BELL","Rosemary","F",2001,"U14","HEM",null,233.63,233.63]
[21720,"SHAIR","Tariq","M",1993,"SEN","HEM",null,281.63,281.63]
[19122,"GREASBY","Richard","M",1969,"MAS","HEM",null,758.49,758.49]
[21441,"ORCHARD","Ellie","F",2002,"U14","HEM",null,999.99,999.99]
[22009,"APPLETON","Byron","M",2001,"U14","HEM",null,999.99,999.99]
[20579,"SMITH","Gary","M",1984,"MAS","HEM",null,999.99,999.99]
[41974,"THOMAS","Pat","M",1960,"MAS","HEM",null,999.99,999.99]
[22188,"TRUST","Alex","M",2000,"U16","HEM",null,999.99,999.99]
[22121,"BENN","Jessica","F",2005,"U10","HEM",null,999.99,999.99]
[21699,"MAGENES","Edoardo","M",2004,"U12","HEM",null,999.99,999.99]
[31404,"CLUGNET","James","M",1996,"U21","HIG",null,999.99,999.99]
[36564,"MACLEAN","Beth","F",1998,"U18","HNC",null,999.99,999.99]
[31546,"GIBB","Duncan","M",1997,"U18","HNC",null,999.99,999.99]
[31396,"MACLEAN","Angus","M",1996,"U21","HNC",null,999.99,999.99]
[31392,"NICHOLLS","Harry","M",1996,"U21","HNC",null,999.99,999.99]
[31310,"YOUNG","Gregor","M",1995,"U21","HNC",null,999.99,999.99]
[36629,"LANG","Fergus","M",2000,"U16","K",null,999.99,999.99]
[20401,"MOORE","Benedict","M",2001,"U14","K",null,999.99,999.99]
[21964,"KEEN","Emily","F",2004,"U12","KF",null,999.99,999.99]
[19450,"SLATTERY","Rachel","F",1968,"MAS","KND",null,999.99,999.99]
[14393,"THEXTON","Heather","F",1990,"SEN","KND",null,999.99,999.99]
[22133,"APPLETON","Polly","F",1999,"U16","LIO",null,999.99,999.99]
[31318,"STARK","Daisy","F",2001,"U14","LSR",null,271.52,271.52]
[31199,"MORRIS","Christopher","M",2000,"U16","LSR",null,275.89,275.89]
[31333,"HANNAN","James","M",2001,"U14","LSR",null,287.01,287.01]
[31513,"PEARSON","Holly","F",2001,"U14","LSR",null,588.97,588.97]
[31109,"HEATLEY","Holly","F",1997,"U18","LSR",null,999.99,999.99]
[31339,"BURROW","Gregor","M",2002,"U14","LSR",null,999.99,999.99]
[31238,"KEITH","Mathew","M",1998,"U18","LSR",null,140.94999999999999,140.94999999999999]
[31039,"CAMERON","Alasdair","M",1995,"U21","LSR",null,165.79,165.79]
[31077,"HUNSLEY","Miriam","F",1995,"U21","LSR",null,210.12,210.12]
[31114,"SPEIR","Henry","M",1999,"U16","LSR",null,224.12,224.12]
[31029,"FLOCKHART","Sam","M",1998,"U18","LSR",null,253.4,253.4]
[31150,"GOODLAD","Finlay","M",1998,"U18","LSR",null,264.86,264.86]
[31327,"INWOOD","Morgan","F",2001,"U14","LSR",null,265,265]
[31142,"GIBB","Matthew","M",1997,"U18","LSR",null,283.04000000000002,283.04000000000002]
[31313,"MUNRO","Colin","M",1995,"U21","LSR",null,285.93,999.99]
[31157,"SPENCE","Matthew","M",2000,"U16","LSR",null,289.22000000000003,289.22000000000003]
[31265,"NAYLOR","Finlay","M",1998,"U18","LSR",null,333.83,333.83]
[31330,"MARTIN","Rebecca","F",1999,"U16","LSR",null,388.01,388.01]
[31413,"DORREN","Donald","M",2001,"U14","LSR",null,420.99,420.99]
[31258,"GIBB","Tabitha","F",2000,"U16","LSR",null,431.18,431.18]
[31233,"BEVERIDGE","Jamie","M",2000,"U16","LSR",null,433.96,433.96]
[31429,"HARPER","Callum","M",1998,"U18","LSR",null,434.07,434.07]
[31162,"DAVIDSON-MCQUEEN","Ramsay","M",1999,"U16","LSR",null,434.48,434.48]
[31164,"ODY","Robert","M",1998,"U18","LSR",null,465.51,465.51]
[31264,"GIBB","Eva","F",2000,"U16","LSR",null,470.48,470.48]
[31545,"WOOD","Milly","F",2000,"U16","LSR",null,616.37,616.37]
[31411,"BAKER","Rachel","F",2002,"U14","LSR",null,999.99,999.99]
[31317,"DAVIDSON-MCQUEEN","Cassie","F",2002,"U14","LSR",null,999.99,999.99]
[31555,"MCNUTT","Katie","F",2002,"U14","LSR",null,999.99,999.99]
[31476,"MORISETTI","Eilidh","F",2002,"U14","LSR",null,999.99,999.99]
[31507,"MYATT","Rona","F",1997,"U18","LSR",null,999.99,999.99]
[31430,"STEWART","Honor","F",2000,"U16","LSR",null,999.99,999.99]
[31400,"ARNOTT","Jack","M",2002,"U14","LSR",null,999.99,999.99]
[31520,"DUNN","Liam","M",2000,"U16","LSR",null,999.99,999.99]
[31542,"GILFILLAN","Charlie","M",2001,"U14","LSR",null,999.99,999.99]
[31508,"MARSTON","Rory","M",1999,"U16","LSR",null,999.99,999.99]
[31554,"MCNUTT","Josh","M",1998,"U18","LSR",null,999.99,999.99]
[31536,"MILLAR","Archie","M",2001,"U14","LSR",null,999.99,999.99]
[31428,"MUNN","Hamish","M",2002,"U14","LSR",null,999.99,999.99]
[31020,"SCOTT","Archie","M",1996,"U21","LSR",null,999.99,999.99]
[31557,"THORP","Cameron","M",2000,"U16","LSR",null,999.99,999.99]
[31376,"BOLE","Rebecca","F",2003,"U12","LSR",null,999.99,999.99]
[31332,"MARTIN","Annabelle","F",2003,"U12","LSR",null,999.99,999.99]
[31423,"MCKEY","Holly","F",2003,"U12","LSR",null,999.99,999.99]
[31344,"SPENCE","Rachel","F",2003,"U12","LSR",null,999.99,999.99]
[31543,"BECK","Ben","M",2003,"U12","LSR",null,999.99,999.99]
[31510,"CAMPBELL","Frederick","M",2003,"U12","LSR",null,999.99,999.99]
[31564,"CLYDE","Sam","M",2003,"U12","LSR",null,999.99,999.99]
[31515,"DALZIEL","Tom","M",2004,"U12","LSR",null,999.99,999.99]
[31516,"FLOCKHART","Ben","M",2003,"U12","LSR",null,999.99,999.99]
[31475,"GRIEVE","Joe","M",2003,"U12","LSR",null,999.99,999.99]
[31509,"HUNTER","Fraser","M",2003,"U12","LSR",null,999.99,999.99]
[31506,"MACDONALD","Finlay","M",2004,"U12","LSR",null,999.99,999.99]
[31535,"MILLAR","Jay","M",2003,"U12","LSR",null,999.99,999.99]
[36620,"MUNN","Rory","M",2004,"U12","LSR",null,999.99,999.99]
[31521,"MURRAY","Sam","M",2003,"U12","LSR",null,999.99,999.99]
[31568,"RALPH","Fergus","M",2003,"U12","LSR",null,999.99,999.99]
[31561,"SUTHERLAND","Finn","M",2003,"U12","LSR",null,999.99,999.99]
[1,"SHEDDEN","John","M",1943,"MAS","MER",null,999.99,999.99]
[20307,"MIDDLETON","Amy","F",1995,"U21","MID",null,51.15,51.15]
[21084,"EMMERSON","Philip","M",1990,"SEN","MID",null,57.73,57.73]
[19163,"HAWKINS","Mark","M",1979,"MAS","MID",null,61.45,57.1]
[41662,"LEE","Sam","M",1996,"U21","MID",null,128.82,128.82]
[21051,"UPTON","Thomas","M",2001,"U14","MID",null,179.58,126.27]
[19983,"CARE","Chloe","F",1998,"U18","MID",null,203.01,203.01]
[20590,"CARE","James","M",2002,"U14","MID",null,999.99,398.04]
[19704,"BEARDMORE","Adam","M",1986,"SEN","MID",null,35.26,35.26]
[20677,"FROST","Joey","M",1995,"U21","MID",null,127.79,127.79]
[19166,"ELGY","James","M",1993,"SEN","MID",null,166.36,166.36]
[21550,"TARRANT","Toby","M",1997,"U18","MID",null,186.2,186.2]
[19572,"DOHERTY","Samuel","M",1999,"U16","MID",null,257.08999999999997,257.08999999999997]
[19165,"ELGY","Geraldine","F",1954,"MAS","MID",null,330.25,330.25]
[19164,"ELGY","John","M",1951,"MAS","MID",null,332.56,332.56]
[19573,"DOHERTY","Robyn","F",1996,"U21","MID",null,636.34,636.34]
[17039,"DELLER","Philip","M",1959,"MAS","MID",null,780.34,780.34]
[21075,"HEARD","Jake","M",1998,"U18","MID",null,999.99,999.99]
[21569,"HEMMING","Anya","F",2005,"U10","MID",null,999.99,999.99]
[20809,"O'BRIEN","Matilda","F",2004,"U12","MID",null,999.99,999.99]
[20669,"TREUGE","Lauren","F",2003,"U12","MID",null,999.99,999.99]
[21052,"UPTON","Jack","M",2004,"U12","MID",null,999.99,999.99]
[22176,"GILES","Ella","F",2003,"U12","MID",null,999.99,999.99]
[22074,"PORTEOUS","Adrian","M",1965,"MAS","MSR",null,356.5,999.99]
[22044,"PORTEOUS","Nathan","M",2001,"U14","MSR",null,210.51,999.99]
[14806,"MACEY","Abbie","F",1994,"U21","MSR",null,54.4,115.93]
[20065,"WALKER-MORETTI","Ralph","M",1998,"U18","MSR",null,67.25,67.25]
[20552,"WHEELER","Sophie","F",2003,"U12","MSR",null,999.99,999.99]
[21908,"EDWARDS","William","M",2005,"U10","MSR",null,999.99,999.99]
[22054,"PORTEOUS","Daniel","M",2003,"U12","MSR",null,999.99,999.99]
[22170,"KELLY","Nicole","F",2006,"U10","MSR",null,999.99,999.99]
[31104,"DOUGLAS","Abigail","F",1999,"U16","MUC",null,86.78,86.78]
[31224,"MARDEN","Angus","M",2000,"U16","MUC",null,214.55,214.55]
[31216,"GALLOWAY","Drew","M",2000,"U16","MUC",null,263.73,263.73]
[31527,"LANG","Ishbel","F",2000,"U16","MUC",null,391.35,391.35]
[31533,"YOUNG","Olivia","F",2000,"U16","MUC",null,500.69,500.69]
[36597,"CALLION","Christina","F",1999,"U16","MUC",null,999.99,999.99]
[36605,"GALLOWAY","Maudie","F",2005,"U10","MUC",null,999.99,999.99]
[36598,"RAE","Lauren","F",2005,"U10","MUC",null,999.99,999.99]
[18629,"MOLLOY","Daniel","M",1993,"SEN","NOR",null,48.62,48.62]
[17438,"MOLLOY","Michael","M",1992,"SEN","NOR",null,0,0]
[20139,"COE","Megan","F",1997,"U18","NOR",null,31.87,31.87]
[20628,"RICHARDSON","Thomas","M",1997,"U18","NOR",null,46.09,46.09]
[20637,"WIGMORE","Matthew","M",1996,"U21","NOR",null,49.04,49.04]
[20754,"SPANTON","Jessica","F",1997,"U18","NOR",null,50.75,50.75]
[21120,"DAVIES","Ben","M",1995,"U21","NOR",null,65.97,65.97]
[20293,"CLAYTON","Adam","M",1996,"U21","NOR",null,82.16,82.16]
[21742,"SEWELL","Logan","M",1998,"U18","NOR",null,82.25,82.25]
[20339,"BURROUGHS","Hannah","F",2000,"U16","NOR",null,128.57,128.57]
[21253,"OLIVER","Ryan","M",1997,"U18","NOR",null,137.76,137.76]
[19749,"SPANTON","Nicholas","M",1965,"MAS","NOR",null,137.84,137.84]
[6894,"SHAILES","Darryl","M",1961,"MAS","NOR",null,139.08000000000001,139.08000000000001]
[21723,"HOWE","Charlie","M",2000,"U16","NOR",null,168.81,168.81]
[14940,"BECKETT","David","M",1960,"MAS","NOR",null,185.05,185.05]
[19738,"DEWULF-PETERS","Oliver","M",1994,"U21","NOR",null,301.87,301.87]
[22166,"HOLMES","Thomas","M",1999,"U16","NOR",null,999.99,999.99]
[22087,"PARKER","Travis","M",2005,"U10","NOR",null,999.99,999.99]
[22179,"HOLMES","Abby","F",2003,"U12","NOR",null,999.99,999.99]
[21119,"DAVIES","Harry","M",1999,"U16","NOR",null,112.44,112.44]
[21317,"BLEASDALE","Janice","F",1962,"MAS","NSC",null,999.99,999.99]
[21310,"KROLL","Ann","F",1971,"MAS","NSC",null,999.99,999.99]
[42026,"EVANS","Jac","M",2002,"U14","NW",null,999.99,999.99]
[41939,"MELIA","Tybalt","M",2000,"U16","NW",null,999.99,999.99]
[42032,"EVANS","Edward","M",2004,"U12","NW",null,999.99,999.99]
[18417,"SPEARPOINT","Nicholas","M",1966,"MAS","OVL",null,213.27,213.27]
[17435,"DAWSON","Laura","F",1993,"SEN","OVL",null,219.13,219.13]
[12400,"DAWSON","Andrew","M",1965,"MAS","OVL",null,304.49,304.49]
[41781,"BOWYER","Andy","M",1964,"MAS","OVL",null,999.99,999.99]
[5013,"HEATH","Peter","M",1944,"MAS","OVL",null,999.99,999.99]
[31459,"HALLIDAY","Duncan","M",1985,"SEN","P3",null,999.99,999.99]
[31063,"WISE","Kyle","M",1989,"SEN","P3",null,999.99,999.99]
[21750,"DAVEY","Tarran","M",2000,"U16","PLY",null,266.29000000000002,144.61000000000001]
[21757,"SPENCER","Samuel","M",1996,"U21","PLY",null,281.81,265.29000000000002]
[21748,"SAXBY","Kate","F",2002,"U14","PLY",null,999.99,426.24]
[22022,"SPENCER","Ania","F",1998,"U18","PLY",null,999.99,349.69]
[19170,"CORR","Christopher","M",1995,"U21","PND",null,6.38,5.98]
[19420,"WITTS","Callum","M",1998,"U18","PND",null,41.19,34.06]
[19146,"HUPPACH","Declan","M",1999,"U16","PND",null,52.86,34.39]
[20897,"NICKSON","Joseph","M",1996,"U21","PND",null,88.45,87.25]
[19048,"EAVES","Jonathan","M",1998,"U18","PND",null,132.28,102.89]
[20431,"HOLMES","John","M",1969,"MAS","PND",null,140.35,119.89]
[21146,"COOPER","Morgan","M",1998,"U18","PND",null,153.77000000000001,112.21]
[21651,"CULSHAW","Daniel","M",1997,"U18","PND",null,209.84,179.15]
[21625,"CORR","David","M",1998,"U18","PND",null,285.64999999999998,234.56]
[22001,"BUTTERWORTH","Samuel","M",2001,"U14","PND",null,999.99,199.99]
[20640,"FENELEY","Jack","M",2002,"U14","PND",null,999.99,153.63999999999999]
[21097,"HOLMES","Robert","M",2002,"U14","PND",null,203.54,118.28]
[19458,"HUPPACH","Josef","M",2002,"U14","PND",null,112.2,105.73]
[13389,"LEESON","Andrew","M",1989,"SEN","PND",null,28.85,28.85]
[13795,"ELLIOTT","Lauren","F",1991,"SEN","PND",null,205.38,999.99]
[10040,"EAVES","David","M",1967,"MAS","PND",null,401.52,401.52]
[22052,"VAUGHTON","Max","M",1999,"U16","PND",null,999.99,999.99]
[20428,"MURRAY","David","M",1994,"U21","PND",null,999.99,999.99]
[21597,"CULSHAW","Eleanor","F",2003,"U12","PND",null,999.99,999.99]
[20618,"EAVES","Eleanor","F",2003,"U12","PND",null,999.99,999.99]
[21621,"HOLMES","Charlotte","F",2005,"U10","PND",null,999.99,999.99]
[22034,"MARLOR","Bradley","M",2006,"U10","PND",null,999.99,999.99]
[22178,"BUTTERWORTH","Sophie","F",2005,"U10","PND",null,999.99,999.99]
[20711,"BEER","Georgina","F",1996,"U21","RAV",null,45.91,45.91]
[20712,"BEER","Lawrence","M",1998,"U18","RAV",null,71.34,71.34]
[13228,"MILSTED","James","M",1992,"SEN","RAV",null,97.83,96.13]
[21728,"BISHOP","Julian","M",1968,"MAS","RAV",null,372.62,457.09]
[13432,"NICHOL","Timothy","M",1984,"MAS","RAV",null,118.42,118.42]
[20713,"LARBY","Thomas","M",1994,"U21","RAV",null,124.41,124.41]
[17344,"LOWDON","Matthew","M",1995,"U21","RAV",null,999.99,999.99]
[21839,"HARROGATE-BRAMLEY","Alana","F",2003,"U12","RAV",null,999.99,999.99]
[41986,"EVANS","Isabel","F",2000,"U16","SAS",null,209.83,245.11]
[41985,"EVANS","Harrison","M",2000,"U16","SAS",null,210.67,203.92]
[20380,"RATCLIFFE","David","M",1998,"U18","SAS",null,302.32,302.32]
[20487,"GADZHUROV","Marko","M",1966,"MAS","SAS",null,999.99,999.99]
[20381,"RATCLIFFE","Thomas","M",2001,"U14","SAS",null,999.99,999.99]
[21862,"TOWNSEND","Alexander","M",1999,"U16","SAS",null,999.99,999.99]
[41971,"RYAN","Lee","M",2000,"U16","SCI",null,211.29,211.35]
[41969,"SINGLETON","Cillian","M",1999,"U16","SCI",null,221.6,226.36]
[41918,"DE DECKER","Carrig","M",1998,"U18","SCI",null,133.97,231.53]
[41970,"MCDOWELL","Harry","M",2000,"U16","SCI",null,236.36,236.38]
[41973,"COLUMB","Cameron","M",1999,"U16","SCI",null,187.32,365.56]
[42029,"LYNCH","Annmarie","F",2001,"U14","SCI",null,262.24,999.99]
[42036,"COLUMB","Nathan","M",2001,"U14","SCI",null,266.91000000000003,999.99]
[41608,"DOYLE","Eoin","M",1997,"U18","SCI",null,68.69,68.69]
[41764,"REILLY","Garreth","M",1999,"U16","SCI",null,79.64,79.64]
[41930,"BOLGER","Enda","M",1997,"U18","SCI",null,156.57,156.57]
[41984,"BROWN","Jack","M",2001,"U14","SCI",null,323.95999999999998,323.95999999999998]
[31261,"COWAN","Lorna","F",1998,"U18","SFR",null,161.57,161.57]
[31526,"WINNING","Charlotte","F",1998,"U18","SFR",null,371.57,371.57]
[31281,"LINKLATER","Ian","M",1953,"MAS","SFR",null,999.99,999.99]
[20391,"GRIFFITHS","Inez","F",1995,"U21","SHK",null,122.17,122.17]
[18099,"SUMMERHAYES","Molly","F",1997,"U18","SHK",null,588.37,999.99]
[8522,"ASHTON","Simon","M",1968,"MAS","SHK",null,989,989]
[17009,"HOUSTON","Alexandra","F",1994,"U21","SHK",null,999.99,999.99]
[17154,"SUMMERHAYES","Katie","F",1995,"U21","SHK",null,999.99,999.99]
[18628,"HOUSTON","Samuel","M",1996,"U21","SHK",null,999.99,999.99]
[20731,"NEASHAM","Grace","F",1998,"U18","SMK",null,131.21,131.21]
[17752,"SOMAN","Bethany","F",1997,"U18","SMK",null,91.36,91.36]
[20714,"VANBECK","Robert","M",1998,"U18","SMK",null,97.97,97.97]
[18616,"HANCOCK","Karl","M",1995,"U21","SMK",null,259.37,259.37]
[19753,"MAZE-BROWN","Riley","F",2002,"U14","SMK",null,999.99,999.99]
[20134,"SOMAN","Mia","F",2002,"U14","SMK",null,999.99,999.99]
[41910,"GORRINGE","Cerys","F",2000,"U16","SMK",null,999.99,999.99]
[19739,"ROSE","Rebecca","F",2002,"U14","SMK",null,999.99,999.99]
[41911,"GORRINGE","Giselle","F",2003,"U12","SMK",null,999.99,999.99]
[20695,"CATLIN","Osian","M",2005,"U10","SMK",null,999.99,999.99]
[21121,"STANWAY","Kayne","M",2005,"U10","SMK",null,999.99,999.99]
[21863,"TOWNSEND","Isabel","F",2002,"U14","SOU",null,999.99,999.99]
[41852,"FLUCK","Benjamin","M",1996,"U21","SPR",null,87.85,87.85]
[21963,"GREENE","Amelia","F",2002,"U14","SPR",null,999.99,999.99]
[21607,"LEIGHTON","Amie","F",2001,"U14","SPR",null,999.99,999.99]
[21406,"DEYKIN","Sebastian","M",1998,"U18","SPR",null,999.99,999.99]
[21186,"KIPPING","Lewis","M",2001,"U14","SRR",null,143.75,140.69]
[22067,"MOORE","Chris","M",2001,"U14","SRR",null,377.64,373.34]
[22068,"MOORE","Connor","M",2000,"U16","SRR",null,449.98,999.99]
[21799,"ELLISON","Molly","F",2000,"U16","SRR",null,999.99,999.99]
[22045,"HART","Rebecca","F",2005,"U10","SRR",null,999.99,999.99]
[30121,"HENDERSON","Callum","M",1989,"SEN","SSC",null,1.32,1.34]
[31089,"WRIGHT","Dewar","M",1999,"U16","SSC",null,76.430000000000007,76.430000000000007]
[30542,"MACKINNON","Christy","F",1992,"SEN","SSC",null,25.39,127.72]
[31311,"HAY","Adam","M",2001,"U14","SSC",null,226.4,226.4]
[31380,"CROOK","Andrew","M",1998,"U18","SSC",null,249.53,249.53]
[31356,"STEPHEN","Lachlan","M",2001,"U14","SSC",null,283.89999999999998,283.89999999999998]
[31148,"MCCALL","Andrew","M",2002,"U14","SSC",null,999.99,999.99]
[31319,"STEEL","Bruno","M",2002,"U14","SSC",null,999.99,999.99]
[30526,"STANG","Alastair","M",1992,"SEN","SSC",null,14.27,23.96]
[30778,"KUWALL","Duncan","M",1998,"U18","SSC",null,46.71,46.71]
[30862,"ROFE","Sean","M",1995,"U21","SSC",null,80.27,85.66]
[30646,"BALL","Elliot","M",1994,"U21","SSC",null,88.17,88.17]
[30349,"GIBSON","Gordon","M",1990,"SEN","SSC",null,103.36,103.36]
[30250,"MACFIE","Alastair","M",1989,"SEN","SSC",null,113.3,113.3]
[30827,"PATTERSON","Ross","M",1999,"U16","SSC",null,127.66,127.66]
[31032,"DILLON","Grant","M",1997,"U18","SSC",null,131.29,131.29]
[30293,"MCLEOD","Eilidh","F",1990,"SEN","SSC",null,149.04,240.23]
[31031,"INNES","Iain","M",1998,"U18","SSC",null,182.26,182.26]
[31213,"WAITT","Scott","M",2000,"U16","SSC",null,191.56,191.56]
[31197,"ANDERSON","Ewen","M",2000,"U16","SSC",null,203.39,203.39]
[31014,"BROWN","Rhys","M",1995,"U21","SSC",null,205.33,205.33]
[31241,"BROGAN","Alexandra","F",1996,"U21","SSC",null,268.7,268.7]
[31220,"CLARKE","Liam","M",1999,"U16","SSC",null,272.83999999999997,272.83999999999997]
[31308,"BROGAN","Jodie","F",1998,"U18","SSC",null,274.69,274.69]
[31375,"BOLE","Gemma","F",2001,"U14","SSC",null,306.52999999999997,306.52999999999997]
[30982,"THOMSON","Sarah","F",1996,"U21","SSC",null,327.78,327.78]
[31341,"LURRING","Connor","M",1999,"U16","SSC",null,397.31,397.31]
[31198,"INNES","Robbie","M",2000,"U16","SSC",null,406.94,406.94]
[30987,"THOMSON","Ross","M",1999,"U16","SSC",null,502.51,502.51]
[31374,"GILLIES","John","M",1999,"U16","SSC",null,557.61,557.61]
[31080,"ENGLAND","Jessica","F",1998,"U18","SSC",null,599.04,599.04]
[31132,"BROWN","Harry","M",1999,"U16","SSC",null,688.45,688.45]
[31035,"JEFFRAY","Claire","F",1977,"MAS","SSC",null,989,989]
[31316,"ANDERSON","Grace","F",2002,"U14","SSC",null,999.99,999.99]
[30868,"BROWN","Cara","F",1994,"U21","SSC",null,999.99,999.99]
[31081,"ENGLAND","Isabella","F",2000,"U16","SSC",null,999.99,999.99]
[31463,"TAYLOR","Rhona","F",2002,"U14","SSC",null,999.99,999.99]
[31021,"BARLOW","Benedict","M",1994,"U21","SSC",null,999.99,999.99]
[36628,"BARLOW","Robert","M",1954,"MAS","SSC",null,999.99,999.99]
[31115,"BARLOW","Xavier","M",1995,"U21","SSC",null,999.99,999.99]
[31067,"CHAMBET","Tom","M",2000,"U16","SSC",null,999.99,999.99]
[31398,"DALZIEL","James","M",1999,"U16","SSC",null,999.99,999.99]
[31559,"GOODMAN","Thomas","M",2001,"U14","SSC",null,999.99,999.99]
[31505,"LANGMUIR","Calum","M",2002,"U14","SSC",null,999.99,999.99]
[30953,"MCLEISH","Adam","M",1979,"MAS","SSC",null,999.99,999.99]
[31082,"PITCHERS","Brian","M",1942,"MAS","SSC",null,999.99,999.99]
[31168,"SMITH","Ossian","M",2001,"U14","SSC",null,999.99,999.99]
[31185,"TAYLOR","Lewis","M",1998,"U18","SSC",null,999.99,999.99]
[3199,"WHITTET","Jeremy","M",1967,"MAS","SSC",null,999.99,999.99]
[31499,"CROSS","Jemima","F",2003,"U12","SSC",null,999.99,999.99]
[36611,"ENGLAND","Amelia","F",2004,"U12","SSC",null,999.99,999.99]
[31483,"HAY","Ailsa","F",2004,"U12","SSC",null,999.99,999.99]
[31227,"MCCALL","Catriona","F",2004,"U12","SSC",null,999.99,999.99]
[31560,"GOODMAN","Matthew","M",2003,"U12","SSC",null,999.99,999.99]
[36594,"LIVINGSTONE","Zak","M",2003,"U12","SSC",null,999.99,999.99]
[36642,"MCKEY","Lewis","M",2006,"U10","SSC",null,999.99,999.99]
[36589,"STEEL","Luc","M",2005,"U10","SSC",null,999.99,999.99]
[30667,"MORRIS","Sarah","F",1994,"U21","STC",null,131.5,131.5]
[31188,"MORRISSEY","Anna","F",1990,"SEN","STC",null,999.99,999.99]
[30384,"CRUZ-MERMY","Alistair","M",1984,"MAS","STC",null,999.99,999.99]
[36617,"HOUSTOUN","Robert","M",1992,"SEN","STC",null,999.99,999.99]
[19723,"MATTHEWS","Brandon","M",1999,"U16","STS",null,55.38,55.38]
[20921,"DURANT","Richard","M",1967,"MAS","SUF",null,202.37,202.37]
[20108,"GODDARD","Thomas","M",1996,"U21","SUF",null,206.45,206.45]
[21154,"MARSH","Joshua","M",2001,"U14","SZR",null,197.61,197.61]
[21024,"JACKSON","Ellie","F",2002,"U14","TEL",null,202.37,167.27]
[19565,"BOWERS","Dieter","M",1996,"U21","TEL",null,120.04,120.04]
[21582,"HARPER","Thomas","M",2000,"U16","TEL",null,402.45,402.45]
[22085,"BRICKLEY","Iona","F",2006,"U10","TEL",null,999.99,999.99]
[21203,"BREESE","Thomas","M",2003,"U12","TEL",null,999.99,999.99]
[21108,"CAMPBELL","Harvey","M",2003,"U12","TEL",null,999.99,999.99]
[20729,"WILLIAMS","Matthew","M",2004,"U12","TEL",null,999.99,999.99]
[30848,"HARTE","Natalia","F",1992,"SEN","THR",null,33.97,61.09]
[31229,"HARTE","Giulia","F",1996,"U21","THR",null,999.99,999.99]
[19213,"TONGE","Charlotte","F",1994,"U21","TOQ",null,67.260000000000005,67.260000000000005]
[19211,"THOMAS","Kerry","F",1995,"U21","TOQ",null,111.71,111.71]
[21090,"KILROY-SILK","Ellaouise","F",2002,"U14","TOQ",null,999.99,999.99]
[20843,"MARSLAND","Steven","M",1970,"MAS","TOQ",null,999.99,999.99]
[41459,"GURNER","Samuel","M",1997,"U18","TOR",null,93.86,93.86]
[41702,"DAVIES","Jonathan","M",1974,"MAS","TOR",null,464.29,464.29]
[4378,"ROE","Nicholas","M",1956,"MAS","TOR",null,748.57,748.57]
[21557,"SHEPHERDSON","James","M",1999,"U16","TSD",null,309.2,309.2]
[21558,"SHEPHERDSON","Lauren","F",2003,"U12","TSD",null,999.99,999.99]
[22185,"BARTLETT","Holly","F",2003,"U12","TSD",null,999.99,999.99]
[22191,"CHAMPION","Benjamin","M",2005,"U10","TSD",null,999.99,999.99]
[21816,"TUBBS","Jessica","F",1999,"U16","TSN",null,999.99,999.99]
[21866,"MARKS KING","Alex","M",1999,"U16","TSN",null,999.99,999.99]
[22130,"STOCKER","Charley","M",1968,"MAS","TSN",null,999.99,999.99]
[22122,"THOMPSON","Niamh","F",2005,"U10","TSN",null,999.99,999.99]
[21823,"TUBBS","Charlie","M",2003,"U12","TSN",null,999.99,999.99]
[20095,"LALLY","Cameron","M",1996,"U21","VIK",null,99.55,99.55]
[17452,"WRIGHT","Natasha","F",1997,"U18","VIK",null,100.87,100.87]
[19696,"CUTHBERT","Daryl","M",1996,"U21","VIK",null,213.43,213.43]
[19235,"ROYAL","Natasha","F",1999,"U16","VIK",null,999.99,999.99]
[19700,"TOOGOOD","Natalia","F",1997,"U18","VIK",null,999.99,999.99]
[21362,"WILSON","Geoffrey","M",1996,"U21","VIK",null,999.99,999.99]
[21017,"ELLIFF","Alexa","F",2003,"U12","VIK",null,999.99,999.99]
[4777,"HATCHER","David","M",1985,"SEN","WCS",null,8.15,8.15]
[19570,"RICHMOND","Henry","M",1999,"U16","WCS",null,145.4,123.28]
[17257,"MARMENT","Christiaan","M",1997,"U18","WCS",null,113.81,113.81]
[18684,"MARMENT","Robyn","F",2000,"U16","WCS",null,218.24,218.24]
[4963,"RUDGE","Barnaby","M",1989,"SEN","WCS",null,999.99,999.99]
[21218,"BRESKAL","Bailey","M",1998,"U18","WGC",null,156.33000000000001,156.33000000000001]
[22164,"LONGSTAFF","Michael","M",2001,"U14","WGC",null,999.99,999.99]
[41841,"HORTON","Sam","M",1996,"U21","WWS",null,195.56,195.56]
[41923,"LAYTHAM","Jack","M",2000,"U16","WWS",null,999.99,999.99]
[42035,"LLEWELLYN-JONES","Aled","M",2003,"U12","WWS",null,999.99,999.99]
[42038,"WILEY","Casper","M",2006,"U10","WWS",null,999.99,999.99]
[41913,"WILEY","Lily","F",2003,"U12","WWS",null,999.99,999.99]
[1681,"PATON","Andrew","M",1968,"MAS","WYC",null,989,989]
[6231,"BARTLETT","Sally","F",1975,"MAS","WYC",null,999.99,999.99]
[12584,"BRUTON","Peter","M",1989,"SEN",null,null,10.73,16.45]
[18347,"DAVIS","George","M",1995,"U21",null,null,27.59,33.78]
[17963,"BREESE","Nathan","M",1999,"U16",null,null,89.86,93.27]
[21733,"SHAW","Benjamin","M",1999,"U16",null,null,141.97999999999999,146.18]
[21820,"GOODRIDGE","Rory","M",1998,"U18",null,null,226.44,213.98]
[18589,"MCCARTHY","Holly","F",1965,"MAS",null,null,241.88,999.99]
[17201,"CHAJECKI","Julian","M",1993,"SEN",null,null,140.94999999999999,999.99]
[21339,"REED","Matthew","M",1993,"SEN",null,null,102.74,999.99]
[42037,"WOOD","Tom","M",2000,"U16",null,null,252.43,999.99]
[14391,"BREESE","Ashley","M",1996,"U21",null,null,4,11.72]
[3940,"HARRISON","David","M",1984,"MAS",null,null,51.66,51.66]
[18346,"DAVIS","Matthew","M",1998,"U18",null,null,55.84,55.84]
[17591,"CHALKLEY","Oliver","M",1996,"U21",null,null,89.06,89.06]
[17412,"POCOCK","Elena","F",1993,"SEN",null,null,101.34,999.99]
[31000,"BARKER","Emily","F",1998,"U18",null,null,108.89,108.89]
[20347,"BROWN","Isobel","F",1999,"U16",null,null,126.85,153.08000000000001]
[19011,"KEYS","Georgia","F",2001,"U14",null,null,141.46,141.46]
[19346,"WILKINS","Simon","M",1992,"SEN",null,null,171.59,171.59]
[17692,"KIRK","Isabel","F",1997,"U18",null,null,176.65,176.65]
[18247,"ALLEN","Samuel","M",1994,"U21",null,null,188,198.97]
[13638,"CAMPBELL-WOODWARD","Sarah","F",1954,"MAS",null,null,208.53,208.53]
[31529,"PARTRIDGE","Andrew","M",1999,"U16",null,null,249.7,249.7]
[31210,"JAMIESON","Ryan","M",1996,"U21",null,null,277.64,277.64]
[20346,"BROWN","Jemima","F",2001,"U14",null,null,326.47000000000003,326.47000000000003]
[31544,"STRUTHERS","Ciorstaidh","F",2001,"U14",null,null,337.67,337.67]
[31539,"ETRI","Alim","M",1999,"U16",null,null,349.3,349.3]
[31331,"MARTIN","Oliver","M",2001,"U14",null,null,380.11,380.11]
[31309,"BREMNER","Alexander","M",2001,"U14",null,null,450.75,450.75]
[14404,"FYNN","Tarn","M",1994,"U21",null,null,672,672]
[17493,"CONNERY","Kali","M",1996,"U21",null,null,804,804]
[19199,"O'MEARA","Samuel","M",1999,"U16",null,null,960.6,999.99]
[22003,"ARNOLD","Joanna","F",1983,"MAS",null,null,999.99,999.99]
[18751,"BERRY","Laura","F",1988,"SEN",null,null,999.99,999.99]
[36640,"BRAATEN","Jaqueline","F",1998,"U18",null,null,999.99,999.99]
[36641,"BRAATEN","Yasmin","F",2000,"U16",null,null,999.99,999.99]
[21593,"COWELL","Milly","F",2002,"U14",null,null,999.99,999.99]
[21575,"DAVIES","Esmie","F",1999,"U16",null,null,999.99,999.99]
[22024,"DAVIES","Lulu","F",2002,"U14",null,null,999.99,999.99]
[41996,"ELLWOOD","Natasha","F",1992,"SEN",null,null,999.99,999.99]
[20018,"ENTWISTLE","Jacqueline","F",1959,"MAS",null,null,999.99,999.99]
[20576,"FITZGERALD","Jordan","F",1996,"U21",null,null,999.99,999.99]
[21776,"GEHRIG","Stephanie","F",1992,"SEN",null,null,999.99,999.99]
[21939,"GRIFFITHS","Nia","F",2000,"U16",null,null,999.99,999.99]
[21047,"HUTCHINSON","Elys","F",1999,"U16",null,null,999.99,999.99]
[41711,"LARGE","Sophie","F",2001,"U14",null,null,999.99,999.99]
[41682,"LEFEVRE","Paloma","F",2000,"U16",null,null,999.99,999.99]
[21972,"MORGAN","Samantha","F",2002,"U14",null,null,999.99,999.99]
[22005,"MURRAY-TACON","Alexandra","F",1997,"U18",null,null,999.99,999.99]
[21006,"NEYRINCK","Camille","F",1998,"U18",null,null,999.99,999.99]
[21735,"NICOL","Kirsty","F",1986,"SEN",null,null,999.99,999.99]
[41858,"POTTER","Maisie","F",1997,"U18",null,null,999.99,999.99]
[21900,"REBERT","Abby","F",2000,"U16",null,null,999.99,999.99]
[41980,"RESCIGNO","Giorgia","F",1993,"SEN",null,null,999.99,999.99]
[21893,"ROBERTS","Elizabeth","F",1996,"U21",null,null,999.99,999.99]
[21926,"ROBERTS","Sophie","F",1997,"U18",null,null,999.99,999.99]
[21850,"SMITH","Isobelle","F",1999,"U16",null,null,999.99,999.99]
[31566,"STEDMAN","Megan","F",2000,"U16",null,null,999.99,999.99]
[22048,"TEAL","Chloe","F",1996,"U21",null,null,999.99,999.99]
[21018,"THOMPSON","Lara","F",2000,"U16",null,null,999.99,999.99]
[22006,"VAGO","Annabel","F",2000,"U16",null,null,999.99,999.99]
[20573,"VEGTING","Amelia","F",1997,"U18",null,null,999.99,999.99]
[20612,"WHITE","Victoria","F",1994,"U21",null,null,999.99,999.99]
[36574,"WILSON","Judy","F",1952,"MAS",null,null,999.99,999.99]
[36573,"WISEMAN","Cara","F",1982,"MAS",null,null,999.99,999.99]
[36571,"YARD","Beverly","F",1900,"MAS",null,null,999.99,999.99]
[36569,"YOUNG","Maggie","F",1964,"MAS",null,null,999.99,999.99]
[8363,"ATKINSON","Michael","M",1978,"MAS",null,null,999.99,999.99]
[8362,"ATKINSON","Stuart","M",1982,"MAS",null,null,999.99,999.99]
[20416,"AVENT","Mathieu","M",1999,"U16",null,null,999.99,999.99]
[20997,"BIRAN","Itamar","M",1998,"U18",null,null,999.99,999.99]
[31461,"BOLAM","John","M",1955,"MAS",null,null,999.99,999.99]
[20586,"BRAY","Michael","M",1985,"SEN",null,null,999.99,999.99]
[20338,"BROWN","Jamie","M",1999,"U16",null,null,999.99,999.99]
[22129,"BRUNO","Benjamin","M",1999,"U16",null,null,999.99,999.99]
[30811,"BUCHAN","Murray","M",1991,"SEN",null,null,999.99,999.99]
[17380,"BUCHWISER","Lawrence","M",1995,"U21",null,null,999.99,999.99]
[19755,"BURTON","Lucas","M",2000,"U16",null,null,999.99,999.99]
[21766,"CARDON","Casey","M",1997,"U18",null,null,999.99,999.99]
[17202,"CHAJECKI","Alexander","M",1991,"SEN",null,null,999.99,999.99]
[21985,"CHERMETTE","Basile","M",1999,"U16",null,null,999.99,999.99]
[21973,"CRANE-ROBINSON","Theo","M",2001,"U14",null,null,999.99,999.99]
[21048,"DAVIES","Oliver","M",1997,"U18",null,null,999.99,999.99]
[22016,"DAVIS","Matthew","M",1999,"U16",null,null,999.99,999.99]
[31550,"DIVERS","Martin","M",1980,"MAS",null,null,999.99,999.99]
[21552,"ELLIS","Hamish","M",2002,"U14",null,null,999.99,999.99]
[31538,"ETRI","Aymen","M",1999,"U16",null,null,999.99,999.99]
[19544,"FARRELL","Jan","M",1983,"MAS",null,null,999.99,999.99]
[19728,"FIORI","Haydyn","M",2001,"U14",null,null,999.99,999.99]
[21469,"GERRETT","Sam","M",1988,"SEN",null,null,999.99,999.99]
[42025,"GUIGONNET","Edouard","M",2001,"U14",null,null,999.99,999.99]
[21859,"HARDING","Felix","M",2001,"U14",null,null,999.99,999.99]
[19674,"HEDLEY","Benja","M",1977,"MAS",null,null,999.99,999.99]
[41927,"HESLOP","Rory","M",1995,"U21",null,null,999.99,999.99]
[22046,"HODGE","Barnaby","M",2000,"U16",null,null,999.99,999.99]
[36561,"IRONSIDE","Glen","M",1999,"U16",null,null,999.99,999.99]
[31549,"JAMES","Richard","M",1965,"MAS",null,null,999.99,999.99]
[36595,"KEITH","Matthew","M",1998,"U18",null,null,999.99,999.99]
[20530,"MAJOR","Billy","M",1996,"U21",null,null,999.99,999.99]
[31171,"MATTHEW","Andrew","M",1990,"SEN",null,null,999.99,999.99]
[21043,"MEURER","Markus","M",1968,"MAS",null,null,999.99,999.99]
[41934,"MUNDAY","William","M",2000,"U16",null,null,999.99,999.99]
[21315,"NEVENS","Ted","M",1997,"U18",null,null,999.99,999.99]
[21481,"NG","Hugo","M",1997,"U18",null,null,999.99,999.99]
[21544,"OSMOND","Cosmo","M",2001,"U14",null,null,999.99,999.99]
[22043,"OSULLIVAN","Finley","M",2001,"U14",null,null,999.99,999.99]
[31530,"PARTRIDGE","Tom","M",2002,"U14",null,null,999.99,999.99]
[22036,"PICKUP","Dean","M",1967,"MAS",null,null,999.99,999.99]
[20777,"PINSENT","William","M",1955,"MAS",null,null,999.99,999.99]
[41814,"ROBERTS","Ian","M",1969,"MAS",null,null,999.99,999.99]
[22011,"RONZ","Robert","M",1982,"MAS",null,null,999.99,999.99]
[20564,"SHARROTT","Christopher","M",1978,"MAS",null,null,999.99,999.99]
[20520,"SHEPHERD","Matthew","M",1979,"MAS",null,null,999.99,999.99]
[21057,"STEINER","Toby","M",2000,"U16",null,null,999.99,999.99]
[21567,"STUART","Oliver","M",1999,"U16",null,null,999.99,999.99]
[22047,"TAYLOR","Duncan","M",2000,"U16",null,null,999.99,999.99]
[41876,"TAYLOR","Robert","M",1984,"MAS",null,null,999.99,999.99]
[31270,"TRINDER","Jamie","M",1994,"U21",null,null,999.99,999.99]
[21265,"UNDERKOFFLER","Lucas","M",1996,"U21",null,null,999.99,999.99]
[21765,"WADDINGTON","Thomas","M",1984,"MAS",null,null,999.99,999.99]
[41925,"WAJDA","Benjamin","M",1996,"U21",null,null,999.99,999.99]
[36580,"WHITE","John","M",1901,"MAS",null,null,999.99,999.99]
[36577,"WILLIAMSON","Andrew","M",1985,"SEN",null,null,999.99,999.99]
[36576,"WILLIS","Stephen","M",1976,"MAS",null,null,999.99,999.99]
[20814,"WOODWARD","Stewart","M",1955,"MAS",null,null,999.99,999.99]
[36572,"WRIGHT","Alex","M",1994,"U21",null,null,999.99,999.99]
[41977,"WYLIE","Callum","M",1999,"U16",null,null,999.99,999.99]
[36570,"YELLOWLEES","Jamie","M",1994,"U21",null,null,999.99,999.99]
[22144,"BREEN","Kate","F",2001,"U14",null,null,999.99,999.99]
[22189,"WILSON","Ceri","F",2000,"U16",null,null,999.99,999.99]
[22157,"FERGUSON","Ian","M",1960,"MAS",null,null,999.99,999.99]
[22143,"MCGONIGAL","Dominic","M",2000,"U16",null,null,999.99,999.99]
[20348,"BROWN","Elektra","F",2003,"U12",null,null,999.99,999.99]
[21769,"COOPER","Lauren","F",2005,"U10",null,null,999.99,999.99]
[21570,"JALLAT","Annabel","F",2003,"U12",null,null,999.99,999.99]
[22115,"KAMALY-ASL","Anna","F",2005,"U10",null,null,999.99,999.99]
[21887,"OSMOND","Christabel","F",2003,"U12",null,null,999.99,999.99]
[36599,"SCOTT","Cara","F",2004,"U12",null,null,999.99,999.99]
[20622,"TARANTELLI","Laudomia","F",2003,"U12",null,null,999.99,999.99]
[22007,"VAGO","Cristina","F",2003,"U12",null,null,999.99,999.99]
[31338,"CALDER","Lewis","M",2006,"U10",null,null,999.99,999.99]
[31337,"CALDER","Struan","M",2004,"U12",null,null,999.99,999.99]
[21976,"DALE-JONES","Jago","M",2004,"U12",null,null,999.99,999.99]
[21977,"DALE-JONES","Mack","M",2006,"U10",null,null,999.99,999.99]
[31345,"KELLAS","Guy","M",2003,"U12",null,null,999.99,999.99]
[21993,"MILKINS","William","M",2004,"U12",null,null,999.99,999.99]
[21965,"MOSS","Louis","M",2004,"U12",null,null,999.99,999.99]
[21888,"OSMOND","Orlando","M",2006,"U10",null,null,999.99,999.99]
[21998,"PARSONS","Oscar","M",2004,"U12",null,null,999.99,999.99]
[21663,"RIDDELL","Kelan","M",2003,"U12",null,null,999.99,999.99]
[42021,"SCANLON","Ryan","M",2004,"U12",null,null,999.99,999.99]
[22008,"VAGO","Peter","M",2005,"U10",null,null,999.99,999.99]
[21819,"WALKER","Reuben","M",2006,"U10",null,null,999.99,999.99]
[36579,"WILD","Oscar","M",2008,"U8",null,null,999.99,999.99]
[36578,"WILLIAMS","John","M",2008,"U8",null,null,999.99,999.99]
[36575,"WILSON","Inez","M",2008,"U8",null,null,999.99,999.99]
[22146,"HAMBLETON","Chloe","F",2004,"U12",null,null,999.99,999.99]

{"sheet":"2014.3","index":6,"n_rows":1808,"n_cols":10,"rows_kept":1808,"cut":false,"hidden":true,"merged":[]}
["REGNO","SURNAME","FORENAME","SEX","YOB","CAT","CLUB1","CLUB2","iBARTS 14.3 PTS","oBARTS 14.3 PTS"]
[36667,"POWELL","John","M",1967,"MAS","SFR",null,989,999.99]
[36662,"SATTAR","Zakee","M",2000,"U16","BSC",null,989,999.99]
[31455,"YORK","Scott","M",2002,"U14","GSR",null,989,999.99]
[19130,"WILLIAMS","Jamie","M",1992,"SEN","FLK",null,69.849999999999994,70.19]
[21283,"PATTON","Edward","M",2001,"U14","SPR","SPR",330.6,372.34]
[20496,"SCRANAGE-HARRISON","Eleanor","F",2002,"U14","HEM","WGC",140.30000000000001,999.99]
[21521,"CHMIELOWSKA","Julia","F",1996,"U21","HEM","BSA",109.73,999.99]
[21219,"DEAN","Emily","F",1999,"U16","HEM","HEM",122.7,138.97]
[41968,"FURLONG","Georgia","F",2000,"U16","CAR",null,190.45,184.8]
[22083,"HAWKINS","Danielle","F",2001,"U14","HEM","HEM",108.5,999.99]
[22084,"HAWKINS","Lily","F",2001,"U14","HEM","HEM",183.47,999.99]
[22082,"HAWKINS","Zara","F",2001,"U14","HEM","HEM",133.1,190.45]
[21357,"MOORE","Danica","F",2000,"U16","BRO",null,153.09,68.59]
[21378,"STOCKER","Natasha","F",2001,"U14","TSN","BSA",207.91,242.44]
[21355,"TAPSELL","Charlotte","F",2001,"U14","HEM","BSA",69.56,44]
[20644,"TREW","Isobel","F",1999,"U16","HEM","K",113.26,55.11]
[20725,"WARMINGTON","Harriet","F",2002,"U14","HEM","HEM",217.64,999.99]
[19440,"ADAMS","Sarah","F",1997,"U18","DHO","DHO",999.99,999.99]
[21161,"ALBONE","Catherine","F",2003,"U12",null,"SMK",999.99,999.99]
[8242,"ALCOTT","Chimene","F",1982,"MAS","SPR","DHO",177.16,177.16]
[31449,"ALDRIDGE","Iona","F",2003,"U12","MUC","SSC",999.99,999.99]
[31340,"ALLAN","Amelia","F",2001,"U14","GDN",null,227.04,252.74]
[30833,"ALLAN","Katie","F",1996,"U21","BSC",null,66.62,66.62]
[31436,"ALLAN","Phoebe","F",2004,"U12","GDN",null,999.99,999.99]
[31208,"ALLAN","Tabitha","F",2000,"U16","GDN",null,144.96,187.21]
[12570,"ALLDRIDGE","Amanda","F",1991,"SEN","SMK","SPR",6.07,7.14]
[14159,"ANDERSON","Beverley","F",1970,"MAS","VIK","K",67.87,67.87]
[31316,"ANDERSON","Grace","F",2002,"U14","SSC",null,999.99,999.99]
[17560,"ANDERSON","Jessica","F",1998,"U18","GRV","AMB",83.53,83.53]
[30988,"ANDERSON","Keri","F",1996,"U21","GSR","SSC",34.35,50.76]
[31312,"ANDERSON","Laura","F",1996,"U21","SSC","LSR",166.95,164]
[30664,"ANGUS","Kate","F",1994,"U21","SSC","GDN",307.83,307.83]
[22133,"APPLETON","Polly","F",1999,"U16","LIO",null,999.99,999.99]
[22003,"ARNOLD","Joanna","F",1983,"MAS",null,null,999.99,999.99]
[19031,"ARTHUR","April","F",2001,"U14","TSN","SAS",461.89,461.89]
[21734,"ATKINSON","Molly","F",2001,"U14","CHT",null,999.99,153.91999999999999]
[12428,"BAGGIO","Jayme","F",1991,"SEN","EVO","EVO",999.99,999.99]
[20805,"BAILES","Lucy","F",2001,"U14","ESX","ELI",295.49,295.49]
[31411,"BAKER","Rachel","F",2002,"U14","LSR",null,999.99,999.99]
[22055,"BALDWIN","Caitlin","F",2006,"U10","MSR","MSR",999.99,999.99]
[30852,"BANKS BROWN","Yandra","F",1996,"U21","CSC","SSC",999.99,999.99]
[21303,"BANNISTER","Lucy","F",2002,"U14","ASR",null,999.99,202.88]
[31000,"BARKER","Emily","F",1998,"U18",null,null,108.89,108.89]
[30636,"BARKER","Katy","F",1996,"U21","LSR",null,104.08,104.08]
[31336,"BARTHRAM","Alice","F",2001,"U14","LSR","SSC",226.09,226.09]
[22185,"BARTLETT","Holly","F",2003,"U12","TSD",null,999.99,999.99]
[6231,"BARTLETT","Sally","F",1975,"MAS","WYC",null,999.99,999.99]
[19680,"BAXTER","Phillipa","F",1998,"U18","VIK","BSA",150.13,150.13]
[30995,"BEATTIE","Natalie","F",1994,"U21","ARB",null,999.99,999.99]
[10612,"BECK","Catherine","F",1960,"MAS","LIO","LIO",138.94,271.10000000000002]
[10654,"BECK","Hannah","F",1987,"SEN","LIO","LIO",112.91,224.32]
[20711,"BEER","Georgina","F",1996,"U21","RAV",null,45.91,45.91]
[21338,"BELL","Reece","F",2001,"U14",null,"BSA",999.99,999.99]
[20727,"BELL","Rosemary","F",2001,"U14","HEM",null,233.63,233.63]
[22119,"BELTON","Scarlett","F",2002,"U14","HEM","SOU",351.1,999.99]
[22121,"BENN","Jessica","F",2005,"U10","HEM",null,999.99,999.99]
[20700,"BENNETT","Grace","F",2005,"U10","LIO","LIO",999.99,999.99]
[19587,"BENNETT","Lucy","F",1999,"U16","SZR","SZR",112.44,112.44]
[18751,"BERRY","Laura","F",1988,"SEN",null,null,999.99,999.99]
[20168,"BILL","Rachel","F",1990,"SEN","MID","MID",23.81,23.81]
[18918,"BINGLE-WILLIAMS","Katya","F",1999,"U16",null,"K",999.99,999.99]
[18919,"BINGLE-WILLIAMS","Lucy","F",2000,"U16",null,"K",999.99,999.99]
[20096,"BINGLE-WILLIAMS","Natasha","F",2002,"U14",null,"K",999.99,999.99]
[20132,"BLACK","Grace","F",2003,"U12","PPS","DRA",999.99,999.99]
[21140,"BLACK","Lauren","F",2001,"U14","AVO","AVO",332.06,295.44]
[21317,"BLEASDALE","Janice","F",1962,"MAS","NSC",null,999.99,999.99]
[21659,"BOJARSKA","Aleksandra","F",1961,"MAS","MAN","MAN",198.32,198.32]
[31375,"BOLE","Gemma","F",2001,"U14","SSC",null,306.52999999999997,299.58]
[31376,"BOLE","Rebecca","F",2003,"U12","LSR",null,999.99,999.99]
[41826,"BONNINGTON","Keira","F",2002,"U14",null,"DRA",999.99,999.99]
[21522,"BOSWELL","Olivia","F",1999,"U16","SRR","SRR",189.87,189.87]
[21759,"BOSWOOD-CLARK","Eve","F",2003,"U12","TOQ","TOQ",999.99,999.99]
[19712,"BOTY","Carys","F",1999,"U16","HEM","ELI",114.58,130.43]
[21334,"BOTY","Nia","F",2003,"U12","HEM","ELI",999.99,999.99]
[20901,"BOYCOTT","Nina","F",2000,"U16","LIO","LIO",251.24,999.99]
[18618,"BOZIER","Hannah","F",1996,"U21","ASR","ASR",8.9,6.95]
[36640,"BRAATEN","Jaqueline","F",1998,"U18",null,null,999.99,999.99]
[36641,"BRAATEN","Yasmin","F",2000,"U16",null,null,999.99,999.99]
[21892,"BRANDT","Honor","F",2005,"U10",null,"DHO",999.99,999.99]
[31532,"BRAWLEY","Ella","F",2004,"U12","GSR",null,999.99,999.99]
[22144,"BREEN","Kate","F",2001,"U14",null,null,999.99,999.99]
[22085,"BRICKLEY","Iona","F",2006,"U10","TEL",null,999.99,999.99]
[31241,"BROGAN","Alexandra","F",1996,"U21","SSC",null,268.7,268.7]
[31308,"BROGAN","Jodie","F",1998,"U18","SSC",null,274.69,274.69]
[19504,"BROOKER","Lolli","F",2001,"U14","VIK","ELI",94.92,94.92]
[19821,"BROWN","Alysha","F",2002,"U14","S2R","S2R",999.99,999.99]
[31482,"BROWN","Anna","F",2006,"U10","GDN",null,999.99,999.99]
[30868,"BROWN","Cara","F",1994,"U21","SSC","K",999.99,999.99]
[20299,"BROWN","Charlotte","F",2003,"U12","S2R","S2R",999.99,999.99]
[20348,"BROWN","Elektra","F",2003,"U12",null,null,999.99,999.99]
[20347,"BROWN","Isobel","F",1999,"U16",null,null,126.85,153.08000000000001]
[20346,"BROWN","Jemima","F",2001,"U14",null,null,326.47000000000003,326.47000000000003]
[31191,"BROWN","Rachel","F",2000,"U16","GDN","ASC",121.16,121.52]
[20367,"BRUCE","Abigail","F",2000,"U16","EVO","EVO",102.67,102.67]
[31493,"BRUCE","Emma","F",2000,"U16","BSC",null,227.48,175.72]
[20368,"BRUCE","Sasha","F",1999,"U16","EVO","EVO",129.72,129.72]
[17686,"BUCHANAN","Alexandra","F",1994,"U21",null,"AMB",173.01,999.99]
[20360,"BUCKLAND","Amber","F",1997,"U18","HEM","BSA",180.82,204.07]
[14661,"BULLOCK","Alexandra","F",1995,"U21","TEL","TEL",18.25,18.25]
[31484,"BURKE","Olivia","F",2002,"U14","GSR",null,999.99,999.99]
[21139,"BURKINSHAW","Rowena","F",1979,"MAS","MSR","MSR",100.78,125.82]
[20601,"BURNS","Madeleine","F",2001,"U14","HEM","AMB",198.9,198.9]
[20339,"BURROUGHS","Hannah","F",2000,"U16","NOR",null,128.57,128.57]
[20860,"BURTON","Maisie","F",2002,"U14","LIO","LIO",74.599999999999994,999.99]
[19586,"BUTCHER","Jazmine","F",1997,"U18","NOR","BSA",100.59,100.59]
[22120,"BUTLER","Molly","F",2006,"U10","SAS","HEM",999.99,999.99]
[22178,"BUTTERWORTH","Sophie","F",2005,"U10","PND",null,999.99,999.99]
[31357,"CALDER","Emma","F",2002,"U14","GDN",null,999.99,999.99]
[20833,"CALDWELL","Anna","F",2002,"U14","HEM","EVO",157.79,999.99]
[36597,"CALLION","Christina","F",1999,"U16","MUC",null,999.99,999.99]
[31161,"CAMPBELL","Erin","F",1999,"U16","GSR",null,257.23,257.23]
[13638,"CAMPBELL-WOODWARD","Sarah","F",1954,"MAS",null,null,208.53,208.53]
[19983,"CARE","Chloe","F",1998,"U18","MID",null,203.01,203.01]
[31155,"CARRUTHERS","Philipa","F",1997,"U18","SSC","LSR",130.9,130.9]
[31203,"CARSON","Clare","F",1994,"U21","GSR",null,53.28,105.58]
[20694,"CATLIN","Glesni","F",2003,"U12","SMK","S2R",999.99,999.99]
[21270,"CHAPMAN","Chloe","F",2003,"U12","TSD","TSD",999.99,999.99]
[31497,"CHAPMAN","Vaila","F",1997,"U18","BSC",null,999.99,999.99]
[20366,"CHASTNEY","Rebecca","F",2002,"U14","WM","BSA",999.99,999.99]
[21059,"CHMIELOWSKA","Claudia","F",1998,"U18","HEM","K",999.99,999.99]
[21341,"CHRISTOPHER","Rebecca","F",1998,"U18","SPR","SPR",999.99,999.99]
[36635,"CLARK","Megan","F",1998,"U18","GSR",null,999.99,999.99]
[31335,"CLARKE","Jemma","F",2001,"U14","LSR","SSC",136.05000000000001,132.55000000000001]
[22075,"CLARKE","Roisin","F",2002,"U14","HEM","HEM",999.99,999.99]
[18316,"CLISSOLD","Honor","F",1997,"U18","RAV","EVO",191.53,191.53]
[36651,"COBB","Stella","F",1999,"U16","LSR",null,999.99,378.65]
[20139,"COE","Megan","F",1997,"U18","NOR",null,31.87,21.16]
[21658,"COLE","Hannah","F",1998,"U18","HEM","SAS",184.6,999.99]
[20352,"COLLEY","Isabella","F",1999,"U16","SPR","SPR",999.99,999.99]
[21358,"COOK","Ellie","F",1998,"U18","GLO",null,160.04,157.44]
[18676,"COOPER","Georgina","F",1996,"U21","GLO","DRA",71.180000000000007,71.180000000000007]
[19770,"COOPER","Izabelle","F",2001,"U14","SAS","BSA",999.99,999.99]
[19628,"COOPER","Lauren","F",1999,"U16","SAS","SAS",141.43,141.43]
[21769,"COOPER","Lauren","F",2005,"U10",null,null,999.99,999.99]
[19137,"COOPER","Yasmin","F",1998,"U18","HEM","BSA",28.52,29.99]
[20842,"CORRIGAN","Caroline","F",2002,"U14","SPR","SPR",999.99,999.99]
[21914,"COTTLE-BAILEY","Poppy","F",2003,"U12","ASR",null,999.99,999.99]
[31261,"COWAN","Lorna","F",1998,"U18","SFR",null,161.57,161.57]
[21593,"COWELL","Milly","F",2002,"U14",null,null,999.99,999.99]
[31433,"CRANE","Joanna","F",2001,"U14","CSC",null,999.99,999.99]
[21695,"CROCKER","Alicia","F",1997,"U18","SMK","SMK",211.75,211.75]
[31499,"CROSS","Jemima","F",2003,"U12","SSC",null,999.99,999.99]
[21597,"CULSHAW","Eleanor","F",2003,"U12","PND",null,999.99,999.99]
[19773,"CURTIS","Marie","F",1997,"U18","HEM","BSA",49.86,49.86]
[20800,"DALE","Safia","F",2000,"U16","DHO","DHO",999.99,999.99]
[22308,"DANCE","Hannah","F",2001,"U14","ALD",null,999.99,999.99]
[20256,"DANENBERGSONS","Shana","F",2000,"U16","HEM","EVO",69.16,69.16]
[19531,"DANIELS","Daisi","F",2002,"U14","MSR","EVO",73.45,999.99]
[19414,"DANNATT","Gemma","F",1996,"U21","GLO","DRA",76.08,76.08]
[30759,"DAULBY","Hannah","F",1995,"U21",null,"SSC",119.48,119.48]
[31317,"DAVIDSON-MCQUEEN","Cassie","F",2002,"U14","LSR",null,999.99,398.89]
[36639,"DAVIES","Christina","F",1993,"SEN","ASC",null,999.99,237.5]
[21575,"DAVIES","Esmie","F",1999,"U16",null,null,999.99,999.99]
[17936,"DAVIES","Jenny","F",1996,"U21","ASR",null,20.09,7.5]
[22024,"DAVIES","Lulu","F",2002,"U14",null,null,999.99,999.99]
[20890,"DAVIES","Megan","F",2001,"U14","HEM","HEM",262.36,262.36]
[31469,"DAVIS","Meghan","F",2000,"U16","BSA",null,130.96,157.01]
[17435,"DAWSON","Laura","F",1993,"SEN","OVL",null,219.13,219.13]
[20178,"DEIGHTON","Avelline","F",1967,"MAS","HEM","IMP",221.22,236.41]
[17888,"DELLER","Lucy","F",1996,"U21","MID","DRA",25.68,25.68]
[31466,"DICKSON","Sophie","F",1999,"U16","CSC",null,999.99,999.99]
[31431,"DILLON","Millie","F",2004,"U12","SSC","MUC",999.99,999.99]
[21331,"DILWORTH","Lucinda","F",1998,"U18",null,"BSA",104.75,104.75]
[19573,"DOHERTY","Robyn","F",1996,"U21","MID",null,636.34,636.34]
[18990,"DONNELLON","Amy","F",1994,"U21",null,"DHO",999.99,999.99]
[31104,"DOUGLAS","Abigail","F",1999,"U16","MUC",null,86.78,86.78]
[31565,"DOUGLAS","Morven","F",2001,"U14","GDN",null,999.99,999.99]
[22071,"DRUMMOND","Davina","F",2001,"U14",null,"BSA",999.99,999.99]
[21124,"DRUMMOND","Elinor","F",2003,"U12","TEL","TEL",999.99,999.99]
[21094,"DRUMMOND","Isabel","F",2001,"U14","TEL","TEL",272.29000000000002,324.52]
[22086,"DRUMMOND","Miranda","F",2002,"U14",null,"BSA",999.99,999.99]
[20141,"EATON","Freya","F",1998,"U18","AMB","AMB",134.16,134.16]
[20618,"EAVES","Eleanor","F",2003,"U12","PND",null,999.99,999.99]
[21012,"EDWARDS","Issy","F",2001,"U14","DRA","MSR",234.22,234.22]
[21630,"EDWARDS","Rachel","F",1963,"MAS","GRV",null,999.99,999.99]
[19165,"ELGY","Geraldine","F",1954,"MAS","MID",null,330.25,330.25]
[21017,"ELLIFF","Alexa","F",2003,"U12","VIK",null,999.99,999.99]
[13795,"ELLIOTT","Lauren","F",1991,"SEN","PND",null,205.38,999.99]
[21799,"ELLISON","Molly","F",2000,"U16","SRR",null,999.99,348.23]
[41996,"ELLWOOD","Natasha","F",1992,"SEN",null,null,999.99,999.99]
[22116,"ELPHICK","Alex","F",1999,"U16","ESX",null,999.99,999.99]
[36611,"ENGLAND","Amelia","F",2004,"U12","SSC",null,999.99,999.99]
[31081,"ENGLAND","Isabella","F",2000,"U16","SSC",null,999.99,999.99]
[31080,"ENGLAND","Jessica","F",1998,"U18","SSC",null,599.04,599.04]
[20018,"ENTWISTLE","Jacqueline","F",1959,"MAS",null,null,999.99,999.99]
[13765,"EVANS","Charlotte","F",1991,"SEN","CHT","K",45.6,45.6]
[13766,"EVANS","Emily","F",1994,"U21","CHT","AMB",10,10]
[41986,"EVANS","Isabel","F",2000,"U16","SAS",null,209.83,222.05]
[22110,"FAIRFULL","Madeleine","F",2006,"U10","HEM","HEM",999.99,999.99]
[21771,"FAIRHEAD","Iona","F",2000,"U16",null,"DHO",999.99,999.99]
[11941,"FAIRWEATHER","Sega","F",1990,"SEN","EVO","EVO",999.99,999.99]
[20701,"FELLOWS","Charley","F",2003,"U12","TEL","TEL",999.99,999.99]
[22020,"FERGUSON","Catrin","F",2006,"U10","PND","PND",999.99,999.99]
[31225,"FERGUSON","Hannah","F",1999,"U16","LSR",null,999.99,999.99]
[36666,"FERGUSON","Zoe","F",2002,"U14","LSR",null,999.99,576.49]
[30964,"FERRIER","Rachael","F",1996,"U21","GSR","SSC",29.68,33.01]
[20576,"FITZGERALD","Jordan","F",1996,"U21",null,null,999.99,999.99]
[36604,"FITZPATRICK","Joy","F",1997,"U18","GSR",null,999.99,999.99]
[31454,"FITZPATRICK","Molly","F",2003,"U12","GSR",null,999.99,999.99]
[31091,"FLEMING","Alex","F",1999,"U16","SSC",null,242.05,242.05]
[41992,"FLUCK","Catrin","F",1998,"U18","SPR","SPR",999.99,999.99]
[22309,"FORBES","Hannah","F",1994,"U21","BRO",null,999.99,999.99]
[20856,"FOSTER","Olivia","F",2001,"U14","SPR","SPR",154.80000000000001,154.80000000000001]
[20855,"FOSTER","Sophie","F",2003,"U12","SPR","SPR",999.99,999.99]
[31226,"FOWLER","Isla","F",2000,"U16","GSC","SFR",188.11,247.46]
[14942,"FREEZE","Danielle","F",1990,"SEN","BRO",null,62.02,62.02]
[21919,"FROST","Eleanor","F",2002,"U14","SPR","SPR",999.99,999.99]
[21940,"GALBRAITH","Clare","F",1963,"MAS",null,"DHO",999.99,999.99]
[21949,"GALBRAITH","Helena","F",2000,"U16",null,"DHO",999.99,999.99]
[36605,"GALLOWAY","Maudie","F",2005,"U10","MUC",null,999.99,999.99]
[30500,"GARDINER","Carla-Marina","F",1989,"SEN","ESC",null,17.59,17.59]
[20345,"GARMENT","Harriett","F",2000,"U16","WGC","HEM",465.82,465.82]
[30866,"GARVIE","Amber","F",1998,"U18","GDN",null,283.27,283.27]
[21991,"GATTY","Persephone","F",2004,"U12","PND","PND",999.99,999.99]
[22012,"GATTY","Victoria","F",1999,"U16","PND","PND",188.51,64.69]
[21776,"GEHRIG","Stephanie","F",1992,"SEN",null,null,999.99,999.99]
[36592,"GIBB","Alana","F",2006,"U10","ASC",null,999.99,999.99]
[31264,"GIBB","Eva","F",2000,"U16","LSR",null,470.48,470.48]
[31258,"GIBB","Tabitha","F",2000,"U16","LSR",null,431.18,431.18]
[22176,"GILES","Ella","F",2003,"U12","MID",null,999.99,999.99]
[19001,"GLASGOW","Sarah","F",2001,"U14","SMK","AMB",87.21,147.02000000000001]
[21007,"GLASSBROOK","Amy","F",2002,"U14",null,"MSR",277.68,319.56]
[30850,"GLOISTEIN","Helen","F",1996,"U21","MUC","SSC",164.77,148.04]
[41007,"GODDARD","Emily","F",1987,"SEN","GLO","DRA",24.64,24.64]
[19535,"GORDON","Maya","F",1995,"U21",null,"K",999.99,999.99]
[41910,"GORRINGE","Cerys","F",2000,"U16","SMK",null,999.99,999.99]
[41911,"GORRINGE","Giselle","F",2003,"U12","SMK",null,999.99,999.99]
[17747,"GOULD","Charlotte","F",1992,"SEN","TEL","TEL",10.87,10.87]
[17972,"GOULD","Georgina","F",1994,"U21","TEL","TEL",51,51]
[22031,"GRANT","Amelia","F",2003,"U12",null,"BSA",999.99,999.99]
[21053,"GRANT","Isabelle","F",2003,"U12",null,"BSA",999.99,999.99]
[36669,"GRAY","Lynne","F",1998,"U18","HNC",null,999.99,999.99]
[17439,"GREASBY","Alexandra","F",1994,"U21","HEM",null,111.86,111.86]
[19275,"GREAVES","Rebecca","F",1999,"U16","MSR","EVO",144.13999999999999,144.13999999999999]
[36614,"GREEN","Eleanor","F",2001,"U14","GDN",null,588.24,528.52]
[21963,"GREENE","Amelia","F",2002,"U14","SPR",null,999.99,999.99]
[13814,"GREENHALGH","Eloise","F",1993,"SEN","SPR","SPR",14.33,14.33]
[31528,"GREIG","Anna","F",2001,"U14",null,null,999.99,999.99]
[20391,"GRIFFITHS","Inez","F",1995,"U21","SHK",null,122.17,122.17]
[21939,"GRIFFITHS","Nia","F",2000,"U16",null,null,999.99,999.99]
[30633,"GUEST","Charlotte","F",1993,"SEN","SSC",null,129.78,129.78]
[30779,"GUEST","Katharine","F",1995,"U21","SSC",null,355.6,355.6]
[30920,"GUEST","Kirsty","F",1997,"U18","BSA","SSC",659.75,659.75]
[41274,"HALES","Alice","F",1992,"SEN","CAR","DRA",3.75,3.75]
[20936,"HALL","Maria","F",1995,"U21","LIO","LIO",170.03,999.99]
[41705,"HALLETT","Georgia","F",1996,"U21","GLO","DRA",24.96,23.97]
[36652,"HALLIDAY","Grace","F",2002,"U14","LSR",null,999.99,999.99]
[22146,"HAMBLETON","Chloe","F",2004,"U12",null,null,999.99,999.99]
[18617,"HANCOCK","Maxine","F",1997,"U18","MID","SMK",74.28,74.28]
[14237,"HANDFORD-STYRING","Hannah","F",1996,"U21","PPS","PPS",742.08,999.99]
[21301,"HARRISON","Louise","F",1994,"U21","PND","PND",69.42,61.21]
[42040,"HARRISON","Ursula","F",2000,"U16","CAR",null,999.99,999.99]
[21839,"HARROGATE-BRAMLEY","Alana","F",2003,"U12","RAV",null,999.99,999.99]
[21561,"HARROGATE-BRAMLEY","Cheryl","F",1962,"MAS","RAV","RAV",547.63,445.09]
[22045,"HART","Rebecca","F",2005,"U10","SRR",null,999.99,999.99]
[31229,"HARTE","Giulia","F",1996,"U21","THR",null,999.99,999.99]
[30848,"HARTE","Natalia","F",1992,"SEN","THR",null,33.97,61.09]
[4944,"HATCHER","Kirsty","F",1991,"SEN","CAR","K",42.03,42.03]
[17970,"HATHWAY","Ellen","F",1994,"U21","LSU","ASR",11.59,11.59]
[18660,"HATHWAY","Isabella","F",1997,"U18","ASR",null,49.71,12.74]
[31483,"HAY","Ailsa","F",2004,"U12","SSC",null,999.99,999.99]
[31109,"HEATLEY","Holly","F",1997,"U18","LSR",null,999.99,152.9]
[19126,"HEGINBOTHAM","Erika","F",1998,"U18",null,"BSA",161.76,161.76]
[21569,"HEMMING","Anya","F",2005,"U10","MID",null,999.99,999.99]
[19159,"HENDERSON","Anna","F",1998,"U18","HEM","AMB",6.89,17.5]
[21163,"HENDLEY","Sian","F",2000,"U16","LIO","LIO",323.5,375.25]
[18863,"HENERY","Deborah","F",1997,"U18","SHK","DRA",21.74,21.74]
[22033,"HESELTON","Rebecca","F",2003,"U12","PND","PND",999.99,999.99]
[31246,"HEWISON","Megan","F",2001,"U14","CSC",null,999.99,999.99]
[22302,"HILLIARD","Charlotte","F",1999,"U16",null,null,999.99,999.99]
[36665,"HILLIER","Madelaine","F",2002,"U14","LSR",null,999.99,401.23]
[22182,"HILLS","Charlotte","F",1998,"U18","GLO",null,999.99,999.99]
[20789,"HINTON","Georgina","F",2001,"U14","HEM","SPR",404.54,404.54]
[21284,"HINTON","Tilly","F",2004,"U12","HEM","SPR",999.99,999.99]
[42020,"HODDER","Lowri","F",1999,"U16","TOR","DRA",305.8,260.83]
[22111,"HODGSON","Ellen","F",2001,"U14","ASR","ASR",999.99,169.11]
[21580,"HOFFMAN-LITTLE","Jolie","F",2005,"U10","GLO",null,999.99,999.99]
[22179,"HOLMES","Abby","F",2003,"U12","NOR",null,999.99,999.99]
[21621,"HOLMES","Charlotte","F",2005,"U10","PND",null,999.99,999.99]
[21796,"HOLT","Marisa","F",2001,"U14","SRR","SRR",999.99,526.09]
[41480,"HOPKINS","Emily","F",1994,"U21","CAR","DRA",3.42,3.42]
[21199,"HORTON","Siena","F",2002,"U14","SMK","BSA",132.88999999999999,999.99]
[20208,"HOSKINS","Isabella","F",1999,"U16","GLO","BSA",332,332]
[21956,"HOUGHTON","Philippa","F",1999,"U16","SPR","SPR",999.99,999.99]
[17009,"HOUSTON","Alexandra","F",1994,"U21","SHK",null,999.99,999.99]
[22062,"HOWARTH","Catrin","F",2005,"U10",null,"MSR",999.99,999.99]
[36657,"HOWAT","Emma","F",2003,"U12","MUC",null,999.99,999.99]
[21530,"HUFF","Sarah","F",1999,"U16","SPR","SPR",999.99,999.99]
[20971,"HUGEC","Nadine","F",2002,"U14","HEM","EVO",154.54,999.99]
[20972,"HUGEC","Nicole","F",2000,"U16","HEM","EVO",92.3,97.27]
[21884,"HUGHES","Rachel","F",1997,"U18","SUR","SUR",999.99,999.99]
[31071,"HULBERT","Jemma","F",1996,"U21","SSC","MUC",208.34,208.34]
[31070,"HULBERT","Lucy","F",1998,"U18","SSC","MUC",294.95,294.95]
[31077,"HUNSLEY","Miriam","F",1995,"U21","LSR",null,210.12,210.12]
[21556,"HUNT","Hannah","F",1997,"U18","TSD","TSD",198.29,146]
[21047,"HUTCHINSON","Elys","F",1999,"U16",null,null,999.99,999.99]
[21535,"HYDE","Gussie","F",2000,"U16","SUR","SPR",999.99,121.45]
[41816,"HYETT","Georgia","F",2000,"U16","CAR","DRA",150.21,127.45]
[21996,"IANNARILLI","Lia","F",2003,"U12","FPS",null,999.99,999.99]
[20332,"IGLINA","Sofia","F",1997,"U18","BSA","BSA",999.99,999.99]
[31327,"INWOOD","Morgan","F",2001,"U14","LSR",null,240.83,265]
[21024,"JACKSON","Ellie","F",2002,"U14","TEL",null,202.37,167.27]
[30872,"JACKSON","Laura","F",1997,"U18","SSC","GSR",61.84,66.08]
[19677,"JACKSON","Lois","F",2001,"U14","RAV","RAV",88.46,32.82]
[19676,"JACKSON","Millie","F",1999,"U16","RAV","RAV",52.11,26.81]
[36672,"JACOBS","Angus","F",1998,"U18","ASC",null,999.99,999.99]
[21570,"JALLAT","Annabel","F",2003,"U12",null,null,999.99,999.99]
[41928,"JAMES","Lilli","F",2003,"U12","CAR",null,999.99,999.99]
[18560,"JAMES","Sophie","F",1995,"U21","BRS","SAS",129.26,129.26]
[31266,"JAMIESON","Emily","F",2000,"U16",null,null,203.64,203.64]
[21509,"JEFFERSON","Jemima","F",2004,"U12",null,"LIO",999.99,999.99]
[21510,"JEFFERSON","Maisie","F",2003,"U12",null,"LIO",999.99,999.99]
[31035,"JEFFRAY","Claire","F",1977,"MAS","SSC",null,989,989]
[41623,"JENKINS","Megan","F",1998,"U18","NOR","BSA",20,20]
[41622,"JENKINS","Nia","F",1995,"U21","NOR","BSA",7.14,10.86]
[17488,"KAHVE","Lucy","F",1998,"U18","AMB","AMB",999.99,999.99]
[22115,"KAMALY-ASL","Anna","F",2005,"U10",null,null,999.99,999.99]
[21150,"KARAVASILI","Zoe","F",1997,"U18","DHO","DHO",73.14,87.85]
[21964,"KEEN","Emily","F",2004,"U12","KF",null,999.99,999.99]
[31382,"KELLY","Iona","F",2002,"U14","MUC","SSC",999.99,999.99]
[22170,"KELLY","Nicole","F",2006,"U10","MSR",null,999.99,999.99]
[19011,"KEYS","Georgia","F",2001,"U14",null,null,141.46,141.46]
[21090,"KILROY-SILK","Ellaouise","F",2002,"U14","TOQ",null,999.99,999.99]
[36588,"KING","Layla","F",2006,"U10","ASC",null,999.99,999.99]
[17692,"KIRK","Isabel","F",1997,"U18",null,null,176.65,176.65]
[18328,"KOCK","Evangeline","F",1994,"U21","SPR","SPR",134.01,178.01]
[18318,"KRAHELSKI","Alicja","F",2000,"U16","HEM","TEL",33.22,33.22]
[21310,"KROLL","Ann","F",1971,"MAS","NSC",null,999.99,999.99]
[14746,"LAMBDEN","Sarah","F",1995,"U21","MSR","DRA",2.5,2.5]
[31394,"LAMOND","Emma","F",2002,"U14","SSC","LSR",999.99,999.99]
[31527,"LANG","Ishbel","F",2000,"U16","MUC",null,391.35,391.35]
[41711,"LARGE","Sophie","F",2001,"U14",null,null,999.99,999.99]
[31478,"LATTO","Rosamund","F",1999,"U16","CSC",null,999.99,999.99]
[31100,"LAWRIE","Alannah","F",1999,"U16","SSC","ASC",68.540000000000006,63.81]
[19503,"LAWSON-TILLEY","Sarah","F",1994,"U21",null,"DRA",999.99,999.99]
[36654,"LEACH","Isla","F",2002,"U14","LSR",null,999.99,999.99]
[18913,"LEE","Francesca","F",1998,"U18","MSR","SSC",4.76,4.76]
[21878,"LEES","Nadia","F",2003,"U12","BSA","HEM",999.99,999.99]
[41682,"LEFEVRE","Paloma","F",2000,"U16",null,null,999.99,999.99]
[20620,"LEGEAIS","Marion","F",1998,"U18",null,"BSA",999.99,999.99]
[21607,"LEIGHTON","Amie","F",2001,"U14","SPR",null,999.99,999.99]
[21074,"LEONARD","Heather","F",1973,"MAS","HEM","SMK",186.96,186.96]
[19152,"LEWINGTON","Caitlin","F",1999,"U16","BRO",null,76.89,55.37]
[21785,"LEWITT","Isabelle","F",2001,"U14","DHO","DHO",999.99,999.99]
[19498,"LILLYWHITE","Alexandra","F",1999,"U16","VIK","AMB",49.28,34.22]
[19831,"LISMORE","Sophie","F",1999,"U16",null,"BSA",999.99,999.99]
[31257,"LIVERSIDGE","Lauren","F",2000,"U16","GDN","ASC",999.99,999.99]
[22015,"LLEWELLYN","Aaliyah","F",2006,"U10","MID","WM",999.99,999.99]
[17431,"LLEWELLYN","Joanna","F",1991,"SEN","BRO","SMK",249.31,249.31]
[19453,"LOEFFEN-GALLAGHER","Hannah","F",2000,"U16",null,"BSA",999.99,999.99]
[19735,"LONG","Phoebe","F",1998,"U18","HEM","AMB",166.55,166.55]
[9107,"LONSDALE","Emma","F",1984,"MAS","KND","KND",999.99,999.99]
[42029,"LYNCH","Annmarie","F",2001,"U14","SCI",null,262.24,999.99]
[14994,"MACAULAY","Alice","F",1995,"U21","AMB","AMB",2.5,2.5]
[14806,"MACEY","Abbie","F",1994,"U21","MSR",null,54.4,115.93]
[31346,"MACKENZIE","Eve","F",2000,"U16","BSC",null,999.99,999.99]
[30542,"MACKINNON","Christy","F",1992,"SEN","SSC",null,25.39,127.72]
[36564,"MACLEAN","Beth","F",1998,"U18","HNC",null,999.99,999.99]
[31200,"MACPHERSON","Claire","F",2000,"U16","SSC","LSR",209.39,241.92]
[21795,"MAGENES","Caterina","F",2000,"U16","HEM","EVO",999.99,999.99]
[21700,"MAGENES","Matilde","F",2002,"U14",null,"HEM",999.99,999.99]
[19069,"MAIKLEM","Jessica","F",1996,"U21","SPR","SPR",999.99,999.99]
[20635,"MAIKLEM","Melissa","F",1999,"U16","SPR","SPR",999.99,999.99]
[21901,"MANNBY","Siobhan","F",2000,"U16","VIK","VIK",999.99,999.99]
[19169,"MANSON","Cameron","F",1998,"U18","HEM","BSA",37.049999999999997,999.99]
[18684,"MARMENT","Robyn","F",2000,"U16","WCS",null,218.24,124.54]
[21826,"MARSH","Amy","F",2002,"U14","SHK","SHK",328.39,999.99]
[21825,"MARSH","Ella","F",2000,"U16","SHK","SHK",378.14,999.99]
[20904,"MARSH","Loretta","F",1975,"MAS","SHK","SHK",999.99,999.99]
[21876,"MARTIN","Allegra","F",2004,"U12","SPR","SPR",999.99,999.99]
[31332,"MARTIN","Annabelle","F",2003,"U12","LSR",null,999.99,999.99]
[21897,"MARTIN","Lily","F",2002,"U14","BRO","BRO",999.99,119.72]
[31330,"MARTIN","Rebecca","F",1999,"U16","LSR",null,388.01,313.60000000000002]
[18740,"MARTIN-HARRINGTON","Beatrice","F",1997,"U18","GLO","BSA",60.29,60.29]
[22079,"MAYHEAD","Eve","F",2000,"U16","ASR","ASR",999.99,464.18]
[21014,"MAYHEW","Jessica","F",2000,"U16","MID","MID",84.18,47.77]
[19753,"MAZE-BROWN","Riley","F",2002,"U14","SMK",null,999.99,999.99]
[31227,"MCCALL","Catriona","F",2004,"U12","SSC",null,999.99,999.99]
[18589,"MCCARTHY","Holly","F",1965,"MAS",null,null,241.88,999.99]
[21736,"MCCOLL","Isla","F",2004,"U12","TOQ","TOQ",999.99,999.99]
[22061,"MCGONIGAL","Cordelia","F",2003,"U12",null,"HEM",999.99,999.99]
[20173,"MCGREGOR-OGDEN","Holly","F",2003,"U12","MSR","DRA",999.99,999.99]
[36622,"MCKENDRICK","Lyle","F",2004,"U12","MUC","SSC",999.99,999.99]
[31423,"MCKEY","Holly","F",2003,"U12","LSR",null,999.99,999.99]
[31275,"MCKINLAY","Victoria","F",2000,"U16","GSR",null,103.63,101.88]
[21925,"MCLEISH","Emily","F",2003,"U12","HEM","HEM",999.99,999.99]
[30293,"MCLEOD","Eilidh","F",1990,"SEN","SSC",null,149.04,240.23]
[41953,"MCNICOLL","Isla","F",1981,"MAS","CAR",null,999.99,162.26]
[31555,"MCNUTT","Katie","F",2002,"U14","LSR",null,999.99,999.99]
[31556,"MCNUTT","Lucy","F",2004,"U12","LSR",null,999.99,999.99]
[18382,"MEAD","Darcie","F",1996,"U21","EVO","EVO",47.69,47.69]
[22161,"MEYLER","Anna","F",1999,"U16",null,"SPR",999.99,108.78]
[20307,"MIDDLETON","Amy","F",1995,"U21","MID",null,51.15,49.89]
[21205,"MIDSON","Molly","F",2003,"U12","FLK","FLK",999.99,999.99]
[21204,"MIDSON","Poppy","F",2001,"U14","FLK","FLK",162.81,95.38]
[18931,"MILES","Joanna","F",1993,"SEN","WGC","WGC",82.33,82.33]
[21277,"MILLARD","Paige","F",2002,"U14",null,"DHO",999.99,999.99]
[14103,"MILLER","Violet","F",1995,"U21",null,"AMB",999.99,999.99]
[19260,"MITCHELL","Olivia","F",2001,"U14","GLO","BSA",85.9,85.9]
[21518,"MOONEY","Philippa","F",1999,"U16","DHO","DHO",999.99,999.99]
[21972,"MORGAN","Samantha","F",2002,"U14",null,null,999.99,999.99]
[31476,"MORISETTI","Eilidh","F",2002,"U14","LSR",null,999.99,999.99]
[30667,"MORRIS","Sarah","F",1994,"U21","STC",null,131.5,131.5]
[36610,"MORRISON","Hannah","F",1999,"U16","GDN","ASC",999.99,999.99]
[31153,"MORRISON","Rachael","F",1999,"U16","GDN",null,999.99,999.99]
[31188,"MORRISSEY","Anna","F",1990,"SEN","STC",null,999.99,999.99]
[19338,"MORTON","Sofia","F",1996,"U21","MSR","DRA",65.349999999999994,65.349999999999994]
[31426,"MUIR","Fiona","F",2006,"U10","ASC","DSC",999.99,999.99]
[31425,"MUIR","Kirsty","F",2004,"U12","ASC","DSC",999.99,999.99]
[31146,"MURPHY","Louise","F",1997,"U18","GSR",null,999.99,999.99]
[19679,"MURRAY","Louisa","F",1994,"U21",null,"LIO",160.84,999.99]
[22005,"MURRAY-TACON","Alexandra","F",1997,"U18",null,null,999.99,999.99]
[31507,"MYATT","Rona","F",1997,"U18","LSR",null,999.99,999.99]
[20731,"NEASHAM","Grace","F",1998,"U18","SMK",null,131.21,131.21]
[21356,"NEASHAM","Laurie","F",2000,"U16","SMK","SMK",295.16000000000003,295.16000000000003]
[36606,"NEGRI","Belana","F",2003,"U12","CSC",null,999.99,999.99]
[31468,"NEGRI","Daniella","F",2000,"U16","CSC",null,999.99,999.99]
[21660,"NEUMANN","Sophie","F",1998,"U18","HEM","HEM",282.95,282.95]
[20696,"NEWBOULT","Helena","F",1998,"U18","MID","MID",27.39,27.39]
[21006,"NEYRINCK","Camille","F",1998,"U18",null,null,999.99,999.99]
[21735,"NICOL","Kirsty","F",1986,"SEN",null,null,999.99,999.99]
[20809,"O'BRIEN","Matilda","F",2004,"U12","MID",null,999.99,999.99]
[14747,"OGDEN","Sophie","F",1996,"U21","MSR","DRA",4.4800000000000004,4.4800000000000004]
[18793,"O'NEILL","Ella","F",1997,"U18","HEM",null,27.27,30.36]
[21966,"O'NEILL","Kita","F",2005,"U10",null,"BSA",999.99,999.99]
[20945,"O'NEILL","Maeve","F",2003,"U12",null,"BSA",999.99,999.99]
[21441,"ORCHARD","Ellie","F",2002,"U14","HEM",null,999.99,148.24]
[22136,"ORZEL","Emilia","F",2006,"U10",null,"WM",999.99,999.99]
[31252,"OSBORNE","Jennifer","F",1991,"SEN","GSR",null,999.99,999.99]
[21887,"OSMOND","Christabel","F",2003,"U12",null,null,999.99,999.99]
[21235,"OUGRIN","Anastasia","F",2002,"U14","SPR","SPR",999.99,999.99]
[21528,"PANTELI","Charlotte","F",1999,"U16","BSA","BSA",999.99,999.99]
[21536,"PARKER","Julia","F",1963,"MAS","VIK","CAD",999.99,999.99]
[14382,"PARKER","Olivia","F",1993,"SEN","LIO","LIO",29.05,60.59]
[21755,"PASCOE","Eva","F",2002,"U14","PLY","TOQ",999.99,107.54]
[21363,"PATTON","Harriet","F",1999,"U16",null,"SPR",228.88,228.88]
[31513,"PEARSON","Holly","F",2001,"U14","LSR",null,588.97,332.55]
[19197,"PENHALE","Emma","F",2000,"U16","GLO","DRA",140.75,96.25]
[31303,"PETERS","Ella","F",1994,"U21","BRM",null,999.99,999.99]
[19002,"PETERS","Emma","F",1997,"U18","MSR","LIO",9.14,43.74]
[22049,"PETERSON","Amy","F",1999,"U16","HEM","HEM",139.84,999.99]
[22200,"PETERSON","Lexie","F",2004,"U12","BRS","HEM",999.99,999.99]
[31245,"PETRIE","Aoife","F",2002,"U14","BSC",null,453.82,278.5]
[31244,"PETRIE","Isla","F",2000,"U16","BSC",null,229.24,999.99]
[18505,"PEXTON","Georgia","F",2000,"U16","LIO","LIO",96.16,132.28]
[31440,"PFLEGER","Isabella","F",2006,"U10","GDN",null,999.99,999.99]
[36565,"PIERCEY","Rachel","F",2001,"U14","CSC",null,999.99,999.99]
[21655,"PIRKHOFFER","Lucy","F",1999,"U16","SAS","SAS",156.72,156.72]
[17412,"POCOCK","Elena","F",1993,"SEN",null,null,101.34,999.99]
[41858,"POTTER","Maisie","F",1997,"U18",null,null,999.99,999.99]
[19781,"POTTER","Shannon","F",2001,"U14","MSR","DRA",57.92,78.58]
[31209,"PRESSLIE","Jessica","F",2000,"U16","GDN",null,158.94999999999999,202.84]
[31447,"PRESSLIE","Sophie","F",2003,"U12","GDN",null,999.99,999.99]
[19644,"PRETTY","Antonia","F",1996,"U21","TSN","TSN",50.24,50.24]
[30927,"PRICE","Rhona","F",1999,"U16","SSC","GSR",138.06,138.06]
[22127,"PULLAN","Aimee","F",2000,"U16","LIO","LIO",278.93,999.99]
[36598,"RAE","Lauren","F",2005,"U10","MUC",null,999.99,999.99]
[21392,"RAMPTON","Clementine","F",2001,"U14",null,"BSA",999.99,999.99]
[21800,"RAMSDEN","Grace","F",1998,"U18",null,"LIO",999.99,999.99]
[31138,"RANKIN","Shona","F",2003,"U12","BSA","SSC",999.99,999.99]
[31207,"RASMUSEN","Victoria","F",2000,"U16","GDN",null,293.48,999.99]
[30864,"RATTRAY","Aleysha","F",1996,"U21","BRM",null,174.29,174.29]
[31140,"RAY","Kathleen","F",1999,"U16","GDN",null,305.22000000000003,305.22000000000003]
[21900,"REBERT","Abby","F",2000,"U16",null,null,999.99,999.99]
[31323,"REED","Jemima","F",2003,"U12",null,"SSC",999.99,999.99]
[19459,"REID","Judy","F",1960,"MAS","HEM","SAS",107.25,126.66]
[36601,"REID","Sinead","F",2001,"U14","CSC",null,999.99,999.99]
[41980,"RESCIGNO","Giorgia","F",1993,"SEN",null,null,999.99,999.99]
[17803,"RICHARDS","Camille","F",1998,"U18",null,"BSA",999.99,999.99]
[20720,"RILEY","Ilana","F",2004,"U12","GRV","SMK",999.99,999.99]
[18649,"RILEY","Megan","F",2000,"U16","SMK","AMB",86.47,90.08]
[36637,"RITCHIE","Claudia","F",2007,"U8","ASC",null,999.99,999.99]
[36638,"RITCHIE","Gabriella","F",2008,"U8","ASC",null,999.99,999.99]
[30767,"RITCHIE","Nicole","F",1995,"U21","GSR",null,0,0]
[21893,"ROBERTS","Elizabeth","F",1996,"U21",null,null,999.99,999.99]
[21926,"ROBERTS","Sophie","F",1997,"U18",null,null,999.99,999.99]
[36593,"ROBSON","Solmisty","F",2003,"U12","CSC",null,999.99,999.99]
[21394,"ROGERS","Anna","F",2001,"U14","BSA","BSA",999.99,999.99]
[13952,"ROGERS","Rachelle","F",1995,"U21","HEM",null,11.2,999.99]
[41952,"RONAN","Eleanor","F",2000,"U16","SCI","CHL",370.93,370.93]
[19739,"ROSE","Rebecca","F",2002,"U14","SMK",null,999.99,999.99]
[31438,"ROSS","Iona","F",2003,"U12","SSC","MUC",999.99,999.99]
[18481,"ROTH","Phoebe","F",1994,"U21",null,"DHO",113.82,999.99]
[22217,"ROWLANDS","Alexandra","F",2004,"U12","KFS",null,999.99,999.99]
[19235,"ROYAL","Natasha","F",1999,"U16","VIK",null,999.99,45.01]
[30867,"RYAN","Eilidh","F",2000,"U16","GSC",null,43.11,43.11]
[20742,"SAMPSON","Melissa","F",1971,"MAS","NOR","NOR",137.72999999999999,118.09]
[31135,"SANDFORD","Eliza","F",1996,"U21",null,"SSC",194.77,194.77]
[31130,"SANDLAND","Louise","F",2001,"U14","GSR",null,210.72,210.72]
[21748,"SAXBY","Kate","F",2002,"U14","PLY",null,999.99,426.24]
[13376,"SCILIMATI","Tania","F",1986,"SEN",null,"LSC",999.99,999.99]
[36599,"SCOTT","Cara","F",2004,"U12",null,null,999.99,999.99]
[31173,"SCOTT","Lucy","F",1999,"U16","BSC",null,85.69,82.81]
[17893,"SEELEY","Grace","F",1995,"U21","RAV","DHO",466.63,466.63]
[17892,"SEELEY","Julia","F",1993,"SEN","RAV","DHO",481.91,481.91]
[14962,"SHAILES","Polly","F",1996,"U21","NOR","BSA",34.409999999999997,34.409999999999997]
[31350,"SHARP","Charlotte","F",2002,"U14","BSC","GSC",418.98,680.98]
[22303,"SHAW","Lara","F",2004,"U12","FF",null,999.99,999.99]
[21558,"SHEPHERDSON","Lauren","F",2003,"U12","TSD",null,999.99,999.99]
[20599,"SHERING","Nicole","F",2000,"U16","HEM","TEL",59.26,59.26]
[20655,"SHOOTER","Hope","F",1993,"SEN","HEM","HEM",119.52,119.52]
[17787,"SHRIMPTON","Charlotte","F",1994,"U21","TEL","TEL",47,47]
[21797,"SIM","Danyelle","F",1999,"U16","SRR","SRR",261.12,999.99]
[21798,"SIM","Lauren","F",2001,"U14","SRR","SRR",410.9,999.99]
[12357,"SIMONDS","Franki","F",1990,"SEN",null,"K",19.7,19.7]
[31127,"SKINNER","Caroline","F",1998,"U18",null,"SSC",334.4,334.4]
[31353,"SKINNER","Eilidh","F",2001,"U14","LSR","SSC",364.38,332.89]
[20337,"SKIPPER","Megan","F",2001,"U14","NOR","NOR",106.62,45.75]
[19016,"SKIPPER","Sophie","F",1995,"U21","NOR","NOR",30.78,23.15]
[21403,"SLADE","Hattie","F",1998,"U18",null,"BSA",999.99,999.99]
[21404,"SLADE","Isobel","F",1999,"U16",null,"BSA",999.99,999.99]
[18878,"SLATER","Ella","F",1991,"SEN","LSU","LSU",51.1,53.8]
[21171,"SLATER","Grace","F",2001,"U14","SHK","SHK",431.14,431.14]
[19450,"SLATTERY","Rachel","F",1968,"MAS","KND",null,999.99,999.99]
[20602,"SMIDT-WALLIS","Brielle","F",2000,"U16","ASR","SUR",120.52,77.849999999999994]
[22058,"SMITH","Emily","F",2004,"U12","FPS",null,999.99,999.99]
[21850,"SMITH","Isobelle","F",1999,"U16",null,null,999.99,999.99]
[20840,"SNOW","Elise","F",1999,"U16","EVO","EVO",58.41,67.52]
[17752,"SOMAN","Bethany","F",1997,"U18","SMK",null,91.36,91.36]
[20134,"SOMAN","Mia","F",2002,"U14","SMK",null,999.99,999.99]
[20754,"SPANTON","Jessica","F",1997,"U18","NOR",null,50.75,31.81]
[21568,"SPEARPOINT WALSH","Emily","F",1996,"U21","OVL","OVL",196.72,196.72]
[31471,"SPENCE","Madison","F",2005,"U10","LSR",null,999.99,999.99]
[31344,"SPENCE","Rachel","F",2003,"U12","LSR",null,999.99,999.99]
[22022,"SPENCER","Ania","F",1998,"U18","PLY",null,999.99,349.69]
[17717,"STAMMERS","Sophie","F",1998,"U18","DHO","DHO",999.99,999.99]
[31318,"STARK","Daisy","F",2001,"U14","LSR",null,271.52,271.52]
[21881,"STAYMAN","Jessica","F",2001,"U14","SOU","SAS",361.72,226.75]
[31566,"STEDMAN","Megan","F",2000,"U16",null,null,999.99,273.06]
[31504,"STEPHEN","Sadie","F",2000,"U16","GDN",null,999.99,999.99]
[36585,"STEPHEN","Wendy","F",2002,"U14","GDN",null,999.99,999.99]
[20439,"STEVENS","Annecy","F",2000,"U16","HEM","HEM",193.12,193.12]
[20440,"STEVENS","Cordelia","F",2005,"U10","HEM","HEM",999.99,999.99]
[21950,"STEVENS","Holly","F",1968,"MAS","HEM","HEM",999.99,999.99]
[20441,"STEVENS","Lilyella","F",2002,"U14","HEM","HEM",251.96,379.9]
[18472,"STEVENSON","Elizabeth","F",1990,"SEN",null,"K",999.99,999.99]
[31430,"STEWART","Honor","F",2000,"U16","LSR",null,999.99,999.99]
[31076,"STILL","Ella","F",1997,"U18","GDN",null,142.44999999999999,145.30000000000001]
[31088,"STILL","Ruby","F",1999,"U16","GDN",null,284.98,284.98]
[21382,"STOCKER","Anastacia","F",2003,"U12","TSN","BSA",999.99,999.99]
[21397,"STOCKER","Sophie","F",2005,"U10","TSN","BSA",999.99,999.99]
[21727,"STOKOE","Amy","F",2005,"U10","TSD","TSD",999.99,999.99]
[21889,"STOWELL","Susanna","F",2001,"U14","DHO","DHO",999.99,999.99]
[31544,"STRUTHERS","Ciorstaidh","F",2001,"U14","SFR",null,180.37,337.67]
[21968,"SULLIVAN","Ella","F",2002,"U14","LIO","LIO",378.62,999.99]
[17154,"SUMMERHAYES","Katie","F",1995,"U21","SHK",null,999.99,999.99]
[18099,"SUMMERHAYES","Molly","F",1997,"U18","SHK",null,588.37,999.99]
[21969,"SURMAN","Evelyn","F",2003,"U12",null,"LIO",999.99,999.99]
[21970,"SURMAN","Martha","F",2005,"U10",null,"LIO",999.99,999.99]
[19623,"SYMONS","Rachel","F",1993,"SEN","CHT",null,40.1,35.729999999999997]
[36562,"SZAFRANEK","Chloe","F",1992,"SEN","GSR",null,999.99,999.99]
[21756,"TAFFS","Zara","F",2002,"U14","PLY","PLY",999.99,479.39]
[20622,"TARANTELLI","Laudomia","F",2003,"U12",null,null,999.99,999.99]
[36584,"TATE","Emily","F",2003,"U12","CSC",null,999.99,999.99]
[36583,"TATE","Georgia","F",2004,"U12","CSC",null,999.99,999.99]
[17702,"TAYLOR","Imogen","F",1994,"U21","AMB","AMB",67.87,152.99]
[18235,"TAYLOR","Isadora","F",1997,"U18","EVO","EVO",234.75,234.75]
[31007,"TAYLOR","Kate","F",1997,"U18","GSR","SSC",16.190000000000001,16.190000000000001]
[31237,"TAYLOR","Rhiannon","F",1998,"U18","GDN",null,250.93,329.16]
[31463,"TAYLOR","Rhona","F",2002,"U14","SSC",null,999.99,999.99]
[21430,"TAYLOR SELT","Molly","F",1996,"U21","VIK","SUF",999.99,999.99]
[21261,"TAYLOR-TIPTON","Ella","F",2004,"U12","FF","FF",999.99,999.99]
[22048,"TEAL","Chloe","F",1996,"U21",null,null,999.99,999.99]
[14393,"THEXTON","Heather","F",1990,"SEN","KND",null,999.99,999.99]
[18033,"THOMAS","Elisabeth","F",1996,"U21","MID","DRA",72.7,67.69]
[19211,"THOMAS","Kerry","F",1995,"U21","TOQ",null,111.71,111.71]
[21719,"THOMAS","Sophie","F",2003,"U12","HEM","HEM",999.99,999.99]
[21018,"THOMPSON","Lara","F",2000,"U16",null,null,999.99,999.99]
[22122,"THOMPSON","Niamh","F",2005,"U10","TSN",null,999.99,999.99]
[21519,"THOMPSON","Tilly","F",1999,"U16","SPR","SPR",999.99,999.99]
[30982,"THOMSON","Sarah","F",1996,"U21","SSC",null,327.78,327.78]
[22078,"THORNTON","Eleanor","F",2000,"U16","FPS",null,999.99,189.79]
[30624,"TILLEY","Alexandra","F",1993,"SEN","GDN","BSA",43.05,46.21]
[21272,"TILLEY","Katherine","F",2001,"U14",null,"DRA",999.99,999.99]
[30904,"TODD","Alison","F",1997,"U18","SSC","MUC",101.11,101.11]
[17951,"TODD-SAUNDERS","Helen","F",1999,"U16","DHO","DHO",999.99,999.99]
[20813,"TOH","Isabel","F",2000,"U16","HEM","HEM",999.99,999.99]
[19213,"TONGE","Charlotte","F",1994,"U21","TOQ",null,67.260000000000005,67.260000000000005]
[19700,"TOOGOOD","Natalia","F",1997,"U18","VIK",null,999.99,89.15]
[21863,"TOWNSEND","Isabel","F",2002,"U14","SOU",null,999.99,999.99]
[20669,"TREUGE","Lauren","F",2003,"U12","MID",null,999.99,999.99]
[20643,"TREW","Eleanor","F",1999,"U16","HEM","K",119.52,108.27]
[22199,"TRUST","Emma","F",2004,"U12","HEM",null,999.99,999.99]
[21816,"TUBBS","Jessica","F",1999,"U16","TSN",null,999.99,999.99]
[31134,"TURNER","Jennifer","F",2001,"U14","BSC",null,133.4,139.09]
[22070,"TURNER","Morgan","F",1999,"U16","BRO",null,999.99,999.99]
[5480,"TURNOCK","Kerry","F",1972,"MAS","HEM",null,61.15,61.15]
[21809,"TUTT","Anna","F",1974,"MAS","HEM","HEM",999.99,999.99]
[19986,"USHER","Annie","F",1997,"U18","ASR","DRA",31.63,24.62]
[22006,"VAGO","Annabel","F",2000,"U16",null,null,999.99,999.99]
[22007,"VAGO","Cristina","F",2003,"U12",null,null,999.99,999.99]
[18933,"VALE","Lauren","F",2001,"U14","CHT",null,79.94,25]
[18934,"VALE","Nikkie","F",1994,"U21","CHT",null,77.87,77.87]
[36609,"VAUGHAN","Molly","F",2001,"U14","CSC",null,999.99,999.99]
[20573,"VEGTING","Amelia","F",1997,"U18",null,null,999.99,999.99]
[21096,"VERNON","Rebecca","F",2002,"U14","SPR","SPR",999.99,999.99]
[13381,"VERNON","Rowan","F",1988,"SEN","MID","MID",32.840000000000003,32.840000000000003]
[21368,"VESELY","Cordelia","F",1999,"U16","SPR","SPR",999.99,999.99]
[21376,"VESELY","Miranda","F",2002,"U14","SPR","SPR",999.99,999.99]
[21377,"VESELY","Ophelia","F",2004,"U12","SPR","SPR",999.99,999.99]
[20849,"VICKERS","Katie","F",2001,"U14","SPR","SPR",999.99,999.99]
[30768,"VINCENTI","Anna","F",1995,"U21","BSC",null,999.99,999.99]
[21794,"WAGSTAFF","Lydia","F",1998,"U18","SHK","MSR",252.54,373.73]
[31525,"WALLACE","Olivia","F",1999,"U16","GSR",null,375.43,375.43]
[31524,"WALLACE","Sophia","F",2002,"U14","GSR",null,283.45999999999998,245.24]
[10660,"WALSH","Carrie","F",1963,"MAS","ALD","IMP",178.34,178.34]
[20317,"WALTON","Kirsten","F",2000,"U16","LIO","LIO",54.53,88.21]
[20741,"WALTON","Mya","F",2004,"U12","LIO","LIO",999.99,999.99]
[21349,"WANG","Alison","F",1980,"MAS","MSR","IMP",189.05,189.05]
[41693,"WARD","Ella","F",1999,"U16","CAR","AMB",64.91,64.91]
[31500,"WARD","Erin","F",2005,"U10","GSR",null,999.99,999.99]
[31464,"WARD","Isla","F",2004,"U12","GSR",null,999.99,999.99]
[41692,"WARD","Olivia","F",2000,"U16","CAR","AMB",65.78,72.61]
[21254,"WATSON","Josie","F",2004,"U12","WM","WM",999.99,999.99]
[18745,"WEBSDALE","Cara","F",1997,"U18","RAV","LIO",158.58000000000001,999.99]
[20767,"WEBSTER","Atlanta","F",2000,"U16","NOR","NOR",185.74,155.4]
[21400,"WEEKS","Ella","F",2004,"U12","SPR","SPR",999.99,999.99]
[21101,"WEEKS","Georgia","F",2001,"U14","SPR","SPR",999.99,999.99]
[21492,"WEIR","Emer","F",1999,"U16","RAV",null,171.47,171.47]
[31093,"WHATFORD","Beth","F",2001,"U14","GDN",null,108.79,123.54]
[14169,"WHEATMAN","Claire","F",1991,"SEN","NOR","NOR",296.81,296.81]
[20552,"WHEELER","Sophie","F",2003,"U12","MSR",null,999.99,999.99]
[20612,"WHITE","Victoria","F",1994,"U21",null,null,999.99,999.99]
[22213,"WHITMARSH-ALI","Evie","F",2005,"U10","CHT",null,999.99,999.99]
[21836,"WHITMARSH-ALI","Megan","F",2000,"U16","CHT",null,999.99,138.1]
[19094,"WHITTALL","Martha","F",1997,"U18","ASR","SAS",243.55,243.55]
[18454,"WIDDUP","Bethany","F",1995,"U21","AMB","AMB",15.87,15.87]
[18013,"WILCOCKSON","Melanie","F",1991,"SEN","PPS","LIO",77.150000000000006,83.01]
[41913,"WILEY","Lily","F",2003,"U12","WWS",null,999.99,999.99]
[10199,"WILKEY","Sarah","F",1981,"MAS","SPR","SUR",999.99,999.99]
[22304,"WILKINS","Eleanor","F",2000,"U16","BRS",null,999.99,105.62]
[21603,"WILKINSON","Millie","F",2001,"U14","SHK","SHK",999.99,999.99]
[19128,"WILLIAMS","Beth","F",1995,"U21","FLK",null,65.22,65.22]
[30999,"WILLIAMS","Emma","F",1999,"U16","GSR","SSC",95.5,95.5]
[19832,"WILLIAMS","Grace","F",2000,"U16","TEL","TEL",81.400000000000006,81.400000000000006]
[19162,"WILLOUGHBY","Jo","F",1975,"MAS",null,"LIO",999.99,999.99]
[21210,"WILLOWS","April","F",2002,"U14","BRO",null,999.99,999.99]
[22189,"WILSON","Ceri","F",2000,"U16",null,null,999.99,999.99]
[36574,"WILSON","Judy","F",1952,"MAS",null,null,999.99,999.99]
[31526,"WINNING","Charlotte","F",1998,"U18","SFR",null,371.57,371.57]
[31111,"WINTHROP","Claire","F",1997,"U18","LSR",null,88.3,88.3]
[31369,"WINTHROP","Zoe","F",1999,"U16","LSR",null,175.34,175.06]
[36573,"WISEMAN","Cara","F",1982,"MAS",null,null,999.99,999.99]
[19645,"WISEMAN","Kelly","F",1993,"SEN","PND","PND",75.98,75.98]
[22091,"WOLOSZCZUK","Lucy","F",2001,"U14","HEM","HEM",999.99,999.99]
[31545,"WOOD","Milly","F",2000,"U16","LSR",null,616.37,616.37]
[20639,"WOODWARD","Sarah","F",2001,"U14","HEM","AMB",93.86,93.86]
[17452,"WRIGHT","Natasha","F",1997,"U18","VIK",null,100.87,100.87]
[31522,"WYLIE","Anna","F",1998,"U18","MUC",null,274.66000000000003,274.66000000000003]
[31260,"WYLIE","Fiona","F",2003,"U12","GSR",null,999.99,999.99]
[36571,"YARD","Beverly","F",1900,"MAS",null,null,999.99,999.99]
[18056,"YOUNG","Ella","F",1997,"U18","SUR","SUR",160,160]
[36569,"YOUNG","Maggie","F",1964,"MAS",null,null,999.99,999.99]
[31533,"YOUNG","Olivia","F",2000,"U16","MUC",null,500.69,500.69]
[21578,"YUNG","Catherine","F",1998,"U18",null,"DHO",999.99,999.99]
[20930,"ABRISHAMI","Diaco","M",2002,"U14","BRO","BRS",999.99,999.99]
[13335,"ABSALOM","Daniel","M",1992,"SEN","LSU","SPR",47.15,47.15]
[31228,"ADAMSON","Alexander","M",1996,"U21","CSC",null,999.99,999.99]
[31477,"ADAMSON","Tristram","M",1997,"U18","CSC",null,999.99,999.99]
[31215,"ADLINGTON","Ben","M",1999,"U16","BSC",null,999.99,999.99]
[20308,"AGNEW","George","M",1999,"U16",null,"K",999.99,999.99]
[31379,"ALDRIDGE","Charlie","M",2001,"U14","MUC","SSC",288.52,288.52]
[21817,"ALDRIDGE-BATE","William","M",2002,"U14","SPR","SPR",999.99,999.99]
[31178,"ALEXANDER","Hamish","M",1999,"U16","GDN",null,301.31,301.31]
[12571,"ALLDRIDGE","James","M",1988,"SEN","SMK","SPR",48.16,50.41]
[18247,"ALLEN","Samuel","M",1994,"U21",null,null,188,198.97]
[19074,"AMOS","John","M",1959,"MAS","SAS","SAS",244.28,263.81]
[10372,"ANDERSON","Christopher","M",1959,"MAS","VIK","K",163.66999999999999,153.91999999999999]
[31197,"ANDERSON","Ewen","M",2000,"U16","SSC",null,203.39,199.75]
[30908,"ANDREWS","Greg","M",1997,"U18",null,"SSC",142.41999999999999,142.41999999999999]
[31003,"ANDREWS","Keir","M",1998,"U18",null,"SSC",93.74,89.58]
[22009,"APPLETON","Byron","M",2001,"U14","HEM",null,108.94,103.79]
[21808,"ARLOTT","Martin","M",1971,"MAS","HEM","HEM",999.99,999.99]
[31400,"ARNOTT","Jack","M",2002,"U14","LSR",null,999.99,445.94]
[19990,"ASHMAN","Alexander","M",2000,"U16",null,"DHO",233.18,233.18]
[8522,"ASHTON","Simon","M",1968,"MAS","SHK",null,989,989]
[18475,"ASQUITH","Max","M",1996,"U21","AMB","AMB",200.32,200.32]
[21753,"ATHERTON","Lucas","M",2001,"U14",null,"MSR",999.99,999.99]
[21626,"ATKINSON","Andrew","M",1967,"MAS","BRO",null,238.25,123.13]
[8363,"ATKINSON","Michael","M",1978,"MAS",null,null,999.99,999.99]
[8362,"ATKINSON","Stuart","M",1982,"MAS",null,null,999.99,999.99]
[20878,"ATTARD","Oliver","M",1999,"U16",null,"SPR",999.99,999.99]
[22132,"AUSTIN","William","M",2000,"U16","PND","PND",999.99,197.18]
[20416,"AVENT","Mathieu","M",1999,"U16",null,null,999.99,999.99]
[21958,"BACKHOUSE","Michael","M",1994,"U21","MSR","MSR",999.99,999.99]
[22051,"BACKHOUSE","Nicholas","M",1998,"U18",null,"MSR",999.99,999.99]
[13784,"BAGGIO","Max","M",1995,"U21","EVO","EVO",45.49,45.49]
[20484,"BAILES","Max","M",1999,"U16","ESX","ELI",199.06,199.06]
[22198,"BAILEY","Noah","M",2006,"U10","MID","WM",999.99,999.99]
[20149,"BAILY","Luke","M",2002,"U14","SMK","SMK",999.99,999.99]
[22004,"BAKER","Giles","M",2003,"U12","SPR","SPR",999.99,999.99]
[22155,"BALCHIN","Lewis","M",2000,"U16","2KP",null,999.99,999.99]
[12618,"BALDWIN","Thomas","M",1990,"SEN","NOR","BSA",17.3,17.3]
[30646,"BALL","Elliot","M",1994,"U21","SSC",null,88.17,88.17]
[20673,"BANNISTER","Adam","M",1999,"U16","ASR",null,118.03,93.2]
[21167,"BANNISTER","Callum","M",1998,"U18","AVO","IMP",155.68,155.68]
[2657,"BANNISTER","Simon","M",1966,"MAS","ASR",null,75.36,75.36]
[31249,"BARKER","Duncan","M",2003,"U12","SSC","BSA",999.99,999.99]
[31021,"BARLOW","Benedict","M",1994,"U21","SSC",null,999.99,999.99]
[36628,"BARLOW","Robert","M",1954,"MAS","SSC",null,999.99,999.99]
[31115,"BARLOW","Xavier","M",1995,"U21","SSC",null,999.99,999.99]
[19639,"BARTON","Daniel","M",1998,"U18","HEM","HEM",43.11,49.25]
[19774,"BARTON","Dominic","M",2002,"U14","HEM","SMK",209.49,999.99]
[20302,"BASTOW","Milo","M",1997,"U18",null,"IMP",999.99,999.99]
[22202,"BAYLES","Sebastian","M",2004,"U12","SPR","SPR",999.99,999.99]
[19704,"BEARDMORE","Adam","M",1986,"SEN","MID",null,35.26,35.26]
[20974,"BEAVIS","Riley","M",2002,"U14",null,"BSA",999.99,999.99]
[31543,"BECK","Ben","M",2003,"U12","LSR",null,999.99,999.99]
[31355,"BECK","Zak","M",2001,"U14","LSR",null,500.98,389.87]
[14940,"BECKETT","David","M",1960,"MAS","NOR",null,185.05,185.05]
[20712,"BEER","Lawrence","M",1998,"U18","RAV",null,71.34,71.34]
[21628,"BEGG","Alistair","M",2001,"U14","MSR","MSR",279.41000000000003,340.49]
[18704,"BEGG","Callum","M",1997,"U18","MSR","TEL",54.33,54.33]
[21713,"BEGLIN","Thomas","M",2004,"U12","HEM","BRS",999.99,999.99]
[22138,"BELLAMY","Edward","M",1987,"SEN","NOR","NOR",999.99,257.67]
[19683,"BENNETT","Elliott","M",2003,"U12","LIO","LIO",999.99,999.99]
[22186,"BENNETT","Harry","M",2004,"U12",null,"HEM",999.99,999.99]
[19070,"BENNETT","Russell","M",1973,"MAS","LIO","LIO",999.99,999.99]
[21224,"BENNION","James","M",1997,"U18","GLO",null,306.93,306.93]
[19208,"BERGLINDARSON","Kristofer","M",2000,"U16","MSR","MSR",65.53,104.71]
[31233,"BEVERIDGE","Jamie","M",2000,"U16","LSR",null,433.96,433.96]
[21189,"BIGGS","Saul","M",1998,"U18","FLK",null,94.62,77.88]
[19854,"BINGHAM","Jonathan","M",1999,"U16","ESX","SAS",74.23,74.489999999999995]
[19855,"BINGHAM","Nicholas","M",2002,"U14","ESX","SAS",161.81,135.28]
[30909,"BINGHAM","Sion","M",1997,"U18","SSC","STC",158.87,201.69]
[18917,"BINGLE-WILLIAMS","Christian","M",1998,"U18",null,"K",999.99,999.99]
[20997,"BIRAN","Itamar","M",1998,"U18",null,null,999.99,999.99]
[18638,"BISHOP","Angus","M",1995,"U21","SHK","LIO",195.79,195.79]
[21728,"BISHOP","Julian","M",1968,"MAS","RAV",null,372.62,294.60000000000002]
[21555,"BLACK","Callum","M",2004,"U12","AVO","AVO",999.99,999.99]
[19585,"BLACK","Oliver","M",2001,"U14","PPS","DRA",151.69999999999999,153.69999999999999]
[19394,"BLACK","Philip","M",1969,"MAS","SHK","SHK",999.99,999.99]
[20851,"BLOOM","Adam","M",1973,"MAS","WCS","GLO",100.85,88.74]
[20852,"BLOOM","Ryan","M",2001,"U14","WCS","GLO",136.66,117.79]
[31461,"BOLAM","John","M",1955,"MAS",null,null,999.99,999.99]
[41930,"BOLGER","Enda","M",1997,"U18","SCI",null,156.57,156.57]
[41967,"BONNINGTON","Chay","M",2005,"U10",null,"DRA",999.99,999.99]
[31041,"BOOTH","Harris","M",1997,"U18","BSC",null,999.99,999.99]
[19713,"BOTY","Harry","M",1997,"U18","HEM","ELI",69.760000000000005,88.66]
[31051,"BOW","Brandon","M",2001,"U14","BSC",null,999.99,999.99]
[19565,"BOWERS","Dieter","M",1996,"U21","TEL",null,120.04,120.04]
[41781,"BOWYER","Andy","M",1964,"MAS","OVL",null,999.99,999.99]
[19685,"BRADFORD-SMITH","George","M",1994,"U21","ASR",null,223.89,223.89]
[19686,"BRADFORD-SMITH","Jack","M",1996,"U21","ASR",null,69.319999999999993,64.819999999999993]
[21891,"BRANDT","Orlando","M",2001,"U14",null,"DHO",999.99,999.99]
[31531,"BRAWLEY","Patrick","M",2000,"U16","GSR",null,345.08,410.87]
[20586,"BRAY","Michael","M",1985,"SEN",null,null,999.99,999.99]
[14391,"BREESE","Ashley","M",1996,"U21",null,null,4,11.72]
[17963,"BREESE","Nathan","M",1999,"U16",null,null,89.86,93.27]
[21203,"BREESE","Thomas","M",2003,"U12","TEL",null,999.99,999.99]
[31309,"BREMNER","Alexander","M",2001,"U14",null,null,450.75,450.75]
[31271,"BREMNER","Fin","M",1999,"U16","ASC",null,999.99,999.99]
[36590,"BREMNER","Keilan","M",2003,"U12","ASC",null,999.99,999.99]
[21218,"BRESKAL","Bailey","M",1998,"U18","WGC",null,156.33000000000001,156.33000000000001]
[20143,"BRIDGE","Dominic","M",2001,"U14","LIO","LIO",94.2,97.67]
[20144,"BRIDGE","Oliver","M",1999,"U16","LIO","LIO",62.35,69.22]
[17332,"BROOKES","Philip","M",1993,"SEN",null,"SAS",225.18,225.18]
[20193,"BROWN","Cameron","M",1998,"U18","PPS","DRA",51.07,51.07]
[31481,"BROWN","Cameron","M",2003,"U12","GDN",null,999.99,999.99]
[31132,"BROWN","Harry","M",1999,"U16","SSC",null,688.45,688.45]
[19083,"BROWN","Jack","M",1995,"U21","GLO","FLK",53.19,53.19]
[41984,"BROWN","Jack","M",2001,"U14","SCI",null,323.95999999999998,323.95999999999998]
[30830,"BROWN","Jamie","M",1996,"U21","GDN","ASC",271.08999999999997,271.08999999999997]
[20338,"BROWN","Jamie","M",1999,"U16",null,null,999.99,999.99]
[22125,"BROWN","Joseph","M",2004,"U12","LIO","LIO",999.99,999.99]
[2743,"BROWN","Phil","M",1966,"MAS","HEM","IMP",216.42,216.42]
[31014,"BROWN","Rhys","M",1995,"U21","SSC",null,205.33,205.33]
[31290,"BROWN","Rory","M",1997,"U18","GDN",null,999.99,999.99]
[19084,"BROWN","Thomas","M",1998,"U18","CHT","FLK",212.61,212.61]
[22129,"BRUNO","Benjamin","M",1999,"U16",null,null,999.99,999.99]
[12584,"BRUTON","Peter","M",1989,"SEN",null,null,10.73,16.45]
[30906,"BUCHAN","Fraser","M",1997,"U18","BSA","SSC",72.14,72.14]
[30811,"BUCHAN","Murray","M",1991,"SEN",null,null,999.99,999.99]
[30919,"BUCHAN","Scott","M",1999,"U16","SSC","BSA",129.37,136.61000000000001]
[17380,"BUCHWISER","Lawrence","M",1995,"U21",null,null,999.99,999.99]
[36674,"BUDGE","Andrew","M",2000,"U16","ASC",null,999.99,999.99]
[14871,"BULLEN","Robert","M",1989,"SEN",null,"K",999.99,999.99]
[21063,"BULLIVANT","Peter","M",2000,"U16","BOW","BSA",999.99,999.99]
[10596,"BUNTON","Paul","M",1963,"MAS","CHT","CHT",122.87,106.38]
[21649,"BUNTON","Ryan","M",2005,"U10","CHT",null,999.99,999.99]
[31479,"BURKE","Luke","M",2004,"U12","GSR",null,999.99,999.99]
[31339,"BURROW","Gregor","M",2002,"U14","LSR",null,999.99,323.32]
[19755,"BURTON","Lucas","M",2000,"U16",null,null,999.99,999.99]
[21411,"BUTLER","Simon","M",1962,"MAS",null,"HEM",999.99,999.99]
[41721,"BUTTERWORTH","Daniel","M",1996,"U21","WWS","DRA",66.430000000000007,66.430000000000007]
[22001,"BUTTERWORTH","Samuel","M",2001,"U14","PND",null,999.99,193.83]
[41719,"BUTTERWORTH","Thomas","M",2002,"U14","WWS","DRA",261.33999999999997,139.37]
[31338,"CALDER","Lewis","M",2006,"U10",null,null,999.99,999.99]
[31337,"CALDER","Struan","M",2004,"U12",null,null,999.99,999.99]
[20832,"CALDWELL","Patrick","M",2000,"U16","HEM","EVO",116.47,132.02000000000001]
[14261,"CALVERT","John","M",1949,"MAS","ASR","ALD",344.67,265.04000000000002]
[12802,"CALVERT","Peter","M",1988,"SEN","ASR",null,41.11,41.11]
[31039,"CAMERON","Alasdair","M",1995,"U21","LSR",null,165.79,157.27000000000001]
[31364,"CAMERON","Rory","M",2002,"U14","ASC",null,999.99,999.99]
[30793,"CAMPBELL","Andrew","M",1995,"U21","GDN",null,271.7,271.7]
[31510,"CAMPBELL","Frederick","M",2003,"U12","LSR",null,999.99,999.99]
[31230,"CAMPBELL","Graeme","M",2000,"U16","GDN",null,999.99,999.99]
[21108,"CAMPBELL","Harvey","M",2003,"U12","TEL",null,999.99,999.99]
[30912,"CAMPBELL","Iain","M",1997,"U18","GDN",null,334.53,334.53]
[36603,"CAMPBELL","Oliver","M",2003,"U12","GSR",null,999.99,999.99]
[21766,"CARDON","Casey","M",1997,"U18",null,null,999.99,999.99]
[20590,"CARE","James","M",2002,"U14","MID",null,999.99,398.04]
[21577,"CAREY","Joshua","M",2000,"U16",null,"SZR",999.99,999.99]
[21576,"CAREY","Matthew","M",1998,"U18",null,"SZR",999.99,999.99]
[31154,"CARRUTHERS","Harry","M",1999,"U16","SSC","LSR",127.07,127.07]
[21107,"CARSON","Sam","M",1999,"U16","PPS","DRA",58.07,78.459999999999994]
[19196,"CASE","George","M",2001,"U14","AVO","BSA",999.99,188.5]
[20262,"CASE","Toby","M",2002,"U14","HEM","ASR",98.02,82.18]
[41990,"CASHMORE","Edward","M",2001,"U14","EXD","DRA",225.45,217.58]
[41991,"CASHMORE","William","M",1998,"U18","EXD","DRA",243.43,205.03]
[20695,"CATLIN","Osian","M",2005,"U10","SMK",null,999.99,999.99]
[18327,"CAVANAGH","Matthew","M",1996,"U21","DHO","MSR",136.97,136.97]
[20215,"CAWTHORNE","Harry","M",1999,"U16","TOQ","BSA",138.72,129.34]
[20216,"CAWTHORNE","Louis","M",2000,"U16","TOQ","BSA",133.80000000000001,114.83]
[638,"CAXTON","Martin","M",1955,"MAS","ESX",null,999.99,999.99]
[17202,"CHAJECKI","Alexander","M",1991,"SEN",null,null,999.99,999.99]
[17201,"CHAJECKI","Julian","M",1993,"SEN",null,null,140.94999999999999,999.99]
[19421,"CHAJECKI","Sebastian","M",1997,"U18","BSA","BSA",999.99,999.99]
[17591,"CHALKLEY","Oliver","M",1996,"U21",null,null,89.06,89.06]
[31067,"CHAMBET","Tom","M",2000,"U16","SSC",null,999.99,999.99]
[20239,"CHAMPION","Ben","M",1993,"SEN","CHT",null,110.46,65.510000000000005]
[22191,"CHAMPION","Benjamin","M",2005,"U10","TSD",null,999.99,999.99]
[21712,"CHAPLIN","Brendon","M",1996,"U21","BRS","HEM",297.33,297.33]
[21269,"CHAPMAN","David","M",1976,"MAS","TSD","TSD",999.99,999.99]
[18674,"CHAPMAN","Euan","M",1997,"U18","ASR","ASR",57.61,57.61]
[12254,"CHAPMAN","Iain","M",1982,"MAS","VIK","VIK",999.99,999.99]
[19993,"CHAPMAN","Lloyd","M",1999,"U16","SZR","SZR",73.16,83.91]
[21191,"CHARLTON","Ben","M",1997,"U18","RAV",null,113.48,97.39]
[22072,"CHARLTON","Harvey","M",1998,"U18","ASR",null,999.99,81.53]
[21985,"CHERMETTE","Basile","M",1999,"U16",null,null,999.99,999.99]
[21923,"CHERRY","Tom","M",1996,"U21","HEM","DHO",999.99,999.99]
[21922,"CHOHAN","Zacariya","M",2005,"U10","DHO","DHO",999.99,999.99]
[31097,"CHRISTEY","David","M",1999,"U16","BSA","MUC",224.95,224.95]
[31098,"CHRISTEY","Joe","M",2002,"U14","BSA","MUC",999.99,999.99]
[21480,"CHRISTOV","Jonathan","M",2001,"U14","SPR","SPR",999.99,999.99]
[9694,"CLARK","Benjamin","M",1985,"SEN","BRO","K",27.87,21.74]
[22076,"CLARKE","Alec","M",2004,"U12","HEM","HEM",999.99,999.99]
[8713,"CLARKE","Christopher","M",1959,"MAS","HEM","SAS",340.2,358.49]
[22077,"CLARKE","Conall","M",2006,"U10","HEM","HEM",999.99,999.99]
[21260,"CLARKE","Edward","M",2000,"U16","HEM","SMK",140.09,201.1]
[31220,"CLARKE","Liam","M",1999,"U16","SSC",null,272.83999999999997,272.83999999999997]
[20293,"CLAYTON","Adam","M",1996,"U21","NOR",null,82.16,82.16]
[31404,"CLUGNET","James","M",1996,"U21","HIG",null,999.99,999.99]
[31564,"CLYDE","Sam","M",2003,"U12","LSR",null,999.99,999.99]
[21156,"COATES","Joseph","M",2000,"U16","PPS","DRA",181.71,181.71]
[31137,"COHN","Antony","M",1998,"U18","BSC",null,145.79,145.79]
[20568,"COLEMAN","Arthur","M",1999,"U16","K","K",999.99,999.99]
[20353,"COLLEY","James","M",2001,"U14","SPR","SPR",999.99,999.99]
[20651,"COLLIER","Harry","M",2002,"U14","MSR","SZR",194.93,999.99]
[41973,"COLUMB","Cameron","M",1999,"U16","SCI",null,187.32,365.56]
[42036,"COLUMB","Nathan","M",2001,"U14","SCI",null,266.91000000000003,999.99]
[20167,"COMELIO","Sebastian","M",2002,"U14","AVO","DHO",999.99,999.99]
[42033,"COMPTON","Joseph","M",2005,"U10","CAR",null,999.99,999.99]
[18571,"CONDE","Jamie","M",1992,"SEN","TEL","TEL",69.709999999999994,69.709999999999994]
[17493,"CONNERY","Kali","M",1996,"U21",null,null,804,804]
[41735,"CONSTANTINE","Benjamin","M",2003,"U12","CAR","DRA",999.99,999.99]
[41710,"CONSTANTINE","Joseph","M",2000,"U16","CAR","DRA",122.82,123.51]
[21258,"COOK","Alastair","M",2003,"U12","GLO",null,999.99,999.99]
[21255,"COOK","James","M",2002,"U14","GLO",null,999.99,269.08999999999997]
[22177,"COOK","Joshua","M",2005,"U10","CHT",null,999.99,999.99]
[19629,"COOPER","Jordan","M",1999,"U16","SAS","SAS",177.78,177.78]
[21146,"COOPER","Morgan","M",1998,"U18","PND",null,153.77000000000001,112.21]
[22163,"COOPER-WALKER","Josef","M",2000,"U16","AVO",null,999.99,999.99]
[19170,"CORR","Christopher","M",1995,"U21","PND",null,6.38,5.98]
[21625,"CORR","David","M",1998,"U18","PND",null,285.64999999999998,234.56]
[20841,"CORRIGAN","Paul","M",2001,"U14","SPR","SPR",999.99,999.99]
[31325,"CORRY","Matt","M",1997,"U18","BSC",null,999.99,999.99]
[20165,"COSHAM","Harry","M",2003,"U12","SZR","SZR",999.99,999.99]
[22216,"COTTAM","Bill","M",1994,"U21",null,null,999.99,999.99]
[21973,"CRANE-ROBINSON","Theo","M",2001,"U14",null,null,999.99,999.99]
[30100,"CRAWFORD","Douglas","M",1987,"SEN","BSC",null,929.76,929.76]
[41938,"CRIDDLE","Isaac","M",2000,"U16","CAR",null,214.53,188.28]
[41988,"CRIDDLE","Ollie","M",2004,"U12","CAR",null,999.99,999.99]
[31025,"CROCKART","Tom","M",2000,"U16","SSC","BSA",176.66,176.66]
[5666,"CROMBLEHOLME","Roger","M",1957,"MAS","MID","TEL",120.35,120.35]
[31380,"CROOK","Andrew","M",1998,"U18","SSC",null,249.53,246.13]
[31068,"CROSS","Jack","M",1998,"U18","SSC","BSA",339.12,339.12]
[20927,"CRUTCHFIELD","Eliot","M",2003,"U12","SPR","SPR",999.99,999.99]
[30384,"CRUZ-MERMY","Alistair","M",1984,"MAS","STC",null,999.99,999.99]
[21651,"CULSHAW","Daniel","M",1997,"U18","PND",null,209.84,179.15]
[20633,"CUNNINGHAM","Jake","M",2002,"U14","TOQ","BSA",999.99,999.99]
[31106,"CUNNINGHAM","Kyle","M",1996,"U21","BSC",null,287.86,287.86]
[21300,"CURRAN","John","M",1966,"MAS","LIO","LIO",231.62,999.99]
[36615,"CURRIE","Fergus","M",2005,"U10","BSC","GSC",999.99,999.99]
[36616,"CURRIE","Findlay","M",2001,"U14","BSC","GSC",999.99,999.99]
[12797,"CURTIS","Daniel","M",1991,"SEN","ESX","K",33.56,33.56]
[19696,"CUTHBERT","Daryl","M",1996,"U21","VIK",null,213.43,201.01]
[22059,"DADE","Jake","M",2006,"U10","NOR","NOR",999.99,999.99]
[20748,"DADE","Tommy","M",2003,"U12","NOR","AMB",999.99,999.99]
[21976,"DALE-JONES","Jago","M",2004,"U12",null,null,999.99,999.99]
[21977,"DALE-JONES","Mack","M",2006,"U10",null,null,999.99,999.99]
[31398,"DALZIEL","James","M",1999,"U16","SSC",null,999.99,999.99]
[31515,"DALZIEL","Tom","M",2004,"U12","LSR",null,999.99,999.99]
[31348,"DALZIEL","William","M",2001,"U14","LSR","SSC",176.35,176.35]
[17351,"DANNATT","Tim","M",1994,"U21","GLO","DRA",65,65]
[19684,"DANNS","Jack","M",1992,"SEN","LSU","SAS",88.66,69.78]
[19733,"DAVEY","Joseph","M",2000,"U16","SPR","SPR",101.82,118.11]
[21152,"DAVEY","Nathan","M",2001,"U14","LIO","LIO",189.77,257.19]
[21750,"DAVEY","Tarran","M",2000,"U16","PLY",null,266.29000000000002,144.61000000000001]
[31162,"DAVIDSON-MCQUEEN","Ramsay","M",1999,"U16","LSR",null,434.48,434.48]
[41831,"DAVIES","Alex","M",2002,"U14","CAR","AMB",205.28,999.99]
[21120,"DAVIES","Ben","M",1995,"U21","NOR",null,65.97,65.97]
[18256,"DAVIES","Finlay","M",1999,"U16","HEM","SMK",49.03,89.68]
[21119,"DAVIES","Harry","M",1999,"U16","NOR",null,112.44,99.51]
[41702,"DAVIES","Jonathan","M",1974,"MAS","TOR",null,464.29,464.29]
[20554,"DAVIES","Morgan","M",1999,"U16","HEM","IMP",223.81,223.81]
[21048,"DAVIES","Oliver","M",1997,"U18",null,null,999.99,999.99]
[14927,"DAVIES","Peter","M",1993,"SEN","ASR",null,90.28,90.28]
[20311,"DAVIS","Ethan","M",2001,"U14","KF","KF",999.99,999.99]
[18347,"DAVIS","George","M",1995,"U21",null,null,27.59,33.78]
[18346,"DAVIS","Matthew","M",1998,"U18",null,null,55.84,55.84]
[22016,"DAVIS","Matthew","M",1999,"U16",null,null,999.99,999.99]
[12400,"DAWSON","Andrew","M",1965,"MAS","OVL",null,304.49,304.49]
[22065,"DAY","Richard","M",1977,"MAS","SZR","SZR",255.03,999.99]
[21743,"DE BOER","Nicholas","M",2000,"U16","SPR","SPR",999.99,999.99]
[41918,"DE DECKER","Carrig","M",1998,"U18","SCI",null,133.97,231.53]
[18610,"DEAKIN","William","M",1991,"SEN","FLK",null,28.84,28.84]
[21827,"DEEM","Charles","M",2005,"U10","TEL","TEL",999.99,999.99]
[19363,"DEIGHTON","Harry","M",2000,"U16","HEM","BSA",98.2,98.2]
[19361,"DEIGHTON","Oliver","M",1997,"U18","HEM","IMP",79.209999999999994,79.209999999999994]
[19362,"DEIGHTON","Toby","M",1999,"U16","HEM","AMB",104.13,104.13]
[17039,"DELLER","Philip","M",1959,"MAS","MID",null,780.34,780.34]
[19273,"DENDLE","George","M",2000,"U16","SPR","SPR",219.05,292.47000000000003]
[20315,"DERU","Joshua","M",1996,"U21",null,"DHO",999.99,999.99]
[20846,"DEWISON","Samuel","M",1998,"U18","MID","MID",119.86,103.46]
[19738,"DEWULF-PETERS","Oliver","M",1994,"U21","NOR",null,301.87,301.87]
[21406,"DEYKIN","Sebastian","M",1998,"U18","SPR",null,999.99,999.99]
[31182,"DICKSON","Bailey","M",2000,"U16","GSR",null,105.26,129.83000000000001]
[30832,"DICKSON","Graham","M",1996,"U21","GSR","SSC",31.18,36.01]
[31467,"DICKSON","Jamie","M",2001,"U14","CSC",null,999.99,999.99]
[31032,"DILLON","Grant","M",1997,"U18","SSC",null,131.29,131.29]
[21533,"DINGLE","Dominic","M",1996,"U21",null,"DHO",999.99,999.99]
[21532,"DINGLE","Timothy","M",1998,"U18",null,"DHO",999.99,999.99]
[36626,"DISCOMBE","Lewis","M",2002,"U14","BSC",null,999.99,214.38]
[31259,"DISCOMBE","Ross","M",1998,"U18","BSC",null,192.09,202.09]
[31550,"DIVERS","Martin","M",1980,"MAS",null,null,999.99,999.99]
[20603,"DIXON","Rory","M",1999,"U16","EVO","EVO",322.79000000000002,322.79000000000002]
[21642,"DOCKRY","Ben","M",2002,"U14","MSR","MSR",425.5,497.65]
[21643,"DOCKRY","Daniel","M",2006,"U10","MSR","MSR",999.99,999.99]
[31458,"DOHERTY","Lewis","M",1997,"U18","BSC",null,999.99,999.99]
[19572,"DOHERTY","Samuel","M",1999,"U16","MID",null,257.08999999999997,257.08999999999997]
[31289,"DONALD","Daniel","M",1999,"U16","CSC",null,999.99,999.99]
[36661,"DORFMAN","Robert","M",1998,"U18","GSC",null,999.99,999.99]
[31413,"DORREN","Donald","M",2001,"U14","LSR",null,420.99,287.01]
[41608,"DOYLE","Eoin","M",1997,"U18","SCI",null,68.69,68.69]
[20815,"DOYLE","Harrison","M",2000,"U16","DHO","DHO",999.99,999.99]
[19524,"DOYLE","Jake","M",2001,"U14","BSA","BSA",999.99,999.99]
[10641,"DRAKE","Edward","M",1986,"SEN",null,"K",116.77,116.77]
[21226,"DRAKE","Joshua","M",2002,"U14",null,"SMK",999.99,999.99]
[21860,"DRUMMOND","Thomas","M",1998,"U18",null,"IMP",999.99,999.99]
[12318,"DU PLESSIS","Andrew","M",1985,"SEN","MID","DHO",23.04,23.04]
[12317,"DU PLESSIS","Stephen","M",1987,"SEN",null,"DHO",999.99,999.99]
[31361,"D'ULISSE","Ben","M",2000,"U16","SSC",null,999.99,999.99]
[31470,"DUNCAN","Rory","M",1999,"U16","CSC",null,999.99,999.99]
[36608,"DUNCAN","Ruaraidh","M",2001,"U14","SSC","GDN",999.99,999.99]
[18246,"DUNHILL","Harry","M",1992,"SEN",null,"DHO",999.99,999.99]
[20277,"DUNION","Jamie","M",1999,"U16","SZR","SZR",262.45999999999998,262.45999999999998]
[31520,"DUNN","Liam","M",2000,"U16","LSR",null,999.99,999.99]
[20572,"DUNNE","Mikey","M",2002,"U14","SRR","SCM",194.78,999.99]
[20921,"DURANT","Richard","M",1967,"MAS","SUF",null,202.37,191.63]
[20142,"EATON","Oliver","M",1996,"U21","AMB","AMB",115.42,115.42]
[10040,"EAVES","David","M",1967,"MAS","PND",null,401.52,401.52]
[19048,"EAVES","Jonathan","M",1998,"U18","PND",null,132.28,102.89]
[22025,"EDWARDES","Henry","M",1993,"SEN","HEM","HEM",999.99,999.99]
[22010,"EDWARDS","Oliver","M",2005,"U10",null,"S2R",999.99,999.99]
[21908,"EDWARDS","William","M",2005,"U10","MSR",null,999.99,999.99]
[19166,"ELGY","James","M",1993,"SEN","MID",null,166.36,166.36]
[19164,"ELGY","John","M",1951,"MAS","MID",null,332.56,332.56]
[21552,"ELLIS","Hamish","M",2002,"U14",null,null,999.99,999.99]
[21666,"ELLIS","Lucas","M",2004,"U12","LIO","LIO",999.99,999.99]
[19756,"ELLISS","Harry","M",2000,"U16","SPR","SPR",999.99,999.99]
[19295,"ELLISS","Jack","M",1997,"U18","SPR","AMB",999.99,999.99]
[19276,"EMERY","Jacob","M",2001,"U14","SZR","SZR",195.55,195.55]
[21084,"EMMERSON","Philip","M",1990,"SEN","MID",null,57.73,42.32]
[20913,"EPERON","Harrison","M",2002,"U14","SPR","SPR",999.99,999.99]
[22142,"ERRINGTON","Farne","M",1997,"U18","SHK","SHK",381.19,999.99]
[31539,"ETRI","Alim","M",1999,"U16",null,null,349.3,349.3]
[31538,"ETRI","Aymen","M",1999,"U16",null,null,999.99,999.99]
[42032,"EVANS","Edward","M",2004,"U12","NW",null,999.99,999.99]
[41565,"EVANS","Emile","M",1996,"U21","CAR","IMP",31.94,31.94]
[41985,"EVANS","Harrison","M",2000,"U16","SAS",null,210.67,188]
[42026,"EVANS","Jac","M",2002,"U14","NW",null,999.99,999.99]
[6383,"EVERITT","Simon","M",1964,"MAS","BOW",null,348.93,348.93]
[22088,"FAIRFULL","Max","M",2003,"U12","HEM","HEM",999.99,999.99]
[31133,"FARQUHARSON","Hamish","M",1999,"U16","BRM",null,999.99,999.99]
[18916,"FARR","Oliver","M",1995,"U21","PPS","DRA",29.16,34.03]
[19544,"FARRELL","Jan","M",1983,"MAS",null,null,999.99,999.99]
[19633,"FARREN","Claude","M",1971,"MAS","RAV","RAV",59.4,59.4]
[19089,"FARREN","Rory","M",1998,"U18","RAV","RAV",36.24,35.06]
[21542,"FAWKE","Tim","M",1976,"MAS","ALD",null,999.99,999.99]
[17513,"FELLOWS","Jordan","M",1997,"U18","TEL","BSA",11.46,12.91]
[20640,"FENELEY","Jack","M",2002,"U14","PND",null,999.99,153.63999999999999]
[18810,"FENELEY","Luke","M",1997,"U18","NOR","BSA",69.23,69.23]
[18809,"FENELEY","William","M",1999,"U16","NOR","BSA",148.16,148.16]
[22157,"FERGUSON","Ian","M",1960,"MAS",null,null,999.99,999.99]
[30965,"FERRIER","Kieran","M",1997,"U18","GSR","SSC",102.05,102.05]
[19728,"FIORI","Haydyn","M",2001,"U14",null,null,999.99,999.99]
[20836,"FISHER","Edward","M",1999,"U16","SZR","SZR",999.99,999.99]
[20837,"FISHER","George","M",2003,"U12","SZR","SZR",999.99,999.99]
[22040,"FISHER","William","M",2000,"U16",null,"MSR",276.22000000000003,999.99]
[17126,"FITZPATRICK","Alexander","M",1994,"U21",null,"IMP",77.7,863.19]
[31278,"FITZPATRICK","Jimmy","M",2000,"U16","GSR",null,151.97,151.97]
[22211,"FITZSIMMONS","Rupert","M",1996,"U21",null,null,999.99,999.99]
[21623,"FITZSIMMONS","Tobias","M",1999,"U16","ASR",null,691.71,691.71]
[41481,"FLAHIVE","Gerard","M",1992,"SEN","LSU","IMP",7.13,7.13]
[13289,"FLAHIVE","Niall","M",1993,"SEN","HEM","IMP",86.99,86.99]
[31090,"FLEMING","Iain","M",1997,"U18","SSC",null,202.1,202.1]
[31516,"FLOCKHART","Ben","M",2003,"U12","LSR",null,999.99,999.99]
[36650,"FLOCKHART","Jack","M",2005,"U10","LSR",null,999.99,999.99]
[31029,"FLOCKHART","Sam","M",1998,"U18","LSR",null,253.4,253.4]
[41993,"FLUCK","Adam","M",2001,"U14","SPR","SPR",167.02,256.11]
[41852,"FLUCK","Benjamin","M",1996,"U21","SPR",null,87.85,87.85]
[22019,"FORD","John","M",1987,"SEN","AVO","AVO",999.99,999.99]
[21169,"FOWLES","James","M",1999,"U16","FLK",null,167.1,114.23]
[21168,"FOWLES","Luke","M",2002,"U14","FLK",null,339.79,999.99]
[36664,"FRASER","Murdo","M",2002,"U14","LSR",null,999.99,999.99]
[31551,"FRASER","Rory","M",2003,"U12","LSR",null,999.99,999.99]
[13838,"FRASER HAFTER","Fergus","M",1992,"SEN","DRA","DRA",448.5,448.5]
[11570,"FREEMAN","Edward","M",1989,"SEN","LIO","LIO",39.700000000000003,153.91]
[17336,"FRENCH","James","M",1992,"SEN",null,"K",999.99,999.99]
[20677,"FROST","Joey","M",1995,"U21","MID",null,127.79,127.79]
[21904,"FROST","Joshua","M",1998,"U18","SPR","SPR",999.99,999.99]
[21373,"FRY","Bradley","M",2005,"U10","FF","FF",999.99,999.99]
[20615,"FRYERS","Toby","M",2002,"U14","SPR","SPR",999.99,999.99]
[14404,"FYNN","Tarn","M",1994,"U21",null,null,672,672]
[20487,"GADZHUROV","Marko","M",1966,"MAS","SAS",null,999.99,999.99]
[41877,"GALE","Rhodri","M",1999,"U16","MSR","DRA",74.11,81.77]
[31216,"GALLOWAY","Drew","M",2000,"U16","MUC",null,263.73,242.15]
[31105,"GALLOWAY","Duncan","M",1996,"U21",null,"SSC",124.18,124.18]
[30854,"GARVIE","Scott","M",1996,"U21","GDN",null,999.99,999.99]
[17701,"GASH","Morgan","M",1999,"U16","SAS","PSC",114.43,131.57]
[19671,"GASH","Peter","M",1956,"MAS","SAS","SAS",270.86,419.66]
[12522,"GASH","Richard","M",1991,"SEN","SAS","SAS",73.239999999999995,73.239999999999995]
[19638,"GASKIN","Sam","M",2000,"U16","BRO","K",306.05,306.05]
[31384,"GEEKIE","Alexander","M",2001,"U14","ASC",null,233.87,293.01]
[20684,"GENTHER","Joshua","M",1998,"U18","SZR","SZR",108.93,115.55]
[36673,"GENTLE","Fynn","M",2000,"U16","ASC",null,999.99,999.99]
[21076,"GEORGEL","Robert","M",1996,"U21","BRO",null,323.31,323.31]
[21469,"GERRETT","Sam","M",1988,"SEN",null,null,999.99,999.99]
[12123,"GEYER","Jai","M",1990,"SEN","TOQ","TOQ",25.77,42.13]
[36591,"GIBB","Arran","M",2003,"U12","ASC",null,999.99,999.99]
[31546,"GIBB","Duncan","M",1997,"U18","HNC",null,999.99,999.99]
[31142,"GIBB","Matthew","M",1997,"U18","LSR",null,283.04000000000002,283.04000000000002]
[19153,"GIBBINS","Joseph","M",1998,"U18","HEM","BSA",208.1,208.1]
[21612,"GIBBS","Jack","M",2001,"U14","ASR",null,269.41000000000003,247.48]
[21004,"GIBBS","James","M",1998,"U18","ASR",null,179.46,108.73]
[31324,"GIBSON","Cameron","M",2001,"U14","GSR","LSR",175.63,217.48]
[30349,"GIBSON","Gordon","M",1990,"SEN","SSC",null,103.36,103.36]
[22203,"GILES","Daniel","M",2003,"U12","MID",null,999.99,999.99]
[31542,"GILFILLAN","Charlie","M",2001,"U14","LSR",null,999.99,999.99]
[21529,"GILKINSON","Jake","M",1995,"U21",null,"DHO",999.99,999.99]
[20880,"GILLETT","James","M",2002,"U14","SPR","SPR",999.99,999.99]
[31374,"GILLIES","John","M",1999,"U16","SSC",null,557.61,557.61]
[36655,"GILLIES","Stuart","M",1970,"MAS","SFR",null,165.49,999.99]
[17515,"GIRLING","Kirran","M",1997,"U18","TEL","TEL",33.979999999999997,33.979999999999997]
[31117,"GLASGOW","Peter","M",1994,"U21","SSC",null,48.1,48.1]
[21359,"GLOVER","Wiliam","M",1998,"U18","PND","PND",184.03,184.03]
[22219,"GODBOLD","Owen","M",1999,"U16","NFS",null,999.99,999.99]
[20108,"GODDARD","Thomas","M",1996,"U21","SUF",null,206.45,206.45]
[18816,"GOLDSWORTHY","Richard","M",1995,"U21","SMK","SMK",56.27,56.27]
[31150,"GOODLAD","Finlay","M",1998,"U18","LSR",null,224.3,264.86]
[31560,"GOODMAN","Matthew","M",2003,"U12","SSC",null,999.99,999.99]
[31559,"GOODMAN","Thomas","M",2001,"U14","SSC",null,999.99,999.99]
[21820,"GOODRIDGE","Rory","M",1998,"U18",null,null,226.44,206.86]
[20376,"GOSS","Alfie","M",1999,"U16","HEM","HEM",120.82,572.45000000000005]
[21650,"GOTTS","Joey","M",1987,"SEN","BRO","BRO",153.33000000000001,153.33000000000001]
[20779,"GOULD","David","M",1963,"MAS","OVL","OVL",999.99,999.99]
[17532,"GOWER","Jack","M",1994,"U21","SPR","SPR",120.26,999.99]
[17533,"GOWER","Rory","M",1996,"U21","SPR","SPR",322.62,999.99]
[21868,"GRAINGER","Christopher","M",1999,"U16","VIK","BSA",999.99,209.33]
[36618,"GRANT","Caolan","M",2002,"U14","GSR",null,999.99,999.99]
[14855,"GRANT","James","M",1994,"U21","LSU","HEM",24.53,24.53]
[36619,"GRANT","Taryn","M",2002,"U14","GSR",null,999.99,999.99]
[14856,"GRANT","Thomas","M",1996,"U21","HEM","HEM",33.01,33.729999999999997]
[31395,"GRAY","Stuart","M",1996,"U21","HNC",null,999.99,999.99]
[19122,"GREASBY","Richard","M",1969,"MAS","HEM",null,758.49,758.49]
[17002,"GREENFIELD","Hobie","M",1995,"U21","SAS","SAS",65.59,88.16]
[14809,"GREENFIELD","Max","M",1994,"U21","HEM","HEM",49.53,59.8]
[18049,"GREENFIELD","Nigel","M",1962,"MAS","SAS","SAS",274.58999999999997,363.71]
[31102,"GREENSHIELDS","Andrew","M",1999,"U16","SSC","LSR",133.76,118.01]
[31243,"GREENSHIELDS","Duncan","M",2002,"U14","SSC","LSR",999.99,155.72999999999999]
[19632,"GREENWAY","Daniel","M",1998,"U18",null,"WM",132.62,164.21]
[19631,"GREENWAY","Thomas","M",2001,"U14",null,"WM",137.99,188.11]
[31475,"GRIEVE","Joe","M",2003,"U12","LSR",null,999.99,999.99]
[20816,"GROGAN","Max","M",2001,"U14","K","K",999.99,999.99]
[30921,"GUEST","Christopher","M",1997,"U18","BSA","SSC",989,989]
[42025,"GUIGONNET","Edouard","M",2001,"U14",null,null,999.99,999.99]
[30515,"GUNN","Cameron","M",1992,"SEN","SSC","LSR",55.96,55.96]
[41459,"GURNER","Samuel","M",1997,"U18","TOR",null,93.86,93.86]
[19379,"GUY","Edward","M",2001,"U14","TEL","MID",238.89,138.32]
[21875,"HADDEN","Alexander","M",2001,"U14","ESX","ELI",999.99,999.99]
[36646,"HADDEN","Campbell","M",2000,"U16","LSR",null,999.99,999.99]
[20719,"HADLEY","Daniel","M",2004,"U12","MID","SMK",999.99,999.99]
[21902,"HADLEY","Thomas","M",2000,"U16",null,"WM",999.99,999.99]
[21608,"HAIRE","Bradley","M",1998,"U18","ASR",null,999.99,999.99]
[41273,"HALES","Robert","M",1960,"MAS","CAR","DRA",61.58,55.31]
[41182,"HALES","Thomas","M",1990,"SEN","CAR","DRA",5.63,5.25]
[31234,"HALL","Adam","M",2000,"U16","ASC",null,263.83999999999997,297.10000000000002]
[31548,"HALL","Alistair","M",2003,"U12","ASC",null,426.58,426.58]
[31547,"HALL","Mark","M",1964,"MAS","ASC",null,999.99,999.99]
[20717,"HALLETT","Jacob","M",1999,"U16","PPS","DRA",84.87,97.97]
[31459,"HALLIDAY","Duncan","M",1985,"SEN","P3",null,999.99,999.99]
[31422,"HAMLETT-HALL","Samuel","M",1998,"U18",null,"SSC",338.15,338.15]
[20595,"HAMMOND","Max","M",1994,"U21","SOU","SOU",132.9,132.9]
[17037,"HANCOCK","David","M",1964,"MAS","MID","SMK",999.99,999.99]
[18616,"HANCOCK","Karl","M",1995,"U21","SMK",null,203.44,259.37]
[19013,"HANLON","George","M",1999,"U16","FPS","WM",143,140.1]
[41908,"HANNA","Jordan","M",1998,"U18","SCI","IMP",130.9,130.9]
[31333,"HANNAN","James","M",2001,"U14","LSR",null,287.01,287.01]
[21859,"HARDING","Felix","M",2001,"U14",null,null,999.99,999.99]
[31429,"HARPER","Callum","M",1998,"U18","LSR",null,434.07,434.07]
[21582,"HARPER","Thomas","M",2000,"U16","TEL",null,402.45,402.45]
[3940,"HARRISON","David","M",1984,"MAS",null,null,51.66,51.66]
[20976,"HARRISON","Samuel","M",2003,"U12",null,"LIO",999.99,999.99]
[21275,"HART","Benjamin","M",2003,"U12","SPR","SPR",999.99,999.99]
[22081,"HART","Michael","M",1997,"U18","SRR","SRR",999.99,999.99]
[21921,"HARVEY","Michael","M",2002,"U14","AVO","AVO",999.99,253.7]
[4777,"HATCHER","David","M",1985,"SEN","WCS",null,8.15,8.15]
[19163,"HAWKINS","Mark","M",1979,"MAS","MID",null,61.45,57.1]
[31311,"HAY","Adam","M",2001,"U14","SSC",null,226.4,211.73]
[19187,"HAY","Cameron","M",1999,"U16","SMK","BSA",261.19,999.99]
[19834,"HAY","Louis","M",2002,"U14","SMK","BSA",999.99,999.99]
[31452,"HAYWARD","Euan","M",1999,"U16","BSA","BSC",142.19999999999999,999.99]
[21075,"HEARD","Jake","M",1998,"U18","MID",null,999.99,999.99]
[5013,"HEATH","Peter","M",1944,"MAS","OVL",null,999.99,999.99]
[12972,"HEAVERSEDGE","Antony","M",1987,"SEN","SHK","DRA",48.53,999.99]
[19674,"HEDLEY","Benja","M",1977,"MAS",null,null,999.99,999.99]
[19125,"HEGINBOTHAM","Matthew","M",2000,"U16",null,"BSA",258.27,258.27]
[17078,"HELLIWELL","Steven","M",1994,"U21","LIO","LIO",29.37,89.54]
[19829,"HEMMING","Ethan","M",2001,"U14","MID","MID",150.21,114.45]
[30121,"HENDERSON","Callum","M",1989,"SEN","SSC",null,1.32,1.34]
[20181,"HENDERSON","Lucas","M",2003,"U12","SRR","AMB",999.99,999.99]
[30388,"HENDERSON","Paul","M",1995,"U21",null,"SSC",16.88,17.11]
[19160,"HENDERSON","Tom","M",1996,"U21","HEM","K",101.43,104.33]
[18729,"HENERY","David","M",1963,"MAS","SHK","LIO",386.87,386.87]
[20641,"HENERY","Robbie","M",1998,"U18","SHK","SZR",156.13,156.13]
[18862,"HENERY","Sam","M",1995,"U21","SHK","LIO",128.13999999999999,156.77000000000001]
[31432,"HERBERT","Calum","M",2001,"U14","BSC",null,251.3,251.3]
[41927,"HESLOP","Rory","M",1995,"U21",null,null,999.99,999.99]
[19857,"HETHERINGTON","George","M",1999,"U16","K","K",999.99,999.99]
[22017,"HETHERINGTON","Max","M",2004,"U12",null,"K",999.99,999.99]
[19856,"HETHERINGTON","Thomas","M",1995,"U21","K","K",999.99,999.99]
[31247,"HEWISON","Henry","M",2004,"U12","CSC",null,999.99,999.99]
[21886,"HILLMAN","Ben","M",2002,"U14",null,"BSA",999.99,999.99]
[21882,"HILLMAN","Luke","M",2001,"U14",null,"BSA",999.99,999.99]
[20544,"HINCHLIFFE","Jack","M",1997,"U18","PPS","LIO",99.25,99.25]
[21464,"HINTON","Marcus","M",2001,"U14","SPR","SPR",999.99,999.99]
[21854,"HINTON","Sam","M",2004,"U12","SPR","SPR",999.99,999.99]
[5370,"HJORT","Andrew","M",1965,"MAS","LIO","LIO",67.64,73.290000000000006]
[21975,"HOCKING","Alexander","M",1999,"U16","FPS",null,999.99,257.93]
[22046,"HODGE","Barnaby","M",2000,"U16",null,null,999.99,999.99]
[31486,"HODGSON","Ben","M",2001,"U14","GSR",null,999.99,999.99]
[41966,"HODSON","Steffan","M",2005,"U10","WWS","DRA",999.99,999.99]
[21907,"HOGAN","John","M",2000,"U16","BSA","BSA",999.99,999.99]
[20431,"HOLMES","John","M",1969,"MAS","PND",null,140.35,119.89]
[22220,"HOLMES","Peter","M",1966,"MAS","NOR",null,999.99,999.99]
[21097,"HOLMES","Robert","M",2002,"U14","PND",null,203.54,106.29]
[22166,"HOLMES","Thomas","M",1999,"U16","NOR",null,999.99,108.21]
[21726,"HOLT","Samuel","M",1995,"U21","BRS",null,303.75,203.88]
[22214,"HOOK","Kristian","M",1992,"SEN","ASR",null,999.99,76.73]
[41880,"HOPKINS","Harry","M",1999,"U16","CAR","DRA",155.06,155.06]
[36612,"HORNSBY","Duncan","M",2000,"U16","CSC",null,999.99,999.99]
[17356,"HORNSBY","Harry","M",1991,"SEN","MID","MID",5.41,5.28]
[41841,"HORTON","Sam","M",1996,"U21","WWS",null,195.56,195.56]
[18628,"HOUSTON","Samuel","M",1996,"U21","SHK",null,999.99,999.99]
[36617,"HOUSTOUN","Robert","M",1992,"SEN","STC",null,999.99,999.99]
[31373,"HOWARD-JOHNSTON","Philip","M",2001,"U14","SSC",null,999.99,999.99]
[21723,"HOWE","Charlie","M",2000,"U16","NOR",null,168.81,116.27]
[21387,"HUDDLESTON","David","M",1996,"U21","BAS",null,999.99,999.99]
[20481,"HUDSON","Thomas","M",2001,"U14","NOR","BSA",92.4,92.4]
[21050,"HUISMAN MURO","Kaylan","M",2003,"U12",null,"AMB",999.99,999.99]
[20766,"HUMPHREYS","Charles","M",2001,"U14","HEM","TEL",178.16,171.47]
[21644,"HUMPHREYS","George","M",2005,"U10",null,"MSR",999.99,999.99]
[10812,"HUNT","Georgie","M",1984,"MAS","HEM","EVO",5,7.27]
[31509,"HUNTER","Fraser","M",2003,"U12","LSR",null,999.99,999.99]
[30883,"HUNTINGTON","Calum","M",1995,"U21","SSC","BSA",989,989]
[19146,"HUPPACH","Declan","M",1999,"U16","PND",null,52.86,34.36]
[19458,"HUPPACH","Josef","M",2002,"U14","PND",null,112.2,88.7]
[22060,"HUTCHINGS","Daniel","M",2005,"U10","SAS","HEM",999.99,999.99]
[20328,"HUTTNER","Maximilian","M",1997,"U18","BRS","SPR",999.99,999.99]
[21654,"IMAMZADE","Murat","M",1982,"MAS","IMP","IMP",999.99,999.99]
[31031,"INNES","Iain","M",1998,"U18","SSC",null,182.26,182.26]
[31198,"INNES","Robbie","M",2000,"U16","SSC",null,406.94,406.94]
[36561,"IRONSIDE","Glen","M",1999,"U16",null,null,999.99,999.99]
[22209,"ISON","Sebastian","M",2000,"U16","HEM",null,999.99,999.99]
[31567,"JACK","Fraser","M",2001,"U14","ASC",null,999.99,999.99]
[19675,"JACKSON","Ian","M",1964,"MAS","RAV","RAV",67.989999999999995,67.989999999999995]
[31363,"JACOBS","Finlay","M",2002,"U14","ASC",null,999.99,999.99]
[31549,"JAMES","Richard","M",1965,"MAS",null,null,999.99,999.99]
[36636,"JAMIESON","Fraser","M",2002,"U14","GSR",null,999.99,999.99]
[31210,"JAMIESON","Ryan","M",1996,"U21",null,null,277.64,277.64]
[21708,"JAYARAJ","Jacob","M",2003,"U12",null,"HEM",999.99,999.99]
[41124,"JEAL","Alex","M",1990,"SEN","GLO","DRA",15.06,15.06]
[36671,"JENKINS","Kyle","M",1999,"U16","BSC",null,999.99,999.99]
[31024,"JENNINGS","Euan","M",1997,"U18","LSR","SSC",586.27,586.27]
[31023,"JENNINGS","Sandy","M",1995,"U21","LSR","SSC",999.99,999.99]
[22053,"JENNISON","Alexandre","M",2003,"U12",null,"BSA",999.99,999.99]
[14989,"JENSEN","Christian","M",1995,"U21","SPR","SPR",361.18,361.18]
[14276,"JESSE","Zak","M",1994,"U21","IMP","K",352.01,521.29]
[19095,"JOHNS","Owen","M",2001,"U14",null,"WM",999.99,999.99]
[20355,"JOHNS","Scott","M",2003,"U12",null,"WM",999.99,999.99]
[31034,"JOHNSTON","Hamish","M",1997,"U18","BSA","SSC",214.82,214.82]
[42031,"JONES","Gethin","M",2001,"U14","CAR",null,999.99,184.12]
[41987,"JONES","Iwan","M",1999,"U16","CAR",null,284.72000000000003,150.78]
[21780,"KADRNKA","Markus","M",2004,"U12","SPR","SPR",999.99,999.99]
[21801,"KANE","Heathcliffe","M",2003,"U12",null,"BSA",999.99,999.99]
[21149,"KARAVASILI","Leo","M",1999,"U16","DHO","DHO",158.79,158.79]
[21159,"KEANE","Josh","M",1995,"U21","HEM","SMK",42.32,67.19]
[31519,"KEANEY","Seamus","M",2001,"U14","BSC",null,179.25,179.25]
[31238,"KEITH","Mathew","M",1998,"U18","LSR",null,140.94999999999999,140.94999999999999]
[36595,"KEITH","Matthew","M",1998,"U18",null,null,999.99,999.99]
[31345,"KELLAS","Guy","M",2003,"U12",null,null,999.99,999.99]
[31553,"KELLY","Archie","M",2004,"U12","MUC","SSC",999.99,999.99]
[31286,"KERR","George","M",2000,"U16","CSC",null,999.99,999.99]
[31285,"KERR","Henry","M",2000,"U16","CSC",null,999.99,999.99]
[21562,"KEYS","Alexander","M",1998,"U18",null,"BSA",999.99,999.99]
[30898,"KICK","Euan","M",1997,"U18","GSR","BSA",0.41,0.41]
[21019,"KILGOUR","Rory","M",1980,"MAS","BRS","SAS",999.99,999.99]
[22073,"KING","Adam","M",1998,"U18","TKP","TKP",999.99,999.99]
[36587,"KING","Logan","M",2003,"U12","ASC",null,999.99,999.99]
[21186,"KIPPING","Lewis","M",2001,"U14","SRR",null,143.75,140.69]
[21633,"KIRKLAND","Matthew","M",1992,"SEN","MID","MID",345.98,345.98]
[22114,"KNIGHTS-COOPER","Ellis","M",1996,"U21","SHK","SHK",362.39,999.99]
[13792,"KNOWLES","Michael","M",1995,"U21","MSR","DRA",32.97,32.97]
[21853,"KOTWICA","Dawid","M",1999,"U16","SZR","SZR",999.99,999.99]
[18317,"KRAHELSKI","Oliver","M",1996,"U21","HEM",null,28.21,28.21]
[30778,"KUWALL","Duncan","M",1998,"U18","SSC",null,46.71,46.71]
[20095,"LALLY","Cameron","M",1996,"U21","VIK",null,99.55,99.55]
[21691,"LANE","Joshua","M",1999,"U16","NOR","NOR",145.6,144.49]
[36629,"LANG","Fergus","M",2000,"U16","K",null,999.99,999.99]
[31505,"LANGMUIR","Calum","M",2002,"U14","SSC",null,999.99,999.99]
[36563,"LAPSLIE","Henry","M",2000,"U16","ELI","SSC",999.99,999.99]
[20713,"LARBY","Thomas","M",1994,"U21","RAV",null,124.41,124.41]
[21571,"LAUGHLAND","Maximilian","M",2004,"U12","FLK","BSA",999.99,999.99]
[20369,"LAW","Joshua","M",2003,"U12","TEL","TEL",999.99,999.99]
[22113,"LAW","Theodore","M",1999,"U16","MSR","MSR",214.03,999.99]
[19941,"LAWRENCE","Thomas","M",1999,"U16","MID","DRA",144.61000000000001,119.4]
[41923,"LAYTHAM","Jack","M",2000,"U16","WWS",null,999.99,999.99]
[21077,"LEACH","Charlie","M",2001,"U14","HEM","AMB",172.79,216.88]
[21501,"LEACH","Freddie","M",2002,"U14","HEM","K",236.63,999.99]
[20887,"LEAVITT","Samuel","M",1998,"U18","DHO","DHO",999.99,999.99]
[20922,"LEAVITT","William","M",1998,"U18","DHO","DHO",999.99,999.99]
[41578,"LEE","Adam","M",1994,"U21","PND","MID",38.93,36.39]
[20761,"LEE","Dexter","M",2000,"U16","HEM","EVO",89.53,93.06]
[21810,"LEE","Rory","M",2003,"U12","SPR","SPR",999.99,999.99]
[41662,"LEE","Sam","M",1996,"U21","MID",null,128.82,128.82]
[21879,"LEES","James","M",2001,"U14","BSA","HEM",999.99,999.99]
[13389,"LEESON","Andrew","M",1989,"SEN","PND",null,28.85,28.85]
[31329,"LEIGHTON","Alasdair","M",2001,"U14","LSR","SSC",839.69,839.69]
[19869,"LEWIS","Barney","M",1995,"U21","SMK","AMB",22.57,22.57]
[20309,"LEWIS","Samuel","M",1998,"U18","SPR","SPR",999.99,999.99]
[31281,"LINKLATER","Ian","M",1953,"MAS","SFR",null,999.99,999.99]
[19830,"LISMORE","Jake","M",1997,"U18",null,"BSA",999.99,999.99]
[31107,"LIVINGSTONE","Lewis","M",1999,"U16","SSC","LSR",215.71,186.56]
[36594,"LIVINGSTONE","Zak","M",2003,"U12","SSC",null,999.99,999.99]
[42035,"LLEWELLYN-JONES","Aled","M",2003,"U12","WWS",null,999.99,999.99]
[22089,"LLOYD","Tomas","M",2003,"U12","PND","PND",999.99,999.99]
[21832,"LOCKWOOD","Marcus","M",1997,"U18","VIK","VIK",999.99,999.99]
[21129,"LODER","Angus","M",2002,"U14","HEM","K",999.99,999.99]
[20543,"LODER","Edward","M",1999,"U16","HEM","AMB",194.65,194.65]
[19791,"LOGUT","George-Louis","M",1996,"U21","DHO","DHO",999.99,999.99]
[22032,"LONG","Timothy","M",2005,"U10",null,"S2R",999.99,999.99]
[22164,"LONGSTAFF","Michael","M",2001,"U14","WGC",null,140.38,999.99]
[22026,"LOUTH","Oscar","M",2005,"U10","HEM","HEM",999.99,999.99]
[21924,"LOVE","Charlie","M",2001,"U14","HEM","BSA",999.99,999.99]
[17344,"LOWDON","Matthew","M",1995,"U21","RAV",null,999.99,999.99]
[19510,"LOWE","Jordan","M",1998,"U18","HEM","EVO",213.67,213.67]
[20331,"LUCAS","Oliver","M",2002,"U14","WM","WM",999.99,999.99]
[18757,"LUCIE-SMITH","Ross","M",1993,"SEN","LSU","LSU",63.53,115.43]
[21546,"LUKE","Charlie","M",2000,"U16",null,"DHO",999.99,999.99]
[21517,"LUNN","Jake","M",2001,"U14",null,"K",999.99,999.99]
[31341,"LURRING","Connor","M",1999,"U16","SSC",null,397.31,397.31]
[21091,"LUTTERLOCH","Edward","M",2003,"U12","ASR",null,999.99,999.99]
[36596,"LYNCH","Calum","M",2000,"U16","CSC",null,999.99,999.99]
[36663,"LYNCH","Shaun","M",1999,"U16","MUC",null,999.99,288.70999999999998]
[21366,"LYONS","Alan","M",1965,"MAS",null,"HEM",221.64,221.64]
[22207,"MABLEY","Benjamin","M",2001,"U14",null,"HEM",477.47,999.99]
[22208,"MABLEY","James","M",2004,"U12",null,"HEM",999.99,999.99]
[30233,"MACBAIN","Scott","M",1987,"SEN","GSR",null,26.5,73.23]
[31506,"MACDONALD","Finlay","M",2004,"U12","LSR",null,999.99,999.99]
[30250,"MACFIE","Alastair","M",1989,"SEN","SSC",null,113.3,113.3]
[30669,"MACFIE","Euan","M",1994,"U21","GDN",null,229.93,229.93]
[36621,"MACKECHNIE","Archie","M",2003,"U12","MUC","SSC",999.99,999.99]
[36602,"MACLACHLAN","Fergus","M",2002,"U14","GSC",null,329.76,999.99]
[31396,"MACLEAN","Angus","M",1996,"U21","HNC",null,999.99,999.99]
[31570,"MACMILLAN","Fraser","M",2002,"U14","BSC",null,999.99,999.99]
[30936,"MACPHERSON","Stuart","M",1998,"U18","SSC","LSR",115.94,132.36000000000001]
[31004,"MACWILLIAM","David","M",1996,"U21","BSC","GSR",70.459999999999994,72.290000000000006]
[21699,"MAGENES","Edoardo","M",2004,"U12","HEM",null,999.99,999.99]
[20530,"MAJOR","Billy","M",1996,"U21",null,null,999.99,999.99]
[21483,"MANET","Conrad","M",1998,"U18","K","K",999.99,999.99]
[31224,"MARDEN","Angus","M",2000,"U16","MUC",null,214.55,214.55]
[21866,"MARKS KING","Alex","M",1999,"U16","TSN",null,999.99,999.99]
[22034,"MARLOR","Bradley","M",2006,"U10","PND",null,999.99,999.99]
[17257,"MARMENT","Christiaan","M",1997,"U18","WCS",null,113.81,113.81]
[21154,"MARSH","Joshua","M",2001,"U14","SZR",null,197.61,197.61]
[36624,"MARSHALL","Max","M",2006,"U10","CSC",null,999.99,999.99]
[36623,"MARSHALL","Zac","M",2004,"U12","CSC",null,999.99,999.99]
[20843,"MARSLAND","Steven","M",1970,"MAS","TOQ",null,999.99,999.99]
[31508,"MARSTON","Rory","M",1999,"U16","LSR",null,999.99,999.99]
[19574,"MARTIN","Matthew","M",1995,"U21","MSR","DRA",39.96,42.98]
[31331,"MARTIN","Oliver","M",2001,"U14",null,null,380.11,380.11]
[21401,"MATHER","Fred","M",2001,"U14",null,"BSA",999.99,999.99]
[20253,"MATHEW","Oliver","M",2002,"U14","AVO","EXD",999.99,872.1]
[31171,"MATTHEW","Andrew","M",1990,"SEN",null,null,999.99,999.99]
[19723,"MATTHEWS","Brandon","M",1999,"U16","STS",null,55.38,55.38]
[22212,"MCANALLY","Ewan","M",2003,"U12",null,null,999.99,999.99]
[31028,"MCBAIN","Corrie","M",1999,"U16","LSR","SSC",217.13,217.13]
[30841,"MCBAIN","Sandy","M",1993,"SEN","SSC","LSR",83.66,83.66]
[31148,"MCCALL","Andrew","M",2002,"U14","SSC",null,999.99,246.6]
[20455,"MCCALL","Oscar","M",2000,"U16",null,"BSA",375.15,375.15]
[19413,"MCCLOUD","Milo","M",1997,"U18","BSA","BSA",226.82,226.82]
[21737,"MCCOLL","Ruari","M",2002,"U14","TOQ","TOQ",999.99,999.99]
[41940,"MCCORMACK","Matthew","M",1998,"U18","SCI","K",114.11,136.88999999999999]
[31273,"MCCORMICK","Chris","M",1998,"U18","BSC",null,999.99,999.99]
[21664,"MCCORMICK","John","M",1975,"MAS","IMP","IMP",326.95999999999998,326.95999999999998]
[20584,"MCDONALD-PROCTOR","Richard","M",1998,"U18","BRO",null,89.44,99.86]
[20583,"MCDONALD-PROCTOR","William","M",2002,"U14","BRO",null,354.9,999.99]
[41970,"MCDOWELL","Harry","M",2000,"U16","SCI",null,236.36,236.38]
[31435,"MCFADDEN","Cameron","M",2000,"U16","CSC",null,301.66000000000003,999.99]
[31446,"MCFADDEN","Iain","M",2002,"U14","CSC",null,422.76,999.99]
[31083,"MCFADDEN","Neil","M",1998,"U18","CSC",null,167.52,999.99]
[22143,"MCGONIGAL","Dominic","M",2000,"U16",null,null,999.99,999.99]
[31043,"MCGRATH","Sam","M",1997,"U18","BSC",null,999.99,999.99]
[19019,"MCGREGOR-OGDEN","Cameron","M",2000,"U16","MSR","DRA",81.48,83.83]
[8067,"MCGREGOR-OGDEN","Carl","M",1961,"MAS","MSR","MSR",120.26,120.26]
[31169,"MCHUGH","Liam","M",1997,"U18","GSR",null,33.770000000000003,34.64]
[36645,"MCINTOSH","Magnus","M",2002,"U14","LSR",null,999.99,374.52]
[31541,"MCINTYRE","Ross","M",2004,"U12","BSC",null,999.99,999.99]
[31540,"MCINTYRE","Scott","M",2002,"U14","BSC",null,177.66,181.69]
[36560,"MCKAIN","Ross","M",2003,"U12","BSC",null,999.99,999.99]
[36642,"MCKEY","Lewis","M",2006,"U10","SSC",null,999.99,999.99]
[31121,"MCKILLOP","Murray","M",1998,"U18","BSC",null,999.99,270.23]
[31403,"MCLAREN","Ronan","M",2001,"U14","BSC",null,999.99,999.99]
[30953,"MCLEISH","Adam","M",1979,"MAS","SSC",null,999.99,999.99]
[31314,"MCLEW","Christopher","M",2001,"U14","GSR",null,139.94,142.44]
[31437,"MCLEW","Euan","M",2003,"U12","GSR",null,999.99,999.99]
[31491,"MCNEILL","David","M",2000,"U16","BSC",null,312.95999999999998,207.65]
[31139,"MCNICOL","Archie","M",1999,"U16","GSC","BSA",999.99,999.99]
[31554,"MCNUTT","Josh","M",1998,"U18","LSR",null,999.99,999.99]
[31202,"MCROBB","Cameron","M",2000,"U16","LSR","SSC",139.13,166.39]
[30555,"MCWHIRTER","Scott","M",1992,"SEN","GSR","SSC",36.270000000000003,39.74]
[30978,"MCWILLIAM","Lewis","M",1997,"U18","CSC",null,999.99,999.99]
[41939,"MELIA","Tybalt","M",2000,"U16","NW",null,999.99,999.99]
[21645,"MELLON-HENDRY","Freddie","M",2004,"U12","ASR",null,999.99,999.99]
[31558,"MENZIES","Fraser","M",1997,"U18","ASC",null,999.99,999.99]
[36660,"MENZIES","Ian","M",2007,"U8","MUC",null,999.99,999.99]
[14899,"MERCER","Patrick","M",1995,"U21","NOR","BSA",999.99,64.86]
[11619,"MESUT","Justin","M",1985,"SEN","NOR","AMB",65.62,65.62]
[21213,"METHERINGHAM","Zachary","M",2004,"U12",null,"SMK",999.99,999.99]
[21043,"MEURER","Markus","M",1968,"MAS",null,null,999.99,999.99]
[30931,"MIDDLETON","Fraser","M",1998,"U18","GSR",null,92.62,92.62]
[21278,"MIGUDA","Henry","M",2001,"U14","SPR","SPR",999.99,999.99]
[21993,"MILKINS","William","M",2004,"U12",null,null,999.99,999.99]
[31536,"MILLAR","Archie","M",2001,"U14","LSR",null,999.99,541.36]
[31535,"MILLAR","Jay","M",2003,"U12","LSR",null,999.99,999.99]
[21276,"MILLARD","Oliver","M",2000,"U16",null,"DHO",999.99,999.99]
[31457,"MILLER","Craig","M",2002,"U14","GSR",null,999.99,999.99]
[18509,"MILLER","Gareth","M",1994,"U21","MID","SAS",71.069999999999993,73.98]
[31450,"MILLER","Scott","M",1998,"U18","GSR",null,999.99,999.99]
[21408,"MILLER-HASTINGS","Frankie","M",2000,"U16","FLK",null,146.69,133.96]
[21602,"MILNER","Archie","M",2000,"U16","ASR","ASR",188.14,188.14]
[13228,"MILSTED","James","M",1992,"SEN","RAV",null,97.83,89.9]
[21259,"MIRACCO","Carlito","M",1999,"U16","HEM","TOQ",162.11000000000001,162.11000000000001]
[36659,"MITCHELL","Munro","M",2002,"U14","ARB",null,536.91999999999996,999.99]
[36658,"MITCHELL","Russell","M",2002,"U14","ARB",null,999.99,999.99]
[19673,"MOLLIEX","Alex","M",1973,"MAS","MSR","MSR",63.31,73.209999999999994]
[18629,"MOLLOY","Daniel","M",1993,"SEN","NOR",null,48.62,28.17]
[17438,"MOLLOY","Michael","M",1992,"SEN","NOR",null,0,0]
[20782,"MOONEY","Hugo","M",1997,"U18","DHO","DHO",999.99,999.99]
[20401,"MOORE","Benedict","M",2001,"U14","K",null,999.99,999.99]
[22067,"MOORE","Chris","M",2001,"U14","SRR",null,377.64,252.42]
[22068,"MOORE","Connor","M",2000,"U16","SRR",null,449.98,463.6]
[14949,"MORGAN","Brad","M",1991,"SEN","BSA","K",20.41,20.41]
[21479,"MORGAN","Jonathan","M",1999,"U16",null,"BSA",999.99,999.99]
[31199,"MORRIS","Christopher","M",2000,"U16","LSR",null,275.89,274.93]
[20871,"MORRIS","Ruaidhri","M",2001,"U14","SPR","SPR",999.99,999.99]
[36607,"MORRISON","Jack","M",2001,"U14","GDN",null,999.99,999.99]
[18778,"MORRISON","Michael","M",1957,"MAS","SOU","SAS",263.87,263.87]
[21965,"MOSS","Louis","M",2004,"U12",null,null,999.99,999.99]
[17831,"MOYNIHAN","Nicholas","M",1994,"U21",null,"K",999.99,999.99]
[18257,"MOZOL","James","M",1993,"SEN","GLO",null,37.020000000000003,37.020000000000003]
[18807,"MROZ","Dominik","M",1993,"SEN","ESX","DHO",317.45,999.99]
[31424,"MUIR","Jimmy","M",2002,"U14","ASC","DSC",999.99,999.99]
[41934,"MUNDAY","William","M",2000,"U16",null,null,999.99,999.99]
[31428,"MUNN","Hamish","M",2002,"U14","LSR",null,999.99,472.08]
[36620,"MUNN","Rory","M",2004,"U12","LSR",null,999.99,999.99]
[31342,"MUNRO","Calum","M",2002,"U14","BSC",null,454.06,999.99]
[31313,"MUNRO","Colin","M",1995,"U21","LSR",null,285.93,999.99]
[36630,"MUNRO","Gregor","M",2004,"U12","BSC",null,999.99,999.99]
[31326,"MURPHY","Rhys","M",1999,"U16","BSC",null,117.97,200.79]
[19678,"MURRAY","Alastair","M",1996,"U21",null,"LIO",89.19,999.99]
[20428,"MURRAY","David","M",1994,"U21","PND",null,999.99,144.61000000000001]
[31521,"MURRAY","Sam","M",2003,"U12","LSR",null,999.99,999.99]
[21815,"MUSTON","Charles","M",2002,"U14",null,"MSR",222.22,999.99]
[20125,"MYRSEP-FRANCE","Nicholas","M",1998,"U18",null,"DHO",999.99,999.99]
[22152,"NABAR","Antony","M",2006,"U10","BRO",null,999.99,999.99]
[22151,"NABAR","Paul","M",1964,"MAS",null,"BRO",999.99,999.99]
[18659,"NAYLER","Graham","M",1959,"MAS","ASR","ALD",128.41999999999999,110.68]
[31265,"NAYLOR","Finlay","M",1998,"U18","LSR",null,333.83,333.83]
[31282,"NESBITT","Kieran","M",2000,"U16","GSR",null,151.30000000000001,163.43]
[31283,"NESBITT","Ross","M",2002,"U14","GSR",null,164.92,138.44999999999999]
[21315,"NEVENS","Ted","M",1997,"U18",null,null,999.99,999.99]
[21194,"NEWTON","Charlie","M",2003,"U12","HEM","K",999.99,999.99]
[20184,"NEWTON","William","M",2000,"U16","HEM","K",116.22,216.45]
[21481,"NG","Hugo","M",1997,"U18",null,null,999.99,999.99]
[13432,"NICHOL","Timothy","M",1984,"MAS","RAV",null,118.42,118.42]
[31392,"NICHOLLS","Harry","M",1996,"U21","HNC",null,999.99,999.99]
[20897,"NICKSON","Joseph","M",1996,"U21","PND",null,88.45,80.36]
[14252,"NISBET","Angus","M",1993,"SEN",null,"DHO",999.99,999.99]
[14251,"NISBET","Kit","M",1990,"SEN",null,"K",166.85,999.99]
[19135,"NORRIS","John","M",1961,"MAS","HEM","SAS",98.92,100.98]
[19005,"NORRIS","Kieran","M",1995,"U21","HEM","AMB",16.3,16.3]
[19737,"O'BRIEN","Seamus","M",2002,"U14","MID","EVO",122.26,999.99]
[42041,"O'CALLANAIN","Eoin","M",1998,"U18","SCI",null,999.99,999.99]
[31164,"ODY","Robert","M",1998,"U18","LSR",null,465.51,465.51]
[21604,"OGDEN","Alexander","M",2005,"U10","NOR","ELI",999.99,999.99]
[20975,"OHARA","Mizuki","M",1998,"U18",null,"DHO",999.99,999.99]
[31351,"OLDFIELD","Max","M",2002,"U14","MUC","SSC",999.99,349.27]
[20550,"OLIVER","Mark","M",1962,"MAS","BOW","SMK",163.57,163.57]
[21253,"OLIVER","Ryan","M",1997,"U18","NOR",null,137.76,137.76]
[19147,"O'MARA","Adam","M",1995,"U21","RAV","RAV",46.25,39.89]
[19199,"O'MEARA","Samuel","M",1999,"U16",null,null,960.6,999.99]
[20377,"O'NEILL","Jack","M",1999,"U16",null,"BSA",999.99,999.99]
[21544,"OSMOND","Cosmo","M",2001,"U14",null,null,999.99,999.99]
[21888,"OSMOND","Orlando","M",2006,"U10",null,null,999.99,999.99]
[22043,"OSULLIVAN","Finley","M",2001,"U14",null,null,999.99,999.99]
[22204,"OWENS","Andrew","M",1996,"U21","CHT","CHT",999.99,190.02]
[22195,"OWENS","Christopher","M",1999,"U16","CHT","CHT",131.09,80.59]
[22197,"OWENS","Timothy","M",1965,"MAS","BOW","BOW",175.07,111.14]
[22087,"PARKER","Travis","M",2005,"U10","NOR",null,999.99,999.99]
[21188,"PARKES","Michael","M",1989,"SEN","HEM","HEM",143.43,143.43]
[21998,"PARSONS","Oscar","M",2004,"U12",null,null,999.99,999.99]
[31529,"PARTRIDGE","Andrew","M",1999,"U16",null,null,249.7,249.7]
[31530,"PARTRIDGE","Tom","M",2002,"U14",null,null,999.99,999.99]
[31151,"PATHI","Brogan","M",1998,"U18","GSR",null,999.99,999.99]
[31537,"PATHI","Rowan","M",1999,"U16","GSR",null,380.12,380.12]
[1681,"PATON","Andrew","M",1968,"MAS","WYC",null,989,989]
[20460,"PATRICK","Oliver","M",1997,"U18","BSA","BSA",999.99,999.99]
[30827,"PATTERSON","Ross","M",1999,"U16","SSC",null,127.66,115.01]
[22192,"PATTINSON","Sam","M",1998,"U18","KND","KND",999.99,999.99]
[30738,"PAXTON","Paul","M",1998,"U18","GDN",null,187.29,187.82]
[36613,"PEDEN","Jamie","M",1998,"U18","GSC",null,999.99,999.99]
[31444,"PEEK","Harrison","M",2003,"U12","BSC",null,999.99,999.99]
[31445,"PEEK","Jackson","M",2004,"U12","BSC",null,999.99,999.99]
[19710,"PENNING- LAMBERT","Matthew","M",1996,"U21","HEM","K",146.51,146.51]
[19711,"PENNING-LAMBERT","Joshua","M",1998,"U18","HEM","K",53.89,53.89]
[20102,"PERETZ","Adi","M",1998,"U18","DHO","DHO",999.99,999.99]
[20314,"PETERS","Jack","M",1993,"SEN","HEM","LIO",233.81,999.99]
[31073,"PETERS","Lachlan","M",1997,"U18","BRM",null,999.99,999.99]
[31439,"PFLEGER","Harry","M",2005,"U10","GDN",null,999.99,999.99]
[17840,"PHELPS","Nicholas","M",1997,"U18","MID","MID",70.34,70.34]
[22183,"PHIPPEN","Chris","M",1973,"MAS","HEM","HEM",100.73,999.99]
[22036,"PICKUP","Dean","M",1967,"MAS",null,null,999.99,999.99]
[41495,"PIERCE","Zac","M",1997,"U18","PND","DRA",255.62,255.62]
[31288,"PIERCEY","James","M",1997,"U18","CSC",null,182.21,999.99]
[36566,"PIERCEY","Michael","M",2004,"U12","CSC",null,999.99,999.99]
[20535,"PINI","Maximilian","M",2002,"U14","GRV","AMB",999.99,999.99]
[20777,"PINSENT","William","M",1955,"MAS",null,null,999.99,999.99]
[21198,"PITCHER","James","M",1984,"MAS","PLY","PLY",999.99,999.99]
[31082,"PITCHERS","Brian","M",1942,"MAS","SSC",null,999.99,999.99]
[19987,"PITKETHLY","Calum","M",1999,"U16","SPR","SPR",559.46,999.99]
[31008,"POGSON","Liam","M",1998,"U18","BLG",null,280.11,280.11]
[20799,"POLLITT","Oliver","M",2003,"U12","AMB","AMB",999.99,999.99]
[22074,"PORTEOUS","Adrian","M",1965,"MAS","MSR",null,356.5,999.99]
[22054,"PORTEOUS","Daniel","M",2003,"U12","MSR",null,999.99,999.99]
[22044,"PORTEOUS","Nathan","M",2001,"U14","MSR",null,210.51,999.99]
[14344,"PORTER","Tobias","M",1993,"SEN","FLK","DHO",140.94,140.94]
[21762,"PORTER","Tom","M",1997,"U18","2KP","2KP",999.99,999.99]
[14350,"POTH","Daniel","M",1996,"U21","HEM",null,14.16,21.81]
[14575,"POTH","Robert","M",1997,"U18","HEM","K",0,13.07]
[17479,"POWELL","Jonathan","M",1986,"SEN","RAV","MID",18.72,18.72]
[36668,"POWELL","Nathan","M",2002,"U14","SFR",null,198.23,999.99]
[30711,"PRICE","Graeme","M",1995,"U21","SSC","GSR",63.81,63.85]
[41837,"PRICE","Rhys","M",2001,"U14","GLO","DRA",201.19,149.16999999999999]
[22167,"PRINCE","Derek","M",1964,"MAS","AVO",null,999.99,999.99]
[41410,"PRITCHARD","Ray","M",1965,"MAS",null,"DRA",999.99,999.99]
[9379,"PROUDLOVE","Andrew","M",1958,"MAS","BRO","EVO",187.93,132.79]
[31489,"PROVAN","Max","M",2001,"U14","CSC","BSA",999.99,999.99]
[31358,"PYE","Ryan","M",2004,"U12","GDN","ASC",999.99,999.99]
[21336,"QUIGLEY","John","M",1972,"MAS","MSR","MSR",187.78,999.99]
[20122,"RABEY","Judson","M",2000,"U16","HEM","DHO",221.08,221.08]
[31568,"RALPH","Fergus","M",2003,"U12","LSR",null,999.99,999.99]
[21393,"RAMPTON","Thomas","M",2003,"U12",null,"BSA",999.99,999.99]
[30952,"RANKIN","Charles","M",2001,"U14","BSA","SSC",123.48,162.91999999999999]
[18504,"RAPOSO","Charlie","M",1996,"U21",null,"AMB",999.99,999.99]
[19569,"RASCAGNERES","Thomas","M",2000,"U16","MSR","DRA",79.34,87.89]
[21415,"RASHCHUPKIN","Maxim","M",2002,"U14",null,"DHO",999.99,999.99]
[31206,"RASMUSEN","Erik","M",1998,"U18","GDN",null,259.20999999999998,288.04000000000002]
[20380,"RATCLIFFE","David","M",1998,"U18","SAS",null,302.32,302.32]
[20381,"RATCLIFFE","Thomas","M",2001,"U14","SAS",null,999.99,999.99]
[31552,"RATTRAY","Andrew","M",2000,"U16","GSR",null,301.66000000000003,441.81]
[20379,"RAY","Matthew","M",1999,"U16",null,"K",999.99,999.99]
[19086,"READER","Christopher","M",1996,"U21","ASR",null,30.44,30.44]
[19085,"READER","William","M",1994,"U21","ASR",null,43.02,36.4]
[21609,"REBERT","Ethan","M",1998,"U18","BSA","BSA",999.99,999.99]
[31096,"REDPATH","Sandy","M",1996,"U21","LSR","SSC",154.51,154.51]
[31315,"REED","Aidan","M",2001,"U14","LSR",null,427.06,413.46]
[31322,"REED","Lewis","M",2001,"U14",null,"SSC",358.04,326.45]
[21339,"REED","Matthew","M",1993,"SEN",null,null,79.78,999.99]
[22301,"REEDER","Edward","M",1997,"U18",null,null,999.99,999.99]
[21657,"REES","Edward","M",1961,"MAS","IMP","IMP",218.42,297.82]
[41764,"REILLY","Garreth","M",1999,"U16","SCI",null,79.64,79.64]
[31294,"RENNIE","Graham","M",1975,"MAS","ASC",null,242.18,298.95999999999998]
[21485,"RHODES","Austin","M",1998,"U18","CHT","K",999.99,999.99]
[21484,"RHODES","Morgan","M",1998,"U18","CHT","K",999.99,999.99]
[17320,"RICCERI","Oliver","M",1995,"U21",null,"IMP",999.99,999.99]
[19796,"RICHARDS","Alexandre","M",2002,"U14",null,"BSA",999.99,999.99]
[17919,"RICHARDSON","Charles","M",1992,"SEN","MSR","DRA",14.73,14.73]
[18088,"RICHARDSON","George","M",1997,"U18","MSR","DRA",47.37,61.03]
[20628,"RICHARDSON","Thomas","M",1997,"U18","NOR",null,46.09,46.09]
[12989,"RICHES","Stuart","M",1989,"SEN","NOR","BSA",7.57,7.57]
[19570,"RICHMOND","Henry","M",1999,"U16","WCS",null,145.4,97.02]
[21663,"RIDDELL","Kelan","M",2003,"U12",null,null,999.99,999.99]
[18010,"RIDDELL","Luke","M",1996,"U21","HEM","AMB",163.16,163.16]
[41722,"RIGBY","Jack","M",1995,"U21","MID","IMP",42.49,50.4]
[19910,"RIGBY","Jordan","M",2000,"U16","MID","IMP",111.82,111.82]
[21895,"RILEY","Joshua","M",1999,"U16",null,"BSA",999.99,999.99]
[21896,"RILEY","Thomas","M",2001,"U14",null,"BSA",999.99,999.99]
[20879,"ROBERTS","Henry","M",1999,"U16",null,"K",999.99,999.99]
[41814,"ROBERTS","Ian","M",1969,"MAS",null,null,999.99,999.99]
[21652,"ROBERTSHAW","Gavin","M",1975,"MAS","SMK","SMK",177.64,182.02]
[20988,"ROBERTSON","Ewan","M",2001,"U14","BRO","BSA",131.37,145.76]
[31175,"ROBERTSON","John","M",1997,"U18","CSC",null,999.99,999.99]
[12334,"ROBERTSON","Stuart","M",1950,"MAS","WCS","WCS",261.93,261.93]
[22201,"ROBINSON","Bertie","M",2004,"U12","SPR","SPR",999.99,999.99]
[36643,"ROBLES-THOME","David","M",2002,"U14","LSR",null,999.99,999.99]
[4378,"ROE","Nicholas","M",1956,"MAS","TOR",null,748.57,748.57]
[30862,"ROFE","Sean","M",1995,"U21","SSC",null,80.27,85.66]
[30959,"ROFE","Thomas","M",1998,"U18","SSC","GSR",124.91,124.91]
[21395,"ROGERS","Marcus","M",1999,"U16","BSA","BSA",999.99,999.99]
[36633,"RONALD","James","M",1998,"U18","GSC","MUC",999.99,999.99]
[36632,"RONALD","Ross","M",2002,"U14","GSC","MUC",328.32,999.99]
[22011,"RONZ","Robert","M",1982,"MAS",null,null,999.99,999.99]
[20839,"ROSS","Callum","M",2003,"U12","TSN","SAS",999.99,999.99]
[21718,"ROSS","David","M",1970,"MAS","TSN","TSN",195.27,83.3]
[31006,"ROSS","Harry","M",1998,"U18","BSC",null,93,108.44]
[31087,"ROSS","Lyle","M",1999,"U16","SSC","MUC",88.48,88.48]
[4963,"RUDGE","Barnaby","M",1989,"SEN","WCS",null,999.99,999.99]
[30614,"RYAN","Euan","M",1993,"SEN","GSR",null,24.17,24.17]
[41971,"RYAN","Lee","M",2000,"U16","SCI",null,211.29,211.35]
[10659,"RYDING","David","M",1986,"SEN","PND","K",46.6,46.6]
[21967,"RYLAND","Callum","M",2003,"U12","SZR","SZR",999.99,999.99]
[22002,"RYLAND","Peter","M",2001,"U14","SZR","SZR",999.99,999.99]
[36649,"SADDLER","Jack","M",2005,"U10","LSR",null,999.99,999.99]
[36648,"SADDLER","Sam","M",2002,"U14","SSC","LSR",999.99,487.44]
[20790,"SANDEMAN","Jonathan","M",1998,"U18","GLO",null,90.22,90.22]
[31065,"SANDIESON","Cal","M",1998,"U18","BSC","GSR",999.99,999.99]
[30974,"SANDLAND","Alasdair","M",2000,"U16","GSR",null,118.53,103.3]
[31129,"SANDLAND","Jamie","M",2003,"U12","GSR",null,999.99,999.99]
[20995,"SANDLER","Jameson","M",2003,"U12",null,"HEM",999.99,999.99]
[18513,"SAUNDERS","Gregory","M",1995,"U21",null,"K",999.99,999.99]
[42021,"SCANLON","Ryan","M",2004,"U12",null,null,999.99,999.99]
[22056,"SCHLOTE","Harry","M",2000,"U16","HEM","HEM",333.97,999.99]
[20649,"SCHUBERT","Maximilian","M",2003,"U12","AVO","AVO",999.99,999.99]
[31020,"SCOTT","Archie","M",1996,"U21","LSR",null,999.99,999.99]
[22124,"SCOTT","Benjamin","M",2003,"U12","RAV","RAV",999.99,999.99]
[31441,"SCOTT","Luke","M",2001,"U14","LSR",null,999.99,999.99]
[20679,"SCOTT","Max","M",1997,"U18","NOR","NOR",189.57,189.57]
[31371,"SCOTT","Ruaraidh","M",2002,"U14","BSC",null,177.08,212.14]
[19443,"SEAMAN","Michael","M",1986,"SEN","SZR","IMP",98.19,103.91]
[41650,"SELLWOOD","Thomas","M",1996,"U21","CAR","DRA",98.98,67.12]
[21742,"SEWELL","Logan","M",1998,"U18","NOR",null,82.25,44.75]
[6894,"SHAILES","Darryl","M",1961,"MAS","NOR",null,139.08000000000001,139.08000000000001]
[21720,"SHAIR","Tariq","M",1993,"SEN","HEM",null,281.63,281.63]
[13217,"SHARP","Anthony","M",1968,"MAS","HEM",null,140.66,140.66]
[31517,"SHARP","Calum","M",1997,"U18","AYR","SFR",154.43,154.43]
[20564,"SHARROTT","Christopher","M",1978,"MAS",null,null,999.99,999.99]
[36647,"SHARWOOD-SMITH","James","M",2002,"U14","LSR",null,999.99,999.99]
[21733,"SHAW","Benjamin","M",1999,"U16",null,null,141.97999999999999,146.18]
[19801,"SHAW","James","M",1998,"U18","K","K",999.99,999.99]
[1,"SHEDDEN","John","M",1943,"MAS","MER",null,999.99,999.99]
[21632,"SHEMMANS","Jake","M",2001,"U14","ASR",null,133.47,117.29]
[31488,"SHEPHERD","Calum","M",2000,"U16","ASC",null,250.09,288.07]
[20520,"SHEPHERD","Matthew","M",1979,"MAS",null,null,999.99,999.99]
[21557,"SHEPHERDSON","James","M",1999,"U16","TSD",null,309.2,273.39]
[17818,"SHERRAS","Andrew","M",1995,"U21",null,"DHO",999.99,999.99]
[17819,"SHERRAS","Richard","M",1997,"U18",null,"DHO",999.99,999.99]
[20847,"SHIELLS","Bryan","M",1998,"U18","SPR","SPR",999.99,999.99]
[20692,"SHIELLS","Rory","M",1995,"U21","SPR","SPR",999.99,999.99]
[17284,"SIEBER","James","M",1996,"U21","ASR","AMB",2.91,2.91]
[36634,"SIMMERS","Robbie","M",2000,"U16","BSC",null,999.99,999.99]
[31474,"SIMMONDS","Thomas","M",2003,"U12","GSR",null,999.99,999.99]
[19457,"SIMMONS","Nigel","M",1962,"MAS","TOQ","TOQ",382.33,382.33]
[31201,"SIMPSON","Andrew","M",2000,"U16","GDN",null,166.61,167.46]
[21233,"SIMPSON","Cameron","M",2002,"U14",null,"WM",999.99,999.99]
[20336,"SIMPSON","Jack","M",1999,"U16","SPR","SPR",999.99,999.99]
[31354,"SIMPSON","Neil","M",2002,"U14","GDN",null,999.99,567.14]
[41969,"SINGLETON","Cillian","M",1999,"U16","SCI",null,221.6,226.36]
[21653,"SKEPPSTAM","Rasmus","M",2004,"U12","SMK","SMK",999.99,999.99]
[21405,"SLADE","Ted","M",2003,"U12",null,"BSA",999.99,999.99]
[21143,"SLATER","James","M",1998,"U18","SHK","SHK",328.66,343.21]
[21601,"SMITH","Anthony","M",1969,"MAS","ALD",null,228.31,180.48]
[22159,"SMITH","Ben","M",2001,"U14","ASR","ASR",999.99,999.99]
[18912,"SMITH","Benjamin","M",1997,"U18","SPR","AMB",66.650000000000006,66.650000000000006]
[31569,"SMITH","Cameron","M",2003,"U12","ASC",null,999.99,999.99]
[21600,"SMITH","Euan","M",2000,"U16","ASR",null,199.42,137.52000000000001]
[20579,"SMITH","Gary","M",1984,"MAS","HEM",null,999.99,999.99]
[31187,"SMITH","Jack","M",1998,"U18","CSC",null,999.99,999.99]
[21595,"SMITH","James","M",1992,"SEN","MID","BRU",72.23,63.71]
[20187,"SMITH","James","M",1999,"U16","SMK","SPR",353.39,353.39]
[21605,"SMITH","Nathan","M",2002,"U14","ASR",null,999.99,138.38999999999999]
[20493,"SMITH","Oliver","M",1995,"U21","SAS","SAS",999.99,999.99]
[21102,"SMITH","Oscar","M",2002,"U14","ASR","ASR",999.99,192.41]
[31168,"SMITH","Ossian","M",2001,"U14","SSC",null,999.99,999.99]
[31221,"SMITH","Peter","M",2000,"U16",null,"SSC",284.42,256.66000000000003]
[31236,"SMITH","Roli","M",2004,"U12","MUC","SSC",999.99,999.99]
[21206,"SMITH","Samuel","M",1997,"U18","SMK","SMK",199.95,199.95]
[20994,"SMITH","Simon","M",1974,"MAS","LIO","LIO",362.65,999.99]
[22080,"SOMMERFIELD","George","M",1997,"U18","AVO","AVO",999.99,999.99]
[17932,"SOUTHALL","Frazer","M",1997,"U18","FLK",null,69.069999999999993,48.8]
[18378,"SOUTHALL","Merrick","M",2000,"U16","FLK",null,138.74,77.88]
[19749,"SPANTON","Nicholas","M",1965,"MAS","NOR",null,137.84,137.84]
[18417,"SPEARPOINT","Nicholas","M",1966,"MAS","OVL",null,213.27,213.27]
[20683,"SPEED","Craig","M",1999,"U16","ASR",null,95.84,61.38]
[31114,"SPEIR","Henry","M",1999,"U16","LSR",null,224.12,224.12]
[31157,"SPENCE","Matthew","M",2000,"U16","LSR",null,289.22000000000003,251.29]
[21757,"SPENCER","Samuel","M",1996,"U21","PLY",null,281.81,265.29000000000002]
[41445,"SPILL","George","M",1993,"SEN","CAR","BSA",231.48,999.99]
[41999,"STADEN","Samuel","M",2001,"U14","SSP","SSP",999.99,999.99]
[17385,"STAMMERS","Benjamin","M",1995,"U21","DHO","DHO",445.21,445.21]
[30526,"STANG","Alastair","M",1992,"SEN","SSC",null,14.27,23.96]
[22218,"STANLEY","Harvey","M",2005,"U10","SAS",null,999.99,999.99]
[21121,"STANWAY","Kayne","M",2005,"U10","SMK",null,999.99,999.99]
[21880,"STAYMAN","Harry","M",2004,"U12","SOU","SAS",999.99,999.99]
[36653,"STEDMAN","Joel","M",1997,"U18","MUC",null,999.99,999.99]
[31319,"STEEL","Bruno","M",2002,"U14","SSC",null,999.99,267.45]
[36589,"STEEL","Luc","M",2005,"U10","SSC",null,999.99,999.99]
[21057,"STEINER","Toby","M",2000,"U16",null,null,999.99,999.99]
[36586,"STEPHEN","Gordie","M",2005,"U10","GDN",null,999.99,999.99]
[31356,"STEPHEN","Lachlan","M",2001,"U14","SSC",null,283.89999999999998,241.2]
[17177,"STEUDLE","Roy","M",1993,"SEN",null,"AMB",142.51,999.99]
[14814,"STEVENS","Anthony","M",1962,"MAS",null,"ALU",999.99,999.99]
[19797,"STEVENSON","Christian","M",1998,"U18","TEL","TEL",144.85,93.97]
[18471,"STEVENSON","James","M",1994,"U21",null,"K",999.99,999.99]
[36644,"STEWART","James","M",2004,"U12","LSR",null,999.99,999.99]
[22130,"STOCKER","Charley","M",1968,"MAS","TSN",null,999.99,999.99]
[21698,"STOCKS","Elliot","M",2005,"U10","MSR","MSR",999.99,999.99]
[20477,"STORER","James","M",1998,"U18",null,"DHO",999.99,999.99]
[20479,"STORER","Toby","M",2003,"U12",null,"DHO",999.99,999.99]
[14808,"STRONG","Louis","M",1996,"U21",null,"K",999.99,999.99]
[14807,"STRONG","Oliver","M",1994,"U21",null,"K",999.99,999.99]
[31501,"STRUTHERS","Ailig","M",1999,"U16","SFR",null,241.69,379.54]
[21567,"STUART","Oliver","M",1999,"U16",null,null,999.99,999.99]
[30925,"STURROCK","Fraser","M",1997,"U18","SSC","GSR",140.85,140.85]
[21056,"SULEYMAN","Ata","M",2002,"U14","BRO","K",999.99,190.02]
[22123,"SUNDIN","Jacob","M",2006,"U10","LIO","LIO",999.99,999.99]
[21369,"SURMAN","Jake","M",1974,"MAS","LIO","LIO",234.05,283.97000000000003]
[31561,"SUTHERLAND","Finn","M",2003,"U12","LSR",null,999.99,999.99]
[8747,"SWINDELLS","Robert","M",1965,"MAS","LIO","LIO",189.33,252.86]
[19624,"SYMONS","Daniel","M",1995,"U21","CHT","CHT",81.8,19.899999999999999]
[21707,"TAMANA","Hari","M",2003,"U12","HEM","HEM",999.99,999.99]
[21147,"TANDY","Joshua","M",2004,"U12","FLK",null,999.99,999.99]
[20398,"TARANTELLI","Leone","M",1999,"U16",null,"BSA",999.99,999.99]
[20399,"TARANTELLI","Uberto","M",2000,"U16",null,"BSA",999.99,999.99]
[21550,"TARRANT","Toby","M",1997,"U18","MID",null,186.2,135.63]
[31305,"TATE","Thomas","M",1997,"U18","CSC",null,999.99,999.99]
[21527,"TATTERS","Ben","M",2001,"U14","SPR","SPR",999.99,999.99]
[21524,"TATTERS","Joshua","M",2003,"U12","SPR","SPR",999.99,999.99]
[20364,"TATTERSALL","James","M",1997,"U18","MSR","BSA",210.68,210.68]
[31562,"TAYLOR","Calum","M",2002,"U14","GSR",null,999.99,999.99]
[22047,"TAYLOR","Duncan","M",2000,"U16",null,null,999.99,999.99]
[31186,"TAYLOR","Finlay","M",1999,"U16","SSC",null,999.99,999.99]
[31563,"TAYLOR","Finlay","M",2004,"U12","GSR",null,999.99,999.99]
[18164,"TAYLOR","Laurie","M",1996,"U21",null,"BSA",421.44,421.44]
[31185,"TAYLOR","Lewis","M",1998,"U18","SSC",null,999.99,999.99]
[41876,"TAYLOR","Robert","M",1984,"MAS",null,null,999.99,999.99]
[31036,"TAYLOR","Ross","M",1995,"U21","GSR","SSC",28.81,28.81]
[20146,"TAYLOR-TIPTON","Curtis","M",1996,"U21","FF","FF",233.12,233.12]
[20147,"TAYLOR-TIPTON","Justin","M",2000,"U16","FF","FF",239.23,239.23]
[13773,"TEE","David","M",1990,"SEN","MSR","DRA",42.98,42.98]
[11915,"TELLING","Marc","M",1984,"MAS","HEM","AMB",16.91,16.91]
[12458,"TELLING","Paul","M",1982,"MAS","EVO","EVO",34.03,34.03]
[41851,"THOMAS","Benjamin","M",1998,"U18","CAR",null,110.74,110.74]
[18072,"THOMAS","Cameron","M",1997,"U18","TOQ","BSA",45.79,45.79]
[41661,"THOMAS","Cyffin","M",2000,"U16","DRA","DRA",167.53,266.12]
[21848,"THOMAS","Owen","M",2001,"U14","BFC","BSA",999.99,999.99]
[41974,"THOMAS","Pat","M",1960,"MAS","HEM",null,270.47000000000003,999.99]
[20884,"THOMPSON","Joseph","M",2003,"U12","NOR","ELI",999.99,999.99]
[13647,"THOMPSON","Matthew","M",1993,"SEN","HEM","K",3.71,3.71]
[20214,"THOMPSON","Peter","M",1995,"U21","KND",null,999.99,153.41999999999999]
[36670,"THOMSON","Fraser","M",2002,"U14","SFR",null,999.99,999.99]
[30987,"THOMSON","Ross","M",1999,"U16","SSC",null,502.51,502.51]
[19985,"THORNTON","Adam","M",2003,"U12","LIO","LIO",999.99,999.99]
[18652,"THORNTON","Luke","M",1998,"U18",null,"LIO",110.26,132.19]
[31557,"THORP","Cameron","M",2000,"U16","LSR",null,999.99,999.99]
[19077,"THURSFIELD","Emrys","M",1999,"U16","HEM","HEM",999.99,999.99]
[17950,"TODD-SAUNDERS","Samuel","M",1996,"U21","DHO","DHO",100.61,100.61]
[20811,"TOH","Alexander","M",2000,"U16","HEM","HEM",999.99,999.99]
[20812,"TOH","James","M",2000,"U16","HEM","HEM",999.99,999.99]
[17043,"TOMLINSON","Josef","M",1994,"U21","PPS","LIO",96.18,96.18]
[41919,"TOUCHE","Alexandre","M",1997,"U18","CAR",null,77.94,77.94]
[21862,"TOWNSEND","Alexander","M",1999,"U16","SAS",null,999.99,999.99]
[17467,"TREBILCOCK","Robert","M",1993,"SEN","HEM","HEM",13.23,13.58]
[20670,"TREUGE","Matthew","M",2002,"U14","MID","MID",999.99,999.99]
[21874,"TREVOR","Joseph","M",2001,"U14","SPR","SPR",999.99,999.99]
[21105,"TREVOR","Samuel","M",1999,"U16","SPR","SPR",999.99,999.99]
[20645,"TREW","Richard","M",2000,"U16","HEM","K",140.69,140.69]
[31270,"TRINDER","Jamie","M",1994,"U21",null,null,999.99,999.99]
[20687,"TROUNG","Aaron","M",2001,"U14","VIK","AMB",89.58,78.72]
[30869,"TROUP","Kieran","M",2000,"U16","GDN","BSA",999.99,999.99]
[22188,"TRUST","Alex","M",2000,"U16","HEM",null,999.99,168.1]
[21823,"TUBBS","Charlie","M",2003,"U12","TSN",null,999.99,999.99]
[13403,"TUCKER","Colin","M",1946,"MAS","SLP","K",989,989]
[12858,"TUCKER","William","M",1991,"SEN","LSU","LSU",58.62,99.74]
[22306,"TURNER","Alfie","M",2003,"U12","HEM",null,999.99,999.99]
[21627,"TURNER","Oliver","M",2000,"U16",null,"ASR",322.12,179.2]
[21265,"UNDERKOFFLER","Lucas","M",1996,"U21",null,null,999.99,999.99]
[21052,"UPTON","Jack","M",2004,"U12","MID",null,999.99,999.99]
[21051,"UPTON","Thomas","M",2001,"U14","MID",null,167.14,123.67]
[21197,"URQUHART","Aidan","M",2004,"U12","HEM","HEM",999.99,999.99]
[21196,"URQUHART","Colm","M",2001,"U14","HEM","HEM",416.92,416.92]
[9129,"URQUHART","John","M",1968,"MAS","HEM","HEM",138.44999999999999,138.44999999999999]
[22008,"VAGO","Peter","M",2005,"U10",null,null,999.99,999.99]
[20714,"VANBECK","Robert","M",1998,"U18","SMK",null,82.36,97.97]
[31078,"VAUGHAN","Seoras","M",1998,"U18","CSC",null,999.99,999.99]
[22052,"VAUGHTON","Max","M",1999,"U16","PND",null,999.99,999.99]
[20848,"VICKERS","Charlie","M",1999,"U16","SPR","SPR",999.99,999.99]
[21456,"VINCENT","Ben","M",2003,"U12","TSN","TSN",999.99,999.99]
[30923,"VINTER","Owen","M",2001,"U14","GSR",null,89.77,89.77]
[30831,"VINTER","Zak","M",1998,"U18","GSR",null,6.93,6.93]
[21765,"WADDINGTON","Thomas","M",1984,"MAS",null,null,999.99,999.99]
[20163,"WAGHORNE","Robert","M",1997,"U18","SMK","AMB",76.41,76.41]
[31213,"WAITT","Scott","M",2000,"U16","SSC",null,191.56,175.02]
[31125,"WAITT","Stuart","M",1999,"U16","SSC","LSR",183.37,162.04]
[41925,"WAJDA","Benjamin","M",1996,"U21",null,null,999.99,999.99]
[21448,"WALBRIDGE","James","M",1992,"SEN","PLY","PLY",288.41000000000003,288.41000000000003]
[14213,"WALKER","Edmund","M",1992,"SEN","MID","MID",77.16,54.38]
[21819,"WALKER","Reuben","M",2006,"U10",null,null,999.99,999.99]
[20065,"WALKER-MORETTI","Ralph","M",1998,"U18","MSR",null,67.25,67.25]
[21545,"WANG","Matt","M",1983,"MAS","HEM","IMP",210.53,219.51]
[31195,"WARD","Thomas","M",2002,"U14","GSR",null,175.01,999.99]
[18661,"WARMINGTON","Richard","M",1997,"U18","HEM","HEM",67.14,73.569999999999993]
[21641,"WARNER","Hugo","M",2002,"U14",null,"HEM",999.99,999.99]
[22196,"WARSOP","Rowan","M",2000,"U16","NOR",null,999.99,289.42]
[21495,"WASHER","Piers","M",1998,"U18","EVO","EVO",138.97,138.97]
[21145,"WATERSTON","Laughlan","M",1971,"MAS","HEM","HEM",255.98,255.98]
[41042,"WATSON","Andrew","M",1991,"SEN","CAR","DRA",0.41,0.41]
[31204,"WATSON","Jack","M",1999,"U16","BSC",null,220.3,220.3]
[36568,"WATSON","Ralph","M",1962,"MAS","ASC",null,403.93,999.99]
[41656,"WATTS","Llewellyn","M",2001,"U14","CAR",null,291.31,222.06]
[19564,"WAYLING","Lloyd","M",1995,"U21","NOR","BSA",32.97,32.97]
[22050,"WEBB","Andrew","M",2004,"U12","TEL","TEL",999.99,999.99]
[19702,"WEBB","Jamie","M",1998,"U18",null,"SMK",190.99,190.99]
[19051,"WEEKS","Oliver","M",2001,"U14","MID","DRA",70.989999999999995,59.18]
[17983,"WELLER","Mark","M",1992,"SEN","ASR",null,93.23,93.23]
[21811,"WELLS","Oliver","M",1994,"U21","HEM","GLO",999.99,53.4]
[36656,"WELSH","Cameron","M",2000,"U16","ASC",null,999.99,999.99]
[20313,"WESTERN","Aaron","M",1998,"U18","TEL","TEL",999.99,999.99]
[22162,"WESTON","Ryan","M",2000,"U16","FLK",null,999.99,201.62]
[31434,"WHATFORD","Ben","M",2005,"U10","GDN",null,999.99,999.99]
[14168,"WHEATMAN","Max","M",1993,"SEN","NOR","NOR",55.27,55.27]
[21857,"WHEELER","Ryan","M",1999,"U16","CHT",null,999.99,999.99]
[19209,"WHEELER","William","M",1997,"U18","HEM","TEL",56.86,56.86]
[12359,"WHELAN","Peter","M",1989,"SEN","SPR","SPR",502.72,502.72]
[21772,"WHIPP","Edward","M",2001,"U14","MSR","MSR",200.68,259.43]
[18467,"WHITE","Alex","M",1997,"U18","HEM",null,78.930000000000007,78.930000000000007]
[36580,"WHITE","John","M",1901,"MAS",null,null,999.99,999.99]
[18234,"WHITE","Thomas","M",1992,"SEN","AMB","AMB",28.18,40.520000000000003]
[19612,"WHITLEY","James","M",1997,"U18","K","K",999.99,999.99]
[18996,"WHITTALL","Joseph","M",1995,"U21","BRS","IMP",158.19,158.19]
[20159,"WHITTALL","Trevor","M",1958,"MAS","BRS","SAS",686.13,686.13]
[3199,"WHITTET","Jeremy","M",1967,"MAS","SSC",null,999.99,999.99]
[20637,"WIGMORE","Matthew","M",1996,"U21","NOR",null,49.04,47]
[30785,"WILD","Brett","M",1992,"SEN","GSR",null,999.99,999.99]
[36579,"WILD","Oscar","M",2008,"U8",null,null,999.99,999.99]
[42038,"WILEY","Casper","M",2006,"U10","WWS",null,999.99,999.99]
[19346,"WILKINS","Simon","M",1992,"SEN",null,null,171.59,171.59]
[31128,"WILLIAMS","Conway","M",1965,"MAS","GSR","SSC",142.16,142.16]
[21786,"WILLIAMS","Jack","M",2005,"U10",null,"MSR",999.99,999.99]
[36578,"WILLIAMS","John","M",2008,"U8",null,null,999.99,999.99]
[21563,"WILLIAMS","Lewis","M",1999,"U16","AVO","AVO",414.39,359.89]
[18813,"WILLIAMS","Marcus","M",1996,"U21","NOR","K",999.99,999.99]
[20729,"WILLIAMS","Matthew","M",2004,"U12","TEL",null,999.99,999.99]
[18022,"WILLIAMS","Sam","M",1997,"U18","SAS","IMP",84.66,103.02]
[30998,"WILLIAMS","Scott","M",1999,"U16","GSR","SSC",121.49,125.11]
[21103,"WILLIAMS-GRAVENER","David","M",2001,"U14","FLK","DHO",185.75,168.76]
[36577,"WILLIAMSON","Andrew","M",1985,"SEN",null,null,999.99,999.99]
[20613,"WILLIS","James","M",2001,"U14","SMK","SMK",206.92,210.65]
[17930,"WILLIS","Robert","M",1996,"U21","AMB","AMB",497.44,497.44]
[36576,"WILLIS","Stephen","M",1976,"MAS",null,null,999.99,999.99]
[18558,"WILLOWS","Laurence","M",1996,"U21","BRO",null,38.72,28.77]
[20290,"WILLS","Angus","M",1999,"U16",null,"BSA",999.99,999.99]
[20710,"WILMOT","Jack","M",2000,"U16","SPR","SPR",999.99,999.99]
[31255,"WILOWSKI","Kazimierz","M",2000,"U16","GDN",null,999.99,999.99]
[21362,"WILSON","Geoffrey","M",1996,"U21","VIK",null,999.99,275.12]
[36575,"WILSON","Inez","M",2008,"U8",null,null,999.99,999.99]
[31063,"WISE","Kyle","M",1989,"SEN","P3",null,999.99,999.99]
[19420,"WITTS","Callum","M",1998,"U18","PND",null,41.19,19.16]
[18512,"WITTS","Kaigan","M",1994,"U21","PND","PND",52.64,43.1]
[31512,"WOOD","Edmund","M",1999,"U16","DHO","LSR",186.94,999.99]
[42037,"WOOD","Tom","M",2000,"U16",null,null,252.43,999.99]
[20814,"WOODWARD","Stewart","M",1955,"MAS",null,null,999.99,999.99]
[21837,"WOOLLEY","Kieran","M",2005,"U10","MID","WM",999.99,999.99]
[21594,"WORTT","Aaron","M",1999,"U16","ASR",null,159.6,104.47]
[36572,"WRIGHT","Alex","M",1994,"U21",null,null,999.99,999.99]
[19419,"WRIGHT","Alexander","M",1994,"U21","GLO","IMP",108.59,108.59]
[31089,"WRIGHT","Dewar","M",1999,"U16","SSC",null,76.430000000000007,76.430000000000007]
[41977,"WYLIE","Callum","M",1999,"U16",null,null,999.99,999.99]
[31523,"WYLIE","Gordon","M",2005,"U10","GSR",null,999.99,999.99]
[31176,"WYLIE","Scott","M",2001,"U14","GSR",null,116.1,127.89]
[36570,"YELLOWLEES","Jamie","M",1994,"U21",null,null,999.99,999.99]
[31310,"YOUNG","Gregor","M",1995,"U21","HNC",null,999.99,999.99]
[21709,"YUNG","Adrian","M",2004,"U12","BRS","DHO",999.99,999.99]
[21710,"YUNG","HauTak","M",2002,"U14","BRS","DHO",999.99,999.99]
[21779,"ZIELEZNIK","Ben","M",2005,"U10",null,"SPR",999.99,999.99]
[21093,"ZIELEZNIK","Oskar","M",2004,"U12",null,"SPR",999.99,999.99]

{"sheet":"Latest Points (2014.3)","index":7,"n_rows":55,"n_cols":10,"rows_kept":55,"cut":false,"hidden":true,"merged":[]}
["REGNO","SURNAME","FORENAME","SEX","YOB","CAT","CLUB1","CLUB2","iBARTS 14.3 PTS","oBARTS 14.3 PTS"]
[20168,"BILL","Rachel","F",1990,"SEN","MID","MID",23.81,23.81]
[19983,"CARE","Chloe","F",1998,"U18","MID",null,203.01,203.01]
[17888,"DELLER","Lucy","F",1996,"U21","MID","DRA",25.68,25.68]
[19573,"DOHERTY","Robyn","F",1996,"U21","MID",null,636.34,636.34]
[19165,"ELGY","Geraldine","F",1954,"MAS","MID",null,330.25,330.25]
[22176,"GILES","Ella","F",2003,"U12","MID",null,999.99,999.99]
[18617,"HANCOCK","Maxine","F",1997,"U18","MID","SMK",74.28,74.28]
[21569,"HEMMING","Anya","F",2005,"U10","MID",null,999.99,999.99]
[22015,"LLEWELLYN","Aaliyah","F",2006,"U10","MID","WM",999.99,999.99]
[21014,"MAYHEW","Jessica","F",2000,"U16","MID","MID",84.18,47.77]
[20307,"MIDDLETON","Amy","F",1995,"U21","MID",null,51.15,49.89]
[20696,"NEWBOULT","Helena","F",1998,"U18","MID","MID",27.39,27.39]
[20809,"O'BRIEN","Matilda","F",2004,"U12","MID",null,999.99,999.99]
[18033,"THOMAS","Elisabeth","F",1996,"U21","MID","DRA",72.7,67.69]
[20669,"TREUGE","Lauren","F",2003,"U12","MID",null,999.99,999.99]
[13381,"VERNON","Rowan","F",1988,"SEN","MID","MID",32.840000000000003,32.840000000000003]
[22198,"BAILEY","Noah","M",2006,"U10","MID","WM",999.99,999.99]
[19704,"BEARDMORE","Adam","M",1986,"SEN","MID",null,35.26,35.26]
[20590,"CARE","James","M",2002,"U14","MID",null,999.99,398.04]
[5666,"CROMBLEHOLME","Roger","M",1957,"MAS","MID","TEL",120.35,120.35]
[17039,"DELLER","Philip","M",1959,"MAS","MID",null,780.34,780.34]
[20846,"DEWISON","Samuel","M",1998,"U18","MID","MID",119.86,103.46]
[19572,"DOHERTY","Samuel","M",1999,"U16","MID",null,257.08999999999997,257.08999999999997]
[12318,"DU PLESSIS","Andrew","M",1985,"SEN","MID","DHO",23.04,23.04]
[19166,"ELGY","James","M",1993,"SEN","MID",null,166.36,166.36]
[19164,"ELGY","John","M",1951,"MAS","MID",null,332.56,332.56]
[21084,"EMMERSON","Philip","M",1990,"SEN","MID",null,57.73,42.32]
[20677,"FROST","Joey","M",1995,"U21","MID",null,127.79,127.79]
[22203,"GILES","Daniel","M",2003,"U12","MID",null,999.99,999.99]
[20719,"HADLEY","Daniel","M",2004,"U12","MID","SMK",999.99,999.99]
[17037,"HANCOCK","David","M",1964,"MAS","MID","SMK",999.99,999.99]
[19163,"HAWKINS","Mark","M",1979,"MAS","MID",null,61.45,57.1]
[21075,"HEARD","Jake","M",1998,"U18","MID",null,999.99,999.99]
[19829,"HEMMING","Ethan","M",2001,"U14","MID","MID",150.21,114.45]
[17356,"HORNSBY","Harry","M",1991,"SEN","MID","MID",5.41,5.28]
[21633,"KIRKLAND","Matthew","M",1992,"SEN","MID","MID",345.98,345.98]
[19941,"LAWRENCE","Thomas","M",1999,"U16","MID","DRA",144.61000000000001,119.4]
[41662,"LEE","Sam","M",1996,"U21","MID",null,128.82,128.82]
[18509,"MILLER","Gareth","M",1994,"U21","MID","SAS",71.069999999999993,73.98]
[19737,"O'BRIEN","Seamus","M",2002,"U14","MID","EVO",122.26,999.99]
[17840,"PHELPS","Nicholas","M",1997,"U18","MID","MID",70.34,70.34]
[41722,"RIGBY","Jack","M",1995,"U21","MID","IMP",42.49,50.4]
[19910,"RIGBY","Jordan","M",2000,"U16","MID","IMP",111.82,111.82]
[21595,"SMITH","James","M",1992,"SEN","MID","BRU",72.23,63.71]
[21550,"TARRANT","Toby","M",1997,"U18","MID",null,186.2,135.63]
[20670,"TREUGE","Matthew","M",2002,"U14","MID","MID",999.99,999.99]
[21052,"UPTON","Jack","M",2004,"U12","MID",null,999.99,999.99]
[21051,"UPTON","Thomas","M",2001,"U14","MID",null,167.14,123.67]
[14213,"WALKER","Edmund","M",1992,"SEN","MID","MID",77.16,54.38]
[19051,"WEEKS","Oliver","M",2001,"U14","MID","DRA",70.989999999999995,59.18]
[21837,"WOOLLEY","Kieran","M",2005,"U10","MID","WM",999.99,999.99]
[41578,"LEE","Adam","M",1994,"U21","PND","MID",38.93,36.39]
[17479,"POWELL","Jonathan","M",1986,"SEN","RAV","MID",18.72,18.72]
[19379,"GUY","Edward","M",2001,"U14","TEL","MID",238.89,138.32]